{"text_format":"1","workbook":"xlsx","n_sheets":14,"sheets":["Menu","Data","Volume Summary","Class Summary","Speed Summary","Vol Graph","Traffic Data Summary","Offsets","ImportData","RawData_HeadingInfo","RawData","Dir1","Dir2","Dir_Both"],"not_rendered":{"charts":3,"images":6,"macros":1,"external_links":0,"defined_names":36,"comments":0,"pivot_tables":0},"unopened":[],"bounds":{"document_bytes":16777216,"sheet_cells":100000,"rows_first":2000,"rows_last":500,"rows_between":2000,"halvings":0,"cell_chars":16384,"cell_head_chars":4096},"cells_cut":0,"cells_raw":0,"read":"whole","date_system":"1900"}

{"sheet":"Menu","index":0,"n_rows":6,"n_cols":8,"rows_kept":6,"cut":false,"hidden":false,"merged":[[1,0,8,1],[5,7,5,10],[3,7,3,10],[4,7,4,10]]}
[]
[null,null,null,null,null,null,"Site",{"$f":"+Offsets!H3","v":"Brockhollands Road"}]
[null,null,null,null,null,null,"Location",{"$f":"+Offsets!I3","v":"51.744498, -2.558571 "}]
[null,null,null,null,null,null,"Site No",{"$f":"Offsets!J3","v":1}]
[null,null,null,null,null,null,"Directions",{"$f":"+Offsets!K3&\" \"&+Offsets!L3","v":"NB SB"}]
[null,null,null,null,null,null,"Start",{"$f":"+Offsets!M3","v":"2023-09-28"}]

{"sheet":"Data","index":1,"n_rows":220,"n_cols":192,"rows_kept":220,"cut":false,"hidden":false,"merged":[[2,120,3,120],[2,141,3,141],[2,142,3,142],[2,130,3,130],[2,154,3,154],[2,155,3,155],[2,156,3,156],[1,120,1,132],[1,118,2,119],[2,128,3,128],[2,129,3,129],[2,132,3,132],[2,134,3,134],[2,135,3,135],[2,136,3,136],[2,137,3,137],[2,138,3,138],[2,139,3,139],[2,140,3,140],[2,147,3,147],[2,148,3,148],[1,180,1,182],[2,180,3,180],[1,0,3,1],[2,82,2,93],[1,78,2,79],[2,14,2,37],[1,2,1,37],[1,80,1,117],[2,2,2,13],[1,38,2,39],[2,94,2,117],[1,42,1,77],[2,42,2,53],[2,54,2,77],[30,182,30,191],[2,144,3,144],[2,145,3,145],[2,149,3,149],[2,181,3,181],[2,182,3,182],[1,159,1,165],[1,166,1,172],[2,152,3,152],[2,153,3,153],[2,157,3,157],[1,173,1,179],[1,146,1,158],[2,158,3,158],[2,150,3,150],[2,151,3,151],[2,146,3,146],[1,133,1,145],[2,133,3,133],[2,143,3,143],[30,162,30,171],[30,172,30,181]]}
[]
[1,null,{"$f":"OFFSET(Offsets!Dir_1,A2,0)","v":"NB"},null,null,null,null,null,null,null,null,null,null,null,null,null,null,null,null,null,null,null,null,null,null,null,null,null,null,null,null,null,null,null,null,null,null,null,"Speed",null,null,null,{"$f":"OFFSET(Offsets!Dir_2,A2,0)","v":"SB"},null,null,null,null,null,null,null,null,null,null,null,null,null,null,null,null,null,null,null,null,null,null,null,null,null,null,null,null,null,null,null,null,null,null,null,"Speed",null,"Combined ",null,null,null,null,null,null,null,null,null,null,null,null,null,null,null,null,null,null,null,null,null,null,null,null,null,null,null,null,null,null,null,null,null,null,null,null,null,"Speed",null,{"$f":"+C2","v":"NB"},null,null,null,null,null,null,null,null,null,null,null,null,{"$f":"+AQ2","v":"SB"},null,null,null,null,null,null,null,null,null,null,null,null,"Combined",null,null,null,null,null,null,null,null,null,null,null,null,{"$f":"C2","v":"NB"},null,null,null,null,null,null,{"$f":"AQ2","v":"SB"},null,null,null,null,null,null,"Combined",null,null,null,null,null,null,"Weekday Average"]
[null,null,"Vehicle Classification",null,null,null,null,null,null,null,null,null,null,null,"Vehicle Speed Bins",null,null,null,null,null,null,null,null,null,null,null,null,null,null,null,null,null,null,null,null,null,null,null,null,null,null,null,"Vehicle Classification",null,null,null,null,null,null,null,null,null,null,null,"Vehicle Speed Bins",null,null,null,null,null,null,null,null,null,null,null,null,null,null,null,null,null,null,null,null,null,null,null,null,null,null,null,"Vehicle Classification",null,null,null,null,null,null,null,null,null,null,null,"Vehicle Speed Bins",null,null,null,null,null,null,null,null,null,null,null,null,null,null,null,null,null,null,null,null,null,null,null,null,null,"C1",null,null,null,null,null,null,null,"C9","C10","C11",null,"Total","C1","C2","C3","C4","C5","C6","C7","C8","C9","C10","C11","C12","Total","C1","C2","C3","C4","C5","C6","C7","C8","C9","C10","C11","C12","Total",null,null,null,null,null,null,null,null,null,null,null,null,null,null,null,null,null,null,null,null,null,{"$f":"FD2","v":"NB"},{"$f":"FK2","v":"SB"},{"$f":"FR2","v":"Combined"}]
[null,null,1,2,3,4,5,6,7,8,9,10,11,12,"0005","0510",1015,1520,2025,2530,3035,3540,4045,4550,5055,5560,6065,6570,7075,7580,8085,8590,9095,95100,100105,105110,110115,"115+","Ave","85%ile",null,null,1,2,3,4,5,6,7,8,9,10,11,12,"0005","0510",1015,1520,2025,2530,3035,3540,4045,4550,5055,5560,6065,6570,7075,7580,8085,8590,9095,95100,100105,105110,110115,"115+","Ave","85%ile",null,null,1,2,3,4,5,6,7,8,9,10,11,12,"0005","0510",1015,1520,2025,2530,3035,3540,4045,4550,5055,5560,6065,6570,7075,7580,8085,8590,9095,95100,100105,105110,110115,"115+","Ave","85%ile",null,"C2","C3","C4","C5","C6","C7","C8",null,null,null,"C12",null,null,null,null,null,null,null,null,null,null,null,null,null,null,null,null,null,null,null,null,null,null,null,null,null,null,null,"Mon","Tue","Wed","Thu","Fri","Sat","Sun","Mon","Tue","Wed","Thu","Fri","Sat","Sun","Mon","Tue","Wed","Thu","Fri","Sat","Sun"]
["Mon",0,0,0,0,2,0,0,0,0,0,0,0,0,0,0,0,0,1,0,0,1,0,0,0,0,0,0,0,0,0,0,0,0,0,0,0,0,29.08,"-","Mon",0,0,0,0,0,0,0,0,0,0,0,0,0,0,0,0,0,0,0,0,0,0,0,0,0,0,0,0,0,0,0,0,0,0,0,0,0,"-","-","Mon",0,0,0,0,2,0,0,0,0,0,0,0,0,0,0,0,0,1,0,0,1,0,0,0,0,0,0,0,0,0,0,0,0,0,0,0,0,29.08,"-",{"$f":"SUM(C5)","v":0},{"$f":"SUM(D5)","v":0},{"$f":"SUM(E5)","v":0},{"$f":"SUM(F5)","v":2},{"$f":"SUM(G5)","v":0},{"$f":"SUM(H5)","v":0},{"$f":"SUM(I5)","v":0},{"$f":"SUM(J5)","v":0},{"$f":"SUM(K5)","v":0},{"$f":"SUM(L5)","v":0},{"$f":"SUM(M5)","v":0},{"$f":"SUM(N5)","v":0},{"$f":"SUM(C5:N5)","v":2},{"$f":"SUM(AQ5)","v":0},{"$f":"SUM(AR5)","v":0},{"$f":"SUM(AS5)","v":0},{"$f":"SUM(AT5)","v":0},{"$f":"SUM(AU5)","v":0},{"$f":"SUM(AV5)","v":0},{"$f":"SUM(AW5)","v":0},{"$f":"SUM(AX5)","v":0},{"$f":"SUM(AY5)","v":0},{"$f":"SUM(AZ5)","v":0},{"$f":"SUM(BA5)","v":0},{"$f":"SUM(BB5)","v":0},{"$f":"SUM(AQ5:BB5)","v":0},{"$f":"SUM(DQ5+ED5)","v":0},{"$f":"SUM(DR5+EE5)","v":0},{"$f":"SUM(DS5+EF5)","v":0},{"$f":"SUM(DT5+EG5)","v":2},{"$f":"SUM(DU5+EH5)","v":0},{"$f":"SUM(DV5+EI5)","v":0},{"$f":"SUM(DW5+EJ5)","v":0},{"$f":"SUM(DX5+EK5)","v":0},{"$f":"SUM(DY5+EL5)","v":0},{"$f":"SUM(DZ5+EM5)","v":0},{"$f":"SUM(EA5+EN5)","v":0},{"$f":"SUM(EB5+EO5)","v":0},{"$f":"SUM(EC5+EP5)","v":2},{"$f":"+EC5","v":2},{"$f":"+EC29","v":0},{"$f":"+EC53","v":2},{"$f":"+EC77","v":0},{"$f":"+EC101","v":1},{"$f":"+EC125","v":5},{"$f":"+EC149","v":2},{"$f":"+EP5","v":0},{"$f":"+EP29","v":0},{"$f":"+EP53","v":1},{"$f":"+EP77","v":1},{"$f":"+EP101","v":1},{"$f":"+EP125","v":1},{"$f":"+EP149","v":2},{"$f":"SUM(FD5+FK5)","v":2},{"$f":"SUM(FE5+FL5)","v":0},3,1,2,6,4,{"$f":"ROUND(AVERAGE(FD5:FH5),0)","v":1},{"$f":"ROUND(AVERAGE(FK5:FO5),0)","v":1},{"$f":"ROUND(AVERAGE(FR5:FV5),0)","v":2}]
[{"$f":"+A5","v":"Mon"},100,0,0,0,1,0,0,0,0,0,0,0,0,0,0,0,0,0,0,1,0,0,0,0,0,0,0,0,0,0,0,0,0,0,0,0,0,30.22,"-","Mon",100,0,0,0,1,0,0,0,0,0,0,0,0,0,0,0,0,0,0,1,0,0,0,0,0,0,0,0,0,0,0,0,0,0,0,0,0,34.32,"-","Mon",100,0,0,0,2,0,0,0,0,0,0,0,0,0,0,0,0,0,0,2,0,0,0,0,0,0,0,0,0,0,0,0,0,0,0,0,0,32.270000000000003,"-",0,0,0,1,0,0,0,0,0,0,0,0,1,0,0,0,1,0,0,0,0,0,0,0,0,1,0,0,0,2,0,0,0,0,0,0,0,0,2,1,0,0,0,0,0,2,1,0,0,0,1,0,3,{"$f":"SUM(FD6+FK6)","v":2},0,0,0,1,0,5,{"$f":"ROUND(AVERAGE(FD6:FH6),0)","v":0},{"$f":"ROUND(AVERAGE(FK6:FO6),0)","v":0},{"$f":"ROUND(AVERAGE(FR6:FV6),0)","v":1}]
[{"$f":"+A6","v":"Mon"},200,0,0,0,0,0,0,0,0,0,0,0,0,0,0,0,0,0,0,0,0,0,0,0,0,0,0,0,0,0,0,0,0,0,0,0,0,"-","-","Mon",200,0,0,0,0,0,0,0,0,0,0,0,0,0,0,0,0,0,0,0,0,0,0,0,0,0,0,0,0,0,0,0,0,0,0,0,0,"-","-","Mon",200,0,0,0,0,0,0,0,0,0,0,0,0,0,0,0,0,0,0,0,0,0,0,0,0,0,0,0,0,0,0,0,0,0,0,0,0,"-","-",0,0,0,0,0,0,0,0,0,0,0,0,0,0,0,0,0,0,0,0,0,0,0,0,0,0,0,0,0,0,0,0,0,0,0,0,0,0,0,0,0,1,0,0,0,1,0,0,1,0,0,1,0,0,0,2,0,0,1,1,0,0,0]
["Mon",300,0,0,0,0,0,0,0,0,0,0,0,0,0,0,0,0,0,0,0,0,0,0,0,0,0,0,0,0,0,0,0,0,0,0,0,0,"-","-","Mon",300,0,0,0,1,0,0,0,0,0,0,0,0,0,0,0,0,0,1,0,0,0,0,0,0,0,0,0,0,0,0,0,0,0,0,0,0,29.35,"-","Mon",300,0,0,0,1,0,0,0,0,0,0,0,0,0,0,0,0,0,1,0,0,0,0,0,0,0,0,0,0,0,0,0,0,0,0,0,0,29.35,"-",0,0,0,0,0,0,0,0,0,0,0,0,0,0,0,0,1,0,0,0,0,0,0,0,0,1,0,0,0,1,0,0,0,0,0,0,0,0,1,0,0,0,0,0,0,0,1,1,2,0,0,0,2,1,1,2,0,0,0,2,0,1,1]
["Mon",400,0,0,0,0,0,0,0,0,0,0,0,0,0,0,0,0,0,0,0,0,0,0,0,0,0,0,0,0,0,0,0,0,0,0,0,0,"-","-","Mon",400,0,0,0,1,0,0,0,0,0,0,0,0,0,0,0,0,0,0,0,1,0,0,0,0,0,0,0,0,0,0,0,0,0,0,0,0,37.71,"-","Mon",400,0,0,0,1,0,0,0,0,0,0,0,0,0,0,0,0,0,0,0,1,0,0,0,0,0,0,0,0,0,0,0,0,0,0,0,0,37.71,"-",0,0,0,0,0,0,0,0,0,0,0,0,0,0,0,0,1,0,0,0,0,0,0,0,0,1,0,0,0,1,0,0,0,0,0,0,0,0,1,0,0,0,0,0,1,0,1,5,3,2,2,0,2,1,5,3,2,2,1,2,0,3,3]
["Mon",500,0,0,1,0,0,0,0,0,0,0,0,0,0,0,0,0,1,0,0,0,0,0,0,0,0,0,0,0,0,0,0,0,0,0,0,0,23.98,"-","Mon",500,0,0,2,6,0,0,0,0,0,0,0,0,0,0,1,1,1,4,1,0,0,0,0,0,0,0,0,0,0,0,0,0,0,0,0,0,24.97,"-","Mon",500,0,0,3,6,0,0,0,0,0,0,0,0,0,0,0,1,2,4,1,0,0,0,0,0,0,0,0,0,0,0,0,0,0,0,0,0,24.86,"-",0,0,1,0,0,0,0,0,0,0,0,0,1,0,0,2,6,0,0,0,0,0,0,0,0,8,0,0,3,6,0,0,0,0,0,0,0,0,9,1,1,2,1,1,2,0,8,6,9,4,6,4,1,9,7,11,5,7,6,1,1,7,8]
["Mon",600,0,0,3,1,0,0,0,0,0,0,0,0,0,0,2,0,1,1,0,0,0,0,0,0,0,0,0,0,0,0,0,0,0,0,0,0,19.8,"-","Mon",600,0,0,11,8,0,0,0,0,0,0,0,0,0,0,2,0,4,6,4,3,0,0,0,0,0,0,0,0,0,0,0,0,0,0,0,0,27.64,33.28,"Mon",600,0,0,14,9,0,0,0,0,0,0,0,0,0,0,2,0,5,7,4,3,0,0,0,0,0,0,0,0,0,0,0,0,0,0,0,0,26.28,32.25,0,0,3,1,0,0,0,0,0,0,0,0,4,0,0,11,8,0,0,0,0,0,0,0,0,19,0,0,14,9,0,0,0,0,0,0,0,0,23,4,2,3,5,5,2,5,19,14,16,27,19,5,1,23,16,19,32,24,7,6,4,19,23]
["Mon",700,0,0,2,5,0,0,0,0,0,0,0,0,0,0,0,0,3,3,1,0,0,0,0,0,0,0,0,0,0,0,0,0,0,0,0,0,25.39,"-","Mon",700,0,1,18,11,1,0,0,0,0,0,0,0,0,3,0,5,9,9,5,0,0,0,0,0,0,0,0,0,0,0,0,0,0,0,0,0,23.34,29.95,"Mon",700,0,1,20,16,1,0,0,0,0,0,0,0,0,0,0,5,12,12,6,0,0,0,0,0,0,0,0,0,0,0,0,0,0,0,0,0,23.71,29.93,0,0,2,5,0,0,0,0,0,0,0,0,7,0,1,18,11,1,0,0,0,0,0,0,0,31,0,1,20,16,1,0,0,0,0,0,0,0,38,7,14,4,14,12,4,2,31,34,30,35,27,12,5,38,48,34,49,39,16,7,10,31,42]
["Mon",800,0,0,6,8,0,0,0,0,0,0,0,0,0,1,2,1,4,5,1,0,0,0,0,0,0,0,0,0,0,0,0,0,0,0,0,0,21.86,26.86,"Mon",800,0,0,20,9,1,0,0,0,0,0,0,0,0,2,0,1,9,10,6,1,1,0,0,0,0,0,0,0,0,0,0,0,0,0,0,0,26.28,32.01,"Mon",800,0,0,26,17,1,0,0,0,0,0,0,0,0,1,2,2,13,15,7,1,1,0,0,0,0,0,0,0,0,0,0,0,0,0,0,0,24.87,31.47,0,0,6,8,0,0,0,0,0,0,0,0,14,0,0,20,9,1,0,0,0,0,0,0,0,30,0,0,26,17,1,0,0,0,0,0,0,0,44,14,21,19,15,17,9,3,30,36,26,31,35,21,12,44,57,45,46,52,30,15,17,32,49]
["Mon",900,0,0,9,5,0,0,0,0,0,0,0,0,0,1,1,1,6,3,2,0,0,0,0,0,0,0,0,0,0,0,0,0,0,0,0,0,23.06,28.77,"Mon",900,0,0,10,10,0,0,0,0,0,0,0,0,0,0,2,3,6,7,2,0,0,0,0,0,0,0,0,0,0,0,0,0,0,0,0,0,23.68,29.56,"Mon",900,0,0,19,15,0,0,0,0,0,0,0,0,0,1,1,4,12,10,4,0,0,0,0,0,0,0,0,0,0,0,0,0,0,0,0,0,23.43,29.51,0,0,9,5,0,0,0,0,0,0,0,0,14,0,0,10,10,0,0,0,0,0,0,0,0,20,0,0,19,15,0,0,0,0,0,0,0,0,34,14,14,14,19,20,15,9,20,19,26,25,33,31,20,34,33,40,44,53,46,29,16,25,41]
["Mon",1000,0,0,12,4,2,0,0,0,0,0,0,0,0,2,2,2,7,5,0,0,0,0,0,0,0,0,0,0,0,0,0,0,0,0,0,0,20.190000000000001,26.34,"Mon",1000,0,0,10,10,1,0,0,0,0,0,0,0,0,2,0,5,7,6,1,0,0,0,0,0,0,0,0,0,0,0,0,0,0,0,0,0,21.97,26.92,"Mon",1000,0,0,22,14,3,0,0,0,0,0,0,0,0,2,2,7,14,11,1,0,0,0,0,0,0,0,0,0,0,0,0,0,0,0,0,0,21.15,26.86,0,0,12,4,2,0,0,0,0,0,0,0,18,0,0,10,10,1,0,0,0,0,0,0,0,21,0,0,22,14,3,0,0,0,0,0,0,0,39,18,15,9,14,24,24,15,21,20,18,29,21,23,17,39,35,27,43,45,47,32,16,22,38]
["Mon",1100,0,0,10,8,0,0,0,0,0,0,0,0,0,1,4,4,6,3,0,0,0,0,0,0,0,0,0,0,0,0,0,0,0,0,0,0,19.45,25.21,"Mon",1100,0,0,9,13,3,0,0,0,0,0,0,0,0,2,1,4,8,7,3,0,0,0,0,0,0,0,0,0,0,0,0,0,0,0,0,0,22.9,29.22,"Mon",1100,0,0,19,21,3,0,0,0,0,0,0,0,0,1,4,8,14,10,3,0,0,0,0,0,0,0,0,0,0,0,0,0,0,0,0,0,21.46,28.39,0,0,10,8,0,0,0,0,0,0,0,0,18,0,0,9,13,3,0,0,0,0,0,0,0,25,0,0,19,21,3,0,0,0,0,0,0,0,43,18,20,22,23,21,20,10,25,21,24,25,26,35,20,43,41,46,48,47,55,30,21,24,45]
["Mon",1200,0,0,7,5,0,0,0,0,0,0,0,0,0,0,0,2,4,6,0,0,0,0,0,0,0,0,0,0,0,0,0,0,0,0,0,0,24.19,28.31,"Mon",1200,0,0,13,8,0,0,0,0,0,0,0,0,0,0,3,2,6,5,4,1,0,0,0,0,0,0,0,0,0,0,0,0,0,0,0,0,24.5,30.39,"Mon",1200,0,0,20,13,0,0,0,0,0,0,0,0,0,0,0,4,10,11,4,1,0,0,0,0,0,0,0,0,0,0,0,0,0,0,0,0,24.39,29.61,0,0,7,5,0,0,0,0,0,0,0,0,12,0,0,13,8,0,0,0,0,0,0,0,0,21,0,0,20,13,0,0,0,0,0,0,0,0,33,12,17,19,24,22,25,26,21,20,16,15,24,22,21,33,37,35,39,46,47,47,19,19,38]
["Mon",1300,0,0,19,15,0,0,0,0,0,0,0,0,0,1,4,3,13,11,2,0,0,0,0,0,0,0,0,0,0,0,0,0,0,0,0,0,22.78,28.14,"Mon",1300,0,0,11,9,0,0,0,1,0,0,0,0,0,0,1,3,6,5,5,1,0,0,0,0,0,0,0,0,0,0,0,0,0,0,0,0,25.67,30.79,"Mon",1300,0,0,30,24,0,0,0,1,0,0,0,0,0,1,4,6,19,16,7,1,0,0,0,0,0,0,0,0,0,0,0,0,0,0,0,0,23.88,29.73,0,0,19,15,0,0,0,0,0,0,0,0,34,0,0,11,9,0,0,0,1,0,0,0,0,21,0,0,30,24,0,0,0,1,0,0,0,0,55,34,22,20,18,24,24,15,21,23,20,24,29,22,23,55,45,40,42,53,46,38,24,23,47]
["Mon",1400,0,0,12,6,0,0,0,0,0,0,0,0,0,0,1,3,6,4,3,1,0,0,0,0,0,0,0,0,0,0,0,0,0,0,0,0,24.62,30.45,"Mon",1400,0,1,16,6,0,0,0,0,0,0,0,0,0,0,3,2,9,7,1,1,0,0,0,0,0,0,0,0,0,0,0,0,0,0,0,0,23.44,28.06,"Mon",1400,0,1,28,12,0,0,0,0,0,0,0,0,0,0,1,5,15,11,4,2,0,0,0,0,0,0,0,0,0,0,0,0,0,0,0,0,23.96,29.1,0,0,12,6,0,0,0,0,0,0,0,0,18,0,1,16,6,0,0,0,0,0,0,0,0,23,0,1,28,12,0,0,0,0,0,0,0,0,41,18,23,19,15,18,15,16,23,21,25,27,29,24,18,41,44,44,42,47,39,34,19,25,44]
["Mon",1500,0,0,7,10,0,0,0,0,0,0,0,0,0,0,2,1,9,3,2,0,0,0,0,0,0,0,0,0,0,0,0,0,0,0,0,0,23.85,27.23,"Mon",1500,0,0,12,11,1,0,0,0,0,0,0,0,0,1,1,2,7,8,1,3,1,0,0,0,0,0,0,0,0,0,0,0,0,0,0,0,26.3,33.15,"Mon",1500,0,0,19,21,1,0,0,0,0,0,0,0,0,0,2,3,16,11,3,3,1,0,0,0,0,0,0,0,0,0,0,0,0,0,0,0,25.29,30.3,0,0,7,10,0,0,0,0,0,0,0,0,17,0,0,12,11,1,0,0,0,0,0,0,0,24,0,0,19,21,1,0,0,0,0,0,0,0,41,17,23,16,17,24,26,12,24,33,27,24,25,19,17,41,56,43,41,49,45,29,19,27,46]
["Mon",1600,0,1,17,11,0,0,0,0,0,0,0,0,0,0,2,5,11,9,2,0,0,0,0,0,0,0,0,0,0,0,0,0,0,0,0,0,23.41,28.9,"Mon",1600,0,0,12,13,0,0,0,0,0,0,0,0,0,0,0,2,9,9,4,1,0,0,0,0,0,0,0,0,0,0,0,0,0,0,0,0,25.86,30.92,"Mon",1600,0,1,29,24,0,0,0,0,0,0,0,0,0,0,2,7,20,18,6,1,0,0,0,0,0,0,0,0,0,0,0,0,0,0,0,0,24.54,29.76,0,1,17,11,0,0,0,0,0,0,0,0,29,0,0,12,13,0,0,0,0,0,0,0,0,25,0,1,29,24,0,0,0,0,0,0,0,0,54,29,37,36,41,26,22,20,25,22,29,30,24,19,15,54,59,65,71,50,41,35,34,26,60]
["Mon",1700,0,1,20,20,0,0,0,0,0,0,0,0,0,0,1,6,17,14,2,1,0,0,0,0,0,0,0,0,0,0,0,0,0,0,0,0,23.62,28.64,"Mon",1700,0,0,7,13,0,0,0,0,0,0,0,0,0,1,0,1,8,9,0,1,0,0,0,0,0,0,0,0,0,0,0,0,0,0,0,0,24.57,28.64,"Mon",1700,0,1,27,33,0,0,0,0,0,0,0,0,0,0,1,7,25,23,2,2,0,0,0,0,0,0,0,0,0,0,0,0,0,0,0,0,23.93,28.64,0,1,20,20,0,0,0,0,0,0,0,0,41,0,0,7,13,0,0,0,0,0,0,0,0,20,0,1,27,33,0,0,0,0,0,0,0,0,61,41,36,38,38,35,25,17,20,30,24,27,24,17,17,61,66,62,65,59,42,34,38,25,63]
["Mon",1800,0,0,15,8,0,0,0,1,0,0,0,0,0,1,4,4,7,8,0,0,0,0,0,0,0,0,0,0,0,0,0,0,0,0,0,0,20.8,27.09,"Mon",1800,0,0,16,13,0,0,0,0,0,0,0,0,0,2,1,3,14,6,1,2,0,0,0,0,0,0,0,0,0,0,0,0,0,0,0,0,22.72,27.38,"Mon",1800,0,0,31,21,0,0,0,1,0,0,0,0,0,1,4,7,21,14,1,2,0,0,0,0,0,0,0,0,0,0,0,0,0,0,0,0,21.85,27.17,0,0,15,8,0,0,0,1,0,0,0,0,24,0,0,16,13,0,0,0,0,0,0,0,0,29,0,0,31,21,0,0,0,1,0,0,0,0,53,24,27,23,32,32,18,16,29,24,13,24,22,19,13,53,51,36,56,54,37,29,28,22,50]
["Mon",1900,0,0,10,9,0,0,0,0,0,0,0,0,0,0,3,3,7,5,1,0,0,0,0,0,0,0,0,0,0,0,0,0,0,0,0,0,22.43,28.49,"Mon",1900,0,0,9,3,0,0,0,0,0,0,0,0,0,0,3,2,2,5,0,0,0,0,0,0,0,0,0,0,0,0,0,0,0,0,0,0,21.49,26.89,"Mon",1900,0,0,19,12,0,0,0,0,0,0,0,0,0,0,3,5,9,10,1,0,0,0,0,0,0,0,0,0,0,0,0,0,0,0,0,0,22.06,27.93,0,0,10,9,0,0,0,0,0,0,0,0,19,0,0,9,3,0,0,0,0,0,0,0,0,12,0,0,19,12,0,0,0,0,0,0,0,0,31,19,14,19,17,17,21,12,12,9,10,8,15,11,5,31,23,29,25,32,32,17,17,11,28]
["Mon",2000,0,0,5,8,0,0,0,0,0,0,0,0,0,1,0,3,3,6,0,0,0,0,0,0,0,0,0,0,0,0,0,0,0,0,0,0,22.59,28.84,"Mon",2000,0,0,3,1,0,0,0,0,0,0,0,0,0,1,0,0,2,1,0,0,0,0,0,0,0,0,0,0,0,0,0,0,0,0,0,0,21.14,"-","Mon",2000,0,0,8,9,0,0,0,0,0,0,0,0,0,1,0,3,5,7,0,0,0,0,0,0,0,0,0,0,0,0,0,0,0,0,0,0,22.25,28.33,0,0,5,8,0,0,0,0,0,0,0,0,13,0,0,3,1,0,0,0,0,0,0,0,0,4,0,0,8,9,0,0,0,0,0,0,0,0,17,13,6,14,14,18,2,5,4,7,9,7,5,5,6,17,13,23,21,23,7,11,13,6,19]
["Mon",2100,0,0,4,0,0,0,0,0,0,0,0,0,0,0,0,0,3,1,0,0,0,0,0,0,0,0,0,0,0,0,0,0,0,0,0,0,23.48,"-","Mon",2100,0,0,3,1,0,0,0,1,0,0,0,0,0,0,2,0,0,3,0,0,0,0,0,0,0,0,0,0,0,0,0,0,0,0,0,0,20.71,"-","Mon",2100,0,0,7,1,0,0,0,1,0,0,0,0,0,0,0,0,3,4,0,0,0,0,0,0,0,0,0,0,0,0,0,0,0,0,0,0,21.94,"-",0,0,4,0,0,0,0,0,0,0,0,0,4,0,0,3,1,0,0,0,1,0,0,0,0,5,0,0,7,1,0,0,0,1,0,0,0,0,9,4,5,6,9,7,5,4,5,1,5,4,8,7,4,9,6,11,13,15,12,8,6,5,11]
["Mon",2200,0,0,1,3,0,0,0,0,0,0,0,0,0,0,0,1,2,0,1,0,0,0,0,0,0,0,0,0,0,0,0,0,0,0,0,0,23.95,"-","Mon",2200,0,0,1,0,0,0,0,0,0,0,0,0,0,0,0,1,0,0,0,0,0,0,0,0,0,0,0,0,0,0,0,0,0,0,0,0,16.73,"-","Mon",2200,0,0,2,3,0,0,0,0,0,0,0,0,0,0,0,2,2,0,1,0,0,0,0,0,0,0,0,0,0,0,0,0,0,0,0,0,22.5,"-",0,0,1,3,0,0,0,0,0,0,0,0,4,0,0,1,0,0,0,0,0,0,0,0,0,1,0,0,2,3,0,0,0,0,0,0,0,0,5,4,6,3,5,7,7,7,1,2,4,6,5,3,2,5,8,7,11,12,10,9,5,4,9]
["Mon",2300,0,0,1,0,0,0,0,0,0,0,0,0,0,0,0,0,0,1,0,0,0,0,0,0,0,0,0,0,0,0,0,0,0,0,0,0,28.47,"-","Mon",2300,0,0,0,0,0,0,0,0,0,0,0,0,0,0,0,0,0,0,0,0,0,0,0,0,0,0,0,0,0,0,0,0,0,0,0,0,"-","-","Mon",2300,0,0,1,0,0,0,0,0,0,0,0,0,0,0,0,0,0,1,0,0,0,0,0,0,0,0,0,0,0,0,0,0,0,0,0,0,28.47,"-",0,0,1,0,0,0,0,0,0,0,0,0,1,0,0,0,0,0,0,0,0,0,0,0,0,0,0,0,1,0,0,0,0,0,0,0,0,0,1,1,1,5,1,4,3,2,0,0,0,0,4,2,0,1,1,5,1,8,5,2,2,1,3]
["Tue",0,0,0,0,0,0,0,0,0,0,0,0,0,0,0,0,0,0,0,0,0,0,0,0,0,0,0,0,0,0,0,0,0,0,0,0,0,"-","-","Tue",0,0,0,0,0,0,0,0,0,0,0,0,0,0,0,0,0,0,0,0,0,0,0,0,0,0,0,0,0,0,0,0,0,0,0,0,0,"-","-","Tue",0,0,0,0,0,0,0,0,0,0,0,0,0,0,0,0,0,0,0,0,0,0,0,0,0,0,0,0,0,0,0,0,0,0,0,0,0,"-","-",0,0,0,0,0,0,0,0,0,0,0,0,0,0,0,0,0,0,0,0,0,0,0,0,0,0,0,0,0,0,0,0,0,0,0,0,0,0,0,{"$f":"SUM(FD5:FD28)","v":295},{"$f":"SUM(FE5:FE28)","v":304},294,322,335,275,201,342,348,338,375,385,303,226,637,652,632,697,720,578,427]
["Tue",100,0,0,0,0,0,0,0,0,0,0,0,0,0,0,0,0,0,0,0,0,0,0,0,0,0,0,0,0,0,0,0,0,0,0,0,0,"-","-","Tue",100,0,0,0,0,0,0,0,0,0,0,0,0,0,0,0,0,0,0,0,0,0,0,0,0,0,0,0,0,0,0,0,0,0,0,0,0,"-","-","Tue",100,0,0,0,0,0,0,0,0,0,0,0,0,0,0,0,0,0,0,0,0,0,0,0,0,0,0,0,0,0,0,0,0,0,0,0,0,"-","-",0,0,0,0,0,0,0,0,0,0,0,0,0,0,0,0,0,0,0,0,0,0,0,0,0,0,0,0,0,0,0,0,0,0,0,0,0,0,0]
["Tue",200,0,0,0,0,0,0,0,0,0,0,0,0,0,0,0,0,0,0,0,0,0,0,0,0,0,0,0,0,0,0,0,0,0,0,0,0,"-","-","Tue",200,0,0,0,0,0,0,0,0,0,0,0,0,0,0,0,0,0,0,0,0,0,0,0,0,0,0,0,0,0,0,0,0,0,0,0,0,"-","-","Tue",200,0,0,0,0,0,0,0,0,0,0,0,0,0,0,0,0,0,0,0,0,0,0,0,0,0,0,0,0,0,0,0,0,0,0,0,0,"-","-",0,0,0,0,0,0,0,0,0,0,0,0,0,0,0,0,0,0,0,0,0,0,0,0,0,0,0,0,0,0,0,0,0,0,0,0,0,0,0,null,null,null,{"$f":"FD2","v":"NB"},null,null,null,null,null,null,null,null,null,{"$f":"FK2","v":"SB"},null,null,null,null,null,null,null,null,null,"Combined"]
["Tue",300,0,0,0,0,0,0,0,0,0,0,0,0,0,0,0,0,0,0,0,0,0,0,0,0,0,0,0,0,0,0,0,0,0,0,0,0,"-","-","Tue",300,0,0,0,1,0,0,0,0,0,0,0,0,0,0,0,0,0,1,0,0,0,0,0,0,0,0,0,0,0,0,0,0,0,0,0,0,29.66,"-","Tue",300,0,0,0,1,0,0,0,0,0,0,0,0,0,0,0,0,0,1,0,0,0,0,0,0,0,0,0,0,0,0,0,0,0,0,0,0,29.66,"-",0,0,0,0,0,0,0,0,0,0,0,0,0,0,0,0,1,0,0,0,0,0,0,0,0,1,0,0,0,1,0,0,0,0,0,0,0,0,1,null,null,"Headway >=0","Min","Median","Average",0.85,0.95,"Max","StDev","15Kph Pace Lower Bound","Pace Count","Count > PSL ","Min","Median","Average",0.85,0.95,"Max","StDev","15Kph Pace Lower Bound","Pace Count","Count > PSL ","Min","Median","Average",0.85,0.95,"Max","StDev","15Kph Pace Lower Bound","Pace Count","Count > PSL "]
["Tue",400,0,0,0,0,0,0,0,0,0,0,0,0,0,0,0,0,0,0,0,0,0,0,0,0,0,0,0,0,0,0,0,0,0,0,0,0,"-","-","Tue",400,0,0,1,3,0,0,0,1,0,0,0,0,0,0,0,1,1,1,1,0,1,0,0,0,0,0,0,0,0,0,0,0,0,0,0,0,28.67,"-","Tue",400,0,0,1,3,0,0,0,1,0,0,0,0,0,0,0,1,1,1,1,0,1,0,0,0,0,0,0,0,0,0,0,0,0,0,0,0,28.67,"-",0,0,0,0,0,0,0,0,0,0,0,0,0,0,0,1,3,0,0,0,1,0,0,0,0,5,0,0,1,3,0,0,0,1,0,0,0,0,5,null,0,"Mon",null,23.48,22.75,28.36,null,null,null,null,null,null,null,24.78,24.35,30.29,null,null,null,null,null,null,null,24.13,23.61,29.5]
["Tue",500,0,0,0,1,0,0,0,0,0,0,0,0,0,0,0,1,0,0,0,0,0,0,0,0,0,0,0,0,0,0,0,0,0,0,0,0,19.07,"-","Tue",500,0,0,4,2,0,0,0,0,0,0,0,0,0,0,1,0,0,3,2,0,0,0,0,0,0,0,0,0,0,0,0,0,0,0,0,0,26.14,"-","Tue",500,0,0,4,3,0,0,0,0,0,0,0,0,0,0,0,1,0,3,2,0,0,0,0,0,0,0,0,0,0,0,0,0,0,0,0,0,25.13,"-",0,0,0,1,0,0,0,0,0,0,0,0,1,0,0,4,2,0,0,0,0,0,0,0,0,6,0,0,4,3,0,0,0,0,0,0,0,0,7,null,1,"Tue",null,24.61,23.49,29.61,null,null,null,null,null,null,null,25.96,24.79,30.81,null,null,null,null,null,null,null,25.16,24.19,30.28]
["Tue",600,0,0,0,2,0,0,0,0,0,0,0,0,0,0,1,0,0,1,0,0,0,0,0,0,0,0,0,0,0,0,0,0,0,0,0,0,20.239999999999998,"-","Tue",600,0,0,7,6,1,0,0,0,0,0,0,0,0,0,1,2,1,4,4,2,0,0,0,0,0,0,0,0,0,0,0,0,0,0,0,0,28.14,34.61,"Tue",600,0,0,7,8,1,0,0,0,0,0,0,0,0,0,1,2,1,5,4,2,0,0,0,0,0,0,0,0,0,0,0,0,0,0,0,0,27.15,34.450000000000003,0,0,0,2,0,0,0,0,0,0,0,0,2,0,0,7,6,1,0,0,0,0,0,0,0,14,0,0,7,8,1,0,0,0,0,0,0,0,16,null,2,"Wed",null,23.54,23.55,28.65,null,null,null,null,null,null,null,26.21,25.5,31.59,null,null,null,null,null,null,null,25.02,24.59,30.8]
["Tue",700,0,0,7,7,0,0,0,0,0,0,0,0,0,0,1,1,4,4,4,0,0,0,0,0,0,0,0,0,0,0,0,0,0,0,0,0,24.83,30.62,"Tue",700,0,1,20,13,0,0,0,0,0,0,0,0,0,1,6,3,10,8,5,1,0,0,0,0,0,0,0,0,0,0,0,0,0,0,0,0,22.66,30.84,"Tue",700,0,1,27,20,0,0,0,0,0,0,0,0,0,0,1,4,14,12,9,1,0,0,0,0,0,0,0,0,0,0,0,0,0,0,0,0,23.29,30.8,0,0,7,7,0,0,0,0,0,0,0,0,14,0,1,20,13,0,0,0,0,0,0,0,0,34,0,1,27,20,0,0,0,0,0,0,0,0,48,null,3,"Thu",null,23.31,22.87,28.77,null,null,null,null,null,null,null,24.11,23.18,29.68,null,null,null,null,null,null,null,23.69,23.04,29.29]
["Tue",800,0,0,11,10,0,0,0,0,0,0,0,0,0,1,1,1,7,8,1,2,0,0,0,0,0,0,0,0,0,0,0,0,0,0,0,0,25.35,29.05,"Tue",800,0,0,18,17,1,0,0,0,0,0,0,0,0,0,1,2,8,18,7,0,0,0,0,0,0,0,0,0,0,0,0,0,0,0,0,0,26.65,30.65,"Tue",800,0,0,29,27,1,0,0,0,0,0,0,0,0,1,1,3,15,26,8,2,0,0,0,0,0,0,0,0,0,0,0,0,0,0,0,0,26.17,30.53,0,0,11,10,0,0,0,0,0,0,0,0,21,0,0,18,17,1,0,0,0,0,0,0,0,36,0,0,29,27,1,0,0,0,0,0,0,0,57,null,4,"Fri",null,24.49,23.87,29.74,null,null,null,null,null,null,null,25.81,25.24,31.74,null,null,null,null,null,null,null,25.18,24.6,30.78]
["Tue",900,0,0,8,6,0,0,0,0,0,0,0,0,0,0,0,3,6,3,2,0,0,0,0,0,0,0,0,0,0,0,0,0,0,0,0,0,23.78,29.54,"Tue",900,0,0,11,7,1,0,0,0,0,0,0,0,0,0,1,0,2,11,4,1,0,0,0,0,0,0,0,0,0,0,0,0,0,0,0,0,27.73,32.130000000000003,"Tue",900,0,0,19,13,1,0,0,0,0,0,0,0,0,0,0,3,8,14,6,1,0,0,0,0,0,0,0,0,0,0,0,0,0,0,0,0,26.05,30.94,0,0,8,6,0,0,0,0,0,0,0,0,14,0,0,11,7,1,0,0,0,0,0,0,0,19,0,0,19,13,1,0,0,0,0,0,0,0,33,null,5,"Sat",null,24.25,23.85,29.44,null,null,null,null,null,null,null,24.94,24.4,30.82,null,null,null,null,null,null,null,24.48,24.14,30.17]
["Tue",1000,0,0,5,7,3,0,0,0,0,0,0,0,0,3,1,3,2,5,1,0,0,0,0,0,0,0,0,0,0,0,0,0,0,0,0,0,20.27,26.86,"Tue",1000,0,0,9,10,1,0,0,0,0,0,0,0,0,0,1,0,5,11,3,0,0,0,0,0,0,0,0,0,0,0,0,0,0,0,0,0,26.11,29.88,"Tue",1000,0,0,14,17,4,0,0,0,0,0,0,0,0,3,1,3,7,16,4,0,0,0,0,0,0,0,0,0,0,0,0,0,0,0,0,0,23.61,29.42,0,0,5,7,3,0,0,0,0,0,0,0,15,0,0,9,10,1,0,0,0,0,0,0,0,20,0,0,14,17,4,0,0,0,0,0,0,0,35,null,6,"Sun",null,23.31,22.53,27.61,null,null,null,null,null,null,null,24.44,24.43,30.59,null,null,null,null,null,null,null,23.94,23.53,29.58]
["Tue",1100,0,0,8,10,2,0,0,0,0,0,0,0,0,0,2,1,7,9,1,0,0,0,0,0,0,0,0,0,0,0,0,0,0,0,0,0,23.47,27.59,"Tue",1100,0,0,9,11,1,0,0,0,0,0,0,0,0,0,0,5,6,8,2,0,0,0,0,0,0,0,0,0,0,0,0,0,0,0,0,0,23.96,28.87,"Tue",1100,0,0,17,21,3,0,0,0,0,0,0,0,0,0,2,6,13,17,3,0,0,0,0,0,0,0,0,0,0,0,0,0,0,0,0,0,23.72,28.87,0,0,8,10,2,0,0,0,0,0,0,0,20,0,0,9,11,1,0,0,0,0,0,0,0,21,0,0,17,21,3,0,0,0,0,0,0,0,41,null,null,"Weekday",null,23.77,23.31,29.01,null,null,null,null,null,null,null,25.42,24.6,30.84,null,null,null,null,null,null,null,24.65,24,30.04]
["Tue",1200,0,0,8,8,1,0,0,0,0,0,0,0,0,1,4,1,7,2,2,0,0,0,0,0,0,0,0,0,0,0,0,0,0,0,0,0,21.38,26.28,"Tue",1200,0,0,9,11,0,0,0,0,0,0,0,0,0,0,1,4,5,9,1,0,0,0,0,0,0,0,0,0,0,0,0,0,0,0,0,0,23.57,29.17,"Tue",1200,0,0,17,19,1,0,0,0,0,0,0,0,0,1,4,5,12,11,3,0,0,0,0,0,0,0,0,0,0,0,0,0,0,0,0,0,22.56,29.04,0,0,8,8,1,0,0,0,0,0,0,0,17,0,0,9,11,0,0,0,0,0,0,0,0,20,0,0,17,19,1,0,0,0,0,0,0,0,37,null,null,"7 day",null,23.8,23.31,28.93,null,null,null,null,null,null,null,25.33,24.56,30.83,null,null,null,null,null,null,null,24.57,23.98,30.02]
["Tue",1300,0,0,14,8,0,0,0,0,0,0,0,0,0,0,4,2,6,5,4,1,0,0,0,0,0,0,0,0,0,0,0,0,0,0,0,0,23.94,30.69,"Tue",1300,0,1,15,6,1,0,0,0,0,0,0,0,0,1,1,1,7,11,1,1,0,0,0,0,0,0,0,0,0,0,0,0,0,0,0,0,24.61,29.11,"Tue",1300,0,1,29,14,1,0,0,0,0,0,0,0,0,0,4,3,13,16,5,2,0,0,0,0,0,0,0,0,0,0,0,0,0,0,0,0,24.28,29.91,0,0,14,8,0,0,0,0,0,0,0,0,22,0,1,15,6,1,0,0,0,0,0,0,0,23,0,1,29,14,1,0,0,0,0,0,0,0,45]
["Tue",1400,0,1,14,5,2,0,0,1,0,0,0,0,0,0,1,7,5,6,4,0,0,0,0,0,0,0,0,0,0,0,0,0,0,0,0,0,23.66,29.75,"Tue",1400,0,1,12,5,2,0,0,1,0,0,0,0,0,1,4,3,2,9,2,0,0,0,0,0,0,0,0,0,0,0,0,0,0,0,0,0,21.57,28.47,"Tue",1400,0,2,26,10,4,0,0,2,0,0,0,0,0,0,1,10,7,15,6,0,0,0,0,0,0,0,0,0,0,0,0,0,0,0,0,0,22.66,29.17,0,1,14,5,2,0,0,1,0,0,0,0,23,0,1,12,5,2,0,0,1,0,0,0,0,21,0,2,26,10,4,0,0,2,0,0,0,0,44]
["Tue",1500,0,0,14,9,0,0,0,0,0,0,0,0,0,0,2,4,5,10,2,0,0,0,0,0,0,0,0,0,0,0,0,0,0,0,0,0,23.86,29.29,"Tue",1500,0,1,17,14,1,0,0,0,0,0,0,0,0,1,3,2,12,11,4,0,0,0,0,0,0,0,0,0,0,0,0,0,0,0,0,0,23.26,29.69,"Tue",1500,0,1,31,23,1,0,0,0,0,0,0,0,0,0,2,6,17,21,6,0,0,0,0,0,0,0,0,0,0,0,0,0,0,0,0,0,23.51,29.64,0,0,14,9,0,0,0,0,0,0,0,0,23,0,1,17,14,1,0,0,0,0,0,0,0,33,0,1,31,23,1,0,0,0,0,0,0,0,56,null,null,"Headway >=4","Min","Median","Average",0.85,0.95,"Max","StDev","15Kph Pace Lower Bound","Pace Count","Count > PSL ","Min","Median","Average",0.85,0.95,"Max","StDev","15Kph Pace Lower Bound","Pace Count","Count > PSL ","Min","Median","Average",0.85,0.95,"Max","StDev","15Kph Pace Lower Bound","Pace Count","Count > PSL "]
["Tue",1600,0,2,16,16,1,0,0,1,0,0,0,1,0,1,5,4,12,12,2,0,0,1,0,0,0,0,0,0,0,0,0,0,0,0,0,0,22.97,28.3,"Tue",1600,0,0,10,12,0,0,0,0,0,0,0,0,0,1,0,1,8,9,2,1,0,0,0,0,0,0,0,0,0,0,0,0,0,0,0,0,25.27,28.97,"Tue",1600,0,2,26,28,1,0,0,1,0,0,0,1,0,1,5,5,20,21,4,1,0,1,0,0,0,0,0,0,0,0,0,0,0,0,0,0,23.83,28.57,0,2,16,16,1,0,0,1,0,0,0,1,37,0,0,10,12,0,0,0,0,0,0,0,0,22,0,2,26,28,1,0,0,1,0,0,0,1,59,null,0,"Mon",null,23.56,22.76,28.39,null,null,null,null,null,null,null,24.97,24.51,30.4,null,null,null,null,null,null,null,24.32,23.71,29.58]
["Tue",1700,0,0,23,13,0,0,0,0,0,0,0,0,0,0,5,5,9,13,4,0,0,0,0,0,0,0,0,0,0,0,0,0,0,0,0,0,23.44,29.01,"Tue",1700,0,0,19,11,0,0,0,0,0,0,0,0,0,0,3,4,5,8,9,1,0,0,0,0,0,0,0,0,0,0,0,0,0,0,0,0,25.4,31.77,"Tue",1700,0,0,42,24,0,0,0,0,0,0,0,0,0,0,5,9,14,21,13,1,0,0,0,0,0,0,0,0,0,0,0,0,0,0,0,0,24.33,31.11,0,0,23,13,0,0,0,0,0,0,0,0,36,0,0,19,11,0,0,0,0,0,0,0,0,30,0,0,42,24,0,0,0,0,0,0,0,0,66,null,1,"Tue",null,24.77,23.68,29.67,null,null,null,null,null,null,null,26.08,24.84,30.84,null,null,null,null,null,null,null,25.33,24.3,30.44]
["Tue",1800,0,0,18,9,0,0,0,0,0,0,0,0,0,1,4,6,4,7,4,1,0,0,0,0,0,0,0,0,0,0,0,0,0,0,0,0,22.6,30.26,"Tue",1800,0,3,12,9,0,0,0,0,0,0,0,0,0,2,2,3,10,4,3,0,0,0,0,0,0,0,0,0,0,0,0,0,0,0,0,0,22.3,28.45,"Tue",1800,0,3,30,18,0,0,0,0,0,0,0,0,0,1,4,9,14,11,7,1,0,0,0,0,0,0,0,0,0,0,0,0,0,0,0,0,22.45,29.98,0,0,18,9,0,0,0,0,0,0,0,0,27,0,3,12,9,0,0,0,0,0,0,0,0,24,0,3,30,18,0,0,0,0,0,0,0,0,51,null,2,"Wed",null,23.57,23.6,28.81,null,null,null,null,null,null,null,26.25,25.57,31.69,null,null,null,null,null,null,null,25.06,24.65,30.97]
["Tue",1900,0,2,4,8,0,0,0,0,0,0,0,0,0,0,2,1,5,3,2,1,0,0,0,0,0,0,0,0,0,0,0,0,0,0,0,0,23.91,30.45,"Tue",1900,0,0,6,3,0,0,0,0,0,0,0,0,0,1,1,0,3,2,1,0,0,1,0,0,0,0,0,0,0,0,0,0,0,0,0,0,24.69,"-","Tue",1900,0,2,10,11,0,0,0,0,0,0,0,0,0,0,2,1,8,5,3,1,0,1,0,0,0,0,0,0,0,0,0,0,0,0,0,0,24.21,30.5,0,2,4,8,0,0,0,0,0,0,0,0,14,0,0,6,3,0,0,0,0,0,0,0,0,9,0,2,10,11,0,0,0,0,0,0,0,0,23,null,3,"Thu",null,23.34,22.91,28.81,null,null,null,null,null,null,null,24.35,23.29,29.84,null,null,null,null,null,null,null,23.99,23.11,29.46]
["Tue",2000,0,0,5,1,0,0,0,0,0,0,0,0,0,0,0,1,2,2,1,0,0,0,0,0,0,0,0,0,0,0,0,0,0,0,0,0,25.13,"-","Tue",2000,0,0,3,3,1,0,0,0,0,0,0,0,0,0,0,1,2,1,2,1,0,0,0,0,0,0,0,0,0,0,0,0,0,0,0,0,27.09,"-","Tue",2000,0,0,8,4,1,0,0,0,0,0,0,0,0,0,0,2,4,3,3,1,0,0,0,0,0,0,0,0,0,0,0,0,0,0,0,0,26.18,32.81,0,0,5,1,0,0,0,0,0,0,0,0,6,0,0,3,3,1,0,0,0,0,0,0,0,7,0,0,8,4,1,0,0,0,0,0,0,0,13,null,4,"Fri",null,24.53,24.04,29.84,null,null,null,null,null,null,null,25.86,25.27,31.86,null,null,null,null,null,null,null,25.24,24.7,30.89]
["Tue",2100,0,1,1,3,0,0,0,0,0,0,0,0,0,0,0,0,1,2,2,0,0,0,0,0,0,0,0,0,0,0,0,0,0,0,0,0,28.17,"-","Tue",2100,0,0,0,1,0,0,0,0,0,0,0,0,0,0,0,0,0,0,0,0,1,0,0,0,0,0,0,0,0,0,0,0,0,0,0,0,41.1,"-","Tue",2100,0,1,1,4,0,0,0,0,0,0,0,0,0,0,0,0,1,2,2,0,1,0,0,0,0,0,0,0,0,0,0,0,0,0,0,0,30.32,"-",0,1,1,3,0,0,0,0,0,0,0,0,5,0,0,0,1,0,0,0,0,0,0,0,0,1,0,1,1,4,0,0,0,0,0,0,0,0,6,null,5,"Sat",null,24.26,23.85,29.43,null,null,null,null,null,null,null,25.21,24.53,30.96,null,null,null,null,null,null,null,24.64,24.2,30.19]
["Tue",2200,0,0,2,4,0,0,0,0,0,0,0,0,0,0,0,1,1,3,1,0,0,0,0,0,0,0,0,0,0,0,0,0,0,0,0,0,26.38,"-","Tue",2200,0,0,2,0,0,0,0,0,0,0,0,0,0,0,0,0,1,0,1,0,0,0,0,0,0,0,0,0,0,0,0,0,0,0,0,0,28.9,"-","Tue",2200,0,0,4,4,0,0,0,0,0,0,0,0,0,0,0,1,2,3,2,0,0,0,0,0,0,0,0,0,0,0,0,0,0,0,0,0,27.01,"-",0,0,2,4,0,0,0,0,0,0,0,0,6,0,0,2,0,0,0,0,0,0,0,0,0,2,0,0,4,4,0,0,0,0,0,0,0,0,8,null,6,"Sun",null,23.31,22.55,27.65,null,null,null,null,null,null,null,24.87,24.57,30.61,null,null,null,null,null,null,null,24.03,23.61,29.67]
["Tue",2300,0,0,1,0,0,0,0,0,0,0,0,0,0,0,0,0,1,0,0,0,0,0,0,0,0,0,0,0,0,0,0,0,0,0,0,0,24.4,"-","Tue",2300,0,0,0,0,0,0,0,0,0,0,0,0,0,0,0,0,0,0,0,0,0,0,0,0,0,0,0,0,0,0,0,0,0,0,0,0,"-","-","Tue",2300,0,0,1,0,0,0,0,0,0,0,0,0,0,0,0,0,1,0,0,0,0,0,0,0,0,0,0,0,0,0,0,0,0,0,0,0,24.4,"-",0,0,1,0,0,0,0,0,0,0,0,0,1,0,0,0,0,0,0,0,0,0,0,0,0,0,0,0,1,0,0,0,0,0,0,0,0,0,1,null,null,"Weekday",null,23.9,23.41,29.08,null,null,null,null,null,null,null,25.55,24.69,30.93,null,null,null,null,null,null,null,24.78,24.1,30.19]
["Wed",0,0,0,2,0,0,0,0,0,0,0,0,0,0,0,0,1,0,0,1,0,0,0,0,0,0,0,0,0,0,0,0,0,0,0,0,0,23.93,"-","Wed",0,0,0,1,0,0,0,0,0,0,0,0,0,0,0,1,0,0,0,0,0,0,0,0,0,0,0,0,0,0,0,0,0,0,0,0,0,10.58,"-","Wed",0,0,0,3,0,0,0,0,0,0,0,0,0,0,0,0,1,0,0,1,0,0,0,0,0,0,0,0,0,0,0,0,0,0,0,0,0,19.48,"-",0,0,2,0,0,0,0,0,0,0,0,0,2,0,0,1,0,0,0,0,0,0,0,0,0,1,0,0,3,0,0,0,0,0,0,0,0,0,3,null,null,"7 day",null,23.88,23.39,29.03,null,null,null,null,null,null,null,25.46,24.66,30.92,null,null,null,null,null,null,null,24.7,24.06,30.13]
["Wed",100,0,0,0,0,0,0,0,0,0,0,0,0,0,0,0,0,0,0,0,0,0,0,0,0,0,0,0,0,0,0,0,0,0,0,0,0,"-","-","Wed",100,0,0,0,0,0,0,0,0,0,0,0,0,0,0,0,0,0,0,0,0,0,0,0,0,0,0,0,0,0,0,0,0,0,0,0,0,"-","-","Wed",100,0,0,0,0,0,0,0,0,0,0,0,0,0,0,0,0,0,0,0,0,0,0,0,0,0,0,0,0,0,0,0,0,0,0,0,0,"-","-",0,0,0,0,0,0,0,0,0,0,0,0,0,0,0,0,0,0,0,0,0,0,0,0,0,0,0,0,0,0,0,0,0,0,0,0,0,0,0]
["Wed",200,0,0,0,1,0,0,0,0,0,0,0,0,0,0,0,0,1,0,0,0,0,0,0,0,0,0,0,0,0,0,0,0,0,0,0,0,23.85,"-","Wed",200,0,0,0,1,0,0,0,0,0,0,0,0,0,0,0,0,1,0,0,0,0,0,0,0,0,0,0,0,0,0,0,0,0,0,0,0,23.88,"-","Wed",200,0,0,0,2,0,0,0,0,0,0,0,0,0,0,0,0,2,0,0,0,0,0,0,0,0,0,0,0,0,0,0,0,0,0,0,0,23.87,"-",0,0,0,1,0,0,0,0,0,0,0,0,1,0,0,0,1,0,0,0,0,0,0,0,0,1,0,0,0,2,0,0,0,0,0,0,0,0,2]
["Wed",300,0,0,0,0,0,0,0,0,0,0,0,0,0,0,0,0,0,0,0,0,0,0,0,0,0,0,0,0,0,0,0,0,0,0,0,0,"-","-","Wed",300,0,0,0,2,0,0,0,0,0,0,0,0,0,0,0,0,0,2,0,0,0,0,0,0,0,0,0,0,0,0,0,0,0,0,0,0,27.1,"-","Wed",300,0,0,0,2,0,0,0,0,0,0,0,0,0,0,0,0,0,2,0,0,0,0,0,0,0,0,0,0,0,0,0,0,0,0,0,0,27.1,"-",0,0,0,0,0,0,0,0,0,0,0,0,0,0,0,0,2,0,0,0,0,0,0,0,0,2,0,0,0,2,0,0,0,0,0,0,0,0,2]
["Wed",400,0,0,0,0,0,0,0,0,0,0,0,0,0,0,0,0,0,0,0,0,0,0,0,0,0,0,0,0,0,0,0,0,0,0,0,0,"-","-","Wed",400,0,0,2,1,0,0,0,0,0,0,0,0,0,0,0,1,1,1,0,0,0,0,0,0,0,0,0,0,0,0,0,0,0,0,0,0,23.39,"-","Wed",400,0,0,2,1,0,0,0,0,0,0,0,0,0,0,0,1,1,1,0,0,0,0,0,0,0,0,0,0,0,0,0,0,0,0,0,0,23.39,"-",0,0,0,0,0,0,0,0,0,0,0,0,0,0,0,2,1,0,0,0,0,0,0,0,0,3,0,0,2,1,0,0,0,0,0,0,0,0,3]
["Wed",500,0,0,1,1,0,0,0,0,0,0,0,0,0,0,0,1,0,0,1,0,0,0,0,0,0,0,0,0,0,0,0,0,0,0,0,0,23.91,"-","Wed",500,0,0,3,6,0,0,0,0,0,0,0,0,0,0,1,0,2,4,1,1,0,0,0,0,0,0,0,0,0,0,0,0,0,0,0,0,26.29,"-","Wed",500,0,0,4,7,0,0,0,0,0,0,0,0,0,0,0,1,2,4,2,1,0,0,0,0,0,0,0,0,0,0,0,0,0,0,0,0,25.86,32.1,0,0,1,1,0,0,0,0,0,0,0,0,2,0,0,3,6,0,0,0,0,0,0,0,0,9,0,0,4,7,0,0,0,0,0,0,0,0,11]
["Wed",600,0,0,1,2,0,0,0,0,0,0,0,0,0,0,0,0,2,0,1,0,0,0,0,0,0,0,0,0,0,0,0,0,0,0,0,0,26.35,"-","Wed",600,0,1,6,9,0,0,0,0,0,0,0,0,0,0,1,0,2,5,6,2,0,0,0,0,0,0,0,0,0,0,0,0,0,0,0,0,28.92,33.14,"Wed",600,0,1,7,11,0,0,0,0,0,0,0,0,0,0,0,0,4,5,7,2,0,0,0,0,0,0,0,0,0,0,0,0,0,0,0,0,28.51,33,0,0,1,2,0,0,0,0,0,0,0,0,3,0,1,6,9,0,0,0,0,0,0,0,0,16,0,1,7,11,0,0,0,0,0,0,0,0,19]
["Wed",700,0,0,1,3,0,0,0,0,0,0,0,0,0,0,0,1,1,1,1,0,0,0,0,0,0,0,0,0,0,0,0,0,0,0,0,0,25.09,"-","Wed",700,1,3,14,11,1,0,0,0,0,0,0,0,0,0,3,2,7,8,10,0,0,0,0,0,0,0,0,0,0,0,0,0,0,0,0,0,25.55,32.24,"Wed",700,1,3,15,14,1,0,0,0,0,0,0,0,0,0,0,3,8,9,11,0,0,0,0,0,0,0,0,0,0,0,0,0,0,0,0,0,25.5,32.32,0,0,1,3,0,0,0,0,0,0,0,0,4,1,3,14,11,1,0,0,0,0,0,0,0,30,1,3,15,14,1,0,0,0,0,0,0,0,34]
["Wed",800,0,0,8,11,0,0,0,0,0,0,0,0,0,0,0,2,9,5,3,0,0,0,0,0,0,0,0,0,0,0,0,0,0,0,0,0,24.72,29.11,"Wed",800,0,1,13,12,0,0,0,0,0,0,0,0,0,0,2,2,3,11,4,4,0,0,0,0,0,0,0,0,0,0,0,0,0,0,0,0,26.91,34.130000000000003,"Wed",800,0,1,21,23,0,0,0,0,0,0,0,0,0,0,0,4,12,16,7,4,0,0,0,0,0,0,0,0,0,0,0,0,0,0,0,0,25.99,31.48,0,0,8,11,0,0,0,0,0,0,0,0,19,0,1,13,12,0,0,0,0,0,0,0,0,26,0,1,21,23,0,0,0,0,0,0,0,0,45]
["Wed",900,0,0,7,7,0,0,0,0,0,0,0,0,0,0,0,1,6,6,1,0,0,0,0,0,0,0,0,0,0,0,0,0,0,0,0,0,24.83,29.2,"Wed",900,0,1,15,9,1,0,0,0,0,0,0,0,0,0,3,2,5,10,6,0,0,0,0,0,0,0,0,0,0,0,0,0,0,0,0,0,25.16,31.12,"Wed",900,0,1,22,16,1,0,0,0,0,0,0,0,0,0,0,3,11,16,7,0,0,0,0,0,0,0,0,0,0,0,0,0,0,0,0,0,25.04,30.68,0,0,7,7,0,0,0,0,0,0,0,0,14,0,1,15,9,1,0,0,0,0,0,0,0,26,0,1,22,16,1,0,0,0,0,0,0,0,40]
["Wed",1000,0,0,8,0,1,0,0,0,0,0,0,0,0,0,1,1,4,2,1,0,0,0,0,0,0,0,0,0,0,0,0,0,0,0,0,0,23.05,"-","Wed",1000,0,0,10,7,1,0,0,0,0,0,0,0,0,0,1,3,5,6,2,1,0,0,0,0,0,0,0,0,0,0,0,0,0,0,0,0,24.27,29.21,"Wed",1000,0,0,18,7,2,0,0,0,0,0,0,0,0,0,1,4,9,8,3,1,0,0,0,0,0,0,0,0,0,0,0,0,0,0,0,0,23.87,28.69,0,0,8,0,1,0,0,0,0,0,0,0,9,0,0,10,7,1,0,0,0,0,0,0,0,18,0,0,18,7,2,0,0,0,0,0,0,0,27]
["Wed",1100,0,0,14,8,0,0,0,0,0,0,0,0,0,0,1,5,8,5,3,0,0,0,0,0,0,0,0,0,0,0,0,0,0,0,0,0,23.04,27.63,"Wed",1100,0,0,9,14,1,0,0,0,0,0,0,0,0,1,1,5,4,8,4,1,0,0,0,0,0,0,0,0,0,0,0,0,0,0,0,0,25.19,31.37,"Wed",1100,0,0,23,22,1,0,0,0,0,0,0,0,0,0,1,10,12,13,7,1,0,0,0,0,0,0,0,0,0,0,0,0,0,0,0,0,24.16,31.03,0,0,14,8,0,0,0,0,0,0,0,0,22,0,0,9,14,1,0,0,0,0,0,0,0,24,0,0,23,22,1,0,0,0,0,0,0,0,46]
["Wed",1200,0,0,7,12,0,0,0,0,0,0,0,0,0,0,2,1,6,7,3,0,0,0,0,0,0,0,0,0,0,0,0,0,0,0,0,0,24.81,30.08,"Wed",1200,0,0,6,10,0,0,0,0,0,0,0,0,0,0,1,0,7,7,1,0,0,0,0,0,0,0,0,0,0,0,0,0,0,0,0,0,24.16,27.24,"Wed",1200,0,0,13,22,0,0,0,0,0,0,0,0,0,0,2,1,13,14,4,0,0,0,0,0,0,0,0,0,0,0,0,0,0,0,0,0,24.51,29.82,0,0,7,12,0,0,0,0,0,0,0,0,19,0,0,6,10,0,0,0,0,0,0,0,0,16,0,0,13,22,0,0,0,0,0,0,0,0,35]
["Wed",1300,0,0,7,13,0,0,0,0,0,0,0,0,0,0,6,1,8,4,0,1,0,0,0,0,0,0,0,0,0,0,0,0,0,0,0,0,20.89,25.98,"Wed",1300,0,1,10,9,0,0,0,0,0,0,0,0,0,0,3,0,4,10,2,1,0,0,0,0,0,0,0,0,0,0,0,0,0,0,0,0,25.41,30.26,"Wed",1300,0,1,17,22,0,0,0,0,0,0,0,0,0,0,6,1,12,14,2,2,0,0,0,0,0,0,0,0,0,0,0,0,0,0,0,0,23.15,29.16,0,0,7,13,0,0,0,0,0,0,0,0,20,0,1,10,9,0,0,0,0,0,0,0,0,20,0,1,17,22,0,0,0,0,0,0,0,0,40]
["Wed",1400,0,0,11,7,1,0,0,0,0,0,0,0,0,0,0,2,14,2,1,0,0,0,0,0,0,0,0,0,0,0,0,0,0,0,0,0,23.07,25.62,"Wed",1400,0,1,15,7,1,0,0,1,0,0,0,0,0,2,2,6,7,5,2,1,0,0,0,0,0,0,0,0,0,0,0,0,0,0,0,0,21.76,28.69,"Wed",1400,0,1,26,14,2,0,0,1,0,0,0,0,0,0,0,8,21,7,3,1,0,0,0,0,0,0,0,0,0,0,0,0,0,0,0,0,22.32,27.95,0,0,11,7,1,0,0,0,0,0,0,0,19,0,1,15,7,1,0,0,1,0,0,0,0,25,0,1,26,14,2,0,0,1,0,0,0,0,44]
["Wed",1500,0,0,7,8,1,0,0,0,0,0,0,0,0,0,3,5,7,1,0,0,0,0,0,0,0,0,0,0,0,0,0,0,0,0,0,0,19.93,23.57,"Wed",1500,0,1,11,14,0,0,0,1,0,0,0,0,0,1,0,3,9,8,5,1,0,0,0,0,0,0,0,0,0,0,0,0,0,0,0,0,25.33,31.94,"Wed",1500,0,1,18,22,1,0,0,1,0,0,0,0,0,0,3,8,16,9,5,1,0,0,0,0,0,0,0,0,0,0,0,0,0,0,0,0,23.32,28.02,0,0,7,8,1,0,0,0,0,0,0,0,16,0,1,11,14,0,0,0,1,0,0,0,0,27,0,1,18,22,1,0,0,1,0,0,0,0,43]
["Wed",1600,0,1,18,15,2,0,0,0,0,0,0,0,0,0,3,6,8,13,5,1,0,0,0,0,0,0,0,0,0,0,0,0,0,0,0,0,24.63,29.96,"Wed",1600,0,1,13,14,1,0,0,0,0,0,0,0,0,1,2,3,5,13,5,0,0,0,0,0,0,0,0,0,0,0,0,0,0,0,0,0,24.94,29.86,"Wed",1600,0,2,31,29,3,0,0,0,0,0,0,0,0,0,3,9,13,26,10,1,0,0,0,0,0,0,0,0,0,0,0,0,0,0,0,0,24.77,30.09,{"$f":"SUM(C69)","v":0},{"$f":"SUM(D69)","v":1},{"$f":"SUM(E69)","v":18},{"$f":"SUM(F69)","v":15},{"$f":"SUM(G69)","v":2},{"$f":"SUM(H69)","v":0},{"$f":"SUM(I69)","v":0},{"$f":"SUM(J69)","v":0},{"$f":"SUM(K69)","v":0},{"$f":"SUM(L69)","v":0},{"$f":"SUM(M69)","v":0},{"$f":"SUM(N69)","v":0},{"$f":"SUM(C69:N69)","v":36},{"$f":"SUM(AQ69)","v":0},{"$f":"SUM(AR69)","v":1},{"$f":"SUM(AS69)","v":13},{"$f":"SUM(AT69)","v":14},{"$f":"SUM(AU69)","v":1},{"$f":"SUM(AV69)","v":0},{"$f":"SUM(AW69)","v":0},{"$f":"SUM(AX69)","v":0},{"$f":"SUM(AY69)","v":0},{"$f":"SUM(AZ69)","v":0},{"$f":"SUM(BA69)","v":0},{"$f":"SUM(BB69)","v":0},{"$f":"SUM(AQ69:BB69)","v":29},{"$f":"SUM(DQ69+ED69)","v":0},{"$f":"SUM(DR69+EE69)","v":2},{"$f":"SUM(DS69+EF69)","v":31},{"$f":"SUM(DT69+EG69)","v":29},{"$f":"SUM(DU69+EH69)","v":3},{"$f":"SUM(DV69+EI69)","v":0},{"$f":"SUM(DW69+EJ69)","v":0},{"$f":"SUM(DX69+EK69)","v":0},{"$f":"SUM(DY69+EL69)","v":0},{"$f":"SUM(DZ69+EM69)","v":0},{"$f":"SUM(EA69+EN69)","v":0},{"$f":"SUM(EB69+EO69)","v":0},{"$f":"SUM(EC69+EP69)","v":65}]
["Wed",1700,0,0,21,16,1,0,0,0,0,0,0,0,0,0,2,5,16,13,2,0,0,0,0,0,0,0,0,0,0,0,0,0,0,0,0,0,23.33,27.19,"Wed",1700,0,0,6,18,0,0,0,0,0,0,0,0,0,0,0,2,6,11,5,0,0,0,0,0,0,0,0,0,0,0,0,0,0,0,0,0,26.2,31.36,"Wed",1700,0,0,27,34,1,0,0,0,0,0,0,0,0,0,2,7,22,24,7,0,0,0,0,0,0,0,0,0,0,0,0,0,0,0,0,0,24.44,28.26,0,0,21,16,1,0,0,0,0,0,0,0,38,0,0,6,18,0,0,0,0,0,0,0,0,24,0,0,27,34,1,0,0,0,0,0,0,0,62]
["Wed",1800,0,2,13,8,0,0,0,0,0,0,0,0,0,0,1,4,9,7,2,0,0,0,0,0,0,0,0,0,0,0,0,0,0,0,0,0,24.09,28.27,"Wed",1800,0,0,7,6,0,0,0,0,0,0,0,0,0,0,0,1,1,6,5,0,0,0,0,0,0,0,0,0,0,0,0,0,0,0,0,0,27.84,31.3,"Wed",1800,0,2,20,14,0,0,0,0,0,0,0,0,0,0,1,5,10,13,7,0,0,0,0,0,0,0,0,0,0,0,0,0,0,0,0,0,25.45,30.17,0,2,13,8,0,0,0,0,0,0,0,0,23,0,0,7,6,0,0,0,0,0,0,0,0,13,0,2,20,14,0,0,0,0,0,0,0,0,36]
["Wed",1900,0,0,7,12,0,0,0,0,0,0,0,0,0,0,0,3,9,6,1,0,0,0,0,0,0,0,0,0,0,0,0,0,0,0,0,0,23.23,25.92,"Wed",1900,0,0,6,4,0,0,0,0,0,0,0,0,0,0,1,0,1,5,3,0,0,0,0,0,0,0,0,0,0,0,0,0,0,0,0,0,26.22,30.65,"Wed",1900,0,0,13,16,0,0,0,0,0,0,0,0,0,0,0,3,10,11,4,0,0,0,0,0,0,0,0,0,0,0,0,0,0,0,0,0,24.26,29.04,0,0,7,12,0,0,0,0,0,0,0,0,19,0,0,6,4,0,0,0,0,0,0,0,0,10,0,0,13,16,0,0,0,0,0,0,0,0,29]
["Wed",2000,0,0,11,3,0,0,0,0,0,0,0,0,0,0,0,2,6,5,1,0,0,0,0,0,0,0,0,0,0,0,0,0,0,0,0,0,24.74,29.07,"Wed",2000,0,0,6,3,0,0,0,0,0,0,0,0,0,0,1,0,1,6,1,0,0,0,0,0,0,0,0,0,0,0,0,0,0,0,0,0,26.49,"-","Wed",2000,0,0,17,6,0,0,0,0,0,0,0,0,0,0,0,2,7,11,2,0,0,0,0,0,0,0,0,0,0,0,0,0,0,0,0,0,25.42,28.97,0,0,11,3,0,0,0,0,0,0,0,0,14,0,0,6,3,0,0,0,0,0,0,0,0,9,0,0,17,6,0,0,0,0,0,0,0,0,23]
["Wed",2100,0,0,2,4,0,0,0,0,0,0,0,0,0,0,0,0,4,2,0,0,0,0,0,0,0,0,0,0,0,0,0,0,0,0,0,0,24.44,"-","Wed",2100,0,0,1,4,0,0,0,0,0,0,0,0,0,1,0,0,1,1,2,0,0,0,0,0,0,0,0,0,0,0,0,0,0,0,0,0,24.05,"-","Wed",2100,0,0,3,8,0,0,0,0,0,0,0,0,0,0,0,0,5,3,2,0,0,0,0,0,0,0,0,0,0,0,0,0,0,0,0,0,24.26,29.4,0,0,2,4,0,0,0,0,0,0,0,0,6,0,0,1,4,0,0,0,0,0,0,0,0,5,0,0,3,8,0,0,0,0,0,0,0,0,11]
["Wed",2200,0,0,1,2,0,0,0,0,0,0,0,0,0,0,0,1,1,1,0,0,0,0,0,0,0,0,0,0,0,0,0,0,0,0,0,0,22.23,"-","Wed",2200,0,0,4,0,0,0,0,0,0,0,0,0,0,0,0,0,1,1,0,1,0,0,1,0,0,0,0,0,0,0,0,0,0,0,0,0,35.21,"-","Wed",2200,0,0,5,2,0,0,0,0,0,0,0,0,0,0,0,1,2,2,0,1,0,0,1,0,0,0,0,0,0,0,0,0,0,0,0,0,29.65,"-",0,0,1,2,0,0,0,0,0,0,0,0,3,0,0,4,0,0,0,0,0,0,0,0,0,4,0,0,5,2,0,0,0,0,0,0,0,0,7]
["Wed",2300,0,0,4,1,0,0,0,0,0,0,0,0,0,0,0,1,2,1,1,0,0,0,0,0,0,0,0,0,0,0,0,0,0,0,0,0,23.9,"-","Wed",2300,0,0,0,0,0,0,0,0,0,0,0,0,0,0,0,0,0,0,0,0,0,0,0,0,0,0,0,0,0,0,0,0,0,0,0,0,"-","-","Wed",2300,0,0,4,1,0,0,0,0,0,0,0,0,0,0,0,1,2,1,1,0,0,0,0,0,0,0,0,0,0,0,0,0,0,0,0,0,23.9,"-",0,0,4,1,0,0,0,0,0,0,0,0,5,0,0,0,0,0,0,0,0,0,0,0,0,0,0,0,4,1,0,0,0,0,0,0,0,0,5]
["Thu",0,0,0,0,0,0,0,0,0,0,0,0,0,0,0,0,0,0,0,0,0,0,0,0,0,0,0,0,0,0,0,0,0,0,0,0,0,"-","-","Thu",0,0,0,1,0,0,0,0,0,0,0,0,0,0,0,0,0,1,0,0,0,0,0,0,0,0,0,0,0,0,0,0,0,0,0,0,0,21.74,"-","Thu",0,0,0,1,0,0,0,0,0,0,0,0,0,0,0,0,0,1,0,0,0,0,0,0,0,0,0,0,0,0,0,0,0,0,0,0,0,21.74,"-",0,0,0,0,0,0,0,0,0,0,0,0,0,0,0,1,0,0,0,0,0,0,0,0,0,1,0,0,1,0,0,0,0,0,0,0,0,0,1]
["Thu",100,0,0,0,0,0,0,0,0,0,0,0,0,0,0,0,0,0,0,0,0,0,0,0,0,0,0,0,0,0,0,0,0,0,0,0,0,"-","-","Thu",100,0,0,0,0,0,0,0,0,0,0,0,0,0,0,0,0,0,0,0,0,0,0,0,0,0,0,0,0,0,0,0,0,0,0,0,0,"-","-","Thu",100,0,0,0,0,0,0,0,0,0,0,0,0,0,0,0,0,0,0,0,0,0,0,0,0,0,0,0,0,0,0,0,0,0,0,0,0,"-","-",0,0,0,0,0,0,0,0,0,0,0,0,0,0,0,0,0,0,0,0,0,0,0,0,0,0,0,0,0,0,0,0,0,0,0,0,0,0,0]
["Thu",200,0,0,0,0,0,0,0,0,0,0,0,0,0,0,0,0,0,0,0,0,0,0,0,0,0,0,0,0,0,0,0,0,0,0,0,0,"-","-","Thu",200,0,0,0,0,0,0,0,0,0,0,0,0,0,0,0,0,0,0,0,0,0,0,0,0,0,0,0,0,0,0,0,0,0,0,0,0,"-","-","Thu",200,0,0,0,0,0,0,0,0,0,0,0,0,0,0,0,0,0,0,0,0,0,0,0,0,0,0,0,0,0,0,0,0,0,0,0,0,"-","-",0,0,0,0,0,0,0,0,0,0,0,0,0,0,0,0,0,0,0,0,0,0,0,0,0,0,0,0,0,0,0,0,0,0,0,0,0,0,0]
["Thu",300,0,0,0,0,0,0,0,0,0,0,0,0,0,0,0,0,0,0,0,0,0,0,0,0,0,0,0,0,0,0,0,0,0,0,0,0,"-","-","Thu",300,0,0,0,0,0,0,0,0,0,0,0,0,0,0,0,0,0,0,0,0,0,0,0,0,0,0,0,0,0,0,0,0,0,0,0,0,"-","-","Thu",300,0,0,0,0,0,0,0,0,0,0,0,0,0,0,0,0,0,0,0,0,0,0,0,0,0,0,0,0,0,0,0,0,0,0,0,0,"-","-",0,0,0,0,0,0,0,0,0,0,0,0,0,0,0,0,0,0,0,0,0,0,0,0,0,0,0,0,0,0,0,0,0,0,0,0,0,0,0]
["Thu",400,0,0,0,0,0,0,0,0,0,0,0,0,0,0,0,0,0,0,0,0,0,0,0,0,0,0,0,0,0,0,0,0,0,0,0,0,"-","-","Thu",400,0,0,1,1,0,0,0,0,0,0,0,0,0,0,0,0,0,1,0,1,0,0,0,0,0,0,0,0,0,0,0,0,0,0,0,0,32.31,"-","Thu",400,0,0,1,1,0,0,0,0,0,0,0,0,0,0,0,0,0,1,0,1,0,0,0,0,0,0,0,0,0,0,0,0,0,0,0,0,32.31,"-",0,0,0,0,0,0,0,0,0,0,0,0,0,0,0,1,1,0,0,0,0,0,0,0,0,2,0,0,1,1,0,0,0,0,0,0,0,0,2]
["Thu",500,0,0,0,1,0,0,0,0,0,0,0,0,0,0,0,0,0,1,0,0,0,0,0,0,0,0,0,0,0,0,0,0,0,0,0,0,28.54,"-","Thu",500,0,0,3,1,0,0,0,0,0,0,0,0,0,0,1,0,1,1,1,0,0,0,0,0,0,0,0,0,0,0,0,0,0,0,0,0,23.58,"-","Thu",500,0,0,3,2,0,0,0,0,0,0,0,0,0,0,0,0,1,2,1,0,0,0,0,0,0,0,0,0,0,0,0,0,0,0,0,0,24.57,"-",0,0,0,1,0,0,0,0,0,0,0,0,1,0,0,3,1,0,0,0,0,0,0,0,0,4,0,0,3,2,0,0,0,0,0,0,0,0,5]
["Thu",600,0,0,3,2,0,0,0,0,0,0,0,0,0,0,1,0,3,1,0,0,0,0,0,0,0,0,0,0,0,0,0,0,0,0,0,0,20.309999999999999,"-","Thu",600,0,1,10,16,0,0,0,0,0,0,0,0,0,2,0,1,8,11,4,0,1,0,0,0,0,0,0,0,0,0,0,0,0,0,0,0,25.25,30.15,"Thu",600,0,1,13,18,0,0,0,0,0,0,0,0,0,0,1,1,11,12,4,0,1,0,0,0,0,0,0,0,0,0,0,0,0,0,0,0,24.48,29.76,0,0,3,2,0,0,0,0,0,0,0,0,5,0,1,10,16,0,0,0,0,0,0,0,0,27,0,1,13,18,0,0,0,0,0,0,0,0,32]
["Thu",700,0,0,6,7,1,0,0,0,0,0,0,0,0,0,0,2,7,5,0,0,0,0,0,0,0,0,0,0,0,0,0,0,0,0,0,0,24.17,27.36,"Thu",700,0,2,17,16,0,0,0,0,0,0,0,0,0,1,1,3,8,15,5,2,0,0,0,0,0,0,0,0,0,0,0,0,0,0,0,0,25.96,30.71,"Thu",700,0,2,23,23,1,0,0,0,0,0,0,0,0,0,0,5,15,20,5,2,0,0,0,0,0,0,0,0,0,0,0,0,0,0,0,0,25.45,29.91,0,0,6,7,1,0,0,0,0,0,0,0,14,0,2,17,16,0,0,0,0,0,0,0,0,35,0,2,23,23,1,0,0,0,0,0,0,0,49]
["Thu",800,0,0,8,7,0,0,0,0,0,0,0,0,0,1,1,3,3,6,1,0,0,0,0,0,0,0,0,0,0,0,0,0,0,0,0,0,22.31,26.98,"Thu",800,0,0,18,13,0,0,0,0,0,0,0,0,0,1,3,5,7,7,8,0,0,0,0,0,0,0,0,0,0,0,0,0,0,0,0,0,23.38,30.63,"Thu",800,0,0,26,20,0,0,0,0,0,0,0,0,0,1,1,8,10,13,9,0,0,0,0,0,0,0,0,0,0,0,0,0,0,0,0,0,23.03,30.41,0,0,8,7,0,0,0,0,0,0,0,0,15,0,0,18,13,0,0,0,0,0,0,0,0,31,0,0,26,20,0,0,0,0,0,0,0,0,46]
["Thu",900,0,0,9,9,1,0,0,0,0,0,0,0,0,1,0,5,7,4,2,0,0,0,0,0,0,0,0,0,0,0,0,0,0,0,0,0,22.36,28.81,"Thu",900,0,0,14,11,0,0,0,0,0,0,0,0,0,3,1,4,9,8,0,0,0,0,0,0,0,0,0,0,0,0,0,0,0,0,0,0,21.31,27.01,"Thu",900,0,0,23,20,1,0,0,0,0,0,0,0,0,1,0,9,16,12,2,0,0,0,0,0,0,0,0,0,0,0,0,0,0,0,0,0,21.76,28.25,0,0,9,9,1,0,0,0,0,0,0,0,19,0,0,14,11,0,0,0,0,0,0,0,0,25,0,0,23,20,1,0,0,0,0,0,0,0,44]
["Thu",1000,0,0,9,4,1,0,0,0,0,0,0,0,0,1,1,3,4,4,1,0,0,0,0,0,0,0,0,0,0,0,0,0,0,0,0,0,21.81,27.56,"Thu",1000,0,0,17,11,1,0,0,0,0,0,0,0,0,1,2,5,10,10,1,0,0,0,0,0,0,0,0,0,0,0,0,0,0,0,0,0,22.98,28.59,"Thu",1000,0,0,26,15,2,0,0,0,0,0,0,0,0,1,1,8,14,14,2,0,0,0,0,0,0,0,0,0,0,0,0,0,0,0,0,0,22.6,28.49,0,0,9,4,1,0,0,0,0,0,0,0,14,0,0,17,11,1,0,0,0,0,0,0,0,29,0,0,26,15,2,0,0,0,0,0,0,0,43]
["Thu",1100,0,0,18,5,0,0,0,0,0,0,0,0,0,2,2,7,7,3,2,0,0,0,0,0,0,0,0,0,0,0,0,0,0,0,0,0,20.350000000000001,27.58,"Thu",1100,0,0,12,12,0,1,0,0,0,0,0,0,0,3,5,6,9,2,0,0,0,0,0,0,0,0,0,0,0,0,0,0,0,0,0,0,18.04,24.28,"Thu",1100,0,0,30,17,0,1,0,0,0,0,0,0,0,2,2,13,16,5,2,0,0,0,0,0,0,0,0,0,0,0,0,0,0,0,0,0,19.14,24.95,0,0,18,5,0,0,0,0,0,0,0,0,23,0,0,12,12,0,1,0,0,0,0,0,0,25,0,0,30,17,0,1,0,0,0,0,0,0,48]
["Thu",1200,0,0,13,10,1,0,0,0,0,0,0,0,0,2,4,4,7,6,1,0,0,0,0,0,0,0,0,0,0,0,0,0,0,0,0,0,20.67,27.33,"Thu",1200,0,0,8,5,2,0,0,0,0,0,0,0,0,0,4,3,5,3,0,0,0,0,0,0,0,0,0,0,0,0,0,0,0,0,0,0,20.59,26.72,"Thu",1200,0,0,21,15,3,0,0,0,0,0,0,0,0,2,4,7,12,9,1,0,0,0,0,0,0,0,0,0,0,0,0,0,0,0,0,0,20.64,27.19,0,0,13,10,1,0,0,0,0,0,0,0,24,0,0,8,5,2,0,0,0,0,0,0,0,15,0,0,21,15,3,0,0,0,0,0,0,0,39]
["Thu",1300,0,0,10,7,1,0,0,0,0,0,0,0,0,0,3,4,5,6,0,0,0,0,0,0,0,0,0,0,0,0,0,0,0,0,0,0,21.21,28.32,"Thu",1300,0,1,15,8,0,0,0,0,0,0,0,0,0,1,4,6,7,6,0,0,0,0,0,0,0,0,0,0,0,0,0,0,0,0,0,0,20.18,25.57,"Thu",1300,0,1,25,15,1,0,0,0,0,0,0,0,0,0,3,10,12,12,0,0,0,0,0,0,0,0,0,0,0,0,0,0,0,0,0,0,20.62,26.63,0,0,10,7,1,0,0,0,0,0,0,0,18,0,1,15,8,0,0,0,0,0,0,0,0,24,0,1,25,15,1,0,0,0,0,0,0,0,42]
["Thu",1400,0,0,7,8,0,0,0,0,0,0,0,0,0,0,2,3,5,2,3,0,0,0,0,0,0,0,0,0,0,0,0,0,0,0,0,0,22.14,30.27,"Thu",1400,0,0,17,10,0,0,0,0,0,0,0,0,0,0,5,3,10,7,2,0,0,0,0,0,0,0,0,0,0,0,0,0,0,0,0,0,22.31,28.14,"Thu",1400,0,0,24,18,0,0,0,0,0,0,0,0,0,0,2,6,15,9,5,0,0,0,0,0,0,0,0,0,0,0,0,0,0,0,0,0,22.25,28.84,0,0,7,8,0,0,0,0,0,0,0,0,15,0,0,17,10,0,0,0,0,0,0,0,0,27,0,0,24,18,0,0,0,0,0,0,0,0,42]
["Thu",1500,0,0,10,7,0,0,0,0,0,0,0,0,0,0,3,2,3,7,2,0,0,0,0,0,0,0,0,0,0,0,0,0,0,0,0,0,23.16,29.26,"Thu",1500,0,1,16,7,0,0,0,0,0,0,0,0,0,1,0,5,8,6,3,1,0,0,0,0,0,0,0,0,0,0,0,0,0,0,0,0,23.72,29.84,"Thu",1500,0,1,26,14,0,0,0,0,0,0,0,0,0,0,3,7,11,13,5,1,0,0,0,0,0,0,0,0,0,0,0,0,0,0,0,0,23.49,29.65,0,0,10,7,0,0,0,0,0,0,0,0,17,0,1,16,7,0,0,0,0,0,0,0,0,24,0,1,26,14,0,0,0,0,0,0,0,0,41]
["Thu",1600,0,1,22,18,0,0,0,0,0,0,0,0,0,2,3,6,11,15,3,1,0,0,0,0,0,0,0,0,0,0,0,0,0,0,0,0,23.55,29.1,"Thu",1600,0,0,15,15,0,0,0,0,0,0,0,0,0,2,2,2,8,9,7,0,0,0,0,0,0,0,0,0,0,0,0,0,0,0,0,0,24.29,30.49,"Thu",1600,0,1,37,33,0,0,0,0,0,0,0,0,0,2,3,8,19,24,10,1,0,0,0,0,0,0,0,0,0,0,0,0,0,0,0,0,23.87,29.93,0,1,22,18,0,0,0,0,0,0,0,0,41,0,0,15,15,0,0,0,0,0,0,0,0,30,0,1,37,33,0,0,0,0,0,0,0,0,71]
["Thu",1700,0,0,23,14,1,0,0,0,0,0,0,0,0,0,2,8,12,12,4,0,0,0,0,0,0,0,0,0,0,0,0,0,0,0,0,0,23.56,28.85,"Thu",1700,0,2,15,10,0,0,0,0,0,0,0,0,0,1,2,3,5,13,3,0,0,0,0,0,0,0,0,0,0,0,0,0,0,0,0,0,24.31,29.21,"Thu",1700,0,2,38,24,1,0,0,0,0,0,0,0,0,0,2,11,17,25,7,0,0,0,0,0,0,0,0,0,0,0,0,0,0,0,0,0,23.87,29.07,0,0,23,14,1,0,0,0,0,0,0,0,38,0,2,15,10,0,0,0,0,0,0,0,0,27,0,2,38,24,1,0,0,0,0,0,0,0,65]
["Thu",1800,0,1,18,13,0,0,0,0,0,0,0,0,0,0,3,2,10,10,6,1,0,0,0,0,0,0,0,0,0,0,0,0,0,0,0,0,24.95,30.4,"Thu",1800,1,0,15,8,0,0,0,0,0,0,0,0,0,1,0,2,6,8,7,0,0,0,0,0,0,0,0,0,0,0,0,0,0,0,0,0,26,30.7,"Thu",1800,1,1,33,21,0,0,0,0,0,0,0,0,0,0,3,4,16,18,13,1,0,0,0,0,0,0,0,0,0,0,0,0,0,0,0,0,25.4,30.61,0,1,18,13,0,0,0,0,0,0,0,0,32,1,0,15,8,0,0,0,0,0,0,0,0,24,1,1,33,21,0,0,0,0,0,0,0,0,56]
["Thu",1900,0,0,9,8,0,0,0,0,0,0,0,0,0,0,1,1,8,6,1,0,0,0,0,0,0,0,0,0,0,0,0,0,0,0,0,0,23.58,28.31,"Thu",1900,0,0,6,2,0,0,0,0,0,0,0,0,0,1,2,1,3,1,0,0,0,0,0,0,0,0,0,0,0,0,0,0,0,0,0,0,17.84,"-","Thu",1900,0,0,15,10,0,0,0,0,0,0,0,0,0,0,1,2,11,7,1,0,0,0,0,0,0,0,0,0,0,0,0,0,0,0,0,0,21.74,26.85,0,0,9,8,0,0,0,0,0,0,0,0,17,0,0,6,2,0,0,0,0,0,0,0,0,8,0,0,15,10,0,0,0,0,0,0,0,0,25]
["Thu",2000,0,0,7,7,0,0,0,0,0,0,0,0,0,0,0,1,7,3,2,1,0,0,0,0,0,0,0,0,0,0,0,0,0,0,0,0,25.66,31.95,"Thu",2000,0,0,5,2,0,0,0,0,0,0,0,0,0,0,1,0,2,1,2,1,0,0,0,0,0,0,0,0,0,0,0,0,0,0,0,0,26.19,"-","Thu",2000,0,0,12,9,0,0,0,0,0,0,0,0,0,0,0,1,9,4,4,2,0,0,0,0,0,0,0,0,0,0,0,0,0,0,0,0,25.84,31.9,0,0,7,7,0,0,0,0,0,0,0,0,14,0,0,5,2,0,0,0,0,0,0,0,0,7,0,0,12,9,0,0,0,0,0,0,0,0,21]
["Thu",2100,0,0,6,3,0,0,0,0,0,0,0,0,0,0,2,1,3,2,1,0,0,0,0,0,0,0,0,0,0,0,0,0,0,0,0,0,22.03,"-","Thu",2100,0,0,4,0,0,0,0,0,0,0,0,0,0,1,0,1,0,1,0,1,0,0,0,0,0,0,0,0,0,0,0,0,0,0,0,0,22.37,"-","Thu",2100,0,0,10,3,0,0,0,0,0,0,0,0,0,0,2,2,3,3,1,1,0,0,0,0,0,0,0,0,0,0,0,0,0,0,0,0,22.14,30.08,0,0,6,3,0,0,0,0,0,0,0,0,9,0,0,4,0,0,0,0,0,0,0,0,0,4,0,0,10,3,0,0,0,0,0,0,0,0,13]
["Thu",2200,0,0,1,4,0,0,0,0,0,0,0,0,0,0,0,1,0,4,0,0,0,0,0,0,0,0,0,0,0,0,0,0,0,0,0,0,24.17,"-","Thu",2200,0,0,5,1,0,0,0,0,0,0,0,0,0,0,0,1,2,2,1,0,0,0,0,0,0,0,0,0,0,0,0,0,0,0,0,0,26.41,"-","Thu",2200,0,0,6,5,0,0,0,0,0,0,0,0,0,0,0,2,2,6,1,0,0,0,0,0,0,0,0,0,0,0,0,0,0,0,0,0,25.39,29.24,0,0,1,4,0,0,0,0,0,0,0,0,5,0,0,5,1,0,0,0,0,0,0,0,0,6,0,0,6,5,0,0,0,0,0,0,0,0,11]
["Thu",2300,0,0,1,0,0,0,0,0,0,0,0,0,0,0,0,0,1,0,0,0,0,0,0,0,0,0,0,0,0,0,0,0,0,0,0,0,21.41,"-","Thu",2300,0,0,0,0,0,0,0,0,0,0,0,0,0,0,0,0,0,0,0,0,0,0,0,0,0,0,0,0,0,0,0,0,0,0,0,0,"-","-","Thu",2300,0,0,1,0,0,0,0,0,0,0,0,0,0,0,0,0,1,0,0,0,0,0,0,0,0,0,0,0,0,0,0,0,0,0,0,0,21.41,"-",0,0,1,0,0,0,0,0,0,0,0,0,1,0,0,0,0,0,0,0,0,0,0,0,0,0,0,0,1,0,0,0,0,0,0,0,0,0,1]
["Fri",0,0,0,1,0,0,0,0,0,0,0,0,0,0,0,1,0,0,0,0,0,0,0,0,0,0,0,0,0,0,0,0,0,0,0,0,0,12.83,"-","Fri",0,0,0,1,0,0,0,0,0,0,0,0,0,0,1,0,0,0,0,0,0,0,0,0,0,0,0,0,0,0,0,0,0,0,0,0,0,8.93,"-","Fri",0,0,0,2,0,0,0,0,0,0,0,0,0,0,0,1,0,0,0,0,0,0,0,0,0,0,0,0,0,0,0,0,0,0,0,0,0,10.88,"-",0,0,1,0,0,0,0,0,0,0,0,0,1,0,0,1,0,0,0,0,0,0,0,0,0,1,0,0,2,0,0,0,0,0,0,0,0,0,2]
["Fri",100,0,0,0,0,0,0,0,0,0,0,0,0,0,0,0,0,0,0,0,0,0,0,0,0,0,0,0,0,0,0,0,0,0,0,0,0,"-","-","Fri",100,0,0,0,1,0,0,0,0,0,0,0,0,0,0,0,0,0,1,0,0,0,0,0,0,0,0,0,0,0,0,0,0,0,0,0,0,25.64,"-","Fri",100,0,0,0,1,0,0,0,0,0,0,0,0,0,0,0,0,0,1,0,0,0,0,0,0,0,0,0,0,0,0,0,0,0,0,0,0,25.64,"-",0,0,0,0,0,0,0,0,0,0,0,0,0,0,0,0,1,0,0,0,0,0,0,0,0,1,0,0,0,1,0,0,0,0,0,0,0,0,1]
["Fri",200,0,0,0,0,0,0,0,0,0,0,0,0,0,0,0,0,0,0,0,0,0,0,0,0,0,0,0,0,0,0,0,0,0,0,0,0,"-","-","Fri",200,0,0,0,0,0,0,0,0,0,0,0,0,0,0,0,0,0,0,0,0,0,0,0,0,0,0,0,0,0,0,0,0,0,0,0,0,"-","-","Fri",200,0,0,0,0,0,0,0,0,0,0,0,0,0,0,0,0,0,0,0,0,0,0,0,0,0,0,0,0,0,0,0,0,0,0,0,0,"-","-",0,0,0,0,0,0,0,0,0,0,0,0,0,0,0,0,0,0,0,0,0,0,0,0,0,0,0,0,0,0,0,0,0,0,0,0,0,0,0]
["Fri",300,0,0,0,0,0,0,0,0,0,0,0,0,0,0,0,0,0,0,0,0,0,0,0,0,0,0,0,0,0,0,0,0,0,0,0,0,"-","-","Fri",300,0,0,0,0,0,0,0,0,0,0,0,0,0,0,0,0,0,0,0,0,0,0,0,0,0,0,0,0,0,0,0,0,0,0,0,0,"-","-","Fri",300,0,0,0,0,0,0,0,0,0,0,0,0,0,0,0,0,0,0,0,0,0,0,0,0,0,0,0,0,0,0,0,0,0,0,0,0,"-","-",0,0,0,0,0,0,0,0,0,0,0,0,0,0,0,0,0,0,0,0,0,0,0,0,0,0,0,0,0,0,0,0,0,0,0,0,0,0,0]
["Fri",400,0,0,0,0,0,0,0,0,0,0,0,0,0,0,0,0,0,0,0,0,0,0,0,0,0,0,0,0,0,0,0,0,0,0,0,0,"-","-","Fri",400,0,0,1,1,0,0,0,0,0,0,0,0,0,0,0,0,1,0,0,1,0,0,0,0,0,0,0,0,0,0,0,0,0,0,0,0,29.32,"-","Fri",400,0,0,1,1,0,0,0,0,0,0,0,0,0,0,0,0,1,0,0,1,0,0,0,0,0,0,0,0,0,0,0,0,0,0,0,0,29.32,"-",0,0,0,0,0,0,0,0,0,0,0,0,0,0,0,1,1,0,0,0,0,0,0,0,0,2,0,0,1,1,0,0,0,0,0,0,0,0,2]
["Fri",500,0,0,1,0,0,0,0,0,0,0,0,0,0,0,0,0,0,0,0,0,1,0,0,0,0,0,0,0,0,0,0,0,0,0,0,0,42.37,"-","Fri",500,0,0,3,3,0,0,0,0,0,0,0,0,0,0,1,0,1,4,0,0,0,0,0,0,0,0,0,0,0,0,0,0,0,0,0,0,24.37,"-","Fri",500,0,0,4,3,0,0,0,0,0,0,0,0,0,0,0,0,1,4,0,0,1,0,0,0,0,0,0,0,0,0,0,0,0,0,0,0,26.94,"-",0,0,1,0,0,0,0,0,0,0,0,0,1,0,0,3,3,0,0,0,0,0,0,0,0,6,0,0,4,3,0,0,0,0,0,0,0,0,7]
["Fri",600,0,0,2,3,0,0,0,0,0,0,0,0,0,0,1,2,1,1,0,0,0,0,0,0,0,0,0,0,0,0,0,0,0,0,0,0,19.68,"-","Fri",600,0,0,8,11,0,0,0,0,0,0,0,0,0,0,1,2,4,5,4,3,0,0,0,0,0,0,0,0,0,0,0,0,0,0,0,0,26.93,33.24,"Fri",600,0,0,10,14,0,0,0,0,0,0,0,0,0,0,1,4,5,6,4,3,0,0,0,0,0,0,0,0,0,0,0,0,0,0,0,0,25.42,32.33,0,0,2,3,0,0,0,0,0,0,0,0,5,0,0,8,11,0,0,0,0,0,0,0,0,19,0,0,10,14,0,0,0,0,0,0,0,0,24]
["Fri",700,0,0,4,7,0,0,0,0,0,0,0,1,0,1,0,0,3,5,2,1,0,0,0,0,0,0,0,0,0,0,0,0,0,0,0,0,25.67,31.99,"Fri",700,0,1,15,11,0,0,0,0,0,0,0,0,0,1,0,5,6,9,5,1,0,0,0,0,0,0,0,0,0,0,0,0,0,0,0,0,24.97,30.34,"Fri",700,0,1,19,18,0,0,0,0,0,0,0,1,0,1,0,5,9,14,7,2,0,0,0,0,0,0,0,0,0,0,0,0,0,0,0,0,25.19,31.08,0,0,4,7,0,0,0,0,0,0,0,1,12,0,1,15,11,0,0,0,0,0,0,0,0,27,0,1,19,18,0,0,0,0,0,0,0,1,39]
["Fri",800,0,0,11,5,1,0,0,0,0,0,0,0,0,0,2,2,6,5,2,0,0,0,0,0,0,0,0,0,0,0,0,0,0,0,0,0,23.39,27.71,"Fri",800,1,0,21,13,0,0,0,0,0,0,0,0,0,1,3,0,10,14,6,1,0,0,0,0,0,0,0,0,0,0,0,0,0,0,0,0,25.82,32.450000000000003,"Fri",800,1,0,32,18,1,0,0,0,0,0,0,0,0,0,2,2,16,19,8,1,0,0,0,0,0,0,0,0,0,0,0,0,0,0,0,0,25.03,31.98,0,0,11,5,1,0,0,0,0,0,0,0,17,1,0,21,13,0,0,0,0,0,0,0,0,35,1,0,32,18,1,0,0,0,0,0,0,0,52]
["Fri",900,0,0,18,2,0,0,0,0,0,0,0,0,0,0,1,2,7,8,2,0,0,0,0,0,0,0,0,0,0,0,0,0,0,0,0,0,24.31,29.76,"Fri",900,0,0,16,16,1,0,0,0,0,0,0,0,0,2,0,3,9,12,7,0,0,0,0,0,0,0,0,0,0,0,0,0,0,0,0,0,24.77,30.12,"Fri",900,0,0,34,18,1,0,0,0,0,0,0,0,0,0,1,5,16,20,9,0,0,0,0,0,0,0,0,0,0,0,0,0,0,0,0,0,24.6,30.05,0,0,18,2,0,0,0,0,0,0,0,0,20,0,0,16,16,1,0,0,0,0,0,0,0,33,0,0,34,18,1,0,0,0,0,0,0,0,53]
["Fri",1000,0,1,6,15,1,0,0,0,0,0,1,0,0,0,3,4,5,8,4,0,0,0,0,0,0,0,0,0,0,0,0,0,0,0,0,0,23.36,29.51,"Fri",1000,0,1,12,8,0,0,0,0,0,0,0,0,0,2,1,3,5,5,4,1,0,0,0,0,0,0,0,0,0,0,0,0,0,0,0,0,23.53,30.65,"Fri",1000,0,2,18,23,1,0,0,0,0,0,1,0,0,0,3,7,10,13,8,1,0,0,0,0,0,0,0,0,0,0,0,0,0,0,0,0,23.44,30.31,0,1,6,15,1,0,0,0,0,0,1,0,24,0,1,12,8,0,0,0,0,0,0,0,0,21,0,2,18,23,1,0,0,0,0,0,1,0,45]
["Fri",1100,0,0,9,11,0,0,0,0,0,0,0,1,0,0,0,4,9,6,2,0,0,0,0,0,0,0,0,0,0,0,0,0,0,0,0,0,24.01,27.24,"Fri",1100,0,0,13,13,0,0,0,0,0,0,0,0,0,0,0,2,9,9,6,0,0,0,0,0,0,0,0,0,0,0,0,0,0,0,0,0,25.69,31.16,"Fri",1100,0,0,22,24,0,0,0,0,0,0,0,1,0,0,0,6,18,15,8,0,0,0,0,0,0,0,0,0,0,0,0,0,0,0,0,0,24.94,30.45,0,0,9,11,0,0,0,0,0,0,0,1,21,0,0,13,13,0,0,0,0,0,0,0,0,26,0,0,22,24,0,0,0,0,0,0,0,1,47]
["Fri",1200,0,1,9,11,1,0,0,0,0,0,0,0,0,0,1,6,8,6,1,0,0,0,0,0,0,0,0,0,0,0,0,0,0,0,0,0,22.21,26.59,"Fri",1200,0,0,9,13,2,0,0,0,0,0,0,0,0,1,5,3,3,10,2,0,0,0,0,0,0,0,0,0,0,0,0,0,0,0,0,0,22.36,28.34,"Fri",1200,0,1,18,24,3,0,0,0,0,0,0,0,0,0,1,9,11,16,3,0,0,0,0,0,0,0,0,0,0,0,0,0,0,0,0,0,22.29,28.33,0,1,9,11,1,0,0,0,0,0,0,0,22,0,0,9,13,2,0,0,0,0,0,0,0,24,0,1,18,24,3,0,0,0,0,0,0,0,46]
["Fri",1300,0,0,14,9,1,0,0,0,0,0,0,0,0,0,1,2,11,8,2,0,0,0,0,0,0,0,0,0,0,0,0,0,0,0,0,0,24.12,29.77,"Fri",1300,0,0,17,12,0,0,0,0,0,0,0,0,0,0,1,0,12,8,6,2,0,0,0,0,0,0,0,0,0,0,0,0,0,0,0,0,27.03,34.04,"Fri",1300,0,0,31,21,1,0,0,0,0,0,0,0,0,0,1,2,23,16,8,2,0,0,0,0,0,0,0,0,0,0,0,0,0,0,0,0,25.72,31.31,0,0,14,9,1,0,0,0,0,0,0,0,24,0,0,17,12,0,0,0,0,0,0,0,0,29,0,0,31,21,1,0,0,0,0,0,0,0,53]
["Fri",1400,0,0,8,10,0,0,0,0,0,0,0,0,0,1,2,2,4,7,2,0,0,0,0,0,0,0,0,0,0,0,0,0,0,0,0,0,22.38,28.84,"Fri",1400,0,2,11,16,0,0,0,0,0,0,0,0,0,1,1,1,10,11,4,1,0,0,0,0,0,0,0,0,0,0,0,0,0,0,0,0,25.56,32.08,"Fri",1400,0,2,19,26,0,0,0,0,0,0,0,0,0,1,2,3,14,18,6,1,0,0,0,0,0,0,0,0,0,0,0,0,0,0,0,0,24.34,29.58,0,0,8,10,0,0,0,0,0,0,0,0,18,0,2,11,16,0,0,0,0,0,0,0,0,29,0,2,19,26,0,0,0,0,0,0,0,0,47]
["Fri",1500,0,0,14,10,0,0,0,0,0,0,0,0,0,0,2,7,7,7,1,0,0,0,0,0,0,0,0,0,0,0,0,0,0,0,0,0,21.56,25.77,"Fri",1500,0,2,11,12,0,0,0,0,0,0,0,0,0,0,2,3,6,9,2,3,0,0,0,0,0,0,0,0,0,0,0,0,0,0,0,0,25.38,30.81,"Fri",1500,0,2,25,22,0,0,0,0,0,0,0,0,0,0,2,10,13,16,3,3,0,0,0,0,0,0,0,0,0,0,0,0,0,0,0,0,23.51,29,0,0,14,10,0,0,0,0,0,0,0,0,24,0,2,11,12,0,0,0,0,0,0,0,0,25,0,2,25,22,0,0,0,0,0,0,0,0,49]
["Fri",1600,0,0,15,10,1,0,0,0,0,0,0,0,0,1,1,0,10,10,4,0,0,0,0,0,0,0,0,0,0,0,0,0,0,0,0,0,24.88,30.07,"Fri",1600,0,0,13,11,0,0,0,0,0,0,0,0,0,2,1,0,5,10,5,0,1,0,0,0,0,0,0,0,0,0,0,0,0,0,0,0,26.05,31.52,"Fri",1600,0,0,28,21,1,0,0,0,0,0,0,0,0,1,1,0,15,20,9,0,1,0,0,0,0,0,0,0,0,0,0,0,0,0,0,0,25.44,31.31,0,0,15,10,1,0,0,0,0,0,0,0,26,0,0,13,11,0,0,0,0,0,0,0,0,24,0,0,28,21,1,0,0,0,0,0,0,0,50]
["Fri",1700,0,0,19,16,0,0,0,0,0,0,0,0,0,0,3,7,15,7,3,0,0,0,0,0,0,0,0,0,0,0,0,0,0,0,0,0,22.64,27.28,"Fri",1700,0,2,16,6,0,0,0,0,0,0,0,0,0,0,1,5,8,6,4,0,0,0,0,0,0,0,0,0,0,0,0,0,0,0,0,0,24.22,30.39,"Fri",1700,0,2,35,22,0,0,0,0,0,0,0,0,0,0,3,12,23,13,7,0,0,0,0,0,0,0,0,0,0,0,0,0,0,0,0,0,23.29,29.3,0,0,19,16,0,0,0,0,0,0,0,0,35,0,2,16,6,0,0,0,0,0,0,0,0,24,0,2,35,22,0,0,0,0,0,0,0,0,59]
["Fri",1800,0,2,21,9,0,0,0,0,0,0,0,0,0,0,2,4,6,13,5,2,0,0,0,0,0,0,0,0,0,0,0,0,0,0,0,0,26.23,31.53,"Fri",1800,0,1,13,7,1,0,0,0,0,0,0,0,0,1,2,2,3,10,4,0,0,0,0,0,0,0,0,0,0,0,0,0,0,0,0,0,24.44,30.25,"Fri",1800,0,3,34,16,1,0,0,0,0,0,0,0,0,0,2,6,9,23,9,2,0,0,0,0,0,0,0,0,0,0,0,0,0,0,0,0,25.5,31.23,0,2,21,9,0,0,0,0,0,0,0,0,32,0,1,13,7,1,0,0,0,0,0,0,0,22,0,3,34,16,1,0,0,0,0,0,0,0,54]
["Fri",1900,0,0,7,10,0,0,0,0,0,0,0,0,0,0,0,3,5,5,4,0,0,0,0,0,0,0,0,0,0,0,0,0,0,0,0,0,25.48,31.81,"Fri",1900,0,0,9,6,0,0,0,0,0,0,0,0,0,1,0,2,6,1,4,1,0,0,0,0,0,0,0,0,0,0,0,0,0,0,0,0,24.89,31.9,"Fri",1900,0,0,16,16,0,0,0,0,0,0,0,0,0,0,0,5,11,6,8,1,0,0,0,0,0,0,0,0,0,0,0,0,0,0,0,0,25.2,31.98,0,0,7,10,0,0,0,0,0,0,0,0,17,0,0,9,6,0,0,0,0,0,0,0,0,15,0,0,16,16,0,0,0,0,0,0,0,0,32]
["Fri",2000,0,0,10,8,0,0,0,0,0,0,0,0,0,1,0,2,3,8,2,2,0,0,0,0,0,0,0,0,0,0,0,0,0,0,0,0,25.76,30.37,"Fri",2000,0,0,2,3,0,0,0,0,0,0,0,0,0,0,1,0,1,0,3,0,0,0,0,0,0,0,0,0,0,0,0,0,0,0,0,0,27.31,"-","Fri",2000,0,0,12,11,0,0,0,0,0,0,0,0,0,1,0,2,4,8,5,2,0,0,0,0,0,0,0,0,0,0,0,0,0,0,0,0,26.1,31.94,0,0,10,8,0,0,0,0,0,0,0,0,18,0,0,2,3,0,0,0,0,0,0,0,0,5,0,0,12,11,0,0,0,0,0,0,0,0,23]
["Fri",2100,0,0,4,3,0,0,0,0,0,0,0,0,0,0,0,1,3,2,1,0,0,0,0,0,0,0,0,0,0,0,0,0,0,0,0,0,24.2,"-","Fri",2100,0,0,4,2,2,0,0,0,0,0,0,0,0,0,1,2,0,2,2,0,0,1,0,0,0,0,0,0,0,0,0,0,0,0,0,0,26.71,"-","Fri",2100,0,0,8,5,2,0,0,0,0,0,0,0,0,0,0,3,3,4,3,0,0,1,0,0,0,0,0,0,0,0,0,0,0,0,0,0,25.54,32.71,0,0,4,3,0,0,0,0,0,0,0,0,7,0,0,4,2,2,0,0,0,0,0,0,0,8,0,0,8,5,2,0,0,0,0,0,0,0,15]
["Fri",2200,0,0,4,3,0,0,0,0,0,0,0,0,0,1,0,2,2,2,0,0,0,0,0,0,0,0,0,0,0,0,0,0,0,0,0,0,20.92,"-","Fri",2200,0,0,3,2,0,0,0,0,0,0,0,0,0,1,0,0,2,1,1,0,0,0,0,0,0,0,0,0,0,0,0,0,0,0,0,0,22.15,"-","Fri",2200,0,0,7,5,0,0,0,0,0,0,0,0,0,1,0,2,4,3,1,0,0,0,0,0,0,0,0,0,0,0,0,0,0,0,0,0,21.43,26,0,0,4,3,0,0,0,0,0,0,0,0,7,0,0,3,2,0,0,0,0,0,0,0,0,5,0,0,7,5,0,0,0,0,0,0,0,0,12]
["Fri",2300,0,1,3,0,0,0,0,0,0,0,0,0,0,0,0,0,2,1,1,0,0,0,0,0,0,0,0,0,0,0,0,0,0,0,0,0,26.28,"-","Fri",2300,0,0,3,1,0,0,0,0,0,0,0,0,0,0,0,0,1,1,0,1,1,0,0,0,0,0,0,0,0,0,0,0,0,0,0,0,32.94,"-","Fri",2300,0,1,6,1,0,0,0,0,0,0,0,0,0,0,0,0,3,2,1,1,1,0,0,0,0,0,0,0,0,0,0,0,0,0,0,0,29.61,"-",0,1,3,0,0,0,0,0,0,0,0,0,4,0,0,3,1,0,0,0,0,0,0,0,0,4,0,1,6,1,0,0,0,0,0,0,0,0,8]
["Sat",0,0,1,3,1,0,0,0,0,0,0,0,0,0,0,0,0,1,3,1,0,0,0,0,0,0,0,0,0,0,0,0,0,0,0,0,0,28.36,"-","Sat",0,0,0,1,0,0,0,0,0,0,0,0,0,0,0,0,0,0,0,1,0,0,0,0,0,0,0,0,0,0,0,0,0,0,0,0,0,34.64,"-","Sat",0,0,1,4,1,0,0,0,0,0,0,0,0,0,0,0,0,1,3,2,0,0,0,0,0,0,0,0,0,0,0,0,0,0,0,0,0,29.4,"-",0,1,3,1,0,0,0,0,0,0,0,0,5,0,0,1,0,0,0,0,0,0,0,0,0,1,0,1,4,1,0,0,0,0,0,0,0,0,6]
["Sat",100,0,0,0,0,0,0,0,0,0,0,0,0,0,0,0,0,0,0,0,0,0,0,0,0,0,0,0,0,0,0,0,0,0,0,0,0,"-","-","Sat",100,0,0,0,0,0,0,0,0,0,0,0,0,0,0,0,0,0,0,0,0,0,0,0,0,0,0,0,0,0,0,0,0,0,0,0,0,"-","-","Sat",100,0,0,0,0,0,0,0,0,0,0,0,0,0,0,0,0,0,0,0,0,0,0,0,0,0,0,0,0,0,0,0,0,0,0,0,0,"-","-",0,0,0,0,0,0,0,0,0,0,0,0,0,0,0,0,0,0,0,0,0,0,0,0,0,0,0,0,0,0,0,0,0,0,0,0,0,0,0]
["Sat",200,0,0,0,0,0,0,0,0,0,0,0,0,0,0,0,0,0,0,0,0,0,0,0,0,0,0,0,0,0,0,0,0,0,0,0,0,"-","-","Sat",200,0,0,0,1,0,0,0,0,0,0,0,0,0,0,0,0,0,0,0,1,0,0,0,0,0,0,0,0,0,0,0,0,0,0,0,0,38.92,"-","Sat",200,0,0,0,1,0,0,0,0,0,0,0,0,0,0,0,0,0,0,0,1,0,0,0,0,0,0,0,0,0,0,0,0,0,0,0,0,38.92,"-",0,0,0,0,0,0,0,0,0,0,0,0,0,0,0,0,1,0,0,0,0,0,0,0,0,1,0,0,0,1,0,0,0,0,0,0,0,0,1]
["Sat",300,0,0,0,0,0,0,0,0,0,0,0,0,0,0,0,0,0,0,0,0,0,0,0,0,0,0,0,0,0,0,0,0,0,0,0,0,"-","-","Sat",300,0,0,0,0,0,0,0,0,0,0,0,0,0,0,0,0,0,0,0,0,0,0,0,0,0,0,0,0,0,0,0,0,0,0,0,0,"-","-","Sat",300,0,0,0,0,0,0,0,0,0,0,0,0,0,0,0,0,0,0,0,0,0,0,0,0,0,0,0,0,0,0,0,0,0,0,0,0,"-","-",0,0,0,0,0,0,0,0,0,0,0,0,0,0,0,0,0,0,0,0,0,0,0,0,0,0,0,0,0,0,0,0,0,0,0,0,0,0,0]
["Sat",400,0,0,1,0,0,0,0,0,0,0,0,0,0,0,0,0,1,0,0,0,0,0,0,0,0,0,0,0,0,0,0,0,0,0,0,0,22.44,"-","Sat",400,0,0,0,0,0,0,0,0,0,0,0,0,0,0,0,0,0,0,0,0,0,0,0,0,0,0,0,0,0,0,0,0,0,0,0,0,"-","-","Sat",400,0,0,1,0,0,0,0,0,0,0,0,0,0,0,0,0,1,0,0,0,0,0,0,0,0,0,0,0,0,0,0,0,0,0,0,0,22.44,"-",0,0,1,0,0,0,0,0,0,0,0,0,1,0,0,0,0,0,0,0,0,0,0,0,0,0,0,0,1,0,0,0,0,0,0,0,0,0,1]
["Sat",500,0,0,1,1,0,0,0,0,0,0,0,0,0,0,0,0,1,0,1,0,0,0,0,0,0,0,0,0,0,0,0,0,0,0,0,0,29.33,"-","Sat",500,0,0,1,3,0,0,0,0,0,0,0,0,0,0,0,0,2,2,0,0,0,0,0,0,0,0,0,0,0,0,0,0,0,0,0,0,25.49,"-","Sat",500,0,0,2,4,0,0,0,0,0,0,0,0,0,0,0,0,3,2,1,0,0,0,0,0,0,0,0,0,0,0,0,0,0,0,0,0,26.77,"-",0,0,1,1,0,0,0,0,0,0,0,0,2,0,0,1,3,0,0,0,0,0,0,0,0,4,0,0,2,4,0,0,0,0,0,0,0,0,6]
["Sat",600,0,0,1,1,0,0,0,0,0,0,0,0,0,0,1,0,1,0,0,0,0,0,0,0,0,0,0,0,0,0,0,0,0,0,0,0,15.8,"-","Sat",600,0,0,3,2,0,0,0,0,0,0,0,0,0,0,0,0,2,2,1,0,0,0,0,0,0,0,0,0,0,0,0,0,0,0,0,0,27.36,"-","Sat",600,0,0,4,3,0,0,0,0,0,0,0,0,0,0,1,0,3,2,1,0,0,0,0,0,0,0,0,0,0,0,0,0,0,0,0,0,24.06,"-",0,0,1,1,0,0,0,0,0,0,0,0,2,0,0,3,2,0,0,0,0,0,0,0,0,5,0,0,4,3,0,0,0,0,0,0,0,0,7]
["Sat",700,0,0,2,2,0,0,0,0,0,0,0,0,0,0,1,1,1,1,0,0,0,0,0,0,0,0,0,0,0,0,0,0,0,0,0,0,20.72,"-","Sat",700,0,1,4,7,0,0,0,0,0,0,0,0,0,0,0,0,5,4,3,0,0,0,0,0,0,0,0,0,0,0,0,0,0,0,0,0,26.44,30.33,"Sat",700,0,1,6,9,0,0,0,0,0,0,0,0,0,0,1,1,6,5,3,0,0,0,0,0,0,0,0,0,0,0,0,0,0,0,0,0,25.01,30.09,0,0,2,2,0,0,0,0,0,0,0,0,4,0,1,4,7,0,0,0,0,0,0,0,0,12,0,1,6,9,0,0,0,0,0,0,0,0,16]
["Sat",800,0,0,4,5,0,0,0,0,0,0,0,0,0,0,1,4,2,2,0,0,0,0,0,0,0,0,0,0,0,0,0,0,0,0,0,0,19.7,"-","Sat",800,0,0,8,13,0,0,0,0,0,0,0,0,0,1,0,3,2,7,7,1,0,0,0,0,0,0,0,0,0,0,0,0,0,0,0,0,26.44,32.26,"Sat",800,0,0,12,18,0,0,0,0,0,0,0,0,0,0,1,7,4,9,7,1,0,0,0,0,0,0,0,0,0,0,0,0,0,0,0,0,24.42,31.24,{"$f":"SUM(C133)","v":0},{"$f":"SUM(D133)","v":0},{"$f":"SUM(E133)","v":4},{"$f":"SUM(F133)","v":5},{"$f":"SUM(G133)","v":0},{"$f":"SUM(H133)","v":0},{"$f":"SUM(I133)","v":0},{"$f":"SUM(J133)","v":0},{"$f":"SUM(K133)","v":0},{"$f":"SUM(L133)","v":0},{"$f":"SUM(M133)","v":0},{"$f":"SUM(N133)","v":0},{"$f":"SUM(C133:N133)","v":9},{"$f":"SUM(AQ133)","v":0},{"$f":"SUM(AR133)","v":0},{"$f":"SUM(AS133)","v":8},{"$f":"SUM(AT133)","v":13},{"$f":"SUM(AU133)","v":0},{"$f":"SUM(AV133)","v":0},{"$f":"SUM(AW133)","v":0},{"$f":"SUM(AX133)","v":0},{"$f":"SUM(AY133)","v":0},{"$f":"SUM(AZ133)","v":0},{"$f":"SUM(BA133)","v":0},{"$f":"SUM(BB133)","v":0},{"$f":"SUM(AQ133:BB133)","v":21},{"$f":"SUM(DQ133+ED133)","v":0},{"$f":"SUM(DR133+EE133)","v":0},{"$f":"SUM(DS133+EF133)","v":12},{"$f":"SUM(DT133+EG133)","v":18},{"$f":"SUM(DU133+EH133)","v":0},{"$f":"SUM(DV133+EI133)","v":0},{"$f":"SUM(DW133+EJ133)","v":0},{"$f":"SUM(DX133+EK133)","v":0},{"$f":"SUM(DY133+EL133)","v":0},{"$f":"SUM(DZ133+EM133)","v":0},{"$f":"SUM(EA133+EN133)","v":0},{"$f":"SUM(EB133+EO133)","v":0},{"$f":"SUM(EC133+EP133)","v":30}]
["Sat",900,0,0,6,8,0,0,0,1,0,0,0,0,0,0,1,3,6,2,2,1,0,0,0,0,0,0,0,0,0,0,0,0,0,0,0,0,24.05,32.17,"Sat",900,1,2,14,14,0,0,0,0,0,0,0,0,0,1,2,8,8,9,3,0,0,0,0,0,0,0,0,0,0,0,0,0,0,0,0,0,22.7,28.23,"Sat",900,1,2,20,22,0,0,0,1,0,0,0,0,0,0,1,11,14,11,5,1,0,0,0,0,0,0,0,0,0,0,0,0,0,0,0,0,23.14,28.59,0,0,6,8,0,0,0,1,0,0,0,0,15,1,2,14,14,0,0,0,0,0,0,0,0,31,1,2,20,22,0,0,0,1,0,0,0,0,46]
["Sat",1000,0,0,11,13,0,0,0,0,0,0,0,0,0,0,2,4,7,8,3,0,0,0,0,0,0,0,0,0,0,0,0,0,0,0,0,0,24.23,29.11,"Sat",1000,0,0,7,16,0,0,0,0,0,0,0,0,0,0,2,6,4,8,2,1,0,0,0,0,0,0,0,0,0,0,0,0,0,0,0,0,23.67,29.75,"Sat",1000,0,0,18,29,0,0,0,0,0,0,0,0,0,0,2,10,11,16,5,1,0,0,0,0,0,0,0,0,0,0,0,0,0,0,0,0,23.96,29.73,0,0,11,13,0,0,0,0,0,0,0,0,24,0,0,7,16,0,0,0,0,0,0,0,0,23,0,0,18,29,0,0,0,0,0,0,0,0,47]
["Sat",1100,0,1,7,12,0,0,0,0,0,0,0,0,0,3,0,7,5,5,0,0,0,0,0,0,0,0,0,0,0,0,0,0,0,0,0,0,19.739999999999998,26.36,"Sat",1100,0,3,15,16,0,0,0,1,0,0,0,0,0,1,3,4,15,10,2,0,0,0,0,0,0,0,0,0,0,0,0,0,0,0,0,0,22.86,27.53,"Sat",1100,0,4,22,28,0,0,0,1,0,0,0,0,0,3,0,11,20,15,2,0,0,0,0,0,0,0,0,0,0,0,0,0,0,0,0,0,21.73,26.57,0,1,7,12,0,0,0,0,0,0,0,0,20,0,3,15,16,0,0,0,1,0,0,0,0,35,0,4,22,28,0,0,0,1,0,0,0,0,55]
["Sat",1200,0,1,17,7,0,0,0,0,0,0,0,0,0,0,0,3,10,9,3,0,0,0,0,0,0,0,0,0,0,0,0,0,0,0,0,0,24.76,29.39,"Sat",1200,0,1,9,12,0,0,0,0,0,0,0,0,0,1,2,1,5,7,4,2,0,0,0,0,0,0,0,0,0,0,0,0,0,0,0,0,25.07,32.21,"Sat",1200,0,2,26,19,0,0,0,0,0,0,0,0,0,0,0,4,15,16,7,2,0,0,0,0,0,0,0,0,0,0,0,0,0,0,0,0,24.9,30.7,0,1,17,7,0,0,0,0,0,0,0,0,25,0,1,9,12,0,0,0,0,0,0,0,0,22,0,2,26,19,0,0,0,0,0,0,0,0,47]
["Sat",1300,0,0,13,11,0,0,0,0,0,0,0,0,0,0,0,3,7,9,5,0,0,0,0,0,0,0,0,0,0,0,0,0,0,0,0,0,25.85,30.63,"Sat",1300,0,3,8,11,0,0,0,0,0,0,0,0,0,1,1,5,6,4,4,1,0,0,0,0,0,0,0,0,0,0,0,0,0,0,0,0,23.5,31.33,"Sat",1300,0,3,21,22,0,0,0,0,0,0,0,0,0,0,0,8,13,13,9,1,0,0,0,0,0,0,0,0,0,0,0,0,0,0,0,0,24.72,31.02,0,0,13,11,0,0,0,0,0,0,0,0,24,0,3,8,11,0,0,0,0,0,0,0,0,22,0,3,21,22,0,0,0,0,0,0,0,0,46]
["Sat",1400,0,0,7,8,0,0,0,0,0,0,0,0,0,0,0,4,3,5,3,0,0,0,0,0,0,0,0,0,0,0,0,0,0,0,0,0,24.67,29.97,"Sat",1400,0,1,13,9,1,0,0,0,0,0,0,0,0,1,1,1,9,8,4,0,0,0,0,0,0,0,0,0,0,0,0,0,0,0,0,0,24.44,30.01,"Sat",1400,0,1,20,17,1,0,0,0,0,0,0,0,0,0,0,5,12,13,7,0,0,0,0,0,0,0,0,0,0,0,0,0,0,0,0,0,24.53,30.07,0,0,7,8,0,0,0,0,0,0,0,0,15,0,1,13,9,1,0,0,0,0,0,0,0,24,0,1,20,17,1,0,0,0,0,0,0,0,39]
["Sat",1500,0,0,15,11,0,0,0,0,0,0,0,0,0,0,2,5,6,11,1,1,0,0,0,0,0,0,0,0,0,0,0,0,0,0,0,0,24.08,29.47,"Sat",1500,0,4,10,4,0,0,0,1,0,0,0,0,0,0,1,3,7,6,2,0,0,0,0,0,0,0,0,0,0,0,0,0,0,0,0,0,23.79,29.59,"Sat",1500,0,4,25,15,0,0,0,1,0,0,0,0,0,0,2,8,13,17,3,1,0,0,0,0,0,0,0,0,0,0,0,0,0,0,0,0,23.95,29.6,0,0,15,11,0,0,0,0,0,0,0,0,26,0,4,10,4,0,0,0,1,0,0,0,0,19,0,4,25,15,0,0,0,1,0,0,0,0,45]
["Sat",1600,0,1,10,11,0,0,0,0,0,0,0,0,0,0,3,1,11,5,1,1,0,0,0,0,0,0,0,0,0,0,0,0,0,0,0,0,23.02,27.59,"Sat",1600,0,1,12,6,0,0,0,0,0,0,0,0,0,0,3,1,3,6,4,1,1,0,0,0,0,0,0,0,0,0,0,0,0,0,0,0,25.96,33.090000000000003,"Sat",1600,0,2,22,17,0,0,0,0,0,0,0,0,0,0,3,2,14,11,5,2,1,0,0,0,0,0,0,0,0,0,0,0,0,0,0,0,24.38,31.45,0,1,10,11,0,0,0,0,0,0,0,0,22,0,1,12,6,0,0,0,0,0,0,0,0,19,0,2,22,17,0,0,0,0,0,0,0,0,41]
["Sat",1700,0,1,10,13,1,0,0,0,0,0,0,0,0,1,4,3,12,4,1,0,0,0,0,0,0,0,0,0,0,0,0,0,0,0,0,0,21.59,26.28,"Sat",1700,0,1,5,11,0,0,0,0,0,0,0,0,0,1,2,0,6,4,3,1,0,0,0,0,0,0,0,0,0,0,0,0,0,0,0,0,24.28,32.020000000000003,"Sat",1700,0,2,15,24,1,0,0,0,0,0,0,0,0,1,4,3,18,8,4,1,0,0,0,0,0,0,0,0,0,0,0,0,0,0,0,0,22.68,28.77,0,1,10,13,1,0,0,0,0,0,0,0,25,0,1,5,11,0,0,0,0,0,0,0,0,17,0,2,15,24,1,0,0,0,0,0,0,0,42]
["Sat",1800,0,0,6,12,0,0,0,0,0,0,0,0,0,1,0,2,6,6,3,0,0,0,0,0,0,0,0,0,0,0,0,0,0,0,0,0,24.46,30.07,"Sat",1800,0,0,9,10,0,0,0,0,0,0,0,0,0,1,1,2,4,6,5,0,0,0,0,0,0,0,0,0,0,0,0,0,0,0,0,0,24.72,30.67,"Sat",1800,0,0,15,22,0,0,0,0,0,0,0,0,0,1,0,4,10,12,8,0,0,0,0,0,0,0,0,0,0,0,0,0,0,0,0,0,24.59,30.8,0,0,6,12,0,0,0,0,0,0,0,0,18,0,0,9,10,0,0,0,0,0,0,0,0,19,0,0,15,22,0,0,0,0,0,0,0,0,37]
["Sat",1900,0,0,8,13,0,0,0,0,0,0,0,0,0,0,0,2,4,11,3,1,0,0,0,0,0,0,0,0,0,0,0,0,0,0,0,0,26.39,30.24,"Sat",1900,0,0,3,8,0,0,0,0,0,0,0,0,0,1,0,1,2,6,1,0,0,0,0,0,0,0,0,0,0,0,0,0,0,0,0,0,24.45,29.22,"Sat",1900,0,0,11,21,0,0,0,0,0,0,0,0,0,0,0,3,6,17,4,1,0,0,0,0,0,0,0,0,0,0,0,0,0,0,0,0,25.72,30,0,0,8,13,0,0,0,0,0,0,0,0,21,0,0,3,8,0,0,0,0,0,0,0,0,11,0,0,11,21,0,0,0,0,0,0,0,0,32]
["Sat",2000,0,0,1,1,0,0,0,0,0,0,0,0,0,0,0,0,0,0,2,0,0,0,0,0,0,0,0,0,0,0,0,0,0,0,0,0,31.27,"-","Sat",2000,0,0,3,2,0,0,0,0,0,0,0,0,0,0,0,0,1,3,0,0,0,1,0,0,0,0,0,0,0,0,0,0,0,0,0,0,30.73,"-","Sat",2000,0,0,4,3,0,0,0,0,0,0,0,0,0,0,0,0,1,3,2,0,0,1,0,0,0,0,0,0,0,0,0,0,0,0,0,0,30.88,"-",0,0,1,1,0,0,0,0,0,0,0,0,2,0,0,3,2,0,0,0,0,0,0,0,0,5,0,0,4,3,0,0,0,0,0,0,0,0,7]
["Sat",2100,0,0,2,3,0,0,0,0,0,0,0,0,0,0,1,0,1,2,1,0,0,0,0,0,0,0,0,0,0,0,0,0,0,0,0,0,24.34,"-","Sat",2100,0,0,4,3,0,0,0,0,0,0,0,0,0,0,2,2,3,0,0,0,0,0,0,0,0,0,0,0,0,0,0,0,0,0,0,0,17.760000000000002,"-","Sat",2100,0,0,6,6,0,0,0,0,0,0,0,0,0,0,1,2,4,2,1,0,0,0,0,0,0,0,0,0,0,0,0,0,0,0,0,0,20.5,25.91,0,0,2,3,0,0,0,0,0,0,0,0,5,0,0,4,3,0,0,0,0,0,0,0,0,7,0,0,6,6,0,0,0,0,0,0,0,0,12]
["Sat",2200,0,0,3,4,0,0,0,0,0,0,0,0,0,0,0,0,3,4,0,0,0,0,0,0,0,0,0,0,0,0,0,0,0,0,0,0,25.56,"-","Sat",2200,0,0,1,2,0,0,0,0,0,0,0,0,0,0,0,0,2,1,0,0,0,0,0,0,0,0,0,0,0,0,0,0,0,0,0,0,24.3,"-","Sat",2200,0,0,4,6,0,0,0,0,0,0,0,0,0,0,0,0,5,5,0,0,0,0,0,0,0,0,0,0,0,0,0,0,0,0,0,0,25.18,27.12,0,0,3,4,0,0,0,0,0,0,0,0,7,0,0,1,2,0,0,0,0,0,0,0,0,3,0,0,4,6,0,0,0,0,0,0,0,0,10]
["Sat",2300,0,1,0,2,0,0,0,0,0,0,0,0,0,0,0,1,1,1,0,0,0,0,0,0,0,0,0,0,0,0,0,0,0,0,0,0,23.06,"-","Sat",2300,0,0,1,1,0,0,0,0,0,0,0,0,0,0,0,0,0,1,1,0,0,0,0,0,0,0,0,0,0,0,0,0,0,0,0,0,29.43,"-","Sat",2300,0,1,1,3,0,0,0,0,0,0,0,0,0,0,0,1,1,2,1,0,0,0,0,0,0,0,0,0,0,0,0,0,0,0,0,0,25.61,"-",0,1,0,2,0,0,0,0,0,0,0,0,3,0,0,1,1,0,0,0,0,0,0,0,0,2,0,1,1,3,0,0,0,0,0,0,0,0,5]
["Sun",0,0,0,2,0,0,0,0,0,0,0,0,0,0,0,0,0,1,1,0,0,0,0,0,0,0,0,0,0,0,0,0,0,0,0,0,0,25.1,"-","Sun",0,0,0,2,0,0,0,0,0,0,0,0,0,0,0,0,0,1,1,0,0,0,0,0,0,0,0,0,0,0,0,0,0,0,0,0,0,26.36,"-","Sun",0,0,0,4,0,0,0,0,0,0,0,0,0,0,0,0,0,2,2,0,0,0,0,0,0,0,0,0,0,0,0,0,0,0,0,0,0,25.73,"-",0,0,2,0,0,0,0,0,0,0,0,0,2,0,0,2,0,0,0,0,0,0,0,0,0,2,0,0,4,0,0,0,0,0,0,0,0,0,4]
["Sun",100,0,0,2,0,0,0,0,0,0,0,0,0,0,0,1,0,0,0,1,0,0,0,0,0,0,0,0,0,0,0,0,0,0,0,0,0,21.56,"-","Sun",100,0,0,1,2,0,0,0,0,0,0,0,0,0,1,0,0,0,1,1,0,0,0,0,0,0,0,0,0,0,0,0,0,0,0,0,0,23.75,"-","Sun",100,0,0,3,2,0,0,0,0,0,0,0,0,0,0,1,0,0,1,2,0,0,0,0,0,0,0,0,0,0,0,0,0,0,0,0,0,22.88,"-",0,0,2,0,0,0,0,0,0,0,0,0,2,0,0,1,2,0,0,0,0,0,0,0,0,3,0,0,3,2,0,0,0,0,0,0,0,0,5]
["Sun",200,0,0,0,1,0,0,0,0,0,0,0,0,0,0,0,0,1,0,0,0,0,0,0,0,0,0,0,0,0,0,0,0,0,0,0,0,22.18,"-","Sun",200,0,0,0,0,0,0,0,0,0,0,0,0,0,0,0,0,0,0,0,0,0,0,0,0,0,0,0,0,0,0,0,0,0,0,0,0,"-","-","Sun",200,0,0,0,1,0,0,0,0,0,0,0,0,0,0,0,0,1,0,0,0,0,0,0,0,0,0,0,0,0,0,0,0,0,0,0,0,22.18,"-",0,0,0,1,0,0,0,0,0,0,0,0,1,0,0,0,0,0,0,0,0,0,0,0,0,0,0,0,0,1,0,0,0,0,0,0,0,0,1]
["Sun",300,0,0,0,0,0,0,0,0,0,0,0,0,0,0,0,0,0,0,0,0,0,0,0,0,0,0,0,0,0,0,0,0,0,0,0,0,"-","-","Sun",300,0,0,1,1,0,0,0,0,0,0,0,0,0,0,0,1,1,0,0,0,0,0,0,0,0,0,0,0,0,0,0,0,0,0,0,0,20.65,"-","Sun",300,0,0,1,1,0,0,0,0,0,0,0,0,0,0,0,1,1,0,0,0,0,0,0,0,0,0,0,0,0,0,0,0,0,0,0,0,20.65,"-",0,0,0,0,0,0,0,0,0,0,0,0,0,0,0,1,1,0,0,0,0,0,0,0,0,2,0,0,1,1,0,0,0,0,0,0,0,0,2]
["Sun",400,0,0,0,0,0,0,0,0,0,0,0,0,0,0,0,0,0,0,0,0,0,0,0,0,0,0,0,0,0,0,0,0,0,0,0,0,"-","-","Sun",400,0,0,0,2,0,0,0,0,0,0,0,0,0,0,0,0,0,1,0,1,0,0,0,0,0,0,0,0,0,0,0,0,0,0,0,0,32.36,"-","Sun",400,0,0,0,2,0,0,0,0,0,0,0,0,0,0,0,0,0,1,0,1,0,0,0,0,0,0,0,0,0,0,0,0,0,0,0,0,32.36,"-",0,0,0,0,0,0,0,0,0,0,0,0,0,0,0,0,2,0,0,0,0,0,0,0,0,2,0,0,0,2,0,0,0,0,0,0,0,0,2]
["Sun",500,0,0,0,0,0,0,0,0,0,0,0,0,0,0,0,0,0,0,0,0,0,0,0,0,0,0,0,0,0,0,0,0,0,0,0,0,"-","-","Sun",500,0,0,1,0,0,0,0,0,0,0,0,0,0,0,0,0,1,0,0,0,0,0,0,0,0,0,0,0,0,0,0,0,0,0,0,0,24.73,"-","Sun",500,0,0,1,0,0,0,0,0,0,0,0,0,0,0,0,0,1,0,0,0,0,0,0,0,0,0,0,0,0,0,0,0,0,0,0,0,24.73,"-",0,0,0,0,0,0,0,0,0,0,0,0,0,0,0,1,0,0,0,0,0,0,0,0,0,1,0,0,1,0,0,0,0,0,0,0,0,0,1]
["Sun",600,0,0,5,0,0,0,0,0,0,0,0,0,0,0,1,0,3,1,0,0,0,0,0,0,0,0,0,0,0,0,0,0,0,0,0,0,20.91,"-","Sun",600,0,0,0,1,0,0,0,0,0,0,0,0,0,0,0,0,0,1,0,0,0,0,0,0,0,0,0,0,0,0,0,0,0,0,0,0,26.41,"-","Sun",600,0,0,5,1,0,0,0,0,0,0,0,0,0,0,1,0,3,2,0,0,0,0,0,0,0,0,0,0,0,0,0,0,0,0,0,0,21.82,"-",0,0,5,0,0,0,0,0,0,0,0,0,5,0,0,0,1,0,0,0,0,0,0,0,0,1,0,0,5,1,0,0,0,0,0,0,0,0,6]
["Sun",700,0,0,1,1,0,0,0,0,0,0,0,0,0,0,0,0,1,1,0,0,0,0,0,0,0,0,0,0,0,0,0,0,0,0,0,0,25,"-","Sun",700,0,0,2,3,0,0,0,0,0,0,0,0,0,0,0,2,0,1,1,1,0,0,0,0,0,0,0,0,0,0,0,0,0,0,0,0,26.54,"-","Sun",700,0,0,3,4,0,0,0,0,0,0,0,0,0,0,0,2,1,2,1,1,0,0,0,0,0,0,0,0,0,0,0,0,0,0,0,0,26.1,"-",0,0,1,1,0,0,0,0,0,0,0,0,2,0,0,2,3,0,0,0,0,0,0,0,0,5,0,0,3,4,0,0,0,0,0,0,0,0,7]
["Sun",800,0,0,1,2,0,0,0,0,0,0,0,0,0,0,0,0,1,2,0,0,0,0,0,0,0,0,0,0,0,0,0,0,0,0,0,0,26.16,"-","Sun",800,0,0,6,6,0,0,0,0,0,0,0,0,0,1,0,1,5,2,3,0,0,0,0,0,0,0,0,0,0,0,0,0,0,0,0,0,24.18,30.39,"Sun",800,0,0,7,8,0,0,0,0,0,0,0,0,0,0,0,1,6,4,3,0,0,0,0,0,0,0,0,0,0,0,0,0,0,0,0,0,24.58,30.1,0,0,1,2,0,0,0,0,0,0,0,0,3,0,0,6,6,0,0,0,0,0,0,0,0,12,0,0,7,8,0,0,0,0,0,0,0,0,15]
["Sun",900,0,0,4,5,0,0,0,0,0,0,0,0,0,1,1,3,2,2,0,0,0,0,0,0,0,0,0,0,0,0,0,0,0,0,0,0,18.8,"-","Sun",900,0,1,9,10,0,0,0,0,0,0,0,0,0,1,2,4,7,3,3,0,0,0,0,0,0,0,0,0,0,0,0,0,0,0,0,0,22.12,28.56,"Sun",900,0,1,13,15,0,0,0,0,0,0,0,0,0,1,1,7,9,5,3,0,0,0,0,0,0,0,0,0,0,0,0,0,0,0,0,0,21.09,27.1,0,0,4,5,0,0,0,0,0,0,0,0,9,0,1,9,10,0,0,0,0,0,0,0,0,20,0,1,13,15,0,0,0,0,0,0,0,0,29]
["Sun",1000,0,0,8,7,0,0,0,0,0,0,0,0,0,0,3,3,5,3,1,0,0,0,0,0,0,0,0,0,0,0,0,0,0,0,0,0,21.54,25.54,"Sun",1000,0,1,8,8,0,0,0,0,0,0,0,0,0,0,1,1,6,5,4,0,0,0,0,0,0,0,0,0,0,0,0,0,0,0,0,0,25.12,30.16,"Sun",1000,0,1,16,15,0,0,0,0,0,0,0,0,0,0,3,4,11,8,5,0,0,0,0,0,0,0,0,0,0,0,0,0,0,0,0,0,23.44,29.41,0,0,8,7,0,0,0,0,0,0,0,0,15,0,1,8,8,0,0,0,0,0,0,0,0,17,0,1,16,15,0,0,0,0,0,0,0,0,32]
["Sun",1100,0,0,8,2,0,0,0,0,0,0,0,0,0,0,1,1,3,5,0,0,0,0,0,0,0,0,0,0,0,0,0,0,0,0,0,0,23.36,27.02,"Sun",1100,0,1,11,8,0,0,0,0,0,0,0,0,0,0,1,2,7,7,3,0,0,0,0,0,0,0,0,0,0,0,0,0,0,0,0,0,24.78,30.29,"Sun",1100,0,1,19,10,0,0,0,0,0,0,0,0,0,0,1,3,10,12,3,0,0,0,0,0,0,0,0,0,0,0,0,0,0,0,0,0,24.3,28.7,0,0,8,2,0,0,0,0,0,0,0,0,10,0,1,11,8,0,0,0,0,0,0,0,0,20,0,1,19,10,0,0,0,0,0,0,0,0,30]
["Sun",1200,0,0,12,14,0,0,0,0,0,0,0,0,0,2,3,5,7,9,0,0,0,0,0,0,0,0,0,0,0,0,0,0,0,0,0,0,20.8,26.4,"Sun",1200,0,0,12,9,0,0,0,0,0,0,0,0,0,0,2,3,6,7,2,1,0,0,0,0,0,0,0,0,0,0,0,0,0,0,0,0,24.02,29.57,"Sun",1200,0,0,24,23,0,0,0,0,0,0,0,0,0,2,3,8,13,16,2,1,0,0,0,0,0,0,0,0,0,0,0,0,0,0,0,0,22.24,27.18,0,0,12,14,0,0,0,0,0,0,0,0,26,0,0,12,9,0,0,0,0,0,0,0,0,21,0,0,24,23,0,0,0,0,0,0,0,0,47]
["Sun",1300,0,0,8,5,1,0,0,1,0,0,0,0,0,0,2,0,5,7,1,0,0,0,0,0,0,0,0,0,0,0,0,0,0,0,0,0,23.91,27.17,"Sun",1300,0,1,11,8,2,0,0,1,0,0,0,0,0,0,1,1,10,5,6,0,0,0,0,0,0,0,0,0,0,0,0,0,0,0,0,0,25.07,30.48,"Sun",1300,0,1,19,13,3,0,0,2,0,0,0,0,0,0,2,1,15,12,7,0,0,0,0,0,0,0,0,0,0,0,0,0,0,0,0,0,24.61,30.32,0,0,8,5,1,0,0,1,0,0,0,0,15,0,1,11,8,2,0,0,1,0,0,0,0,23,0,1,19,13,3,0,0,2,0,0,0,0,38]
["Sun",1400,0,0,7,9,0,0,0,0,0,0,0,0,0,0,1,1,10,3,1,0,0,0,0,0,0,0,0,0,0,0,0,0,0,0,0,0,22.8,25.74,"Sun",1400,0,1,6,10,0,0,0,1,0,0,0,0,0,2,1,2,7,3,3,0,0,0,0,0,0,0,0,0,0,0,0,0,0,0,0,0,22.86,30.02,"Sun",1400,0,1,13,19,0,0,0,1,0,0,0,0,0,0,1,3,17,6,4,0,0,0,0,0,0,0,0,0,0,0,0,0,0,0,0,0,22.83,26.73,0,0,7,9,0,0,0,0,0,0,0,0,16,0,1,6,10,0,0,0,1,0,0,0,0,18,0,1,13,19,0,0,0,1,0,0,0,0,34]
["Sun",1500,0,0,9,3,0,0,0,0,0,0,0,0,0,0,0,6,4,1,1,0,0,0,0,0,0,0,0,0,0,0,0,0,0,0,0,0,21.34,24.78,"Sun",1500,0,1,6,10,0,0,0,0,0,0,0,0,0,0,1,0,7,7,2,0,0,0,0,0,0,0,0,0,0,0,0,0,0,0,0,0,25.1,29.71,"Sun",1500,0,1,15,13,0,0,0,0,0,0,0,0,0,0,0,6,11,8,3,0,0,0,0,0,0,0,0,0,0,0,0,0,0,0,0,0,23.55,29.58,0,0,9,3,0,0,0,0,0,0,0,0,12,0,1,6,10,0,0,0,0,0,0,0,0,17,0,1,15,13,0,0,0,0,0,0,0,0,29]
["Sun",1600,0,2,12,6,0,0,0,0,0,0,0,0,0,0,4,5,5,6,0,0,0,0,0,0,0,0,0,0,0,0,0,0,0,0,0,0,20.51,25.39,"Sun",1600,0,0,6,7,2,0,0,0,0,0,0,0,0,0,3,3,4,4,1,0,0,0,0,0,0,0,0,0,0,0,0,0,0,0,0,0,21.77,29.13,"Sun",1600,0,2,18,13,2,0,0,0,0,0,0,0,0,0,4,8,9,10,1,0,0,0,0,0,0,0,0,0,0,0,0,0,0,0,0,0,21.05,25.58,0,2,12,6,0,0,0,0,0,0,0,0,20,0,0,6,7,2,0,0,0,0,0,0,0,15,0,2,18,13,2,0,0,0,0,0,0,0,35]
["Sun",1700,0,0,11,6,0,0,0,0,0,0,0,0,0,0,1,0,8,8,0,0,0,0,0,0,0,0,0,0,0,0,0,0,0,0,0,0,24.08,27.83,"Sun",1700,0,1,9,7,0,0,0,0,0,0,0,0,0,0,2,4,4,3,1,2,1,0,0,0,0,0,0,0,0,0,0,0,0,0,0,0,24.54,34.380000000000003,"Sun",1700,0,1,20,13,0,0,0,0,0,0,0,0,0,0,1,4,12,11,1,2,1,0,0,0,0,0,0,0,0,0,0,0,0,0,0,0,24.31,28.86,0,0,11,6,0,0,0,0,0,0,0,0,17,0,1,9,7,0,0,0,0,0,0,0,0,17,0,1,20,13,0,0,0,0,0,0,0,0,34]
["Sun",1800,0,0,7,9,0,0,0,0,0,0,0,0,0,0,1,3,3,7,2,0,0,0,0,0,0,0,0,0,0,0,0,0,0,0,0,0,24.36,28.99,"Sun",1800,0,0,6,6,1,0,0,0,0,0,0,0,0,0,0,1,4,4,4,0,0,0,0,0,0,0,0,0,0,0,0,0,0,0,0,0,26.07,30.67,"Sun",1800,0,0,13,15,1,0,0,0,0,0,0,0,0,0,1,4,7,11,6,0,0,0,0,0,0,0,0,0,0,0,0,0,0,0,0,0,25.13,30.49,0,0,7,9,0,0,0,0,0,0,0,0,16,0,0,6,6,1,0,0,0,0,0,0,0,13,0,0,13,15,1,0,0,0,0,0,0,0,29]
["Sun",1900,0,0,4,6,1,0,0,1,0,0,0,0,0,0,1,2,3,4,2,0,0,0,0,0,0,0,0,0,0,0,0,0,0,0,0,0,23.82,30.41,"Sun",1900,0,0,4,1,0,0,0,0,0,0,0,0,0,1,0,0,0,4,0,0,0,0,0,0,0,0,0,0,0,0,0,0,0,0,0,0,24.86,"-","Sun",1900,0,0,8,7,1,0,0,1,0,0,0,0,0,0,1,2,3,8,2,0,0,0,0,0,0,0,0,0,0,0,0,0,0,0,0,0,24.12,29.65,0,0,4,6,1,0,0,1,0,0,0,0,12,0,0,4,1,0,0,0,0,0,0,0,0,5,0,0,8,7,1,0,0,1,0,0,0,0,17]
["Sun",2000,0,0,3,2,0,0,0,0,0,0,0,0,0,0,2,0,2,1,0,0,0,0,0,0,0,0,0,0,0,0,0,0,0,0,0,0,19.7,"-","Sun",2000,0,0,4,1,1,0,0,0,0,0,0,0,0,0,0,0,1,3,2,0,0,0,0,0,0,0,0,0,0,0,0,0,0,0,0,0,29.32,"-","Sun",2000,0,0,7,3,1,0,0,0,0,0,0,0,0,0,2,0,3,4,2,0,0,0,0,0,0,0,0,0,0,0,0,0,0,0,0,0,24.95,30.75,0,0,3,2,0,0,0,0,0,0,0,0,5,0,0,4,1,1,0,0,0,0,0,0,0,6,0,0,7,3,1,0,0,0,0,0,0,0,11]
["Sun",2100,0,0,3,1,0,0,0,0,0,0,0,0,0,0,0,1,1,1,1,0,0,0,0,0,0,0,0,0,0,0,0,0,0,0,0,0,24.55,"-","Sun",2100,0,0,2,2,0,0,0,0,0,0,0,0,0,0,2,0,1,1,0,0,0,0,0,0,0,0,0,0,0,0,0,0,0,0,0,0,18.54,"-","Sun",2100,0,0,5,3,0,0,0,0,0,0,0,0,0,0,0,1,2,2,1,0,0,0,0,0,0,0,0,0,0,0,0,0,0,0,0,0,21.55,"-",0,0,3,1,0,0,0,0,0,0,0,0,4,0,0,2,2,0,0,0,0,0,0,0,0,4,0,0,5,3,0,0,0,0,0,0,0,0,8]
["Sun",2200,0,1,1,5,0,0,0,0,0,0,0,0,0,0,0,1,2,2,2,0,0,0,0,0,0,0,0,0,0,0,0,0,0,0,0,0,25.66,"-","Sun",2200,0,0,0,2,0,0,0,0,0,0,0,0,0,0,0,0,0,0,1,0,1,0,0,0,0,0,0,0,0,0,0,0,0,0,0,0,37.99,"-","Sun",2200,0,1,1,7,0,0,0,0,0,0,0,0,0,0,0,1,2,2,3,0,1,0,0,0,0,0,0,0,0,0,0,0,0,0,0,0,28.4,"-",0,1,1,5,0,0,0,0,0,0,0,0,7,0,0,0,2,0,0,0,0,0,0,0,0,2,0,1,1,7,0,0,0,0,0,0,0,0,9]
["Sun",2300,0,1,1,0,0,0,0,0,0,0,0,0,0,0,0,0,1,0,0,1,0,0,0,0,0,0,0,0,0,0,0,0,0,0,0,0,30.95,"-","Sun",2300,0,0,0,0,0,0,0,0,0,0,0,0,0,0,0,0,0,0,0,0,0,0,0,0,0,0,0,0,0,0,0,0,0,0,0,0,"-","-","Sun",2300,0,1,1,0,0,0,0,0,0,0,0,0,0,0,0,0,1,0,0,1,0,0,0,0,0,0,0,0,0,0,0,0,0,0,0,0,30.95,"-",0,1,1,0,0,0,0,0,0,0,0,0,2,0,0,0,0,0,0,0,0,0,0,0,0,0,0,1,1,0,0,0,0,0,0,0,0,0,2]
["WD Ave",0,{"$f":"SUM(C5+C29+C53+C77+C101)/5","v":0},0,0.6,0.4,0,0,0,0,0,0,0,{"$f":"SUM(N5+N29+N53+N77+N101)/5","v":0},{"$f":"SUM(O5+O29+O53+O77+O101)/5","v":0},0,0.2,{"$f":"SUM(R5+R29+R53+R77+R101)/5","v":0.2},0.2,0,0.2,{"$f":"SUM(V5+V29+V53+V77+V101)/5","v":0.2},{"$f":"SUM(W5+W29+W53+W77+W101)/5","v":0},0,0,0,0,{"$f":"SUM(AB5+AB29+AB53+AB77+AB101)/5","v":0},{"$f":"SUM(AC5+AC29+AC53+AC77+AC101)/5","v":0},0,0,0,0,0,0,0,0,0,23.77,"-","WD Ave",0,{"$f":"SUM(AQ5+AQ29+AQ53+AQ77+AQ101)/5","v":0},0,0.6,0,0,0,0,0,0,0,0,0,0,0.2,0.2,{"$f":"SUM(BF5+BF29+BF53+BF77+BF101)/5","v":0},0.2,0,{"$f":"SUM(BI5+BI29+BI53+BI77+BI101)/5","v":0},0,0,{"$f":"SUM(BL5+BL29+BL53+BL77+BL101)/5","v":0},0,0,0,{"$f":"SUM(BP5+BP29+BP53+BP77+BP101)/5","v":0},{"$f":"SUM(BQ5+BQ29+BQ53+BQ77+BQ101)/5","v":0},0,0,0,0,0,0,0,0,0,13.75,"-","WD Ave",0,{"$f":"SUM(CE5+CE29+CE53+CE77+CE101)/5","v":0},0,1.2,0.4,0,0,0,0,0,0,0,0,0,0,0.2,{"$f":"SUM(CT5+CT29+CT53+CT77+CT101)/5","v":0.2},0.4,{"$f":"SUM(CV5+CV29+CV53+CV77+CV101)/5","v":0},0.2,0.2,0,0,0,{"$f":"SUM(DB5+DB29+DB53+DB77+DB101)/5","v":0},0,{"$f":"SUM(DD5+DD29+DD53+DD77+DD101)/5","v":0},{"$f":"SUM(DE5+DE29+DE53+DE77+DE101)/5","v":0},0,0,0,0,0,0,0,0,0,20.010000000000002,"-",0,0,0.6,0.4,0,0,0,0,0,0,0,0,1,0,0,0.6,0,0,0,0,0,0,0,0,0,0.6,0,0,1.2,0.4,0,0,0,0,0,0,0,0,1.6]
["WD Ave",100,{"$f":"SUM(C6+C30+C54+C78+C102)/5","v":0},0,0,0.2,0,0,0,0,0,0,0,{"$f":"SUM(N6+N30+N54+N78+N102)/5","v":0},{"$f":"SUM(O6+O30+O54+O78+O102)/5","v":0},0,0,{"$f":"SUM(R6+R30+R54+R78+R102)/5","v":0},0,0,0.2,0,0,0,0,0,0,{"$f":"SUM(AB6+AB30+AB54+AB78+AB102)/5","v":0},{"$f":"SUM(AC6+AC30+AC54+AC78+AC102)/5","v":0},0,0,0,0,0,0,0,0,0,30.22,"-","WD Ave",100,{"$f":"SUM(AQ6+AQ30+AQ54+AQ78+AQ102)/5","v":0},0,0,0.4,0,0,0,0,0,0,0,0,0,0,0,{"$f":"SUM(BF6+BF30+BF54+BF78+BF102)/5","v":0},0,0.2,0.2,0,0,{"$f":"SUM(BL6+BL30+BL54+BL78+BL102)/5","v":0},0,0,0,{"$f":"SUM(BP6+BP30+BP54+BP78+BP102)/5","v":0},{"$f":"SUM(BQ6+BQ30+BQ54+BQ78+BQ102)/5","v":0},0,0,0,0,0,0,0,0,0,29.98,"-","WD Ave",100,{"$f":"SUM(CE6+CE30+CE54+CE78+CE102)/5","v":0},0,0,0.6,0,0,0,0,0,0,0,0,0,0,0,{"$f":"SUM(CT6+CT30+CT54+CT78+CT102)/5","v":0},0,0.2,0.4,0,0,0,0,{"$f":"SUM(DB6+DB30+DB54+DB78+DB102)/5","v":0},0,{"$f":"SUM(DD6+DD30+DD54+DD78+DD102)/5","v":0},{"$f":"SUM(DE6+DE30+DE54+DE78+DE102)/5","v":0},0,0,0,0,0,0,0,0,0,30.06,"-",0,0,0,0.2,0,0,0,0,0,0,0,0,0.2,0,0,0,0.4,0,0,0,0,0,0,0,0,0.4,0,0,0,0.60000000000000009,0,0,0,0,0,0,0,0,0.60000000000000009]
["WD Ave",200,{"$f":"SUM(C7+C31+C55+C79+C103)/5","v":0},0,0,0.2,0,0,0,0,0,0,0,{"$f":"SUM(N7+N31+N55+N79+N103)/5","v":0},0,0,0,{"$f":"SUM(R7+R31+R55+R79+R103)/5","v":0},0.2,0,0,0,0,0,0,0,0,{"$f":"SUM(AB7+AB31+AB55+AB79+AB103)/5","v":0},{"$f":"SUM(AC7+AC31+AC55+AC79+AC103)/5","v":0},0,0,0,0,0,0,0,0,0,23.85,"-","WD Ave",200,{"$f":"SUM(AQ7+AQ31+AQ55+AQ79+AQ103)/5","v":0},0,0,0.2,0,0,0,0,0,0,0,0,0,0,0,{"$f":"SUM(BF7+BF31+BF55+BF79+BF103)/5","v":0},0.2,0,0,0,0,{"$f":"SUM(BL7+BL31+BL55+BL79+BL103)/5","v":0},0,0,0,{"$f":"SUM(BP7+BP31+BP55+BP79+BP103)/5","v":0},{"$f":"SUM(BQ7+BQ31+BQ55+BQ79+BQ103)/5","v":0},0,0,0,0,0,0,0,0,0,23.88,"-","WD Ave",200,{"$f":"SUM(CE7+CE31+CE55+CE79+CE103)/5","v":0},0,0,0.4,0,0,0,0,0,0,0,0,0,0,0,{"$f":"SUM(CT7+CT31+CT55+CT79+CT103)/5","v":0},0.4,0,0,0,0,0,0,{"$f":"SUM(DB7+DB31+DB55+DB79+DB103)/5","v":0},0,{"$f":"SUM(DD7+DD31+DD55+DD79+DD103)/5","v":0},{"$f":"SUM(DE7+DE31+DE55+DE79+DE103)/5","v":0},0,0,0,0,0,0,0,0,0,23.87,"-",0,0,0,0.2,0,0,0,0,0,0,0,0,0.2,0,0,0,0.2,0,0,0,0,0,0,0,0,0.2,0,0,0,0.4,0,0,0,0,0,0,0,0,0.4]
["WD Ave",300,{"$f":"SUM(C8+C32+C56+C80+C104)/5","v":0},0,0,0,0,0,0,0,0,0,0,{"$f":"SUM(N8+N32+N56+N80+N104)/5","v":0},0,0,0,{"$f":"SUM(R8+R32+R56+R80+R104)/5","v":0},0,0,0,0,0,0,0,0,0,{"$f":"SUM(AB8+AB32+AB56+AB80+AB104)/5","v":0},{"$f":"SUM(AC8+AC32+AC56+AC80+AC104)/5","v":0},0,0,0,0,0,0,0,0,0,"-","-","WD Ave",300,{"$f":"SUM(AQ8+AQ32+AQ56+AQ80+AQ104)/5","v":0},0,0,0.8,0,0,0,0,0,0,0,0,0,0,0,{"$f":"SUM(BF8+BF32+BF56+BF80+BF104)/5","v":0},0,0.8,0,0,0,{"$f":"SUM(BL8+BL32+BL56+BL80+BL104)/5","v":0},0,0,0,{"$f":"SUM(BP8+BP32+BP56+BP80+BP104)/5","v":0},{"$f":"SUM(BQ8+BQ32+BQ56+BQ80+BQ104)/5","v":0},0,0,0,0,0,0,0,0,0,28.3,"-","WD Ave",300,{"$f":"SUM(CE8+CE32+CE56+CE80+CE104)/5","v":0},0,0,0.8,0,0,0,0,0,0,0,0,0,0,0,{"$f":"SUM(CT8+CT32+CT56+CT80+CT104)/5","v":0},0,0.8,0,0,0,0,0,{"$f":"SUM(DB8+DB32+DB56+DB80+DB104)/5","v":0},0,{"$f":"SUM(DD8+DD32+DD56+DD80+DD104)/5","v":0},{"$f":"SUM(DE8+DE32+DE56+DE80+DE104)/5","v":0},0,0,0,0,0,0,0,0,0,28.3,"-",0,0,0,0,0,0,0,0,0,0,0,0,0,0,0,0,0.8,0,0,0,0,0,0,0,0,0.8,0,0,0,0.8,0,0,0,0,0,0,0,0,0.8]
["WD Ave",400,{"$f":"SUM(C9+C33+C57+C81+C105)/5","v":0},0,0,0,0,0,0,0,0,0,0,{"$f":"SUM(N9+N33+N57+N81+N105)/5","v":0},0,0,0,{"$f":"SUM(R9+R33+R57+R81+R105)/5","v":0},0,0,0,0,0,0,0,0,0,{"$f":"SUM(AB9+AB33+AB57+AB81+AB105)/5","v":0},{"$f":"SUM(AC9+AC33+AC57+AC81+AC105)/5","v":0},0,0,0,0,0,0,0,0,0,"-","-","WD Ave",400,{"$f":"SUM(AQ9+AQ33+AQ57+AQ81+AQ105)/5","v":0},0,1,1.4,0,0,0,0.2,0,0,0,0,0,0,0,{"$f":"SUM(BF9+BF33+BF57+BF81+BF105)/5","v":0.4},0.6,0.6,0.2,0.6,0.2,{"$f":"SUM(BL9+BL33+BL57+BL81+BL105)/5","v":0},0,0,0,{"$f":"SUM(BP9+BP33+BP57+BP81+BP105)/5","v":0},{"$f":"SUM(BQ9+BQ33+BQ57+BQ81+BQ105)/5","v":0},0,0,0,0,0,0,0,0,0,28.81,37.130000000000003,"WD Ave",400,{"$f":"SUM(CE9+CE33+CE57+CE81+CE105)/5","v":0},0,1,1.4,0,0,0,0.2,0,0,0,0,0,0,0,{"$f":"SUM(CT9+CT33+CT57+CT81+CT105)/5","v":0.4},0.6,0.6,0.2,0.6,0.2,0,0,{"$f":"SUM(DB9+DB33+DB57+DB81+DB105)/5","v":0},0,{"$f":"SUM(DD9+DD33+DD57+DD81+DD105)/5","v":0},{"$f":"SUM(DE9+DE33+DE57+DE81+DE105)/5","v":0},0,0,0,0,0,0,0,0,0,28.81,37.130000000000003,0,0,0,0,0,0,0,0,0,0,0,0,0,0,0,1,1.4,0,0,0,0.2,0,0,0,0,2.6,0,0,1,1.4,0,0,0,0.2,0,0,0,0,2.6]
["WD Ave",500,{"$f":"SUM(C10+C34+C58+C82+C106)/5","v":0},0,0.6,0.6,0,0,0,0,0,0,0,{"$f":"SUM(N10+N34+N58+N82+N106)/5","v":0},0,0,0,{"$f":"SUM(R10+R34+R58+R82+R106)/5","v":0.4},0.2,0.2,0.2,0,0.2,0,0,0,0,{"$f":"SUM(AB10+AB34+AB58+AB82+AB106)/5","v":0},{"$f":"SUM(AC10+AC34+AC58+AC82+AC106)/5","v":0},0,0,0,0,0,0,0,0,0,26.96,"-","WD Ave",500,{"$f":"SUM(AQ10+AQ34+AQ58+AQ82+AQ106)/5","v":0},0,3,3.6,0,0,0,0,0,0,0,0,0,0,1,{"$f":"SUM(BF10+BF34+BF58+BF82+BF106)/5","v":0.2},1,3.2,1,0.2,0,{"$f":"SUM(BL10+BL34+BL58+BL82+BL106)/5","v":0},0,0,0,{"$f":"SUM(BP10+BP34+BP58+BP82+BP106)/5","v":0},{"$f":"SUM(BQ10+BQ34+BQ58+BQ82+BQ106)/5","v":0},0,0,0,0,0,0,0,0,0,25.27,31.37,"WD Ave",500,{"$f":"SUM(CE10+CE34+CE58+CE82+CE106)/5","v":0},0,3.6,4.2,0,0,0,0,0,0,0,0,0,0,0,{"$f":"SUM(CT10+CT34+CT58+CT82+CT106)/5","v":0.6},1.2,3.4,1.2,0.2,0.2,0,0,{"$f":"SUM(DB10+DB34+DB58+DB82+DB106)/5","v":0},0,{"$f":"SUM(DD10+DD34+DD58+DD82+DD106)/5","v":0},{"$f":"SUM(DE10+DE34+DE58+DE82+DE106)/5","v":0},0,0,0,0,0,0,0,0,0,25.53,31.44,0,0,0.6,0.6,0,0,0,0,0,0,0,0,1.2,0,0,3,3.6,0,0,0,0,0,0,0,0,6.6,0,0,3.6,4.2,0,0,0,0,0,0,0,0,7.8]
["WD Ave",600,{"$f":"SUM(C11+C35+C59+C83+C107)/5","v":0},0,1.8,2,0,0,0,0,0,0,0,{"$f":"SUM(N11+N35+N59+N83+N107)/5","v":0},0,0,1,{"$f":"SUM(R11+R35+R59+R83+R107)/5","v":0.4},1.4,0.8,0.2,0,0,0,0,0,0,{"$f":"SUM(AB11+AB35+AB59+AB83+AB107)/5","v":0},{"$f":"SUM(AC11+AC35+AC59+AC83+AC107)/5","v":0},0,0,0,0,0,0,0,0,0,20.98,26.81,"WD Ave",600,{"$f":"SUM(AQ11+AQ35+AQ59+AQ83+AQ107)/5","v":0},0.4,8.4,10,0.2,0,0,0,0,0,0,0,0,0.4,1,{"$f":"SUM(BF11+BF35+BF59+BF83+BF107)/5","v":1},3.8,6.2,4.4000000000000004,2,0.2,{"$f":"SUM(BL11+BL35+BL59+BL83+BL107)/5","v":0},0,0,0,{"$f":"SUM(BP11+BP35+BP59+BP83+BP107)/5","v":0},{"$f":"SUM(BQ11+BQ35+BQ59+BQ83+BQ107)/5","v":0},0,0,0,0,0,0,0,0,0,27.11,32.909999999999997,"WD Ave",600,{"$f":"SUM(CE11+CE35+CE59+CE83+CE107)/5","v":0},0.4,10.199999999999999,12,0.2,0,0,0,0,0,0,0,0,0,1,{"$f":"SUM(CT11+CT35+CT59+CT83+CT107)/5","v":1.4},5.2,7,4.5999999999999996,2,0.2,0,0,{"$f":"SUM(DB11+DB35+DB59+DB83+DB107)/5","v":0},0,{"$f":"SUM(DD11+DD35+DD59+DD83+DD107)/5","v":0},{"$f":"SUM(DE11+DE35+DE59+DE83+DE107)/5","v":0},0,0,0,0,0,0,0,0,0,26.09,32.5,0,0,1.8,2,0,0,0,0,0,0,0,0,3.8,0,0.4,8.4,10,0.2,0,0,0,0,0,0,0,19,0,0.4,10.200000000000001,12,0.2,0,0,0,0,0,0,0,22.8]
["WD Ave",700,{"$f":"SUM(C12+C36+C60+C84+C108)/5","v":0},0,4,5.8,0.2,0,0,0,0,0,0,{"$f":"SUM(N12+N36+N60+N84+N108)/5","v":0.2},0,0.2,0.2,{"$f":"SUM(R12+R36+R60+R84+R108)/5","v":0.8},3.6,3.6,1.6,0.2,0,0,0,0,0,{"$f":"SUM(AB12+AB36+AB60+AB84+AB108)/5","v":0},{"$f":"SUM(AC12+AC36+AC60+AC84+AC108)/5","v":0},0,0,0,0,0,0,0,0,0,24.95,30.33,"WD Ave",700,{"$f":"SUM(AQ12+AQ36+AQ60+AQ84+AQ108)/5","v":0.2},1.6,16.8,12.4,0.4,0,0,0,0,0,0,0,0,1.2,2,{"$f":"SUM(BF12+BF36+BF60+BF84+BF108)/5","v":3.6},8,9.8000000000000007,6,0.8,0,{"$f":"SUM(BL12+BL36+BL60+BL84+BL108)/5","v":0},0,0,0,{"$f":"SUM(BP12+BP36+BP60+BP84+BP108)/5","v":0},{"$f":"SUM(BQ12+BQ36+BQ60+BQ84+BQ108)/5","v":0},0,0,0,0,0,0,0,0,0,24.48,30.85,"WD Ave",700,{"$f":"SUM(CE12+CE36+CE60+CE84+CE108)/5","v":0.2},1.6,20.8,18.2,0.6,0,0,0,0,0,0,0.2,0,0.2,0.2,{"$f":"SUM(CT12+CT36+CT60+CT84+CT108)/5","v":4.4000000000000004},11.6,13.4,7.6,1,0,0,0,{"$f":"SUM(DB12+DB36+DB60+DB84+DB108)/5","v":0},0,{"$f":"SUM(DD12+DD36+DD60+DD84+DD108)/5","v":0},{"$f":"SUM(DE12+DE36+DE60+DE84+DE108)/5","v":0},0,0,0,0,0,0,0,0,0,24.59,30.81,0,0,4,5.8,0.2,0,0,0,0,0,0,0.2,10.199999999999999,0.2,1.6,16.8,12.4,0.4,0,0,0,0,0,0,0,31.4,0.2,1.6,20.8,18.2,0.60000000000000009,0,0,0,0,0,0,0.2,41.599999999999994]
["WD Ave",800,{"$f":"SUM(C13+C37+C61+C85+C109)/5","v":0},0,8.8000000000000007,8.1999999999999993,0.2,0,0,0,0,0,0,{"$f":"SUM(N13+N37+N61+N85+N109)/5","v":0},0,0.6,1.2,{"$f":"SUM(R13+R37+R61+R85+R109)/5","v":1.8},5.8,5.8,1.6,0.4,0,0,0,0,0,{"$f":"SUM(AB13+AB37+AB61+AB85+AB109)/5","v":0},{"$f":"SUM(AC13+AC37+AC61+AC85+AC109)/5","v":0},0,0,0,0,0,0,0,0,0,23.73,28.58,"WD Ave",800,{"$f":"SUM(AQ13+AQ37+AQ61+AQ85+AQ109)/5","v":0.2},0.2,18,12.8,0.4,0,0,0,0,0,0,0,0,0.8,1.8,{"$f":"SUM(BF13+BF37+BF61+BF85+BF109)/5","v":2},7.4,12,6.2,1.2,0.2,{"$f":"SUM(BL13+BL37+BL61+BL85+BL109)/5","v":0},0,0,0,{"$f":"SUM(BP13+BP37+BP61+BP85+BP109)/5","v":0},{"$f":"SUM(BQ13+BQ37+BQ61+BQ85+BQ109)/5","v":0},0,0,0,0,0,0,0,0,0,25.8,31.86,"WD Ave",800,{"$f":"SUM(CE13+CE37+CE61+CE85+CE109)/5","v":0.2},0.2,26.8,21,0.6,0,0,0,0,0,0,0,0,0.6,1.2,{"$f":"SUM(CT13+CT37+CT61+CT85+CT109)/5","v":3.8},13.2,17.8,7.8,1.6,0.2,0,0,{"$f":"SUM(DB13+DB37+DB61+DB85+DB109)/5","v":0},0,{"$f":"SUM(DD13+DD37+DD61+DD85+DD109)/5","v":0},{"$f":"SUM(DE13+DE37+DE61+DE85+DE109)/5","v":0},0,0,0,0,0,0,0,0,0,25.07,31,0,0,8.8000000000000007,8.1999999999999993,0.2,0,0,0,0,0,0,0,17.2,0.2,0.2,18,12.8,0.4,0,0,0,0,0,0,0,31.599999999999998,0.2,0.2,26.8,21,0.60000000000000009,0,0,0,0,0,0,0,48.8]
["WD Ave",900,{"$f":"SUM(C14+C38+C62+C86+C110)/5","v":0},0,10.199999999999999,5.8,0.2,0,0,0,0,0,0,{"$f":"SUM(N14+N38+N62+N86+N110)/5","v":0},0,0.4,0.4,{"$f":"SUM(R14+R38+R62+R86+R110)/5","v":2.4},6.4,4.8,1.8,0,0,0,0,0,0,{"$f":"SUM(AB14+AB38+AB62+AB86+AB110)/5","v":0},{"$f":"SUM(AC14+AC38+AC62+AC86+AC110)/5","v":0},0,0,0,0,0,0,0,0,0,23.64,29.5,"WD Ave",900,{"$f":"SUM(AQ14+AQ38+AQ62+AQ86+AQ110)/5","v":0},0.2,13.2,10.6,0.6,0,0,0,0,0,0,0,0,1,1.4,{"$f":"SUM(BF14+BF38+BF62+BF86+BF110)/5","v":2.4},6.2,9.6,3.8,0.2,0,{"$f":"SUM(BL14+BL38+BL62+BL86+BL110)/5","v":0},0,0,0,{"$f":"SUM(BP14+BP38+BP62+BP86+BP110)/5","v":0},{"$f":"SUM(BQ14+BQ38+BQ62+BQ86+BQ110)/5","v":0},0,0,0,0,0,0,0,0,0,24.43,30.06,"WD Ave",900,{"$f":"SUM(CE14+CE38+CE62+CE86+CE110)/5","v":0},0.2,23.4,16.399999999999999,0.8,0,0,0,0,0,0,0,0,0.4,0.4,{"$f":"SUM(CT14+CT38+CT62+CT86+CT110)/5","v":4.8},12.6,14.4,5.6,0.2,0,0,0,{"$f":"SUM(DB14+DB38+DB62+DB86+DB110)/5","v":0},0,{"$f":"SUM(DD14+DD38+DD62+DD86+DD110)/5","v":0},{"$f":"SUM(DE14+DE38+DE62+DE86+DE110)/5","v":0},0,0,0,0,0,0,0,0,0,24.11,29.85,0,0,10.199999999999999,5.8,0.2,0,0,0,0,0,0,0,16.2,0,0.2,13.2,10.6,0.6,0,0,0,0,0,0,0,24.6,0,0.2,23.4,16.399999999999999,0.8,0,0,0,0,0,0,0,40.799999999999997]
["WD Ave",1000,{"$f":"SUM(C15+C39+C63+C87+C111)/5","v":0},0.2,8,6,1.6,0,0,0,0,0,0.2,{"$f":"SUM(N15+N39+N63+N87+N111)/5","v":0},0,1.2,1.6,{"$f":"SUM(R15+R39+R63+R87+R111)/5","v":2.6},4.4000000000000004,4.8,1.4,0,0,0,0,0,0,{"$f":"SUM(AB15+AB39+AB63+AB87+AB111)/5","v":0},{"$f":"SUM(AC15+AC39+AC63+AC87+AC111)/5","v":0},0,0,0,0,0,0,0,0,0,21.76,28.39,"WD Ave",1000,{"$f":"SUM(AQ15+AQ39+AQ63+AQ87+AQ111)/5","v":0},0.2,11.6,9.1999999999999993,0.8,0,0,0,0,0,0,0,0,1,1,{"$f":"SUM(BF15+BF39+BF63+BF87+BF111)/5","v":3.2},6.4,7.6,2.2000000000000002,0.4,0,{"$f":"SUM(BL15+BL39+BL63+BL87+BL111)/5","v":0},0,0,0,{"$f":"SUM(BP15+BP39+BP63+BP87+BP111)/5","v":0},{"$f":"SUM(BQ15+BQ39+BQ63+BQ87+BQ111)/5","v":0},0,0,0,0,0,0,0,0,0,23.68,29.48,"WD Ave",1000,{"$f":"SUM(CE15+CE39+CE63+CE87+CE111)/5","v":0},0.4,19.600000000000001,15.2,2.4,0,0,0,0,0,0.2,0,0,1.2,1.6,{"$f":"SUM(CT15+CT39+CT63+CT87+CT111)/5","v":5.8},10.8,12.4,3.6,0.4,0,0,0,{"$f":"SUM(DB15+DB39+DB63+DB87+DB111)/5","v":0},0,{"$f":"SUM(DD15+DD39+DD63+DD87+DD111)/5","v":0},{"$f":"SUM(DE15+DE39+DE63+DE87+DE111)/5","v":0},0,0,0,0,0,0,0,0,0,22.87,29.08,0,0.2,8,6,1.6,0,0,0,0,0,0.2,0,15.999999999999998,0,0.2,11.6,9.1999999999999993,0.8,0,0,0,0,0,0,0,21.8,0,0.4,19.600000000000001,15.2,2.4000000000000004,0,0,0,0,0,0.2,0,37.799999999999997]
["WD Ave",1100,{"$f":"SUM(C16+C40+C64+C88+C112)/5","v":0},0,11.8,8.4,0.4,0,0,0,0,0,0,{"$f":"SUM(N16+N40+N64+N88+N112)/5","v":0.2},0,0.6,1.8,{"$f":"SUM(R16+R40+R64+R88+R112)/5","v":4.2},7.4,5.2,1.6,0,0,0,0,0,0,{"$f":"SUM(AB16+AB40+AB64+AB88+AB112)/5","v":0},{"$f":"SUM(AC16+AC40+AC64+AC88+AC112)/5","v":0},0,0,0,0,0,0,0,0,0,22.1,27.43,"WD Ave",1100,{"$f":"SUM(AQ16+AQ40+AQ64+AQ88+AQ112)/5","v":0},0,10.4,12.6,1,0.2,0,0,0,0,0,0,0,1.2,1.4,{"$f":"SUM(BF16+BF40+BF64+BF88+BF112)/5","v":4.4000000000000004},7.2,6.8,3,0.2,0,{"$f":"SUM(BL16+BL40+BL64+BL88+BL112)/5","v":0},0,0,0,{"$f":"SUM(BP16+BP40+BP64+BP88+BP112)/5","v":0},{"$f":"SUM(BQ16+BQ40+BQ64+BQ88+BQ112)/5","v":0},0,0,0,0,0,0,0,0,0,23.13,29.52,"WD Ave",1100,{"$f":"SUM(CE16+CE40+CE64+CE88+CE112)/5","v":0},0,22.2,21,1.4,0.2,0,0,0,0,0,0.2,0,0.6,1.8,{"$f":"SUM(CT16+CT40+CT64+CT88+CT112)/5","v":8.6},14.6,12,4.5999999999999996,0.2,0,0,0,{"$f":"SUM(DB16+DB40+DB64+DB88+DB112)/5","v":0},0,{"$f":"SUM(DD16+DD40+DD64+DD88+DD112)/5","v":0},{"$f":"SUM(DE16+DE40+DE64+DE88+DE112)/5","v":0},0,0,0,0,0,0,0,0,0,22.66,29.05,0,0,11.8,8.4,0.4,0,0,0,0,0,0,0.2,20.8,0,0,10.4,12.6,1,0.2,0,0,0,0,0,0,24.2,0,0,22.200000000000003,21,1.4,0.2,0,0,0,0,0,0.2,45]
["WD Ave",1200,{"$f":"SUM(C17+C41+C65+C89+C113)/5","v":0},0.2,8.8000000000000007,9.1999999999999993,0.6,0,0,0,0,0,0,{"$f":"SUM(N17+N41+N65+N89+N113)/5","v":0},0,0.6,2.2000000000000002,{"$f":"SUM(R17+R41+R65+R89+R113)/5","v":2.8},6.4,5.4,1.4,0,0,0,0,0,0,{"$f":"SUM(AB17+AB41+AB65+AB89+AB113)/5","v":0},{"$f":"SUM(AC17+AC41+AC65+AC89+AC113)/5","v":0},0,0,0,0,0,0,0,0,0,22.44,28.6,"WD Ave",1200,{"$f":"SUM(AQ17+AQ41+AQ65+AQ89+AQ113)/5","v":0},0,9,9.4,0.8,0,0,0,0,0,0,0,0,0.2,2.8,{"$f":"SUM(BF17+BF41+BF65+BF89+BF113)/5","v":2.4},5.2,6.8,1.6,0.2,0,{"$f":"SUM(BL17+BL41+BL65+BL89+BL113)/5","v":0},0,0,0,{"$f":"SUM(BP17+BP41+BP65+BP89+BP113)/5","v":0},{"$f":"SUM(BQ17+BQ41+BQ65+BQ89+BQ113)/5","v":0},0,0,0,0,0,0,0,0,0,23.11,29.19,"WD Ave",1200,{"$f":"SUM(CE17+CE41+CE65+CE89+CE113)/5","v":0},0.2,17.8,18.600000000000001,1.4,0,0,0,0,0,0,0,0,0.6,2.2000000000000002,{"$f":"SUM(CT17+CT41+CT65+CT89+CT113)/5","v":5.2},11.6,12.2,3,0.2,0,0,0,{"$f":"SUM(DB17+DB41+DB65+DB89+DB113)/5","v":0},0,{"$f":"SUM(DD17+DD41+DD65+DD89+DD113)/5","v":0},{"$f":"SUM(DE17+DE41+DE65+DE89+DE113)/5","v":0},0,0,0,0,0,0,0,0,0,22.78,28.8,0,0.2,8.8000000000000007,9.1999999999999993,0.6,0,0,0,0,0,0,0,18.8,0,0,9,9.4,0.8,0,0,0,0,0,0,0,19.2,0,0.2,17.8,18.600000000000001,1.4,0,0,0,0,0,0,0,38]
["WD Ave",1300,{"$f":"SUM(C18+C42+C66+C90+C114)/5","v":0},0,12.8,10.4,0.4,0,0,0,0,0,0,{"$f":"SUM(N18+N42+N66+N90+N114)/5","v":0},0,0.2,{"$f":"SUM(Q18+Q42+Q66+Q90+Q114)/5","v":3.6},{"$f":"SUM(R18+R42+R66+R90+R114)/5","v":2.4},{"$f":"SUM(S18+S42+S66+S90+S114)/5","v":8.6},{"$f":"SUM(T18+T42+T66+T90+T114)/5","v":6.8},{"$f":"SUM(U18+U42+U66+U90+U114)/5","v":1.6},0.4,0,{"$f":"SUM(X18+X42+X66+X90+X114)/5","v":0},{"$f":"SUM(Y18+Y42+Y66+Y90+Y114)/5","v":0},{"$f":"SUM(Z18+Z42+Z66+Z90+Z114)/5","v":0},{"$f":"SUM(AA18+AA42+AA66+AA90+AA114)/5","v":0},{"$f":"SUM(AB18+AB42+AB66+AB90+AB114)/5","v":0},{"$f":"SUM(AC18+AC42+AC66+AC90+AC114)/5","v":0},{"$f":"SUM(AD18+AD42+AD66+AD90+AD114)/5","v":0},{"$f":"SUM(AE18+AE42+AE66+AE90+AE114)/5","v":0},{"$f":"SUM(AF18+AF42+AF66+AF90+AF114)/5","v":0},{"$f":"SUM(AG18+AG42+AG66+AG90+AG114)/5","v":0},0,{"$f":"SUM(AI18+AI42+AI66+AI90+AI114)/5","v":0},{"$f":"SUM(AJ18+AJ42+AJ66+AJ90+AJ114)/5","v":0},{"$f":"SUM(AK18+AK42+AK66+AK90+AK114)/5","v":0},{"$f":"SUM(AL18+AL42+AL66+AL90+AL114)/5","v":0},22.71,28.9,"WD Ave",1300,{"$f":"SUM(AQ18+AQ42+AQ66+AQ90+AQ114)/5","v":0},0.6,13.6,8.8000000000000007,0.2,0,0,0.2,0,0,0,0,0,0.4,2,{"$f":"SUM(BF18+BF42+BF66+BF90+BF114)/5","v":2},7.2,8,2.8,1,0,{"$f":"SUM(BL18+BL42+BL66+BL90+BL114)/5","v":0},0,0,0,{"$f":"SUM(BP18+BP42+BP66+BP90+BP114)/5","v":0},{"$f":"SUM(BQ18+BQ42+BQ66+BQ90+BQ114)/5","v":0},0,0,0,0,0,0,0,0,0,24.63,30.57,"WD Ave",1300,{"$f":"SUM(CE18+CE42+CE66+CE90+CE114)/5","v":0},0.6,26.4,19.2,0.6,0,0,0.2,0,0,0,0,0,0.2,3.6,{"$f":"SUM(CT18+CT42+CT66+CT90+CT114)/5","v":4.4000000000000004},15.8,14.8,4.4000000000000004,1.4,0,0,0,{"$f":"SUM(DB18+DB42+DB66+DB90+DB114)/5","v":0},0,{"$f":"SUM(DD18+DD42+DD66+DD90+DD114)/5","v":0},{"$f":"SUM(DE18+DE42+DE66+DE90+DE114)/5","v":0},0,0,0,0,0,0,0,0,0,23.67,29.71,0,0,12.8,10.4,0.4,0,0,0,0,0,0,0,23.6,0,0.6,13.6,8.8000000000000007,0.2,0,0,0.2,0,0,0,0,23.4,0,0.6,26.4,19.200000000000003,0.60000000000000009,0,0,0.2,0,0,0,0,47]
["WD Ave",1400,{"$f":"SUM(C19+C43+C67+C91+C115)/5","v":0},0.2,10.4,7.2,0.6,0,0,0.2,0,0,0,{"$f":"SUM(N19+N43+N67+N91+N115)/5","v":0},{"$f":"SUM(O19+O43+O67+O91+O115)/5","v":0},0.2,1.2,{"$f":"SUM(R19+R43+R67+R91+R115)/5","v":3.4},6.8,4.2,2.6,0.2,0,0,0,0,0,{"$f":"SUM(AB19+AB43+AB67+AB91+AB115)/5","v":0},{"$f":"SUM(AC19+AC43+AC67+AC91+AC115)/5","v":0},0,0,0,0,0,0,0,0,0,23.23,29.96,"WD Ave",1400,{"$f":"SUM(AQ19+AQ43+AQ67+AQ91+AQ115)/5","v":0},1,14.2,8.8000000000000007,0.6,0,0,0.4,0,0,0,0,0,0.8,3,{"$f":"SUM(BF19+BF43+BF67+BF91+BF115)/5","v":3},7.6,7.8,2.2000000000000002,0.6,0,{"$f":"SUM(BL19+BL43+BL67+BL91+BL115)/5","v":0},0,0,0,{"$f":"SUM(BP19+BP43+BP67+BP91+BP115)/5","v":0},{"$f":"SUM(BQ19+BQ43+BQ67+BQ91+BQ115)/5","v":0},0,0,0,0,0,0,0,0,0,23.03,29.15,"WD Ave",1400,{"$f":"SUM(CE19+CE43+CE67+CE91+CE115)/5","v":0},1.2,24.6,16,1.2,0,0,0.6,0,0,0,0,0,0.2,1.2,{"$f":"SUM(CT19+CT43+CT67+CT91+CT115)/5","v":6.4},14.4,12,4.8,0.8,0,0,0,{"$f":"SUM(DB19+DB43+DB67+DB91+DB115)/5","v":0},0,{"$f":"SUM(DD19+DD43+DD67+DD91+DD115)/5","v":0},{"$f":"SUM(DE19+DE43+DE67+DE91+DE115)/5","v":0},0,0,0,0,0,0,0,0,0,23.12,29.28,0,0.2,10.4,7.2,0.6,0,0,0.2,0,0,0,0,18.600000000000001,0,1,14.2,8.8000000000000007,0.6,0,0,0.4,0,0,0,0,25,0,1.2,24.6,16,1.2,0,0,0.60000000000000009,0,0,0,0,43.6]
["WD Ave",1500,{"$f":"SUM(C20+C44+C68+C92+C116)/5","v":0},0,10.4,8.8000000000000007,0.2,0,0,0,0,0,0,{"$f":"SUM(N20+N44+N68+N92+N116)/5","v":0},0,0,2.4,{"$f":"SUM(R20+R44+R68+R92+R116)/5","v":3.8},6.2,5.6,1.4,0,0,0,0,0,0,{"$f":"SUM(AB20+AB44+AB68+AB92+AB116)/5","v":0},{"$f":"SUM(AC20+AC44+AC68+AC92+AC116)/5","v":0},0,0,0,0,0,0,0,0,0,22.52,27.33,"WD Ave",1500,{"$f":"SUM(AQ20+AQ44+AQ68+AQ92+AQ116)/5","v":0},1,13.4,11.6,0.4,0,0,0.2,0,0,0,0,0,0.8,1.2,{"$f":"SUM(BF20+BF44+BF68+BF92+BF116)/5","v":3},8.4,8.4,3,1.6,0.2,{"$f":"SUM(BL20+BL44+BL68+BL92+BL116)/5","v":0},0,0,0,{"$f":"SUM(BP20+BP44+BP68+BP92+BP116)/5","v":0},{"$f":"SUM(BQ20+BQ44+BQ68+BQ92+BQ116)/5","v":0},0,0,0,0,0,0,0,0,0,24.71,30.76,"WD Ave",1500,{"$f":"SUM(CE20+CE44+CE68+CE92+CE116)/5","v":0},1,23.8,20.399999999999999,0.6,0,0,0.2,0,0,0,0,0,0,2.4,{"$f":"SUM(CT20+CT44+CT68+CT92+CT116)/5","v":6.8},14.6,14,4.4000000000000004,1.6,0.2,0,0,{"$f":"SUM(DB20+DB44+DB68+DB92+DB116)/5","v":0},0,{"$f":"SUM(DD20+DD44+DD68+DD92+DD116)/5","v":0},{"$f":"SUM(DE20+DE44+DE68+DE92+DE116)/5","v":0},0,0,0,0,0,0,0,0,0,23.79,29.63,0,0,10.4,8.8000000000000007,0.2,0,0,0,0,0,0,0,19.400000000000002,0,1,13.4,11.6,0.4,0,0,0.2,0,0,0,0,26.599999999999998,0,1,23.8,20.399999999999999,0.60000000000000009,0,0,0.2,0,0,0,0,46]
["WD Ave",1600,{"$f":"SUM(C21+C45+C69+C93+C117)/5","v":0},1,17.600000000000001,14,0.8,0,0,0.2,0,0,0,{"$f":"SUM(N21+N45+N69+N93+N117)/5","v":0.2},0,0.8,2.8,{"$f":"SUM(R21+R45+R69+R93+R117)/5","v":4.2},10.4,11.8,3.2,0.4,0,0.2,0,0,0,{"$f":"SUM(AB21+AB45+AB69+AB93+AB117)/5","v":0},{"$f":"SUM(AC21+AC45+AC69+AC93+AC117)/5","v":0},0,0,0,0,0,0,0,0,0,23.83,29.31,"WD Ave",1600,{"$f":"SUM(AQ21+AQ45+AQ69+AQ93+AQ117)/5","v":0},0.2,12.6,13,0.2,0,0,0,0,0,0,0,0,1.2,1,{"$f":"SUM(BF21+BF45+BF69+BF93+BF117)/5","v":1.6},7,10,4.5999999999999996,0.4,0.2,{"$f":"SUM(BL21+BL45+BL69+BL93+BL117)/5","v":0},0,0,0,{"$f":"SUM(BP21+BP45+BP69+BP93+BP117)/5","v":0},{"$f":"SUM(BQ21+BQ45+BQ69+BQ93+BQ117)/5","v":0},0,0,0,0,0,0,0,0,0,25.23,30.92,"WD Ave",1600,{"$f":"SUM(CE21+CE45+CE69+CE93+CE117)/5","v":0},1.2,30.2,27,1,0,0,0.2,0,0,0,0.2,0,0.8,2.8,{"$f":"SUM(CT21+CT45+CT69+CT93+CT117)/5","v":5.8},17.399999999999999,21.8,7.8,0.8,0.2,0.2,0,{"$f":"SUM(DB21+DB45+DB69+DB93+DB117)/5","v":0},0,{"$f":"SUM(DD21+DD45+DD69+DD93+DD117)/5","v":0},{"$f":"SUM(DE21+DE45+DE69+DE93+DE117)/5","v":0},0,0,0,0,0,0,0,0,0,24.44,29.96,0,1,17.600000000000001,14,0.8,0,0,0.2,0,0,0,0.2,33.800000000000004,0,0.2,12.6,13,0.2,0,0,0,0,0,0,0,25.999999999999996,0,1.2,30.200000000000003,27,1,0,0,0.2,0,0,0,0.2,59.8]
["WD Ave",1700,{"$f":"SUM(C22+C46+C70+C94+C118)/5","v":0},0.2,21.2,15.8,0.4,0,0,0,0,0,0,{"$f":"SUM(N22+N46+N70+N94+N118)/5","v":0},0,0,2.6,{"$f":"SUM(R22+R46+R70+R94+R118)/5","v":6.2},13.8,11.8,3,0.2,0,0,0,0,0,{"$f":"SUM(AB22+AB46+AB70+AB94+AB118)/5","v":0},{"$f":"SUM(AC22+AC46+AC70+AC94+AC118)/5","v":0},0,0,0,0,0,0,0,0,0,23.33,28.61,"WD Ave",1700,{"$f":"SUM(AQ22+AQ46+AQ70+AQ94+AQ118)/5","v":0},0.8,12.6,11.6,0,0,0,0,0,0,0,0,0,0.4,1.2,{"$f":"SUM(BF22+BF46+BF70+BF94+BF118)/5","v":3},6.4,9.4,4.2,0.4,0,{"$f":"SUM(BL22+BL46+BL70+BL94+BL118)/5","v":0},0,0,0,{"$f":"SUM(BP22+BP46+BP70+BP94+BP118)/5","v":0},{"$f":"SUM(BQ22+BQ46+BQ70+BQ94+BQ118)/5","v":0},0,0,0,0,0,0,0,0,0,24.96,31.08,"WD Ave",1700,{"$f":"SUM(CE22+CE46+CE70+CE94+CE118)/5","v":0},1,33.799999999999997,27.4,0.4,0,0,0,0,0,0,0,0,0,2.6,{"$f":"SUM(CT22+CT46+CT70+CT94+CT118)/5","v":9.1999999999999993},20.2,21.2,7.2,0.6,0,0,0,{"$f":"SUM(DB22+DB46+DB70+DB94+DB118)/5","v":0},0,{"$f":"SUM(DD22+DD46+DD70+DD94+DD118)/5","v":0},{"$f":"SUM(DE22+DE46+DE70+DE94+DE118)/5","v":0},0,0,0,0,0,0,0,0,0,23.98,29.21,0,0.2,21.2,15.8,0.4,0,0,0,0,0,0,0,37.6,0,0.8,12.6,11.6,0,0,0,0,0,0,0,0,25,0,1,33.799999999999997,27.4,0.4,0,0,0,0,0,0,0,62.6]
["WD Ave",1800,{"$f":"SUM(C23+C47+C71+C95+C119)/5","v":0},1,17,9.4,0,0,0,0.2,0,0,0,{"$f":"SUM(N23+N47+N71+N95+N119)/5","v":0},0,0.4,2.8,{"$f":"SUM(R23+R47+R71+R95+R119)/5","v":4},7.2,9,3.4,0.8,0,0,0,0,0,{"$f":"SUM(AB23+AB47+AB71+AB95+AB119)/5","v":0},{"$f":"SUM(AC23+AC47+AC71+AC95+AC119)/5","v":0},0,0,0,0,0,0,0,0,0,23.92,29.94,"WD Ave",1800,{"$f":"SUM(AQ23+AQ47+AQ71+AQ95+AQ119)/5","v":0.2},0.8,12.6,8.6,0.2,0,0,0,0,0,0,0,0,1.2,1,{"$f":"SUM(BF23+BF47+BF71+BF95+BF119)/5","v":2.2000000000000002},6.8,6.8,4,0.4,0,{"$f":"SUM(BL23+BL47+BL71+BL95+BL119)/5","v":0},0,0,0,{"$f":"SUM(BP23+BP47+BP71+BP95+BP119)/5","v":0},{"$f":"SUM(BQ23+BQ47+BQ71+BQ95+BQ119)/5","v":0},0,0,0,0,0,0,0,0,0,24.26,30.44,"WD Ave",1800,{"$f":"SUM(CE23+CE47+CE71+CE95+CE119)/5","v":0.2},1.8,29.6,18,0.2,0,0,0.2,0,0,0,0,0,0.4,2.8,{"$f":"SUM(CT23+CT47+CT71+CT95+CT119)/5","v":6.2},14,15.8,7.4,1.2,0,0,0,{"$f":"SUM(DB23+DB47+DB71+DB95+DB119)/5","v":0},0,{"$f":"SUM(DD23+DD47+DD71+DD95+DD119)/5","v":0},{"$f":"SUM(DE23+DE47+DE71+DE95+DE119)/5","v":0},0,0,0,0,0,0,0,0,0,24.08,30.28,0,1,17,9.4,0,0,0,0.2,0,0,0,0,27.599999999999998,0.2,0.8,12.6,8.6,0.2,0,0,0,0,0,0,0,22.4,0.2,1.8,29.6,18,0.2,0,0,0.2,0,0,0,0,50]
["WD Ave",1900,{"$f":"SUM(C24+C48+C72+C96+C120)/5","v":0},0.4,7.4,9.4,0,0,0,0,0,0,0,{"$f":"SUM(N24+N48+N72+N96+N120)/5","v":0},0,0,1.2,{"$f":"SUM(R24+R48+R72+R96+R120)/5","v":2.2000000000000002},6.8,5,1.8,0.2,0,0,0,0,0,{"$f":"SUM(AB24+AB48+AB72+AB96+AB120)/5","v":0},{"$f":"SUM(AC24+AC48+AC72+AC96+AC120)/5","v":0},0,0,0,0,0,0,0,0,0,23.68,28.83,"WD Ave",1900,{"$f":"SUM(AQ24+AQ48+AQ72+AQ96+AQ120)/5","v":0},0,7.2,3.6,0,0,0,0,0,0,0,0,0,0.6,1.4,{"$f":"SUM(BF24+BF48+BF72+BF96+BF120)/5","v":1},3,2.8,1.6,0.2,0,{"$f":"SUM(BL24+BL48+BL72+BL96+BL120)/5","v":0.2},0,0,0,{"$f":"SUM(BP24+BP48+BP72+BP96+BP120)/5","v":0},{"$f":"SUM(BQ24+BQ48+BQ72+BQ96+BQ120)/5","v":0},0,0,0,0,0,0,0,0,0,23.3,30.64,"WD Ave",1900,{"$f":"SUM(CE24+CE48+CE72+CE96+CE120)/5","v":0},0.4,14.6,13,0,0,0,0,0,0,0,0,0,0,1.2,{"$f":"SUM(CT24+CT48+CT72+CT96+CT120)/5","v":3.2},9.8000000000000007,7.8,3.4,0.4,0,0.2,0,{"$f":"SUM(DB24+DB48+DB72+DB96+DB120)/5","v":0},0,{"$f":"SUM(DD24+DD48+DD72+DD96+DD120)/5","v":0},{"$f":"SUM(DE24+DE48+DE72+DE96+DE120)/5","v":0},0,0,0,0,0,0,0,0,0,23.53,29.38,0,0.4,7.4,9.4,0,0,0,0,0,0,0,0,17.200000000000003,0,0,7.2,3.6,0,0,0,0,0,0,0,0,10.8,0,0.4,14.600000000000001,13,0,0,0,0,0,0,0,0,28.000000000000004]
["WD Ave",2000,{"$f":"SUM(C25+C49+C73+C97+C121)/5","v":0},0,7.6,5.4,0,0,0,0,0,0,0,{"$f":"SUM(N25+N49+N73+N97+N121)/5","v":0},0,0.4,0,{"$f":"SUM(R25+R49+R73+R97+R121)/5","v":1.8},4.2,4.8,1.2,0.6,0,0,0,0,0,{"$f":"SUM(AB25+AB49+AB73+AB97+AB121)/5","v":0},{"$f":"SUM(AC25+AC49+AC73+AC97+AC121)/5","v":0},0,0,0,0,0,0,0,0,0,24.83,29.87,"WD Ave",2000,{"$f":"SUM(AQ25+AQ49+AQ73+AQ97+AQ121)/5","v":0},0,3.8,2.4,0.2,0,0,0,0,0,0,0,0,0.2,0.6,{"$f":"SUM(BF25+BF49+BF73+BF97+BF121)/5","v":0.2},1.6,1.8,1.6,0.4,0,{"$f":"SUM(BL25+BL49+BL73+BL97+BL121)/5","v":0},0,0,0,{"$f":"SUM(BP25+BP49+BP73+BP97+BP121)/5","v":0},{"$f":"SUM(BQ25+BQ49+BQ73+BQ97+BQ121)/5","v":0},0,0,0,0,0,0,0,0,0,26.01,32.520000000000003,"WD Ave",2000,{"$f":"SUM(CE25+CE49+CE73+CE97+CE121)/5","v":0},0,11.4,7.8,0.2,0,0,0,0,0,0,0,0,0.4,0,{"$f":"SUM(CT25+CT49+CT73+CT97+CT121)/5","v":2},5.8,6.6,2.8,1,0,0,0,{"$f":"SUM(DB25+DB49+DB73+DB97+DB121)/5","v":0},0,{"$f":"SUM(DD25+DD49+DD73+DD97+DD121)/5","v":0},{"$f":"SUM(DE25+DE49+DE73+DE97+DE121)/5","v":0},0,0,0,0,0,0,0,0,0,25.22,31.11,0,0,7.6,5.4,0,0,0,0,0,0,0,0,13,0,0,3.8,2.4,0.2,0,0,0,0,0,0,0,6.3999999999999995,0,0,11.399999999999999,7.8000000000000007,0.2,0,0,0,0,0,0,0,19.399999999999999]
["WD Ave",2100,{"$f":"SUM(C26+C50+C74+C98+C122)/5","v":0},0.2,3.4,2.6,0,0,0,0,0,0,0,{"$f":"SUM(N26+N50+N74+N98+N122)/5","v":0},0,0,0.4,{"$f":"SUM(R26+R50+R74+R98+R122)/5","v":0.4},2.8,1.8,0.8,0,0,0,0,0,0,{"$f":"SUM(AB26+AB50+AB74+AB98+AB122)/5","v":0},{"$f":"SUM(AC26+AC50+AC74+AC98+AC122)/5","v":0},0,0,0,0,0,0,0,0,0,24.16,28.6,"WD Ave",2100,{"$f":"SUM(AQ26+AQ50+AQ74+AQ98+AQ122)/5","v":0},0,2.4,1.6,0.4,0,0,0.2,0,0,0,0,0,0.4,0.6,{"$f":"SUM(BF26+BF50+BF74+BF98+BF122)/5","v":0.6},0.2,1.4,0.8,0.2,0.2,{"$f":"SUM(BL26+BL50+BL74+BL98+BL122)/5","v":0.2},0,0,0,{"$f":"SUM(BP26+BP50+BP74+BP98+BP122)/5","v":0},{"$f":"SUM(BQ26+BQ50+BQ74+BQ98+BQ122)/5","v":0},0,0,0,0,0,0,0,0,0,24.7,32.72,"WD Ave",2100,{"$f":"SUM(CE26+CE50+CE74+CE98+CE122)/5","v":0},0.2,5.8,4.2,0.4,0,0,0.2,0,0,0,0,0,0,0.4,{"$f":"SUM(CT26+CT50+CT74+CT98+CT122)/5","v":1},3,3.2,1.6,0.2,0.2,0.2,0,{"$f":"SUM(DB26+DB50+DB74+DB98+DB122)/5","v":0},0,{"$f":"SUM(DD26+DD50+DD74+DD98+DD122)/5","v":0},{"$f":"SUM(DE26+DE50+DE74+DE98+DE122)/5","v":0},0,0,0,0,0,0,0,0,0,24.39,31.13,0,0.2,3.4,2.6,0,0,0,0,0,0,0,0,6.2,0,0,2.4,1.6,0.4,0,0,0.2,0,0,0,0,4.6000000000000005,0,0.2,5.8,4.2,0.4,0,0,0.2,0,0,0,0,10.8]
["WD Ave",2200,{"$f":"SUM(C27+C51+C75+C99+C123)/5","v":0},0,1.8,3.2,0,0,0,0,0,0,0,{"$f":"SUM(N27+N51+N75+N99+N123)/5","v":0},0,0.2,0,{"$f":"SUM(R27+R51+R75+R99+R123)/5","v":1.2},1.2,2,0.4,0,0,0,0,0,0,{"$f":"SUM(AB27+AB51+AB75+AB99+AB123)/5","v":0},{"$f":"SUM(AC27+AC51+AC75+AC99+AC123)/5","v":0},0,0,0,0,0,0,0,0,0,23.52,27.17,"WD Ave",2200,{"$f":"SUM(AQ27+AQ51+AQ75+AQ99+AQ123)/5","v":0},0,3,0.6,0,0,0,0,0,0,0,0,0,0.2,0,{"$f":"SUM(BF27+BF51+BF75+BF99+BF123)/5","v":0.4},1.2,0.8,0.6,0.2,0,{"$f":"SUM(BL27+BL51+BL75+BL99+BL123)/5","v":0},0.2,0,0,{"$f":"SUM(BP27+BP51+BP75+BP99+BP123)/5","v":0},{"$f":"SUM(BQ27+BQ51+BQ75+BQ99+BQ123)/5","v":0},0,0,0,0,0,0,0,0,0,26.92,34.17,"WD Ave",2200,{"$f":"SUM(CE27+CE51+CE75+CE99+CE123)/5","v":0},0,4.8,3.8,0,0,0,0,0,0,0,0,0,0.2,0,{"$f":"SUM(CT27+CT51+CT75+CT99+CT123)/5","v":1.6},2.4,2.8,1,0.2,0,0,0.2,{"$f":"SUM(DB27+DB51+DB75+DB99+DB123)/5","v":0},0,{"$f":"SUM(DD27+DD51+DD75+DD99+DD123)/5","v":0},{"$f":"SUM(DE27+DE51+DE75+DE99+DE123)/5","v":0},0,0,0,0,0,0,0,0,0,24.94,30.91,0,0,1.8,3.2,0,0,0,0,0,0,0,0,5,0,0,3,0.6,0,0,0,0,0,0,0,0,3.6,0,0,4.8,3.8000000000000003,0,0,0,0,0,0,0,0,8.6]
["WD Ave",2300,{"$f":"SUM(C28+C52+C76+C100+C124)/5","v":0},0.2,2,0.2,0,0,0,0,0,0,0,{"$f":"SUM(N28+N52+N76+N100+N124)/5","v":0},0,0,0,{"$f":"SUM(R28+R52+R76+R100+R124)/5","v":0.2},1.2,0.6,0.4,0,0,0,0,0,0,{"$f":"SUM(AB28+AB52+AB76+AB100+AB124)/5","v":0},{"$f":"SUM(AC28+AC52+AC76+AC100+AC124)/5","v":0},0,0,0,0,0,0,0,0,0,24.91,29.47,"WD Ave",2300,{"$f":"SUM(AQ28+AQ52+AQ76+AQ100+AQ124)/5","v":0},0,0.6,0.2,0,0,0,0,0,0,0,0,0,0,0,{"$f":"SUM(BF28+BF52+BF76+BF100+BF124)/5","v":0},0.2,0.2,0,0.2,0.2,{"$f":"SUM(BL28+BL52+BL76+BL100+BL124)/5","v":0},0,0,0,{"$f":"SUM(BP28+BP52+BP76+BP100+BP124)/5","v":0},{"$f":"SUM(BQ28+BQ52+BQ76+BQ100+BQ124)/5","v":0},0,0,0,0,0,0,0,0,0,32.94,"-","WD Ave",2300,{"$f":"SUM(CE28+CE52+CE76+CE100+CE124)/5","v":0},0.2,2.6,0.4,0,0,0,0,0,0,0,0,0,0,0,{"$f":"SUM(CT28+CT52+CT76+CT100+CT124)/5","v":0.2},1.4,0.8,0.4,0.2,0.2,0,0,{"$f":"SUM(DB28+DB52+DB76+DB100+DB124)/5","v":0},0,{"$f":"SUM(DD28+DD52+DD76+DD100+DD124)/5","v":0},{"$f":"SUM(DE28+DE52+DE76+DE100+DE124)/5","v":0},0,0,0,0,0,0,0,0,0,26.92,32.29,0,0.2,2,0.2,0,0,0,0,0,0,0,0,2.4000000000000004,0,0,0.6,0.2,0,0,0,0,0,0,0,0,0.8,0,0.2,2.6,0.4,0,0,0,0,0,0,0,0,3.2]
["7 Day Ave",0,{"$f":"SUM(C5+C29+C53+C77+C101+C125+C149)/7","v":0},0.14285714285714285,1.1428571428571428,0.42857142857142855,0,0,0,0,0,0,0,{"$f":"SUM(N5+N29+N53+N77+N101+N125+N149)/7","v":0},{"$f":"SUM(O5+O29+O53+O77+O101+O125+O149)/7","v":0},0,0.14285714285714285,{"$f":"SUM(R5+R29+R53+R77+R101+R125+R149)/7","v":0.14285714285714285},0.42857142857142855,0.5714285714285714,0.2857142857142857,{"$f":"SUM(V5+V29+V53+V77+V101+V125+V149)/7","v":0.14285714285714285},{"$f":"SUM(W5+W29+W53+W77+W101+W125+W149)/7","v":0},0,0,0,0,{"$f":"SUM(AB5+AB29+AB53+AB77+AB101+AB125+AB149)/7","v":0},{"$f":"SUM(AC5+AC29+AC53+AC77+AC101+AC125+AC149)/7","v":0},0,0,0,0,0,0,0,0,0,25.9,33.22,"7 Day Ave",0,{"$f":"SUM(AQ5+AQ29+AQ53+AQ77+AQ101+AQ125+AQ149)/7","v":0},0,0.8571428571428571,0,0,0,0,0,0,0,0,0,0,0.14285714285714285,0.14285714285714285,{"$f":"SUM(BF5+BF29+BF53+BF77+BF101+BF125+BF149)/7","v":0},0.2857142857142857,0.14285714285714285,0.14285714285714285,0,0,{"$f":"SUM(BL5+BL29+BL53+BL77+BL101+BL125+BL149)/7","v":0},0,0,0,{"$f":"SUM(BP5+BP29+BP53+BP77+BP101+BP125+BP149)/7","v":0},{"$f":"SUM(BQ5+BQ29+BQ53+BQ77+BQ101+BQ125+BQ149)/7","v":0},0,0,0,0,0,0,0,0,0,21.43,"-","7 Day Ave",0,{"$f":"SUM(CE5+CE29+CE53+CE77+CE101+CE125+CE149)/7","v":0},0.14285714285714285,2,0.42857142857142855,0,0,0,0,0,0,0,0,0,0,0.14285714285714285,{"$f":"SUM(CT5+CT29+CT53+CT77+CT101+CT125+CT149)/7","v":0.14285714285714285},0.7142857142857143,{"$f":"SUM(CV5+CV29+CV53+CV77+CV101+CV125+CV149)/7","v":0.7142857142857143},0.42857142857142855,0.14285714285714285,0,0,0,{"$f":"SUM(DB5+DB29+DB53+DB77+DB101+DB125+DB149)/7","v":0},0,{"$f":"SUM(DD5+DD29+DD53+DD77+DD101+DD125+DD149)/7","v":0},{"$f":"SUM(DE5+DE29+DE53+DE77+DE101+DE125+DE149)/7","v":0},0,0,0,0,0,0,0,0,0,24.41,33.39,{"$f":"SUM(C197)","v":0},{"$f":"SUM(D197)","v":0.14285714285714285},{"$f":"SUM(E197)","v":1.1428571428571428},{"$f":"SUM(F197)","v":0.42857142857142855},{"$f":"SUM(G197)","v":0},{"$f":"SUM(H197)","v":0},{"$f":"SUM(I197)","v":0},{"$f":"SUM(J197)","v":0},{"$f":"SUM(K197)","v":0},{"$f":"SUM(L197)","v":0},{"$f":"SUM(M197)","v":0},{"$f":"SUM(N197)","v":0},{"$f":"SUM(C197:N197)","v":1.7142857142857142},{"$f":"SUM(AQ197)","v":0},{"$f":"SUM(AR197)","v":0},{"$f":"SUM(AS197)","v":0.8571428571428571},{"$f":"SUM(AT197)","v":0},{"$f":"SUM(AU197)","v":0},{"$f":"SUM(AV197)","v":0},{"$f":"SUM(AW197)","v":0},{"$f":"SUM(AX197)","v":0},{"$f":"SUM(AY197)","v":0},{"$f":"SUM(AZ197)","v":0},{"$f":"SUM(BA197)","v":0},{"$f":"SUM(BB197)","v":0},{"$f":"SUM(AQ197:BB197)","v":0.8571428571428571},{"$f":"SUM(DQ197+ED197)","v":0},{"$f":"SUM(DR197+EE197)","v":0.14285714285714285},{"$f":"SUM(DS197+EF197)","v":2},{"$f":"SUM(DT197+EG197)","v":0.42857142857142855},{"$f":"SUM(DU197+EH197)","v":0},{"$f":"SUM(DV197+EI197)","v":0},{"$f":"SUM(DW197+EJ197)","v":0},{"$f":"SUM(DX197+EK197)","v":0},{"$f":"SUM(DY197+EL197)","v":0},{"$f":"SUM(DZ197+EM197)","v":0},{"$f":"SUM(EA197+EN197)","v":0},{"$f":"SUM(EB197+EO197)","v":0},{"$f":"SUM(EC197+EP197)","v":2.5714285714285712}]
["7 Day Ave",100,{"$f":"SUM(C6+C30+C54+C78+C102+C126+C150)/7","v":0},0,0.2857142857142857,0.14285714285714285,0,0,0,0,0,0,0,{"$f":"SUM(N6+N30+N54+N78+N102+N126+N150)/7","v":0},{"$f":"SUM(O6+O30+O54+O78+O102+O126+O150)/7","v":0},0,0.14285714285714285,{"$f":"SUM(R6+R30+R54+R78+R102+R126+R150)/7","v":0},0,0,0.2857142857142857,0,0,0,0,0,0,{"$f":"SUM(AB6+AB30+AB54+AB78+AB102+AB126+AB150)/7","v":0},{"$f":"SUM(AC6+AC30+AC54+AC78+AC102+AC126+AC150)/7","v":0},0,0,0,0,0,0,0,0,0,24.45,"-","7 Day Ave",100,{"$f":"SUM(AQ6+AQ30+AQ54+AQ78+AQ102+AQ126+AQ150)/7","v":0},0,0.14285714285714285,0.5714285714285714,0,0,0,0,0,0,0,0,0,0.14285714285714285,0,{"$f":"SUM(BF6+BF30+BF54+BF78+BF102+BF126+BF150)/7","v":0},0,0.2857142857142857,0.2857142857142857,0,0,{"$f":"SUM(BL6+BL30+BL54+BL78+BL102+BL126+BL150)/7","v":0},0,0,0,{"$f":"SUM(BP6+BP30+BP54+BP78+BP102+BP126+BP150)/7","v":0},{"$f":"SUM(BQ6+BQ30+BQ54+BQ78+BQ102+BQ126+BQ150)/7","v":0},0,0,0,0,0,0,0,0,0,26.24,"-","7 Day Ave",100,{"$f":"SUM(CE6+CE30+CE54+CE78+CE102+CE126+CE150)/7","v":0},0,0.42857142857142855,0.7142857142857143,0,0,0,0,0,0,0,0,0,0,0.14285714285714285,{"$f":"SUM(CT6+CT30+CT54+CT78+CT102+CT126+CT150)/7","v":0},0,0.2857142857142857,0.5714285714285714,0,0,0,0,{"$f":"SUM(DB6+DB30+DB54+DB78+DB102+DB126+DB150)/7","v":0},0,{"$f":"SUM(DD6+DD30+DD54+DD78+DD102+DD126+DD150)/7","v":0},{"$f":"SUM(DE6+DE30+DE54+DE78+DE102+DE126+DE150)/7","v":0},0,0,0,0,0,0,0,0,0,25.57,"-",0,0,0.2857142857142857,0.14285714285714285,0,0,0,0,0,0,0,0,0.42857142857142855,0,0,0.14285714285714285,0.5714285714285714,0,0,0,0,0,0,0,0,0.71428571428571419,0,0,0.42857142857142855,0.71428571428571419,0,0,0,0,0,0,0,0,1.1428571428571428]
["7 Day Ave",200,{"$f":"SUM(C7+C31+C55+C79+C103+C127+C151)/7","v":0},0,0,0.2857142857142857,0,0,0,0,0,0,0,{"$f":"SUM(N7+N31+N55+N79+N103+N127+N151)/7","v":0},0,0,0,{"$f":"SUM(R7+R31+R55+R79+R103+R127+R151)/7","v":0},0.2857142857142857,0,0,0,0,0,0,0,0,{"$f":"SUM(AB7+AB31+AB55+AB79+AB103+AB127+AB151)/7","v":0},{"$f":"SUM(AC7+AC31+AC55+AC79+AC103+AC127+AC151)/7","v":0},0,0,0,0,0,0,0,0,0,23.02,"-","7 Day Ave",200,{"$f":"SUM(AQ7+AQ31+AQ55+AQ79+AQ103+AQ127+AQ151)/7","v":0},0,0,0.2857142857142857,0,0,0,0,0,0,0,0,0,0,0,{"$f":"SUM(BF7+BF31+BF55+BF79+BF103+BF127+BF151)/7","v":0},0.14285714285714285,0,0,0.14285714285714285,0,{"$f":"SUM(BL7+BL31+BL55+BL79+BL103+BL127+BL151)/7","v":0},0,0,0,{"$f":"SUM(BP7+BP31+BP55+BP79+BP103+BP127+BP151)/7","v":0},{"$f":"SUM(BQ7+BQ31+BQ55+BQ79+BQ103+BQ127+BQ151)/7","v":0},0,0,0,0,0,0,0,0,0,31.4,"-","7 Day Ave",200,{"$f":"SUM(CE7+CE31+CE55+CE79+CE103+CE127+CE151)/7","v":0},0,0,0.5714285714285714,0,0,0,0,0,0,0,0,0,0,0,{"$f":"SUM(CT7+CT31+CT55+CT79+CT103+CT127+CT151)/7","v":0},0.42857142857142855,0,0,0.14285714285714285,0,0,0,{"$f":"SUM(DB7+DB31+DB55+DB79+DB103+DB127+DB151)/7","v":0},0,{"$f":"SUM(DD7+DD31+DD55+DD79+DD103+DD127+DD151)/7","v":0},{"$f":"SUM(DE7+DE31+DE55+DE79+DE103+DE127+DE151)/7","v":0},0,0,0,0,0,0,0,0,0,27.21,"-",0,0,0,0.2857142857142857,0,0,0,0,0,0,0,0,0.2857142857142857,0,0,0,0.2857142857142857,0,0,0,0,0,0,0,0,0.2857142857142857,0,0,0,0.5714285714285714,0,0,0,0,0,0,0,0,0.5714285714285714]
["7 Day Ave",300,{"$f":"SUM(C8+C32+C56+C80+C104+C128+C152)/7","v":0},0,0,0,0,0,0,0,0,0,0,{"$f":"SUM(N8+N32+N56+N80+N104+N128+N152)/7","v":0},0,0,0,{"$f":"SUM(R8+R32+R56+R80+R104+R128+R152)/7","v":0},0,0,0,0,0,0,0,0,0,{"$f":"SUM(AB8+AB32+AB56+AB80+AB104+AB128+AB152)/7","v":0},{"$f":"SUM(AC8+AC32+AC56+AC80+AC104+AC128+AC152)/7","v":0},0,0,0,0,0,0,0,0,0,"-","-","7 Day Ave",300,{"$f":"SUM(AQ8+AQ32+AQ56+AQ80+AQ104+AQ128+AQ152)/7","v":0},0,0.14285714285714285,0.7142857142857143,0,0,0,0,0,0,0,0,0,0,0,{"$f":"SUM(BF8+BF32+BF56+BF80+BF104+BF128+BF152)/7","v":0.14285714285714285},0.14285714285714285,0.5714285714285714,0,0,0,{"$f":"SUM(BL8+BL32+BL56+BL80+BL104+BL128+BL152)/7","v":0},0,0,0,{"$f":"SUM(BP8+BP32+BP56+BP80+BP104+BP128+BP152)/7","v":0},{"$f":"SUM(BQ8+BQ32+BQ56+BQ80+BQ104+BQ128+BQ152)/7","v":0},0,0,0,0,0,0,0,0,0,25.75,"-","7 Day Ave",300,{"$f":"SUM(CE8+CE32+CE56+CE80+CE104+CE128+CE152)/7","v":0},0,0.14285714285714285,0.7142857142857143,0,0,0,0,0,0,0,0,0,0,0,{"$f":"SUM(CT8+CT32+CT56+CT80+CT104+CT128+CT152)/7","v":0.14285714285714285},0.14285714285714285,0.5714285714285714,0,0,0,0,0,{"$f":"SUM(DB8+DB32+DB56+DB80+DB104+DB128+DB152)/7","v":0},0,{"$f":"SUM(DD8+DD32+DD56+DD80+DD104+DD128+DD152)/7","v":0},{"$f":"SUM(DE8+DE32+DE56+DE80+DE104+DE128+DE152)/7","v":0},0,0,0,0,0,0,0,0,0,25.75,"-",0,0,0,0,0,0,0,0,0,0,0,0,0,0,0,0.14285714285714285,0.7142857142857143,0,0,0,0,0,0,0,0,0.85714285714285721,0,0,0.14285714285714285,0.7142857142857143,0,0,0,0,0,0,0,0,0.85714285714285721]
["7 Day Ave",400,{"$f":"SUM(C9+C33+C57+C81+C105+C129+C153)/7","v":0},0,0.14285714285714285,0,0,0,0,0,0,0,0,{"$f":"SUM(N9+N33+N57+N81+N105+N129+N153)/7","v":0},0,0,0,{"$f":"SUM(R9+R33+R57+R81+R105+R129+R153)/7","v":0},0.14285714285714285,0,0,0,0,0,0,0,0,{"$f":"SUM(AB9+AB33+AB57+AB81+AB105+AB129+AB153)/7","v":0},{"$f":"SUM(AC9+AC33+AC57+AC81+AC105+AC129+AC153)/7","v":0},0,0,0,0,0,0,0,0,0,22.44,"-","7 Day Ave",400,{"$f":"SUM(AQ9+AQ33+AQ57+AQ81+AQ105+AQ129+AQ153)/7","v":0},0,0.7142857142857143,1.2857142857142858,0,0,0,0.14285714285714285,0,0,0,0,0,0,0,{"$f":"SUM(BF9+BF33+BF57+BF81+BF105+BF129+BF153)/7","v":0.2857142857142857},0.42857142857142855,0.5714285714285714,0.14285714285714285,0.5714285714285714,0.14285714285714285,{"$f":"SUM(BL9+BL33+BL57+BL81+BL105+BL129+BL153)/7","v":0},0,0,0,{"$f":"SUM(BP9+BP33+BP57+BP81+BP105+BP129+BP153)/7","v":0},{"$f":"SUM(BQ9+BQ33+BQ57+BQ81+BQ105+BQ129+BQ153)/7","v":0},0,0,0,0,0,0,0,0,0,29.28,36.96,"7 Day Ave",400,{"$f":"SUM(CE9+CE33+CE57+CE81+CE105+CE129+CE153)/7","v":0},0,0.8571428571428571,1.2857142857142858,0,0,0,0.14285714285714285,0,0,0,0,0,0,0,{"$f":"SUM(CT9+CT33+CT57+CT81+CT105+CT129+CT153)/7","v":0.2857142857142857},0.5714285714285714,0.5714285714285714,0.14285714285714285,0.5714285714285714,0.14285714285714285,0,0,{"$f":"SUM(DB9+DB33+DB57+DB81+DB105+DB129+DB153)/7","v":0},0,{"$f":"SUM(DD9+DD33+DD57+DD81+DD105+DD129+DD153)/7","v":0},{"$f":"SUM(DE9+DE33+DE57+DE81+DE105+DE129+DE153)/7","v":0},0,0,0,0,0,0,0,0,0,28.85,36.92,0,0,0.14285714285714285,0,0,0,0,0,0,0,0,0,0.14285714285714285,0,0,0.7142857142857143,1.2857142857142858,0,0,0,0.14285714285714285,0,0,0,0,2.1428571428571428,0,0,0.85714285714285721,1.2857142857142858,0,0,0,0.14285714285714285,0,0,0,0,2.2857142857142856]
["7 Day Ave",500,{"$f":"SUM(C10+C34+C58+C82+C106+C130+C154)/7","v":0},0,0.5714285714285714,0.5714285714285714,0,0,0,0,0,0,0,{"$f":"SUM(N10+N34+N58+N82+N106+N130+N154)/7","v":0},0,0,0,{"$f":"SUM(R10+R34+R58+R82+R106+R130+R154)/7","v":0.2857142857142857},0.2857142857142857,0.14285714285714285,0.2857142857142857,0,0.14285714285714285,0,0,0,0,{"$f":"SUM(AB10+AB34+AB58+AB82+AB106+AB130+AB154)/7","v":0},{"$f":"SUM(AC10+AC34+AC58+AC82+AC106+AC130+AC154)/7","v":0},0,0,0,0,0,0,0,0,0,27.55,"-","7 Day Ave",500,{"$f":"SUM(AQ10+AQ34+AQ58+AQ82+AQ106+AQ130+AQ154)/7","v":0},0,2.4285714285714284,3,0,0,0,0,0,0,0,0,0,0,0.7142857142857143,{"$f":"SUM(BF10+BF34+BF58+BF82+BF106+BF130+BF154)/7","v":0.14285714285714285},1.1428571428571428,2.5714285714285716,0.7142857142857143,0.14285714285714285,0,{"$f":"SUM(BL10+BL34+BL58+BL82+BL106+BL130+BL154)/7","v":0},0,0,0,{"$f":"SUM(BP10+BP34+BP58+BP82+BP106+BP130+BP154)/7","v":0},{"$f":"SUM(BQ10+BQ34+BQ58+BQ82+BQ106+BQ130+BQ154)/7","v":0},0,0,0,0,0,0,0,0,0,25.28,30.43,"7 Day Ave",500,{"$f":"SUM(CE10+CE34+CE58+CE82+CE106+CE130+CE154)/7","v":0},0,3,3.5714285714285716,0,0,0,0,0,0,0,0,0,0,0,{"$f":"SUM(CT10+CT34+CT58+CT82+CT106+CT130+CT154)/7","v":0.42857142857142855},1.4285714285714286,2.7142857142857144,1,0.14285714285714285,0.14285714285714285,0,0,{"$f":"SUM(DB10+DB34+DB58+DB82+DB106+DB130+DB154)/7","v":0},0,{"$f":"SUM(DD10+DD34+DD58+DD82+DD106+DD130+DD154)/7","v":0},{"$f":"SUM(DE10+DE34+DE58+DE82+DE106+DE130+DE154)/7","v":0},0,0,0,0,0,0,0,0,0,25.67,31.44,0,0,0.5714285714285714,0.5714285714285714,0,0,0,0,0,0,0,0,1.1428571428571428,0,0,2.4285714285714284,3,0,0,0,0,0,0,0,0,5.4285714285714288,0,0,3,3.5714285714285712,0,0,0,0,0,0,0,0,6.5714285714285712]
["7 Day Ave",600,{"$f":"SUM(C11+C35+C59+C83+C107+C131+C155)/7","v":0},0,2.1428571428571428,1.5714285714285714,0,0,0,0,0,0,0,{"$f":"SUM(N11+N35+N59+N83+N107+N131+N155)/7","v":0},0,0,1,{"$f":"SUM(R11+R35+R59+R83+R107+R131+R155)/7","v":0.2857142857142857},1.5714285714285714,0.7142857142857143,0.14285714285714285,0,0,0,0,0,0,{"$f":"SUM(AB11+AB35+AB59+AB83+AB107+AB131+AB155)/7","v":0},{"$f":"SUM(AC11+AC35+AC59+AC83+AC107+AC131+AC155)/7","v":0},0,0,0,0,0,0,0,0,0,20.57,26.72,"7 Day Ave",600,{"$f":"SUM(AQ11+AQ35+AQ59+AQ83+AQ107+AQ131+AQ155)/7","v":0},0.2857142857142857,6.4285714285714288,7.5714285714285712,0.14285714285714285,0,0,0,0,0,0,0,0,0.2857142857142857,0.7142857142857143,{"$f":"SUM(BF11+BF35+BF59+BF83+BF107+BF131+BF155)/7","v":0.7142857142857143},3,4.8571428571428568,3.2857142857142856,1.4285714285714286,0.14285714285714285,{"$f":"SUM(BL11+BL35+BL59+BL83+BL107+BL131+BL155)/7","v":0},0,0,0,{"$f":"SUM(BP11+BP35+BP59+BP83+BP107+BP131+BP155)/7","v":0},{"$f":"SUM(BQ11+BQ35+BQ59+BQ83+BQ107+BQ131+BQ155)/7","v":0},0,0,0,0,0,0,0,0,0,27.11,32.909999999999997,"7 Day Ave",600,{"$f":"SUM(CE11+CE35+CE59+CE83+CE107+CE131+CE155)/7","v":0},0.2857142857142857,8.5714285714285712,9.1428571428571423,0.14285714285714285,0,0,0,0,0,0,0,0,0,1,{"$f":"SUM(CT11+CT35+CT59+CT83+CT107+CT131+CT155)/7","v":1},4.5714285714285712,5.5714285714285712,3.4285714285714284,1.4285714285714286,0.14285714285714285,0,0,{"$f":"SUM(DB11+DB35+DB59+DB83+DB107+DB131+DB155)/7","v":0},0,{"$f":"SUM(DD11+DD35+DD59+DD83+DD107+DD131+DD155)/7","v":0},{"$f":"SUM(DE11+DE35+DE59+DE83+DE107+DE131+DE155)/7","v":0},0,0,0,0,0,0,0,0,0,25.77,32.36,0,0,2.1428571428571428,1.5714285714285714,0,0,0,0,0,0,0,0,3.7142857142857144,0,0.2857142857142857,6.4285714285714288,7.5714285714285712,0.14285714285714285,0,0,0,0,0,0,0,14.428571428571427,0,0.2857142857142857,8.5714285714285712,9.1428571428571423,0.14285714285714285,0,0,0,0,0,0,0,18.142857142857142]
["7 Day Ave",700,{"$f":"SUM(C12+C36+C60+C84+C108+C132+C156)/7","v":0},0,3.2857142857142856,4.5714285714285712,0.14285714285714285,0,0,0,0,0,0,{"$f":"SUM(N12+N36+N60+N84+N108+N132+N156)/7","v":0.14285714285714285},0,0.14285714285714285,0.2857142857142857,{"$f":"SUM(R12+R36+R60+R84+R108+R132+R156)/7","v":0.7142857142857143},2.8571428571428572,2.8571428571428572,1.1428571428571428,0.14285714285714285,0,0,0,0,0,{"$f":"SUM(AB12+AB36+AB60+AB84+AB108+AB132+AB156)/7","v":0},{"$f":"SUM(AC12+AC36+AC60+AC84+AC108+AC132+AC156)/7","v":0},0,0,0,0,0,0,0,0,0,24.65,30.02,"7 Day Ave",700,{"$f":"SUM(AQ12+AQ36+AQ60+AQ84+AQ108+AQ132+AQ156)/7","v":0.14285714285714285},1.2857142857142858,12.857142857142858,10.285714285714286,0.2857142857142857,0,0,0,0,0,0,0,0,0.8571428571428571,1.4285714285714286,{"$f":"SUM(BF12+BF36+BF60+BF84+BF108+BF132+BF156)/7","v":2.8571428571428572},6.4285714285714288,7.7142857142857144,4.8571428571428568,0.7142857142857143,0,{"$f":"SUM(BL12+BL36+BL60+BL84+BL108+BL132+BL156)/7","v":0},0,0,0,{"$f":"SUM(BP12+BP36+BP60+BP84+BP108+BP132+BP156)/7","v":0},{"$f":"SUM(BQ12+BQ36+BQ60+BQ84+BQ108+BQ132+BQ156)/7","v":0},0,0,0,0,0,0,0,0,0,24.67,30.91,"7 Day Ave",700,{"$f":"SUM(CE12+CE36+CE60+CE84+CE108+CE132+CE156)/7","v":0.14285714285714285},1.2857142857142858,16.142857142857142,14.857142857142858,0.42857142857142855,0,0,0,0,0,0,0.14285714285714285,0,0.14285714285714285,0.2857142857142857,{"$f":"SUM(CT12+CT36+CT60+CT84+CT108+CT132+CT156)/7","v":3.5714285714285716},9.2857142857142865,10.571428571428571,6,0.8571428571428571,0,0,0,{"$f":"SUM(DB12+DB36+DB60+DB84+DB108+DB132+DB156)/7","v":0},0,{"$f":"SUM(DD12+DD36+DD60+DD84+DD108+DD132+DD156)/7","v":0},{"$f":"SUM(DE12+DE36+DE60+DE84+DE108+DE132+DE156)/7","v":0},0,0,0,0,0,0,0,0,0,24.67,30.8,0,0,3.2857142857142856,4.5714285714285712,0.14285714285714285,0,0,0,0,0,0,0.14285714285714285,8.1428571428571423,0.14285714285714285,1.2857142857142858,12.857142857142858,10.285714285714286,0.2857142857142857,0,0,0,0,0,0,0,24.857142857142858,0.14285714285714285,1.2857142857142858,16.142857142857142,14.857142857142858,0.42857142857142855,0,0,0,0,0,0,0.14285714285714285,33]
["7 Day Ave",800,{"$f":"SUM(C13+C37+C61+C85+C109+C133+C157)/7","v":0},0,7,6.8571428571428568,0.14285714285714285,0,0,0,0,0,0,{"$f":"SUM(N13+N37+N61+N85+N109+N133+N157)/7","v":0},0,0.42857142857142855,1,{"$f":"SUM(R13+R37+R61+R85+R109+R133+R157)/7","v":1.8571428571428572},4.5714285714285712,4.7142857142857144,1.1428571428571428,0.2857142857142857,0,0,0,0,0,{"$f":"SUM(AB13+AB37+AB61+AB85+AB109+AB133+AB157)/7","v":0},{"$f":"SUM(AC13+AC37+AC61+AC85+AC109+AC133+AC157)/7","v":0},0,0,0,0,0,0,0,0,0,23.43,28.09,"7 Day Ave",800,{"$f":"SUM(AQ13+AQ37+AQ61+AQ85+AQ109+AQ133+AQ157)/7","v":0.14285714285714285},0.14285714285714285,14.857142857142858,11.857142857142858,0.2857142857142857,0,0,0,0,0,0,0,0,0.8571428571428571,1.2857142857142858,{"$f":"SUM(BF13+BF37+BF61+BF85+BF109+BF133+BF157)/7","v":2},6.2857142857142856,9.8571428571428577,5.8571428571428568,1,0.14285714285714285,{"$f":"SUM(BL13+BL37+BL61+BL85+BL109+BL133+BL157)/7","v":0},0,0,0,{"$f":"SUM(BP13+BP37+BP61+BP85+BP109+BP133+BP157)/7","v":0},{"$f":"SUM(BQ13+BQ37+BQ61+BQ85+BQ109+BQ133+BQ157)/7","v":0},0,0,0,0,0,0,0,0,0,25.77,31.86,"7 Day Ave",800,{"$f":"SUM(CE13+CE37+CE61+CE85+CE109+CE133+CE157)/7","v":0.14285714285714285},0.14285714285714285,21.857142857142858,18.714285714285715,0.42857142857142855,0,0,0,0,0,0,0,0,0.42857142857142855,1,{"$f":"SUM(CT13+CT37+CT61+CT85+CT109+CT133+CT157)/7","v":3.8571428571428572},10.857142857142858,14.571428571428571,7,1.2857142857142858,0.14285714285714285,0,0,{"$f":"SUM(DB13+DB37+DB61+DB85+DB109+DB133+DB157)/7","v":0},0,{"$f":"SUM(DD13+DD37+DD61+DD85+DD109+DD133+DD157)/7","v":0},{"$f":"SUM(DE13+DE37+DE61+DE85+DE109+DE133+DE157)/7","v":0},0,0,0,0,0,0,0,0,0,24.98,30.98,0,0,7,6.8571428571428568,0.14285714285714285,0,0,0,0,0,0,0,14,0.14285714285714285,0.14285714285714285,14.857142857142858,11.857142857142858,0.2857142857142857,0,0,0,0,0,0,0,27.285714285714285,0.14285714285714285,0.14285714285714285,21.857142857142858,18.714285714285715,0.42857142857142855,0,0,0,0,0,0,0,41.285714285714285]
["7 Day Ave",900,{"$f":"SUM(C14+C38+C62+C86+C110+C134+C158)/7","v":0},0,8.7142857142857135,6,0.14285714285714285,0,0,0.14285714285714285,0,0,0,{"$f":"SUM(N14+N38+N62+N86+N110+N134+N158)/7","v":0},0,0.42857142857142855,0.5714285714285714,{"$f":"SUM(R14+R38+R62+R86+R110+R134+R158)/7","v":2.5714285714285716},5.7142857142857144,4,1.5714285714285714,0.14285714285714285,0,0,0,0,0,{"$f":"SUM(AB14+AB38+AB62+AB86+AB110+AB134+AB158)/7","v":0},{"$f":"SUM(AC14+AC38+AC62+AC86+AC110+AC134+AC158)/7","v":0},0,0,0,0,0,0,0,0,0,23.28,29.31,"7 Day Ave",900,{"$f":"SUM(AQ14+AQ38+AQ62+AQ86+AQ110+AQ134+AQ158)/7","v":0.14285714285714285},0.5714285714285714,12.714285714285714,11,0.42857142857142855,0,0,0,0,0,0,0,0,1,1.5714285714285714,{"$f":"SUM(BF14+BF38+BF62+BF86+BF110+BF134+BF158)/7","v":3.4285714285714284},6.5714285714285712,8.5714285714285712,3.5714285714285716,0.14285714285714285,0,{"$f":"SUM(BL14+BL38+BL62+BL86+BL110+BL134+BL158)/7","v":0},0,0,0,{"$f":"SUM(BP14+BP38+BP62+BP86+BP110+BP134+BP158)/7","v":0},{"$f":"SUM(BQ14+BQ38+BQ62+BQ86+BQ110+BQ134+BQ158)/7","v":0},0,0,0,0,0,0,0,0,0,23.86,29.98,"7 Day Ave",900,{"$f":"SUM(CE14+CE38+CE62+CE86+CE110+CE134+CE158)/7","v":0.14285714285714285},0.5714285714285714,21.428571428571427,17,0.5714285714285714,0,0,0.14285714285714285,0,0,0,0,0,0.42857142857142855,0.5714285714285714,{"$f":"SUM(CT14+CT38+CT62+CT86+CT110+CT134+CT158)/7","v":6},12.285714285714286,12.571428571428571,5.1428571428571432,0.2857142857142857,0,0,0,{"$f":"SUM(DB14+DB38+DB62+DB86+DB110+DB134+DB158)/7","v":0},0,{"$f":"SUM(DD14+DD38+DD62+DD86+DD110+DD134+DD158)/7","v":0},{"$f":"SUM(DE14+DE38+DE62+DE86+DE110+DE134+DE158)/7","v":0},0,0,0,0,0,0,0,0,0,23.64,29.77,0,0,8.7142857142857135,6,0.14285714285714285,0,0,0.14285714285714285,0,0,0,0,14.999999999999998,0.14285714285714285,0.5714285714285714,12.714285714285714,11,0.42857142857142855,0,0,0,0,0,0,0,24.857142857142854,0.14285714285714285,0.5714285714285714,21.428571428571427,17,0.5714285714285714,0,0,0.14285714285714285,0,0,0,0,39.857142857142854]
["7 Day Ave",1000,{"$f":"SUM(C15+C39+C63+C87+C111+C135+C159)/7","v":0},0.14285714285714285,8.4285714285714288,7.1428571428571432,1.1428571428571428,0,0,0,0,0,0.14285714285714285,{"$f":"SUM(N15+N39+N63+N87+N111+N135+N159)/7","v":0},0,0.8571428571428571,1.8571428571428572,{"$f":"SUM(R15+R39+R63+R87+R111+R135+R159)/7","v":2.8571428571428572},4.8571428571428568,5,1.5714285714285714,0,0,0,0,0,0,{"$f":"SUM(AB15+AB39+AB63+AB87+AB111+AB135+AB159)/7","v":0},{"$f":"SUM(AC15+AC39+AC63+AC87+AC111+AC135+AC159)/7","v":0},0,0,0,0,0,0,0,0,0,22.23,28.51,"7 Day Ave",1000,{"$f":"SUM(AQ15+AQ39+AQ63+AQ87+AQ111+AQ135+AQ159)/7","v":0},0.2857142857142857,10.428571428571429,10,0.5714285714285714,0,0,0,0,0,0,0,0,0.7142857142857143,1.1428571428571428,{"$f":"SUM(BF15+BF39+BF63+BF87+BF111+BF135+BF159)/7","v":3.2857142857142856},6,7.2857142857142856,2.4285714285714284,0.42857142857142855,0,{"$f":"SUM(BL15+BL39+BL63+BL87+BL111+BL135+BL159)/7","v":0},0,0,0,{"$f":"SUM(BP15+BP39+BP63+BP87+BP111+BP135+BP159)/7","v":0},{"$f":"SUM(BQ15+BQ39+BQ63+BQ87+BQ111+BQ135+BQ159)/7","v":0},0,0,0,0,0,0,0,0,0,23.84,29.72,"7 Day Ave",1000,{"$f":"SUM(CE15+CE39+CE63+CE87+CE111+CE135+CE159)/7","v":0},0.42857142857142855,18.857142857142858,17.142857142857142,1.7142857142857142,0,0,0,0,0,0.14285714285714285,0,0,0.8571428571428571,1.8571428571428572,{"$f":"SUM(CT15+CT39+CT63+CT87+CT111+CT135+CT159)/7","v":6.1428571428571432},10.857142857142858,12.285714285714286,4,0.42857142857142855,0,0,0,{"$f":"SUM(DB15+DB39+DB63+DB87+DB111+DB135+DB159)/7","v":0},0,{"$f":"SUM(DD15+DD39+DD63+DD87+DD111+DD135+DD159)/7","v":0},{"$f":"SUM(DE15+DE39+DE63+DE87+DE111+DE135+DE159)/7","v":0},0,0,0,0,0,0,0,0,0,23.13,29.22,0,0.14285714285714285,8.4285714285714288,7.1428571428571432,1.1428571428571428,0,0,0,0,0,0.14285714285714285,0,17,0,0.2857142857142857,10.428571428571429,10,0.5714285714285714,0,0,0,0,0,0,0,21.285714285714288,0,0.42857142857142855,18.857142857142858,17.142857142857142,1.7142857142857142,0,0,0,0,0,0.14285714285714285,0,38.285714285714292]
["7 Day Ave",1100,{"$f":"SUM(C16+C40+C64+C88+C112+C136+C160)/7","v":0},0.14285714285714285,10.571428571428571,8,0.2857142857142857,0,0,0,0,0,0,{"$f":"SUM(N16+N40+N64+N88+N112+N136+N160)/7","v":0.14285714285714285},0,0.8571428571428571,1.4285714285714286,{"$f":"SUM(R16+R40+R64+R88+R112+R136+R160)/7","v":4.1428571428571432},6.4285714285714288,5.1428571428571432,1.1428571428571428,0,0,0,0,0,0,{"$f":"SUM(AB16+AB40+AB64+AB88+AB112+AB136+AB160)/7","v":0},{"$f":"SUM(AC16+AC40+AC64+AC88+AC112+AC136+AC160)/7","v":0},0,0,0,0,0,0,0,0,0,21.84,27.27,"7 Day Ave",1100,{"$f":"SUM(AQ16+AQ40+AQ64+AQ88+AQ112+AQ136+AQ160)/7","v":0},0.5714285714285714,11.142857142857142,12.428571428571429,0.7142857142857143,0.14285714285714285,0,0.14285714285714285,0,0,0,0,0,1,1.5714285714285714,{"$f":"SUM(BF16+BF40+BF64+BF88+BF112+BF136+BF160)/7","v":4},8.2857142857142865,7.2857142857142856,2.8571428571428572,0.14285714285714285,0,{"$f":"SUM(BL16+BL40+BL64+BL88+BL112+BL136+BL160)/7","v":0},0,0,0,{"$f":"SUM(BP16+BP40+BP64+BP88+BP112+BP136+BP160)/7","v":0},{"$f":"SUM(BQ16+BQ40+BQ64+BQ88+BQ112+BQ136+BQ160)/7","v":0},0,0,0,0,0,0,0,0,0,23.27,29.13,"7 Day Ave",1100,{"$f":"SUM(CE16+CE40+CE64+CE88+CE112+CE136+CE160)/7","v":0},0.7142857142857143,21.714285714285715,20.428571428571427,1,0.14285714285714285,0,0.14285714285714285,0,0,0,0.14285714285714285,0,0.8571428571428571,1.4285714285714286,{"$f":"SUM(CT16+CT40+CT64+CT88+CT112+CT136+CT160)/7","v":8.1428571428571423},14.714285714285714,12.428571428571429,4,0.14285714285714285,0,0,0,{"$f":"SUM(DB16+DB40+DB64+DB88+DB112+DB136+DB160)/7","v":0},0,{"$f":"SUM(DD16+DD40+DD64+DD88+DD112+DD136+DD160)/7","v":0},{"$f":"SUM(DE16+DE40+DE64+DE88+DE112+DE136+DE160)/7","v":0},0,0,0,0,0,0,0,0,0,22.65,28.44,0,0.14285714285714285,10.571428571428571,8,0.2857142857142857,0,0,0,0,0,0,0.14285714285714285,19.142857142857142,0,0.5714285714285714,11.142857142857142,12.428571428571429,0.7142857142857143,0.14285714285714285,0,0.14285714285714285,0,0,0,0,25.142857142857142,0,0.71428571428571419,21.714285714285715,20.428571428571431,1,0.14285714285714285,0,0.14285714285714285,0,0,0,0.14285714285714285,44.285714285714285]
["7 Day Ave",1200,{"$f":"SUM(C17+C41+C65+C89+C113+C137+C161)/7","v":0},0.2857142857142857,10.428571428571429,9.5714285714285712,0.42857142857142855,0,0,0,0,0,0,{"$f":"SUM(N17+N41+N65+N89+N113+N137+N161)/7","v":0},0,0.7142857142857143,2,{"$f":"SUM(R17+R41+R65+R89+R113+R137+R161)/7","v":3.1428571428571428},7,6.4285714285714288,1.4285714285714286,0,0,0,0,0,0,{"$f":"SUM(AB17+AB41+AB65+AB89+AB113+AB137+AB161)/7","v":0},{"$f":"SUM(AC17+AC41+AC65+AC89+AC113+AC137+AC161)/7","v":0},0,0,0,0,0,0,0,0,0,22.55,28.32,"7 Day Ave",1200,{"$f":"SUM(AQ17+AQ41+AQ65+AQ89+AQ113+AQ137+AQ161)/7","v":0},0.14285714285714285,9.4285714285714288,9.7142857142857135,0.5714285714285714,0,0,0,0,0,0,0,0,0.2857142857142857,2.5714285714285716,{"$f":"SUM(BF17+BF41+BF65+BF89+BF113+BF137+BF161)/7","v":2.2857142857142856},5.2857142857142856,6.8571428571428568,2,0.5714285714285714,0,{"$f":"SUM(BL17+BL41+BL65+BL89+BL113+BL137+BL161)/7","v":0},0,0,0,{"$f":"SUM(BP17+BP41+BP65+BP89+BP113+BP137+BP161)/7","v":0},{"$f":"SUM(BQ17+BQ41+BQ65+BQ89+BQ113+BQ137+BQ161)/7","v":0},0,0,0,0,0,0,0,0,0,23.55,29.52,"7 Day Ave",1200,{"$f":"SUM(CE17+CE41+CE65+CE89+CE113+CE137+CE161)/7","v":0},0.42857142857142855,19.857142857142858,19.285714285714285,1,0,0,0,0,0,0,0,0,0.7142857142857143,2,{"$f":"SUM(CT17+CT41+CT65+CT89+CT113+CT137+CT161)/7","v":5.4285714285714288},12.285714285714286,13.285714285714286,3.4285714285714284,0.5714285714285714,0,0,0,{"$f":"SUM(DB17+DB41+DB65+DB89+DB113+DB137+DB161)/7","v":0},0,{"$f":"SUM(DD17+DD41+DD65+DD89+DD113+DD137+DD161)/7","v":0},{"$f":"SUM(DE17+DE41+DE65+DE89+DE113+DE137+DE161)/7","v":0},0,0,0,0,0,0,0,0,0,23.04,29.14,0,0.2857142857142857,10.428571428571429,9.5714285714285712,0.42857142857142855,0,0,0,0,0,0,0,20.714285714285712,0,0.14285714285714285,9.4285714285714288,9.7142857142857135,0.5714285714285714,0,0,0,0,0,0,0,19.857142857142858,0,0.42857142857142855,19.857142857142858,19.285714285714285,1,0,0,0,0,0,0,0,40.571428571428569]
["7 Day Ave",1300,{"$f":"SUM(C18+C42+C66+C90+C114+C138+C162)/7","v":0},0,12.142857142857142,9.7142857142857135,0.42857142857142855,0,0,0.14285714285714285,0,0,0,{"$f":"SUM(N18+N42+N66+N90+N114+N138+N162)/7","v":0},0,0.14285714285714285,{"$f":"SUM(Q18+Q42+Q66+Q90+Q114+Q138+Q162)/7","v":2.8571428571428572},{"$f":"SUM(R18+R42+R66+R90+R114+R138+R162)/7","v":2.1428571428571428},{"$f":"SUM(S18+S42+S66+S90+S114+S138+S162)/7","v":7.8571428571428568},{"$f":"SUM(T18+T42+T66+T90+T114+T138+T162)/7","v":7.1428571428571432},{"$f":"SUM(U18+U42+U66+U90+U114+U138+U162)/7","v":2},0.2857142857142857,0,{"$f":"SUM(X18+X42+X66+X90+X114+X138+X162)/7","v":0},{"$f":"SUM(Y18+Y42+Y66+Y90+Y114+Y138+Y162)/7","v":0},{"$f":"SUM(Z18+Z42+Z66+Z90+Z114+Z138+Z162)/7","v":0},{"$f":"SUM(AA18+AA42+AA66+AA90+AA114+AA138+AA162)/7","v":0},{"$f":"SUM(AB18+AB42+AB66+AB90+AB114+AB138+AB162)/7","v":0},{"$f":"SUM(AC18+AC42+AC66+AC90+AC114+AC138+AC162)/7","v":0},{"$f":"SUM(AD18+AD42+AD66+AD90+AD114+AD138+AD162)/7","v":0},{"$f":"SUM(AE18+AE42+AE66+AE90+AE114+AE138+AE162)/7","v":0},{"$f":"SUM(AF18+AF42+AF66+AF90+AF114+AF138+AF162)/7","v":0},{"$f":"SUM(AG18+AG42+AG66+AG90+AG114+AG138+AG162)/7","v":0},0,{"$f":"SUM(AI18+AI42+AI66+AI90+AI114+AI138+AI162)/7","v":0},{"$f":"SUM(AJ18+AJ42+AJ66+AJ90+AJ114+AJ138+AJ162)/7","v":0},{"$f":"SUM(AK18+AK42+AK66+AK90+AK114+AK138+AK162)/7","v":0},{"$f":"SUM(AL18+AL42+AL66+AL90+AL114+AL138+AL162)/7","v":0},23.3,29.01,"7 Day Ave",1300,{"$f":"SUM(AQ18+AQ42+AQ66+AQ90+AQ114+AQ138+AQ162)/7","v":0},1,12.428571428571429,9,0.42857142857142855,0,0,0.2857142857142857,0,0,0,0,0,0.42857142857142855,1.7142857142857142,{"$f":"SUM(BF18+BF42+BF66+BF90+BF114+BF138+BF162)/7","v":2.2857142857142856},7.4285714285714288,7,3.4285714285714284,0.8571428571428571,0,{"$f":"SUM(BL18+BL42+BL66+BL90+BL114+BL138+BL162)/7","v":0},0,0,0,{"$f":"SUM(BP18+BP42+BP66+BP90+BP114+BP138+BP162)/7","v":0},{"$f":"SUM(BQ18+BQ42+BQ66+BQ90+BQ114+BQ138+BQ162)/7","v":0},0,0,0,0,0,0,0,0,0,24.54,30.74,"7 Day Ave",1300,{"$f":"SUM(CE18+CE42+CE66+CE90+CE114+CE138+CE162)/7","v":0},1,24.571428571428573,18.714285714285715,0.8571428571428571,0,0,0.42857142857142855,0,0,0,0,0,0.14285714285714285,2.8571428571428572,{"$f":"SUM(CT18+CT42+CT66+CT90+CT114+CT138+CT162)/7","v":4.4285714285714288},15.285714285714286,14.142857142857142,5.4285714285714288,1.1428571428571428,0,0,0,{"$f":"SUM(DB18+DB42+DB66+DB90+DB114+DB138+DB162)/7","v":0},0,{"$f":"SUM(DD18+DD42+DD66+DD90+DD114+DD138+DD162)/7","v":0},{"$f":"SUM(DE18+DE42+DE66+DE90+DE114+DE138+DE162)/7","v":0},0,0,0,0,0,0,0,0,0,23.93,29.87,0,0,12.142857142857142,9.7142857142857135,0.42857142857142855,0,0,0.14285714285714285,0,0,0,0,22.428571428571423,0,1,12.428571428571429,9,0.42857142857142855,0,0,0.2857142857142857,0,0,0,0,23.142857142857142,0,1,24.571428571428569,18.714285714285715,0.8571428571428571,0,0,0.42857142857142855,0,0,0,0,45.571428571428569]
["7 Day Ave",1400,{"$f":"SUM(C19+C43+C67+C91+C115+C139+C163)/7","v":0},0.14285714285714285,9.4285714285714288,7.5714285714285712,0.42857142857142855,0,0,0.14285714285714285,0,0,0,{"$f":"SUM(N19+N43+N67+N91+N115+N139+N163)/7","v":0},{"$f":"SUM(O19+O43+O67+O91+O115+O139+O163)/7","v":0},0.14285714285714285,1,{"$f":"SUM(R19+R43+R67+R91+R115+R139+R163)/7","v":3.1428571428571428},6.7142857142857144,4.1428571428571432,2.4285714285714284,0.14285714285714285,0,0,0,0,0,{"$f":"SUM(AB19+AB43+AB67+AB91+AB115+AB139+AB163)/7","v":0},{"$f":"SUM(AC19+AC43+AC67+AC91+AC115+AC139+AC163)/7","v":0},0,0,0,0,0,0,0,0,0,23.35,29.47,"7 Day Ave",1400,{"$f":"SUM(AQ19+AQ43+AQ67+AQ91+AQ115+AQ139+AQ163)/7","v":0},1,12.857142857142858,9,0.5714285714285714,0,0,0.42857142857142855,0,0,0,0,0,1,2.4285714285714284,{"$f":"SUM(BF19+BF43+BF67+BF91+BF115+BF139+BF163)/7","v":2.5714285714285716},7.7142857142857144,7.1428571428571432,2.5714285714285716,0.42857142857142855,0,{"$f":"SUM(BL19+BL43+BL67+BL91+BL115+BL139+BL163)/7","v":0},0,0,0,{"$f":"SUM(BP19+BP43+BP67+BP91+BP115+BP139+BP163)/7","v":0},{"$f":"SUM(BQ19+BQ43+BQ67+BQ91+BQ115+BQ139+BQ163)/7","v":0},0,0,0,0,0,0,0,0,0,23.22,29.41,"7 Day Ave",1400,{"$f":"SUM(CE19+CE43+CE67+CE91+CE115+CE139+CE163)/7","v":0},1.1428571428571428,22.285714285714285,16.571428571428573,1,0,0,0.5714285714285714,0,0,0,0,0,0.14285714285714285,1,{"$f":"SUM(CT19+CT43+CT67+CT91+CT115+CT139+CT163)/7","v":5.7142857142857144},14.428571428571429,11.285714285714286,5,0.5714285714285714,0,0,0,{"$f":"SUM(DB19+DB43+DB67+DB91+DB115+DB139+DB163)/7","v":0},0,{"$f":"SUM(DD19+DD43+DD67+DD91+DD115+DD139+DD163)/7","v":0},{"$f":"SUM(DE19+DE43+DE67+DE91+DE115+DE139+DE163)/7","v":0},0,0,0,0,0,0,0,0,0,23.27,29.56,0,0.14285714285714285,9.4285714285714288,7.5714285714285712,0.42857142857142855,0,0,0.14285714285714285,0,0,0,0,17.714285714285712,0,1,12.857142857142858,9,0.5714285714285714,0,0,0.42857142857142855,0,0,0,0,23.857142857142858,0,1.1428571428571428,22.285714285714285,16.571428571428569,1,0,0,0.5714285714285714,0,0,0,0,41.571428571428569]
["7 Day Ave",1500,{"$f":"SUM(C20+C44+C68+C92+C116+C140+C164)/7","v":0},0,10.857142857142858,8.2857142857142865,0.14285714285714285,0,0,0,0,0,0,{"$f":"SUM(N20+N44+N68+N92+N116+N140+N164)/7","v":0},0,0,2,{"$f":"SUM(R20+R44+R68+R92+R116+R140+R164)/7","v":4.2857142857142856},5.8571428571428568,5.7142857142857144,1.2857142857142858,0.14285714285714285,0,0,0,0,0,{"$f":"SUM(AB20+AB44+AB68+AB92+AB116+AB140+AB164)/7","v":0},{"$f":"SUM(AC20+AC44+AC68+AC92+AC116+AC140+AC164)/7","v":0},0,0,0,0,0,0,0,0,0,22.71,28.13,"7 Day Ave",1500,{"$f":"SUM(AQ20+AQ44+AQ68+AQ92+AQ116+AQ140+AQ164)/7","v":0},1.4285714285714286,11.857142857142858,10.285714285714286,0.2857142857142857,0,0,0.2857142857142857,0,0,0,0,0,0.5714285714285714,1.1428571428571428,{"$f":"SUM(BF20+BF44+BF68+BF92+BF116+BF140+BF164)/7","v":2.5714285714285716},8,7.8571428571428568,2.7142857142857144,1.1428571428571428,0.14285714285714285,{"$f":"SUM(BL20+BL44+BL68+BL92+BL116+BL140+BL164)/7","v":0},0,0,0,{"$f":"SUM(BP20+BP44+BP68+BP92+BP116+BP140+BP164)/7","v":0},{"$f":"SUM(BQ20+BQ44+BQ68+BQ92+BQ116+BQ140+BQ164)/7","v":0},0,0,0,0,0,0,0,0,0,24.65,30.59,"7 Day Ave",1500,{"$f":"SUM(CE20+CE44+CE68+CE92+CE116+CE140+CE164)/7","v":0},1.4285714285714286,22.714285714285715,18.571428571428573,0.42857142857142855,0,0,0.2857142857142857,0,0,0,0,0,0,2,{"$f":"SUM(CT20+CT44+CT68+CT92+CT116+CT140+CT164)/7","v":6.8571428571428568},13.857142857142858,13.571428571428571,4,1.2857142857142858,0.14285714285714285,0,0,{"$f":"SUM(DB20+DB44+DB68+DB92+DB116+DB140+DB164)/7","v":0},0,{"$f":"SUM(DD20+DD44+DD68+DD92+DD116+DD140+DD164)/7","v":0},{"$f":"SUM(DE20+DE44+DE68+DE92+DE116+DE140+DE164)/7","v":0},0,0,0,0,0,0,0,0,0,23.79,29.65,0,0,10.857142857142858,8.2857142857142865,0.14285714285714285,0,0,0,0,0,0,0,19.285714285714288,0,1.4285714285714286,11.857142857142858,10.285714285714286,0.2857142857142857,0,0,0.2857142857142857,0,0,0,0,24.142857142857142,0,1.4285714285714286,22.714285714285715,18.571428571428573,0.42857142857142855,0,0,0.2857142857142857,0,0,0,0,43.428571428571431]
["7 Day Ave",1600,{"$f":"SUM(C21+C45+C69+C93+C117+C141+C165)/7","v":0},1.1428571428571428,15.714285714285714,12.428571428571429,0.5714285714285714,0,0,0.14285714285714285,0,0,0,{"$f":"SUM(N21+N45+N69+N93+N117+N141+N165)/7","v":0.14285714285714285},0,0.5714285714285714,3,{"$f":"SUM(R21+R45+R69+R93+R117+R141+R165)/7","v":3.8571428571428572},9.7142857142857135,10,2.4285714285714284,0.42857142857142855,0,0.14285714285714285,0,0,0,{"$f":"SUM(AB21+AB45+AB69+AB93+AB117+AB141+AB165)/7","v":0},{"$f":"SUM(AC21+AC45+AC69+AC93+AC117+AC141+AC165)/7","v":0},0,0,0,0,0,0,0,0,0,23.43,29.18,"7 Day Ave",1600,{"$f":"SUM(AQ21+AQ45+AQ69+AQ93+AQ117+AQ141+AQ165)/7","v":0},0.2857142857142857,11.571428571428571,11.142857142857142,0.42857142857142855,0,0,0,0,0,0,0,0,0.8571428571428571,1.5714285714285714,{"$f":"SUM(BF21+BF45+BF69+BF93+BF117+BF141+BF165)/7","v":1.7142857142857142},6,8.5714285714285712,4,0.42857142857142855,0.2857142857142857,{"$f":"SUM(BL21+BL45+BL69+BL93+BL117+BL141+BL165)/7","v":0},0,0,0,{"$f":"SUM(BP21+BP45+BP69+BP93+BP117+BP141+BP165)/7","v":0},{"$f":"SUM(BQ21+BQ45+BQ69+BQ93+BQ117+BQ141+BQ165)/7","v":0},0,0,0,0,0,0,0,0,0,25,30.99,"7 Day Ave",1600,{"$f":"SUM(CE21+CE45+CE69+CE93+CE117+CE141+CE165)/7","v":0},1.4285714285714286,27.285714285714285,23.571428571428573,1,0,0,0.14285714285714285,0,0,0,0.14285714285714285,0,0.5714285714285714,3,{"$f":"SUM(CT21+CT45+CT69+CT93+CT117+CT141+CT165)/7","v":5.5714285714285712},15.714285714285714,18.571428571428573,6.4285714285714288,0.8571428571428571,0.2857142857142857,0.14285714285714285,0,{"$f":"SUM(DB21+DB45+DB69+DB93+DB117+DB141+DB165)/7","v":0},0,{"$f":"SUM(DD21+DD45+DD69+DD93+DD117+DD141+DD165)/7","v":0},{"$f":"SUM(DE21+DE45+DE69+DE93+DE117+DE141+DE165)/7","v":0},0,0,0,0,0,0,0,0,0,24.12,29.84,0,1.1428571428571428,15.714285714285714,12.428571428571429,0.5714285714285714,0,0,0.14285714285714285,0,0,0,0.14285714285714285,30.142857142857142,0,0.2857142857142857,11.571428571428571,11.142857142857142,0.42857142857142855,0,0,0,0,0,0,0,23.428571428571427,0,1.4285714285714284,27.285714285714285,23.571428571428569,1,0,0,0.14285714285714285,0,0,0,0.14285714285714285,53.571428571428569]
["7 Day Ave",1700,{"$f":"SUM(C22+C46+C70+C94+C118+C142+C166)/7","v":0},0.2857142857142857,18.142857142857142,14,0.42857142857142855,0,0,0,0,0,0,{"$f":"SUM(N22+N46+N70+N94+N118+N142+N166)/7","v":0},0,0.14285714285714285,2.5714285714285716,{"$f":"SUM(R22+R46+R70+R94+R118+R142+R166)/7","v":4.8571428571428568},12.714285714285714,10.142857142857142,2.2857142857142856,0.14285714285714285,0,0,0,0,0,{"$f":"SUM(AB22+AB46+AB70+AB94+AB118+AB142+AB166)/7","v":0},{"$f":"SUM(AC22+AC46+AC70+AC94+AC118+AC142+AC166)/7","v":0},0,0,0,0,0,0,0,0,0,23.2,28.5,"7 Day Ave",1700,{"$f":"SUM(AQ22+AQ46+AQ70+AQ94+AQ118+AQ142+AQ166)/7","v":0},0.8571428571428571,11,10.857142857142858,0,0,0,0,0,0,0,0,0,0.42857142857142855,1.4285714285714286,{"$f":"SUM(BF22+BF46+BF70+BF94+BF118+BF142+BF166)/7","v":2.7142857142857144},6,7.7142857142857144,3.5714285714285716,0.7142857142857143,0.14285714285714285,{"$f":"SUM(BL22+BL46+BL70+BL94+BL118+BL142+BL166)/7","v":0},0,0,0,{"$f":"SUM(BP22+BP46+BP70+BP94+BP118+BP142+BP166)/7","v":0},{"$f":"SUM(BQ22+BQ46+BQ70+BQ94+BQ118+BQ142+BQ166)/7","v":0},0,0,0,0,0,0,0,0,0,24.84,31.41,"7 Day Ave",1700,{"$f":"SUM(CE22+CE46+CE70+CE94+CE118+CE142+CE166)/7","v":0},1.1428571428571428,29.142857142857142,24.857142857142858,0.42857142857142855,0,0,0,0,0,0,0,0,0.14285714285714285,2.5714285714285716,{"$f":"SUM(CT22+CT46+CT70+CT94+CT118+CT142+CT166)/7","v":7.5714285714285712},18.714285714285715,17.857142857142858,5.8571428571428568,0.8571428571428571,0.14285714285714285,0,0,{"$f":"SUM(DB22+DB46+DB70+DB94+DB118+DB142+DB166)/7","v":0},0,{"$f":"SUM(DD22+DD46+DD70+DD94+DD118+DD142+DD166)/7","v":0},{"$f":"SUM(DE22+DE46+DE70+DE94+DE118+DE142+DE166)/7","v":0},0,0,0,0,0,0,0,0,0,23.87,29.2,0,0.2857142857142857,18.142857142857142,14,0.42857142857142855,0,0,0,0,0,0,0,32.857142857142861,0,0.8571428571428571,11,10.857142857142858,0,0,0,0,0,0,0,0,22.714285714285715,0,1.1428571428571428,29.142857142857142,24.857142857142858,0.42857142857142855,0,0,0,0,0,0,0,55.571428571428577]
["7 Day Ave",1800,{"$f":"SUM(C23+C47+C71+C95+C119+C143+C167)/7","v":0},0.7142857142857143,14,9.7142857142857135,0,0,0,0.14285714285714285,0,0,0,{"$f":"SUM(N23+N47+N71+N95+N119+N143+N167)/7","v":0},0,0.42857142857142855,2.1428571428571428,{"$f":"SUM(R23+R47+R71+R95+R119+R143+R167)/7","v":3.5714285714285716},6.4285714285714288,8.2857142857142865,3.1428571428571428,0.5714285714285714,0,0,0,0,0,{"$f":"SUM(AB23+AB47+AB71+AB95+AB119+AB143+AB167)/7","v":0},{"$f":"SUM(AC23+AC47+AC71+AC95+AC119+AC143+AC167)/7","v":0},0,0,0,0,0,0,0,0,0,24.02,29.92,"7 Day Ave",1800,{"$f":"SUM(AQ23+AQ47+AQ71+AQ95+AQ119+AQ143+AQ167)/7","v":0.14285714285714285},0.5714285714285714,11.142857142857142,8.4285714285714288,0.2857142857142857,0,0,0,0,0,0,0,0,1,0.8571428571428571,{"$f":"SUM(BF23+BF47+BF71+BF95+BF119+BF143+BF167)/7","v":2},6,6.2857142857142856,4.1428571428571432,0.2857142857142857,0,{"$f":"SUM(BL23+BL47+BL71+BL95+BL119+BL143+BL167)/7","v":0},0,0,0,{"$f":"SUM(BP23+BP47+BP71+BP95+BP119+BP143+BP167)/7","v":0},{"$f":"SUM(BQ23+BQ47+BQ71+BQ95+BQ119+BQ143+BQ167)/7","v":0},0,0,0,0,0,0,0,0,0,24.49,30.58,"7 Day Ave",1800,{"$f":"SUM(CE23+CE47+CE71+CE95+CE119+CE143+CE167)/7","v":0.14285714285714285},1.2857142857142858,25.142857142857142,18.142857142857142,0.2857142857142857,0,0,0.14285714285714285,0,0,0,0,0,0.42857142857142855,2.1428571428571428,{"$f":"SUM(CT23+CT47+CT71+CT95+CT119+CT143+CT167)/7","v":5.5714285714285712},12.428571428571429,14.571428571428571,7.2857142857142856,0.8571428571428571,0,0,0,{"$f":"SUM(DB23+DB47+DB71+DB95+DB119+DB143+DB167)/7","v":0},0,{"$f":"SUM(DD23+DD47+DD71+DD95+DD119+DD143+DD167)/7","v":0},{"$f":"SUM(DE23+DE47+DE71+DE95+DE119+DE143+DE167)/7","v":0},0,0,0,0,0,0,0,0,0,24.23,30.39,0,0.7142857142857143,14,9.7142857142857135,0,0,0,0.14285714285714285,0,0,0,0,24.571428571428569,0.14285714285714285,0.5714285714285714,11.142857142857142,8.4285714285714288,0.2857142857142857,0,0,0,0,0,0,0,20.571428571428569,0.14285714285714285,1.2857142857142856,25.142857142857142,18.142857142857142,0.2857142857142857,0,0,0.14285714285714285,0,0,0,0,45.142857142857139]
["7 Day Ave",1900,{"$f":"SUM(C24+C48+C72+C96+C120+C144+C168)/7","v":0},0.2857142857142857,7,9.4285714285714288,0.14285714285714285,0,0,0.14285714285714285,0,0,0,{"$f":"SUM(N24+N48+N72+N96+N120+N144+N168)/7","v":0},0,0,1,{"$f":"SUM(R24+R48+R72+R96+R120+R144+R168)/7","v":2.1428571428571428},5.8571428571428568,5.7142857142857144,2,0.2857142857142857,0,0,0,0,0,{"$f":"SUM(AB24+AB48+AB72+AB96+AB120+AB144+AB168)/7","v":0},{"$f":"SUM(AC24+AC48+AC72+AC96+AC120+AC144+AC168)/7","v":0},0,0,0,0,0,0,0,0,0,24.17,29.58,"7 Day Ave",1900,{"$f":"SUM(AQ24+AQ48+AQ72+AQ96+AQ120+AQ144+AQ168)/7","v":0},0,6.1428571428571432,3.8571428571428572,0,0,0,0,0,0,0,0,0,0.7142857142857143,1,{"$f":"SUM(BF24+BF48+BF72+BF96+BF120+BF144+BF168)/7","v":0.8571428571428571},2.4285714285714284,3.4285714285714284,1.2857142857142858,0.14285714285714285,0,{"$f":"SUM(BL24+BL48+BL72+BL96+BL120+BL144+BL168)/7","v":0.14285714285714285},0,0,0,{"$f":"SUM(BP24+BP48+BP72+BP96+BP120+BP144+BP168)/7","v":0},{"$f":"SUM(BQ24+BQ48+BQ72+BQ96+BQ120+BQ144+BQ168)/7","v":0},0,0,0,0,0,0,0,0,0,23.6,30.31,"7 Day Ave",1900,{"$f":"SUM(CE24+CE48+CE72+CE96+CE120+CE144+CE168)/7","v":0},0.2857142857142857,13.142857142857142,13.285714285714286,0.14285714285714285,0,0,0.14285714285714285,0,0,0,0,0,0,1,{"$f":"SUM(CT24+CT48+CT72+CT96+CT120+CT144+CT168)/7","v":3},8.2857142857142865,9.1428571428571423,3.2857142857142856,0.42857142857142855,0,0.14285714285714285,0,{"$f":"SUM(DB24+DB48+DB72+DB96+DB120+DB144+DB168)/7","v":0},0,{"$f":"SUM(DD24+DD48+DD72+DD96+DD120+DD144+DD168)/7","v":0},{"$f":"SUM(DE24+DE48+DE72+DE96+DE120+DE144+DE168)/7","v":0},0,0,0,0,0,0,0,0,0,23.96,29.84,0,0.2857142857142857,7,9.4285714285714288,0.14285714285714285,0,0,0.14285714285714285,0,0,0,0,17,0,0,6.1428571428571432,3.8571428571428572,0,0,0,0,0,0,0,0,10,0,0.2857142857142857,13.142857142857142,13.285714285714286,0.14285714285714285,0,0,0.14285714285714285,0,0,0,0,27]
["7 Day Ave",2000,{"$f":"SUM(C25+C49+C73+C97+C121+C145+C169)/7","v":0},0,6,4.2857142857142856,0,0,0,0,0,0,0,{"$f":"SUM(N25+N49+N73+N97+N121+N145+N169)/7","v":0},0,0.2857142857142857,0.2857142857142857,{"$f":"SUM(R25+R49+R73+R97+R121+R145+R169)/7","v":1.2857142857142858},3.2857142857142856,3.5714285714285716,1.1428571428571428,0.42857142857142855,0,0,0,0,0,{"$f":"SUM(AB25+AB49+AB73+AB97+AB121+AB145+AB169)/7","v":0},{"$f":"SUM(AC25+AC49+AC73+AC97+AC121+AC145+AC169)/7","v":0},0,0,0,0,0,0,0,0,0,24.65,29.97,"7 Day Ave",2000,{"$f":"SUM(AQ25+AQ49+AQ73+AQ97+AQ121+AQ145+AQ169)/7","v":0},0,3.7142857142857144,2.1428571428571428,0.2857142857142857,0,0,0,0,0,0,0,0,0.14285714285714285,0.42857142857142855,{"$f":"SUM(BF25+BF49+BF73+BF97+BF121+BF145+BF169)/7","v":0.14285714285714285},1.4285714285714286,2.1428571428571428,1.4285714285714286,0.2857142857142857,0,{"$f":"SUM(BL25+BL49+BL73+BL97+BL121+BL145+BL169)/7","v":0.14285714285714285},0,0,0,{"$f":"SUM(BP25+BP49+BP73+BP97+BP121+BP145+BP169)/7","v":0},{"$f":"SUM(BQ25+BQ49+BQ73+BQ97+BQ121+BQ145+BQ169)/7","v":0},0,0,0,0,0,0,0,0,0,27.02,32.61,"7 Day Ave",2000,{"$f":"SUM(CE25+CE49+CE73+CE97+CE121+CE145+CE169)/7","v":0},0,9.7142857142857135,6.4285714285714288,0.2857142857142857,0,0,0,0,0,0,0,0,0.2857142857142857,0.2857142857142857,{"$f":"SUM(CT25+CT49+CT73+CT97+CT121+CT145+CT169)/7","v":1.4285714285714286},4.7142857142857144,5.7142857142857144,2.5714285714285716,0.7142857142857143,0,0.14285714285714285,0,{"$f":"SUM(DB25+DB49+DB73+DB97+DB121+DB145+DB169)/7","v":0},0,{"$f":"SUM(DD25+DD49+DD73+DD97+DD121+DD145+DD169)/7","v":0},{"$f":"SUM(DE25+DE49+DE73+DE97+DE121+DE145+DE169)/7","v":0},0,0,0,0,0,0,0,0,0,25.54,31.42,0,0,6,4.2857142857142856,0,0,0,0,0,0,0,0,10.285714285714285,0,0,3.7142857142857144,2.1428571428571428,0.2857142857142857,0,0,0,0,0,0,0,6.1428571428571432,0,0,9.7142857142857153,6.4285714285714288,0.2857142857142857,0,0,0,0,0,0,0,16.428571428571427]
["7 Day Ave",2100,{"$f":"SUM(C26+C50+C74+C98+C122+C146+C170)/7","v":0},0.14285714285714285,3.1428571428571428,2.4285714285714284,0,0,0,0,0,0,0,{"$f":"SUM(N26+N50+N74+N98+N122+N146+N170)/7","v":0},0,0,0.42857142857142855,{"$f":"SUM(R26+R50+R74+R98+R122+R146+R170)/7","v":0.42857142857142855},2.2857142857142856,1.7142857142857142,0.8571428571428571,0,0,0,0,0,0,{"$f":"SUM(AB26+AB50+AB74+AB98+AB122+AB146+AB170)/7","v":0},{"$f":"SUM(AC26+AC50+AC74+AC98+AC122+AC146+AC170)/7","v":0},0,0,0,0,0,0,0,0,0,24.22,28.94,"7 Day Ave",2100,{"$f":"SUM(AQ26+AQ50+AQ74+AQ98+AQ122+AQ146+AQ170)/7","v":0},0,2.5714285714285716,1.8571428571428572,0.2857142857142857,0,0,0.14285714285714285,0,0,0,0,0,0.2857142857142857,1,{"$f":"SUM(BF26+BF50+BF74+BF98+BF122+BF146+BF170)/7","v":0.7142857142857143},0.7142857142857143,1.1428571428571428,0.5714285714285714,0.14285714285714285,0.14285714285714285,{"$f":"SUM(BL26+BL50+BL74+BL98+BL122+BL146+BL170)/7","v":0.14285714285714285},0,0,0,{"$f":"SUM(BP26+BP50+BP74+BP98+BP122+BP146+BP170)/7","v":0},{"$f":"SUM(BQ26+BQ50+BQ74+BQ98+BQ122+BQ146+BQ170)/7","v":0},0,0,0,0,0,0,0,0,0,22.54,32.159999999999997,"7 Day Ave",2100,{"$f":"SUM(CE26+CE50+CE74+CE98+CE122+CE146+CE170)/7","v":0},0.14285714285714285,5.7142857142857144,4.2857142857142856,0.2857142857142857,0,0,0.14285714285714285,0,0,0,0,0,0,0.42857142857142855,{"$f":"SUM(CT26+CT50+CT74+CT98+CT122+CT146+CT170)/7","v":1.1428571428571428},3,2.8571428571428572,1.4285714285714286,0.14285714285714285,0.14285714285714285,0.14285714285714285,0,{"$f":"SUM(DB26+DB50+DB74+DB98+DB122+DB146+DB170)/7","v":0},0,{"$f":"SUM(DD26+DD50+DD74+DD98+DD122+DD146+DD170)/7","v":0},{"$f":"SUM(DE26+DE50+DE74+DE98+DE122+DE146+DE170)/7","v":0},0,0,0,0,0,0,0,0,0,23.45,30.19,0,0.14285714285714285,3.1428571428571428,2.4285714285714284,0,0,0,0,0,0,0,0,5.7142857142857135,0,0,2.5714285714285716,1.8571428571428572,0.2857142857142857,0,0,0.14285714285714285,0,0,0,0,4.8571428571428577,0,0.14285714285714285,5.7142857142857144,4.2857142857142856,0.2857142857142857,0,0,0.14285714285714285,0,0,0,0,10.571428571428571]
["7 Day Ave",2200,{"$f":"SUM(C27+C51+C75+C99+C123+C147+C171)/7","v":0},0.14285714285714285,1.8571428571428572,3.5714285714285716,0,0,0,0,0,0,0,{"$f":"SUM(N27+N51+N75+N99+N123+N147+N171)/7","v":0},0,0.14285714285714285,0,{"$f":"SUM(R27+R51+R75+R99+R123+R147+R171)/7","v":1},1.5714285714285714,2.2857142857142856,0.5714285714285714,0,0,0,0,0,0,{"$f":"SUM(AB27+AB51+AB75+AB99+AB123+AB147+AB171)/7","v":0},{"$f":"SUM(AC27+AC51+AC75+AC99+AC123+AC147+AC171)/7","v":0},0,0,0,0,0,0,0,0,0,24.27,28.16,"7 Day Ave",2200,{"$f":"SUM(AQ27+AQ51+AQ75+AQ99+AQ123+AQ147+AQ171)/7","v":0},0,2.2857142857142856,1,0,0,0,0,0,0,0,0,0,0.14285714285714285,0,{"$f":"SUM(BF27+BF51+BF75+BF99+BF123+BF147+BF171)/7","v":0.2857142857142857},1.1428571428571428,0.7142857142857143,0.5714285714285714,0.14285714285714285,0.14285714285714285,{"$f":"SUM(BL27+BL51+BL75+BL99+BL123+BL147+BL171)/7","v":0},0.14285714285714285,0,0,{"$f":"SUM(BP27+BP51+BP75+BP99+BP123+BP147+BP171)/7","v":0},{"$f":"SUM(BQ27+BQ51+BQ75+BQ99+BQ123+BQ147+BQ171)/7","v":0},0,0,0,0,0,0,0,0,0,27.54,34.409999999999997,"7 Day Ave",2200,{"$f":"SUM(CE27+CE51+CE75+CE99+CE123+CE147+CE171)/7","v":0},0.14285714285714285,4.1428571428571432,4.5714285714285712,0,0,0,0,0,0,0,0,0,0.14285714285714285,0,{"$f":"SUM(CT27+CT51+CT75+CT99+CT123+CT147+CT171)/7","v":1.2857142857142858},2.7142857142857144,3,1.1428571428571428,0.14285714285714285,0.14285714285714285,0,0.14285714285714285,{"$f":"SUM(DB27+DB51+DB75+DB99+DB123+DB147+DB171)/7","v":0},0,{"$f":"SUM(DD27+DD51+DD75+DD99+DD123+DD147+DD171)/7","v":0},{"$f":"SUM(DE27+DE51+DE75+DE99+DE123+DE147+DE171)/7","v":0},0,0,0,0,0,0,0,0,0,25.48,31.24,0,0.14285714285714285,1.8571428571428572,3.5714285714285716,0,0,0,0,0,0,0,0,5.5714285714285712,0,0,2.2857142857142856,1,0,0,0,0,0,0,0,0,3.2857142857142856,0,0.14285714285714285,4.1428571428571423,4.5714285714285712,0,0,0,0,0,0,0,0,8.8571428571428577]
["7 Day Ave",2300,{"$f":"SUM(C28+C52+C76+C100+C124+C148+C172)/7","v":0},0.42857142857142855,1.5714285714285714,0.42857142857142855,0,0,0,0,0,0,0,{"$f":"SUM(N28+N52+N76+N100+N124+N148+N172)/7","v":0},0,0,0,{"$f":"SUM(R28+R52+R76+R100+R124+R148+R172)/7","v":0.2857142857142857},1.1428571428571428,0.5714285714285714,0.2857142857142857,0.14285714285714285,0,0,0,0,0,{"$f":"SUM(AB28+AB52+AB76+AB100+AB124+AB148+AB172)/7","v":0},{"$f":"SUM(AC28+AC52+AC76+AC100+AC124+AC148+AC172)/7","v":0},0,0,0,0,0,0,0,0,0,25.29,30.18,"7 Day Ave",2300,{"$f":"SUM(AQ28+AQ52+AQ76+AQ100+AQ124+AQ148+AQ172)/7","v":0},0,0.5714285714285714,0.2857142857142857,0,0,0,0,0,0,0,0,0,0,0,{"$f":"SUM(BF28+BF52+BF76+BF100+BF124+BF148+BF172)/7","v":0},0.14285714285714285,0.2857142857142857,0.14285714285714285,0.14285714285714285,0.14285714285714285,{"$f":"SUM(BL28+BL52+BL76+BL100+BL124+BL148+BL172)/7","v":0},0,0,0,{"$f":"SUM(BP28+BP52+BP76+BP100+BP124+BP148+BP172)/7","v":0},{"$f":"SUM(BQ28+BQ52+BQ76+BQ100+BQ124+BQ148+BQ172)/7","v":0},0,0,0,0,0,0,0,0,0,31.77,"-","7 Day Ave",2300,{"$f":"SUM(CE28+CE52+CE76+CE100+CE124+CE148+CE172)/7","v":0},0.42857142857142855,2.1428571428571428,0.7142857142857143,0,0,0,0,0,0,0,0,0,0,0,{"$f":"SUM(CT28+CT52+CT76+CT100+CT124+CT148+CT172)/7","v":0.2857142857142857},1.2857142857142858,0.8571428571428571,0.42857142857142855,0.2857142857142857,0.14285714285714285,0,0,{"$f":"SUM(DB28+DB52+DB76+DB100+DB124+DB148+DB172)/7","v":0},0,{"$f":"SUM(DD28+DD52+DD76+DD100+DD124+DD148+DD172)/7","v":0},{"$f":"SUM(DE28+DE52+DE76+DE100+DE124+DE148+DE172)/7","v":0},0,0,0,0,0,0,0,0,0,26.98,32.53,0,0.42857142857142855,1.5714285714285714,0.42857142857142855,0,0,0,0,0,0,0,0,2.4285714285714284,0,0,0.5714285714285714,0.2857142857142857,0,0,0,0,0,0,0,0,0.8571428571428571,0,0.42857142857142855,2.1428571428571428,0.71428571428571419,0,0,0,0,0,0,0,0,3.2857142857142856]

{"sheet":"Volume Summary","index":2,"n_rows":45,"n_cols":13,"rows_kept":45,"cut":false,"hidden":false,"merged":[[10,2,10,8],[6,2,6,3],[5,2,5,3]]}
[]
[null,"Job No",{"$f":"Offsets!H1","v":"GBSth7811"},null,null,null,null,null,null,null,null,null,"Select Site"]
[null,"Client",{"$f":"Offsets!H2","v":"Julia Sibley"}]
[null,"Site",{"$f":"+Offsets!H3","v":"Brockhollands Road"}]
[null,"Location",{"$f":"+Offsets!I3","v":"51.744498, -2.558571 "},null,null,null,null,null,null,null,null,null,"Select Direction"]
[null,"Site No",{"$f":"+Offsets!J3","v":1}]
[null,"Start Date",{"$f":"+Offsets!M3","v":"2023-09-28"}]
[null,"Description","Volume Summary"]
[null,"Direction",{"$f":"+Offsets!A2","v":"NB"}]
[]
[null,null,"Day of Week"]
[null,"Hour","Mon","Tue","Wed","Thu","Fri","Sat","Sun"]
[null,"Starting",{"$f":"+Offsets!P3","v":"2023-10-02"},{"$f":"+Offsets!Q3","v":"2023-10-03"},{"$f":"+Offsets!R3","v":"2023-10-04"},{"$f":"+Offsets!S3","v":"2023-09-28"},{"$f":"+Offsets!T3","v":"2023-09-29"},{"$f":"+Offsets!U3","v":"2023-09-30"},{"$f":"+Offsets!V3","v":"2023-10-01"},"W'Day","7 Day"]
[null,"AM Peak",{"$f":"MAX(C16:C27)","v":18},{"$f":"MAX(D16:D27)","v":21},22,23,24,24,15,"Ave","Ave"]
[null,"PM Peak",{"$f":"MAX(C28:C39)","v":41},{"$f":"MAX(D28:D39)","v":37},38,41,35,26,26,{"$f":"+J40","v":309.99999999999994},{"$f":"+K40","v":289.42857142857144}]
[null,"00:00:00",{"$f":"OFFSET(Data!FD5,Offsets!$A$11,Offsets!$A$10)","v":2},{"$f":"OFFSET(Data!FE5,Offsets!$A$11,Offsets!$A$10)","v":0},{"$f":"OFFSET(Data!FF5,Offsets!$A$11,Offsets!$A$10)","v":2},{"$f":"OFFSET(Data!FG5,Offsets!$A$11,Offsets!$A$10)","v":0},{"$f":"OFFSET(Data!FH5,Offsets!$A$11,Offsets!$A$10)","v":1},{"$f":"OFFSET(Data!FI5,Offsets!$A$11,Offsets!$A$10)","v":5},{"$f":"OFFSET(Data!FJ5,Offsets!$A$11,Offsets!$A$10)","v":2},{"$f":"SUM(C16:G16)/5","v":1},{"$f":"SUM(C16:I16)/7","v":1.7142857142857142}]
[null,"01:00:00",{"$f":"OFFSET(Data!FD6,Offsets!$A$11,Offsets!$A$10)","v":1},{"$f":"OFFSET(Data!FE6,Offsets!$A$11,Offsets!$A$10)","v":0},{"$f":"OFFSET(Data!FF6,Offsets!$A$11,Offsets!$A$10)","v":0},{"$f":"OFFSET(Data!FG6,Offsets!$A$11,Offsets!$A$10)","v":0},{"$f":"OFFSET(Data!FH6,Offsets!$A$11,Offsets!$A$10)","v":0},{"$f":"OFFSET(Data!FI6,Offsets!$A$11,Offsets!$A$10)","v":0},{"$f":"OFFSET(Data!FJ6,Offsets!$A$11,Offsets!$A$10)","v":2},{"$f":"SUM(C17:G17)/5","v":0.2},{"$f":"SUM(C17:I17)/7","v":0.42857142857142855}]
[null,"02:00:00",{"$f":"OFFSET(Data!FD7,Offsets!$A$11,Offsets!$A$10)","v":0},{"$f":"OFFSET(Data!FE7,Offsets!$A$11,Offsets!$A$10)","v":0},{"$f":"OFFSET(Data!FF7,Offsets!$A$11,Offsets!$A$10)","v":1},{"$f":"OFFSET(Data!FG7,Offsets!$A$11,Offsets!$A$10)","v":0},{"$f":"OFFSET(Data!FH7,Offsets!$A$11,Offsets!$A$10)","v":0},{"$f":"OFFSET(Data!FI7,Offsets!$A$11,Offsets!$A$10)","v":0},{"$f":"OFFSET(Data!FJ7,Offsets!$A$11,Offsets!$A$10)","v":1},0.2,0.2857142857142857]
[null,"03:00:00",{"$f":"OFFSET(Data!FD8,Offsets!$A$11,Offsets!$A$10)","v":0},{"$f":"OFFSET(Data!FE8,Offsets!$A$11,Offsets!$A$10)","v":0},{"$f":"OFFSET(Data!FF8,Offsets!$A$11,Offsets!$A$10)","v":0},{"$f":"OFFSET(Data!FG8,Offsets!$A$11,Offsets!$A$10)","v":0},{"$f":"OFFSET(Data!FH8,Offsets!$A$11,Offsets!$A$10)","v":0},{"$f":"OFFSET(Data!FI8,Offsets!$A$11,Offsets!$A$10)","v":0},{"$f":"OFFSET(Data!FJ8,Offsets!$A$11,Offsets!$A$10)","v":0},0,0]
[null,"04:00:00",{"$f":"OFFSET(Data!FD9,Offsets!$A$11,Offsets!$A$10)","v":0},{"$f":"OFFSET(Data!FE9,Offsets!$A$11,Offsets!$A$10)","v":0},{"$f":"OFFSET(Data!FF9,Offsets!$A$11,Offsets!$A$10)","v":0},{"$f":"OFFSET(Data!FG9,Offsets!$A$11,Offsets!$A$10)","v":0},{"$f":"OFFSET(Data!FH9,Offsets!$A$11,Offsets!$A$10)","v":0},{"$f":"OFFSET(Data!FI9,Offsets!$A$11,Offsets!$A$10)","v":1},{"$f":"OFFSET(Data!FJ9,Offsets!$A$11,Offsets!$A$10)","v":0},0,0.14285714285714285]
[null,"05:00:00",{"$f":"OFFSET(Data!FD10,Offsets!$A$11,Offsets!$A$10)","v":1},{"$f":"OFFSET(Data!FE10,Offsets!$A$11,Offsets!$A$10)","v":1},{"$f":"OFFSET(Data!FF10,Offsets!$A$11,Offsets!$A$10)","v":2},{"$f":"OFFSET(Data!FG10,Offsets!$A$11,Offsets!$A$10)","v":1},{"$f":"OFFSET(Data!FH10,Offsets!$A$11,Offsets!$A$10)","v":1},{"$f":"OFFSET(Data!FI10,Offsets!$A$11,Offsets!$A$10)","v":2},{"$f":"OFFSET(Data!FJ10,Offsets!$A$11,Offsets!$A$10)","v":0},1.2,1.1428571428571428]
[null,"06:00:00",{"$f":"OFFSET(Data!FD11,Offsets!$A$11,Offsets!$A$10)","v":4},{"$f":"OFFSET(Data!FE11,Offsets!$A$11,Offsets!$A$10)","v":2},{"$f":"OFFSET(Data!FF11,Offsets!$A$11,Offsets!$A$10)","v":3},{"$f":"OFFSET(Data!FG11,Offsets!$A$11,Offsets!$A$10)","v":5},{"$f":"OFFSET(Data!FH11,Offsets!$A$11,Offsets!$A$10)","v":5},{"$f":"OFFSET(Data!FI11,Offsets!$A$11,Offsets!$A$10)","v":2},{"$f":"OFFSET(Data!FJ11,Offsets!$A$11,Offsets!$A$10)","v":5},3.8,3.7142857142857144]
[null,"07:00:00",{"$f":"OFFSET(Data!FD12,Offsets!$A$11,Offsets!$A$10)","v":7},{"$f":"OFFSET(Data!FE12,Offsets!$A$11,Offsets!$A$10)","v":14},{"$f":"OFFSET(Data!FF12,Offsets!$A$11,Offsets!$A$10)","v":4},{"$f":"OFFSET(Data!FG12,Offsets!$A$11,Offsets!$A$10)","v":14},{"$f":"OFFSET(Data!FH12,Offsets!$A$11,Offsets!$A$10)","v":12},{"$f":"OFFSET(Data!FI12,Offsets!$A$11,Offsets!$A$10)","v":4},{"$f":"OFFSET(Data!FJ12,Offsets!$A$11,Offsets!$A$10)","v":2},10.199999999999999,8.1428571428571423]
[null,"08:00:00",{"$f":"OFFSET(Data!FD13,Offsets!$A$11,Offsets!$A$10)","v":14},{"$f":"OFFSET(Data!FE13,Offsets!$A$11,Offsets!$A$10)","v":21},{"$f":"OFFSET(Data!FF13,Offsets!$A$11,Offsets!$A$10)","v":19},{"$f":"OFFSET(Data!FG13,Offsets!$A$11,Offsets!$A$10)","v":15},{"$f":"OFFSET(Data!FH13,Offsets!$A$11,Offsets!$A$10)","v":17},{"$f":"OFFSET(Data!FI13,Offsets!$A$11,Offsets!$A$10)","v":9},{"$f":"OFFSET(Data!FJ13,Offsets!$A$11,Offsets!$A$10)","v":3},17.2,14]
[null,"09:00:00",{"$f":"OFFSET(Data!FD14,Offsets!$A$11,Offsets!$A$10)","v":14},{"$f":"OFFSET(Data!FE14,Offsets!$A$11,Offsets!$A$10)","v":14},{"$f":"OFFSET(Data!FF14,Offsets!$A$11,Offsets!$A$10)","v":14},{"$f":"OFFSET(Data!FG14,Offsets!$A$11,Offsets!$A$10)","v":19},{"$f":"OFFSET(Data!FH14,Offsets!$A$11,Offsets!$A$10)","v":20},{"$f":"OFFSET(Data!FI14,Offsets!$A$11,Offsets!$A$10)","v":15},{"$f":"OFFSET(Data!FJ14,Offsets!$A$11,Offsets!$A$10)","v":9},16.2,15]
[null,"10:00:00",{"$f":"OFFSET(Data!FD15,Offsets!$A$11,Offsets!$A$10)","v":18},{"$f":"OFFSET(Data!FE15,Offsets!$A$11,Offsets!$A$10)","v":15},{"$f":"OFFSET(Data!FF15,Offsets!$A$11,Offsets!$A$10)","v":9},{"$f":"OFFSET(Data!FG15,Offsets!$A$11,Offsets!$A$10)","v":14},{"$f":"OFFSET(Data!FH15,Offsets!$A$11,Offsets!$A$10)","v":24},{"$f":"OFFSET(Data!FI15,Offsets!$A$11,Offsets!$A$10)","v":24},{"$f":"OFFSET(Data!FJ15,Offsets!$A$11,Offsets!$A$10)","v":15},16,17]
[null,"11:00:00",{"$f":"OFFSET(Data!FD16,Offsets!$A$11,Offsets!$A$10)","v":18},{"$f":"OFFSET(Data!FE16,Offsets!$A$11,Offsets!$A$10)","v":20},{"$f":"OFFSET(Data!FF16,Offsets!$A$11,Offsets!$A$10)","v":22},{"$f":"OFFSET(Data!FG16,Offsets!$A$11,Offsets!$A$10)","v":23},{"$f":"OFFSET(Data!FH16,Offsets!$A$11,Offsets!$A$10)","v":21},{"$f":"OFFSET(Data!FI16,Offsets!$A$11,Offsets!$A$10)","v":20},{"$f":"OFFSET(Data!FJ16,Offsets!$A$11,Offsets!$A$10)","v":10},20.8,19.142857142857142]
[null,"12:00:00",{"$f":"OFFSET(Data!FD17,Offsets!$A$11,Offsets!$A$10)","v":12},{"$f":"OFFSET(Data!FE17,Offsets!$A$11,Offsets!$A$10)","v":17},{"$f":"OFFSET(Data!FF17,Offsets!$A$11,Offsets!$A$10)","v":19},{"$f":"OFFSET(Data!FG17,Offsets!$A$11,Offsets!$A$10)","v":24},{"$f":"OFFSET(Data!FH17,Offsets!$A$11,Offsets!$A$10)","v":22},{"$f":"OFFSET(Data!FI17,Offsets!$A$11,Offsets!$A$10)","v":25},{"$f":"OFFSET(Data!FJ17,Offsets!$A$11,Offsets!$A$10)","v":26},18.8,20.714285714285715]
[null,"13:00:00",{"$f":"OFFSET(Data!FD18,Offsets!$A$11,Offsets!$A$10)","v":34},{"$f":"OFFSET(Data!FE18,Offsets!$A$11,Offsets!$A$10)","v":22},{"$f":"OFFSET(Data!FF18,Offsets!$A$11,Offsets!$A$10)","v":20},{"$f":"OFFSET(Data!FG18,Offsets!$A$11,Offsets!$A$10)","v":18},{"$f":"OFFSET(Data!FH18,Offsets!$A$11,Offsets!$A$10)","v":24},{"$f":"OFFSET(Data!FI18,Offsets!$A$11,Offsets!$A$10)","v":24},{"$f":"OFFSET(Data!FJ18,Offsets!$A$11,Offsets!$A$10)","v":15},23.6,22.428571428571427]
[null,"14:00:00",{"$f":"OFFSET(Data!FD19,Offsets!$A$11,Offsets!$A$10)","v":18},{"$f":"OFFSET(Data!FE19,Offsets!$A$11,Offsets!$A$10)","v":23},{"$f":"OFFSET(Data!FF19,Offsets!$A$11,Offsets!$A$10)","v":19},{"$f":"OFFSET(Data!FG19,Offsets!$A$11,Offsets!$A$10)","v":15},{"$f":"OFFSET(Data!FH19,Offsets!$A$11,Offsets!$A$10)","v":18},{"$f":"OFFSET(Data!FI19,Offsets!$A$11,Offsets!$A$10)","v":15},{"$f":"OFFSET(Data!FJ19,Offsets!$A$11,Offsets!$A$10)","v":16},18.600000000000001,17.714285714285715]
[null,"15:00:00",{"$f":"OFFSET(Data!FD20,Offsets!$A$11,Offsets!$A$10)","v":17},{"$f":"OFFSET(Data!FE20,Offsets!$A$11,Offsets!$A$10)","v":23},{"$f":"OFFSET(Data!FF20,Offsets!$A$11,Offsets!$A$10)","v":16},{"$f":"OFFSET(Data!FG20,Offsets!$A$11,Offsets!$A$10)","v":17},{"$f":"OFFSET(Data!FH20,Offsets!$A$11,Offsets!$A$10)","v":24},{"$f":"OFFSET(Data!FI20,Offsets!$A$11,Offsets!$A$10)","v":26},{"$f":"OFFSET(Data!FJ20,Offsets!$A$11,Offsets!$A$10)","v":12},19.399999999999999,19.285714285714285]
[null,"16:00:00",{"$f":"OFFSET(Data!FD21,Offsets!$A$11,Offsets!$A$10)","v":29},{"$f":"OFFSET(Data!FE21,Offsets!$A$11,Offsets!$A$10)","v":37},{"$f":"OFFSET(Data!FF21,Offsets!$A$11,Offsets!$A$10)","v":36},{"$f":"OFFSET(Data!FG21,Offsets!$A$11,Offsets!$A$10)","v":41},{"$f":"OFFSET(Data!FH21,Offsets!$A$11,Offsets!$A$10)","v":26},{"$f":"OFFSET(Data!FI21,Offsets!$A$11,Offsets!$A$10)","v":22},{"$f":"OFFSET(Data!FJ21,Offsets!$A$11,Offsets!$A$10)","v":20},33.799999999999997,30.142857142857142]
[null,"17:00:00",{"$f":"OFFSET(Data!FD22,Offsets!$A$11,Offsets!$A$10)","v":41},{"$f":"OFFSET(Data!FE22,Offsets!$A$11,Offsets!$A$10)","v":36},{"$f":"OFFSET(Data!FF22,Offsets!$A$11,Offsets!$A$10)","v":38},{"$f":"OFFSET(Data!FG22,Offsets!$A$11,Offsets!$A$10)","v":38},{"$f":"OFFSET(Data!FH22,Offsets!$A$11,Offsets!$A$10)","v":35},{"$f":"OFFSET(Data!FI22,Offsets!$A$11,Offsets!$A$10)","v":25},{"$f":"OFFSET(Data!FJ22,Offsets!$A$11,Offsets!$A$10)","v":17},37.6,32.857142857142854]
[null,"18:00:00",{"$f":"OFFSET(Data!FD23,Offsets!$A$11,Offsets!$A$10)","v":24},{"$f":"OFFSET(Data!FE23,Offsets!$A$11,Offsets!$A$10)","v":27},{"$f":"OFFSET(Data!FF23,Offsets!$A$11,Offsets!$A$10)","v":23},{"$f":"OFFSET(Data!FG23,Offsets!$A$11,Offsets!$A$10)","v":32},{"$f":"OFFSET(Data!FH23,Offsets!$A$11,Offsets!$A$10)","v":32},{"$f":"OFFSET(Data!FI23,Offsets!$A$11,Offsets!$A$10)","v":18},{"$f":"OFFSET(Data!FJ23,Offsets!$A$11,Offsets!$A$10)","v":16},27.6,24.571428571428573]
[null,"19:00:00",{"$f":"OFFSET(Data!FD24,Offsets!$A$11,Offsets!$A$10)","v":19},{"$f":"OFFSET(Data!FE24,Offsets!$A$11,Offsets!$A$10)","v":14},{"$f":"OFFSET(Data!FF24,Offsets!$A$11,Offsets!$A$10)","v":19},{"$f":"OFFSET(Data!FG24,Offsets!$A$11,Offsets!$A$10)","v":17},{"$f":"OFFSET(Data!FH24,Offsets!$A$11,Offsets!$A$10)","v":17},{"$f":"OFFSET(Data!FI24,Offsets!$A$11,Offsets!$A$10)","v":21},{"$f":"OFFSET(Data!FJ24,Offsets!$A$11,Offsets!$A$10)","v":12},17.2,17]
[null,"20:00:00",{"$f":"OFFSET(Data!FD25,Offsets!$A$11,Offsets!$A$10)","v":13},{"$f":"OFFSET(Data!FE25,Offsets!$A$11,Offsets!$A$10)","v":6},{"$f":"OFFSET(Data!FF25,Offsets!$A$11,Offsets!$A$10)","v":14},{"$f":"OFFSET(Data!FG25,Offsets!$A$11,Offsets!$A$10)","v":14},{"$f":"OFFSET(Data!FH25,Offsets!$A$11,Offsets!$A$10)","v":18},{"$f":"OFFSET(Data!FI25,Offsets!$A$11,Offsets!$A$10)","v":2},{"$f":"OFFSET(Data!FJ25,Offsets!$A$11,Offsets!$A$10)","v":5},13,10.285714285714286]
[null,"21:00:00",{"$f":"OFFSET(Data!FD26,Offsets!$A$11,Offsets!$A$10)","v":4},{"$f":"OFFSET(Data!FE26,Offsets!$A$11,Offsets!$A$10)","v":5},{"$f":"OFFSET(Data!FF26,Offsets!$A$11,Offsets!$A$10)","v":6},{"$f":"OFFSET(Data!FG26,Offsets!$A$11,Offsets!$A$10)","v":9},{"$f":"OFFSET(Data!FH26,Offsets!$A$11,Offsets!$A$10)","v":7},{"$f":"OFFSET(Data!FI26,Offsets!$A$11,Offsets!$A$10)","v":5},{"$f":"OFFSET(Data!FJ26,Offsets!$A$11,Offsets!$A$10)","v":4},6.2,5.7142857142857144]
[null,"22:00:00",{"$f":"OFFSET(Data!FD27,Offsets!$A$11,Offsets!$A$10)","v":4},{"$f":"OFFSET(Data!FE27,Offsets!$A$11,Offsets!$A$10)","v":6},{"$f":"OFFSET(Data!FF27,Offsets!$A$11,Offsets!$A$10)","v":3},{"$f":"OFFSET(Data!FG27,Offsets!$A$11,Offsets!$A$10)","v":5},{"$f":"OFFSET(Data!FH27,Offsets!$A$11,Offsets!$A$10)","v":7},{"$f":"OFFSET(Data!FI27,Offsets!$A$11,Offsets!$A$10)","v":7},{"$f":"OFFSET(Data!FJ27,Offsets!$A$11,Offsets!$A$10)","v":7},5,5.5714285714285712]
[null,"23:00:00",{"$f":"OFFSET(Data!FD28,Offsets!$A$11,Offsets!$A$10)","v":1},{"$f":"OFFSET(Data!FE28,Offsets!$A$11,Offsets!$A$10)","v":1},{"$f":"OFFSET(Data!FF28,Offsets!$A$11,Offsets!$A$10)","v":5},{"$f":"OFFSET(Data!FG28,Offsets!$A$11,Offsets!$A$10)","v":1},{"$f":"OFFSET(Data!FH28,Offsets!$A$11,Offsets!$A$10)","v":4},{"$f":"OFFSET(Data!FI28,Offsets!$A$11,Offsets!$A$10)","v":3},{"$f":"OFFSET(Data!FJ28,Offsets!$A$11,Offsets!$A$10)","v":2},2.4,2.4285714285714284]
[null,"Total",{"$f":"SUM(C16:C39)","v":295},{"$f":"SUM(D16:D39)","v":304},294,322,335,275,201,309.99999999999994,289.42857142857144]
[]
[null,"7-19",{"$f":"SUM(C23:C34)","v":246},{"$f":"SUM(D23:D34)","v":269},239,270,275,227,161,259.79999999999995,241]
[null,"6-22",{"$f":"SUM(C22:C37)","v":286},{"$f":"SUM(D22:D37)","v":296},281,315,322,257,187,299.99999999999994,277.71428571428572]
[null,"6-24",{"$f":"SUM(C22:C39)","v":291},{"$f":"SUM(D22:D39)","v":303},289,321,333,267,196,307.39999999999992,285.71428571428572]
[null,"0-24",{"$f":"SUM(C16:C39)","v":295},{"$f":"SUM(D16:D39)","v":304},294,322,335,275,201,309.99999999999994,289.42857142857144]

{"sheet":"Class Summary","index":3,"n_rows":46,"n_cols":41,"rows_kept":46,"cut":false,"hidden":false,"merged":[[5,4,5,5],[5,14,6,15],[7,14,9,15],[10,14,12,15],[18,40,20,40],[19,34,20,34],[19,36,20,36],[19,38,20,38],[19,39,20,39],[19,37,20,37],[19,33,20,33],[17,15,17,26],[18,27,20,27],[19,35,20,35],[19,16,20,16],[19,31,20,31],[6,4,6,7],[18,14,20,14],[17,2,17,14],[19,12,20,12],[19,7,20,7],[19,3,20,3],[19,4,20,4],[19,5,20,5],[19,6,20,6],[13,14,13,15],[14,14,14,15],[18,1,20,1],[19,25,20,25],[19,26,20,26],[19,8,20,8],[19,9,20,9],[19,10,20,10],[19,11,20,11],[19,2,20,2],[19,15,20,15],[19,13,20,13],[17,28,17,40],[19,17,20,17],[19,18,20,18],[19,19,20,19],[19,20,20,20],[19,21,20,21],[19,22,20,22],[19,23,20,23],[19,24,20,24],[19,28,20,28],[19,29,20,29],[19,30,20,30],[19,32,20,32]]}
[]
[null,"Job No",null,null,{"$f":"'Volume Summary'!C2","v":"GBSth7811"}]
[null,"Client",null,null,{"$f":"'Volume Summary'!C3","v":"Julia Sibley"},null,null,null,null,null,null,null,null,null,"Class Summary",null,null,"C",{"$f":"C18","v":"NB"},{"$f":"P18","v":"SB"}]
[null,"Site",null,null,{"$f":"+Offsets!H3","v":"Brockhollands Road"},null,null,null,null,null,null,null,null,null,"Bicycle",null,"C1",{"$f":"SUM(AC46/$AO$46)","v":9.2102233479161865E-4},{"$f":"SUM(C46/$O$46)","v":0},{"$f":"SUM(P46/$AB$46)","v":1.7263703064307294E-3}]
[null,"Location",null,null,{"$f":"+Offsets!I3","v":"51.744498, -2.558571 "},null,null,null,null,null,null,null,null,null,"Motorbike",null,"C2",{"$f":"SUM(AD46/$AO$46)","v":2.0032235781717703E-2},{"$f":"SUM(D46/$O$46)","v":1.3820335636722606E-2},{"$f":"SUM(Q46/$AB$46)","v":2.5463962019853254E-2}]
[null,"Site No",null,null,{"$f":"+Offsets!J3","v":1},null,null,null,null,null,null,null,null,null,"Light",null,"C3",{"$f":"SUM(AE46/$AO$46)","v":0.51715404098549411},{"$f":"SUM(E46/$O$46)","v":0.52714708785784814},{"$f":"SUM(R46/$AB$46)","v":0.50841605524384992}]
[null,"Start Date",null,null,{"$f":"+Offsets!M3","v":"2023-09-28"},null,null,null,null,null,null,null,null,null,null,null,"C4",{"$f":"SUM(AF46/$AO$46)","v":0.4409394427814875},{"$f":"SUM(F46/$O$46)","v":0.43879565646594282},{"$f":"SUM(S46/$AB$46)","v":0.44281398359948204}]
[null,"Day",null,null,{"$f":"OFFSET(Offsets!A15,Offsets!A15,0)","v":"7 Day Ave"},null,null,null,null,null,null,null,null,null,"Medium",null,"C5",{"$f":"SUM(AG46/$AO$46)","v":1.6117890858853328E-2},{"$f":"SUM(G46/$O$46)","v":1.5301085883514316E-2},{"$f":"SUM(T46/$AB$46)","v":1.6832110487699611E-2}]
[null,"Description",null,null,"Class Summary",null,null,null,null,null,null,null,null,null,null,null,"C6",{"$f":"SUM(AH46/$AO$46)","v":2.3025558369790466E-4},{"$f":"SUM(H46/$O$46)","v":0},{"$f":"SUM(U46/$AB$46)","v":4.3159257660768235E-4}]
[null,"Classification",null,null,"Dft-UK",null,null,null,null,null,null,null,null,null,null,null,"C7",{"$f":"SUM(AI46/$AO$46)","v":0},{"$f":"SUM(I46/$O$46)","v":0},{"$f":"SUM(V46/$AB$46)","v":0}]
[null,"Select Site",null,null,null,null,null,null,null,null,null,null,null,null,"Heavy",null,"C8",{"$f":"SUM(AJ46/$AO$46)","v":3.6840893391664738E-3},{"$f":"SUM(J46/$O$46)","v":2.9615004935834156E-3},{"$f":"SUM(W46/$AB$46)","v":4.3159257660768226E-3}]
[null,null,null,null,null,null,null,null,null,null,null,null,null,null,null,null,"C9",{"$f":"SUM(AK46/$AO$46)","v":0},{"$f":"SUM(K46/$O$46)","v":0},{"$f":"SUM(X46/$AB$46)","v":0}]
[null,null,null,null,null,null,null,null,null,null,null,null,null,null,null,null,"C10",{"$f":"SUM(AL46/$AO$46)","v":0},{"$f":"SUM(L46/$O$46)","v":0},{"$f":"SUM(Y46/$AB$46)","v":0}]
[null,"Select Day",null,null,null,null,null,null,null,null,null,null,null,null,"Bus",null,"C11",{"$f":"SUM(AM46/$AO$46)","v":2.3025558369790466E-4},{"$f":"SUM(M46/$O$46)","v":4.9358341559723601E-4},{"$f":"SUM(Z46/$AB$46)","v":0}]
[null,null,null,null,null,null,null,null,null,null,null,null,null,null,"Unclassified",null,"C12",{"$f":"SUM(AN46/$AO$46)","v":6.9076675109371402E-4},{"$f":"SUM(N46/$O$46)","v":1.480750246791708E-3},{"$f":"SUM(AA46/$AB$46)","v":0}]
[]
[]
[null,null,{"$f":"+Offsets!K3","v":"NB"},null,null,null,null,null,null,null,null,null,null,null,null,{"$f":"+Offsets!L3","v":"SB"},null,null,null,null,null,null,null,null,null,null,null,null,"COMBINED"]
[null,"Hour Starting","C1","C2","C3","C4","C5","C6","C7","C8","C9","C10","C11","C12","Total","C1","C2","C3","C4","C5","C6","C7","C8","C9","C10","C11","C12","Total","C1","C2","C3","C4","C5","C6","C7","C8","C9","C10","C11","C12","Total"]
[null,null,"C","O","CAR","LGV","R2","R3","R4","A3","A4","A5+","BUS","Unclassified",null,"C","O","CAR","LGV","R2","R3","R4","A3","A4","A5+","BUS","Unclassified",null,"C","O","CAR","LGV","R2","R3","R4","A3","A4","A5+","BUS","Unclassified","Total"]
[]
[null,"00:00:00",{"$f":"OFFSET(Data!DQ5,Offsets!$A$28,0)","v":0},{"$f":"OFFSET(Data!DR5,Offsets!$A$28,0)","v":0.14285714285714285},{"$f":"OFFSET(Data!DS5,Offsets!$A$28,0)","v":1.1428571428571428},{"$f":"OFFSET(Data!DT5,Offsets!$A$28,0)","v":0.42857142857142855},{"$f":"OFFSET(Data!DU5,Offsets!$A$28,0)","v":0},{"$f":"OFFSET(Data!DV5,Offsets!$A$28,0)","v":0},{"$f":"OFFSET(Data!DW5,Offsets!$A$28,0)","v":0},{"$f":"OFFSET(Data!DX5,Offsets!$A$28,0)","v":0},{"$f":"OFFSET(Data!DY5,Offsets!$A$28,0)","v":0},{"$f":"OFFSET(Data!DZ5,Offsets!$A$28,0)","v":0},{"$f":"OFFSET(Data!EA5,Offsets!$A$28,0)","v":0},{"$f":"OFFSET(Data!EB5,Offsets!$A$28,0)","v":0},{"$f":"OFFSET(Data!EC5,Offsets!$A$28,0)","v":1.7142857142857142},{"$f":"OFFSET(Data!ED5,Offsets!$A$28,0)","v":0},{"$f":"OFFSET(Data!EE5,Offsets!$A$28,0)","v":0},{"$f":"OFFSET(Data!EF5,Offsets!$A$28,0)","v":0.8571428571428571},{"$f":"OFFSET(Data!EG5,Offsets!$A$28,0)","v":0},{"$f":"OFFSET(Data!EH5,Offsets!$A$28,0)","v":0},{"$f":"OFFSET(Data!EI5,Offsets!$A$28,0)","v":0},{"$f":"OFFSET(Data!EJ5,Offsets!$A$28,0)","v":0},{"$f":"OFFSET(Data!EK5,Offsets!$A$28,0)","v":0},{"$f":"OFFSET(Data!EL5,Offsets!$A$28,0)","v":0},{"$f":"OFFSET(Data!EM5,Offsets!$A$28,0)","v":0},{"$f":"OFFSET(Data!EN5,Offsets!$A$28,0)","v":0},{"$f":"OFFSET(Data!EO5,Offsets!$A$28,0)","v":0},{"$f":"OFFSET(Data!EP5,Offsets!$A$28,0)","v":0.8571428571428571},{"$f":"OFFSET(Data!EQ5,Offsets!$A$28,0)","v":0},{"$f":"OFFSET(Data!ER5,Offsets!$A$28,0)","v":0.14285714285714285},{"$f":"OFFSET(Data!ES5,Offsets!$A$28,0)","v":2},{"$f":"OFFSET(Data!ET5,Offsets!$A$28,0)","v":0.42857142857142855},{"$f":"OFFSET(Data!EU5,Offsets!$A$28,0)","v":0},{"$f":"OFFSET(Data!EV5,Offsets!$A$28,0)","v":0},{"$f":"OFFSET(Data!EW5,Offsets!$A$28,0)","v":0},{"$f":"OFFSET(Data!EX5,Offsets!$A$28,0)","v":0},{"$f":"OFFSET(Data!EY5,Offsets!$A$28,0)","v":0},{"$f":"OFFSET(Data!EZ5,Offsets!$A$28,0)","v":0},{"$f":"OFFSET(Data!FA5,Offsets!$A$28,0)","v":0},{"$f":"OFFSET(Data!FB5,Offsets!$A$28,0)","v":0},{"$f":"OFFSET(Data!FC5,Offsets!$A$28,0)","v":2.5714285714285712}]
[null,"01:00:00",{"$f":"OFFSET(Data!DQ6,Offsets!$A$28,0)","v":0},{"$f":"OFFSET(Data!DR6,Offsets!$A$28,0)","v":0},{"$f":"OFFSET(Data!DS6,Offsets!$A$28,0)","v":0.2857142857142857},{"$f":"OFFSET(Data!DT6,Offsets!$A$28,0)","v":0.14285714285714285},{"$f":"OFFSET(Data!DU6,Offsets!$A$28,0)","v":0},{"$f":"OFFSET(Data!DV6,Offsets!$A$28,0)","v":0},{"$f":"OFFSET(Data!DW6,Offsets!$A$28,0)","v":0},{"$f":"OFFSET(Data!DX6,Offsets!$A$28,0)","v":0},{"$f":"OFFSET(Data!DY6,Offsets!$A$28,0)","v":0},{"$f":"OFFSET(Data!DZ6,Offsets!$A$28,0)","v":0},{"$f":"OFFSET(Data!EA6,Offsets!$A$28,0)","v":0},{"$f":"OFFSET(Data!EB6,Offsets!$A$28,0)","v":0},{"$f":"OFFSET(Data!EC6,Offsets!$A$28,0)","v":0.42857142857142855},{"$f":"OFFSET(Data!ED6,Offsets!$A$28,0)","v":0},{"$f":"OFFSET(Data!EE6,Offsets!$A$28,0)","v":0},{"$f":"OFFSET(Data!EF6,Offsets!$A$28,0)","v":0.14285714285714285},{"$f":"OFFSET(Data!EG6,Offsets!$A$28,0)","v":0.5714285714285714},{"$f":"OFFSET(Data!EH6,Offsets!$A$28,0)","v":0},{"$f":"OFFSET(Data!EI6,Offsets!$A$28,0)","v":0},{"$f":"OFFSET(Data!EJ6,Offsets!$A$28,0)","v":0},{"$f":"OFFSET(Data!EK6,Offsets!$A$28,0)","v":0},{"$f":"OFFSET(Data!EL6,Offsets!$A$28,0)","v":0},{"$f":"OFFSET(Data!EM6,Offsets!$A$28,0)","v":0},{"$f":"OFFSET(Data!EN6,Offsets!$A$28,0)","v":0},{"$f":"OFFSET(Data!EO6,Offsets!$A$28,0)","v":0},{"$f":"OFFSET(Data!EP6,Offsets!$A$28,0)","v":0.71428571428571419},{"$f":"OFFSET(Data!EQ6,Offsets!$A$28,0)","v":0},{"$f":"OFFSET(Data!ER6,Offsets!$A$28,0)","v":0},{"$f":"OFFSET(Data!ES6,Offsets!$A$28,0)","v":0.42857142857142855},{"$f":"OFFSET(Data!ET6,Offsets!$A$28,0)","v":0.71428571428571419},{"$f":"OFFSET(Data!EU6,Offsets!$A$28,0)","v":0},{"$f":"OFFSET(Data!EV6,Offsets!$A$28,0)","v":0},{"$f":"OFFSET(Data!EW6,Offsets!$A$28,0)","v":0},{"$f":"OFFSET(Data!EX6,Offsets!$A$28,0)","v":0},{"$f":"OFFSET(Data!EY6,Offsets!$A$28,0)","v":0},{"$f":"OFFSET(Data!EZ6,Offsets!$A$28,0)","v":0},{"$f":"OFFSET(Data!FA6,Offsets!$A$28,0)","v":0},{"$f":"OFFSET(Data!FB6,Offsets!$A$28,0)","v":0},{"$f":"OFFSET(Data!FC6,Offsets!$A$28,0)","v":1.1428571428571428}]
[null,"02:00:00",{"$f":"OFFSET(Data!DQ7,Offsets!$A$28,0)","v":0},{"$f":"OFFSET(Data!DR7,Offsets!$A$28,0)","v":0},{"$f":"OFFSET(Data!DS7,Offsets!$A$28,0)","v":0},{"$f":"OFFSET(Data!DT7,Offsets!$A$28,0)","v":0.2857142857142857},{"$f":"OFFSET(Data!DU7,Offsets!$A$28,0)","v":0},{"$f":"OFFSET(Data!DV7,Offsets!$A$28,0)","v":0},{"$f":"OFFSET(Data!DW7,Offsets!$A$28,0)","v":0},{"$f":"OFFSET(Data!DX7,Offsets!$A$28,0)","v":0},{"$f":"OFFSET(Data!DY7,Offsets!$A$28,0)","v":0},{"$f":"OFFSET(Data!DZ7,Offsets!$A$28,0)","v":0},{"$f":"OFFSET(Data!EA7,Offsets!$A$28,0)","v":0},{"$f":"OFFSET(Data!EB7,Offsets!$A$28,0)","v":0},{"$f":"OFFSET(Data!EC7,Offsets!$A$28,0)","v":0.2857142857142857},{"$f":"OFFSET(Data!ED7,Offsets!$A$28,0)","v":0},{"$f":"OFFSET(Data!EE7,Offsets!$A$28,0)","v":0},{"$f":"OFFSET(Data!EF7,Offsets!$A$28,0)","v":0},{"$f":"OFFSET(Data!EG7,Offsets!$A$28,0)","v":0.2857142857142857},{"$f":"OFFSET(Data!EH7,Offsets!$A$28,0)","v":0},{"$f":"OFFSET(Data!EI7,Offsets!$A$28,0)","v":0},{"$f":"OFFSET(Data!EJ7,Offsets!$A$28,0)","v":0},{"$f":"OFFSET(Data!EK7,Offsets!$A$28,0)","v":0},{"$f":"OFFSET(Data!EL7,Offsets!$A$28,0)","v":0},{"$f":"OFFSET(Data!EM7,Offsets!$A$28,0)","v":0},{"$f":"OFFSET(Data!EN7,Offsets!$A$28,0)","v":0},{"$f":"OFFSET(Data!EO7,Offsets!$A$28,0)","v":0},{"$f":"OFFSET(Data!EP7,Offsets!$A$28,0)","v":0.2857142857142857},{"$f":"OFFSET(Data!EQ7,Offsets!$A$28,0)","v":0},{"$f":"OFFSET(Data!ER7,Offsets!$A$28,0)","v":0},{"$f":"OFFSET(Data!ES7,Offsets!$A$28,0)","v":0},{"$f":"OFFSET(Data!ET7,Offsets!$A$28,0)","v":0.5714285714285714},{"$f":"OFFSET(Data!EU7,Offsets!$A$28,0)","v":0},{"$f":"OFFSET(Data!EV7,Offsets!$A$28,0)","v":0},{"$f":"OFFSET(Data!EW7,Offsets!$A$28,0)","v":0},{"$f":"OFFSET(Data!EX7,Offsets!$A$28,0)","v":0},{"$f":"OFFSET(Data!EY7,Offsets!$A$28,0)","v":0},{"$f":"OFFSET(Data!EZ7,Offsets!$A$28,0)","v":0},{"$f":"OFFSET(Data!FA7,Offsets!$A$28,0)","v":0},{"$f":"OFFSET(Data!FB7,Offsets!$A$28,0)","v":0},{"$f":"OFFSET(Data!FC7,Offsets!$A$28,0)","v":0.5714285714285714}]
[null,"03:00:00",{"$f":"OFFSET(Data!DQ8,Offsets!$A$28,0)","v":0},{"$f":"OFFSET(Data!DR8,Offsets!$A$28,0)","v":0},{"$f":"OFFSET(Data!DS8,Offsets!$A$28,0)","v":0},{"$f":"OFFSET(Data!DT8,Offsets!$A$28,0)","v":0},{"$f":"OFFSET(Data!DU8,Offsets!$A$28,0)","v":0},{"$f":"OFFSET(Data!DV8,Offsets!$A$28,0)","v":0},{"$f":"OFFSET(Data!DW8,Offsets!$A$28,0)","v":0},{"$f":"OFFSET(Data!DX8,Offsets!$A$28,0)","v":0},{"$f":"OFFSET(Data!DY8,Offsets!$A$28,0)","v":0},{"$f":"OFFSET(Data!DZ8,Offsets!$A$28,0)","v":0},{"$f":"OFFSET(Data!EA8,Offsets!$A$28,0)","v":0},{"$f":"OFFSET(Data!EB8,Offsets!$A$28,0)","v":0},{"$f":"OFFSET(Data!EC8,Offsets!$A$28,0)","v":0},{"$f":"OFFSET(Data!ED8,Offsets!$A$28,0)","v":0},{"$f":"OFFSET(Data!EE8,Offsets!$A$28,0)","v":0},{"$f":"OFFSET(Data!EF8,Offsets!$A$28,0)","v":0.14285714285714285},{"$f":"OFFSET(Data!EG8,Offsets!$A$28,0)","v":0.7142857142857143},{"$f":"OFFSET(Data!EH8,Offsets!$A$28,0)","v":0},{"$f":"OFFSET(Data!EI8,Offsets!$A$28,0)","v":0},{"$f":"OFFSET(Data!EJ8,Offsets!$A$28,0)","v":0},{"$f":"OFFSET(Data!EK8,Offsets!$A$28,0)","v":0},{"$f":"OFFSET(Data!EL8,Offsets!$A$28,0)","v":0},{"$f":"OFFSET(Data!EM8,Offsets!$A$28,0)","v":0},{"$f":"OFFSET(Data!EN8,Offsets!$A$28,0)","v":0},{"$f":"OFFSET(Data!EO8,Offsets!$A$28,0)","v":0},{"$f":"OFFSET(Data!EP8,Offsets!$A$28,0)","v":0.85714285714285721},{"$f":"OFFSET(Data!EQ8,Offsets!$A$28,0)","v":0},{"$f":"OFFSET(Data!ER8,Offsets!$A$28,0)","v":0},{"$f":"OFFSET(Data!ES8,Offsets!$A$28,0)","v":0.14285714285714285},{"$f":"OFFSET(Data!ET8,Offsets!$A$28,0)","v":0.7142857142857143},{"$f":"OFFSET(Data!EU8,Offsets!$A$28,0)","v":0},{"$f":"OFFSET(Data!EV8,Offsets!$A$28,0)","v":0},{"$f":"OFFSET(Data!EW8,Offsets!$A$28,0)","v":0},{"$f":"OFFSET(Data!EX8,Offsets!$A$28,0)","v":0},{"$f":"OFFSET(Data!EY8,Offsets!$A$28,0)","v":0},{"$f":"OFFSET(Data!EZ8,Offsets!$A$28,0)","v":0},{"$f":"OFFSET(Data!FA8,Offsets!$A$28,0)","v":0},{"$f":"OFFSET(Data!FB8,Offsets!$A$28,0)","v":0},{"$f":"OFFSET(Data!FC8,Offsets!$A$28,0)","v":0.85714285714285721}]
[null,"04:00:00",{"$f":"OFFSET(Data!DQ9,Offsets!$A$28,0)","v":0},{"$f":"OFFSET(Data!DR9,Offsets!$A$28,0)","v":0},{"$f":"OFFSET(Data!DS9,Offsets!$A$28,0)","v":0.14285714285714285},{"$f":"OFFSET(Data!DT9,Offsets!$A$28,0)","v":0},{"$f":"OFFSET(Data!DU9,Offsets!$A$28,0)","v":0},{"$f":"OFFSET(Data!DV9,Offsets!$A$28,0)","v":0},{"$f":"OFFSET(Data!DW9,Offsets!$A$28,0)","v":0},{"$f":"OFFSET(Data!DX9,Offsets!$A$28,0)","v":0},{"$f":"OFFSET(Data!DY9,Offsets!$A$28,0)","v":0},{"$f":"OFFSET(Data!DZ9,Offsets!$A$28,0)","v":0},{"$f":"OFFSET(Data!EA9,Offsets!$A$28,0)","v":0},{"$f":"OFFSET(Data!EB9,Offsets!$A$28,0)","v":0},{"$f":"OFFSET(Data!EC9,Offsets!$A$28,0)","v":0.14285714285714285},{"$f":"OFFSET(Data!ED9,Offsets!$A$28,0)","v":0},{"$f":"OFFSET(Data!EE9,Offsets!$A$28,0)","v":0},{"$f":"OFFSET(Data!EF9,Offsets!$A$28,0)","v":0.7142857142857143},{"$f":"OFFSET(Data!EG9,Offsets!$A$28,0)","v":1.2857142857142858},{"$f":"OFFSET(Data!EH9,Offsets!$A$28,0)","v":0},{"$f":"OFFSET(Data!EI9,Offsets!$A$28,0)","v":0},{"$f":"OFFSET(Data!EJ9,Offsets!$A$28,0)","v":0},{"$f":"OFFSET(Data!EK9,Offsets!$A$28,0)","v":0.14285714285714285},{"$f":"OFFSET(Data!EL9,Offsets!$A$28,0)","v":0},{"$f":"OFFSET(Data!EM9,Offsets!$A$28,0)","v":0},{"$f":"OFFSET(Data!EN9,Offsets!$A$28,0)","v":0},{"$f":"OFFSET(Data!EO9,Offsets!$A$28,0)","v":0},{"$f":"OFFSET(Data!EP9,Offsets!$A$28,0)","v":2.1428571428571428},{"$f":"OFFSET(Data!EQ9,Offsets!$A$28,0)","v":0},{"$f":"OFFSET(Data!ER9,Offsets!$A$28,0)","v":0},{"$f":"OFFSET(Data!ES9,Offsets!$A$28,0)","v":0.85714285714285721},{"$f":"OFFSET(Data!ET9,Offsets!$A$28,0)","v":1.2857142857142858},{"$f":"OFFSET(Data!EU9,Offsets!$A$28,0)","v":0},{"$f":"OFFSET(Data!EV9,Offsets!$A$28,0)","v":0},{"$f":"OFFSET(Data!EW9,Offsets!$A$28,0)","v":0},{"$f":"OFFSET(Data!EX9,Offsets!$A$28,0)","v":0.14285714285714285},{"$f":"OFFSET(Data!EY9,Offsets!$A$28,0)","v":0},{"$f":"OFFSET(Data!EZ9,Offsets!$A$28,0)","v":0},{"$f":"OFFSET(Data!FA9,Offsets!$A$28,0)","v":0},{"$f":"OFFSET(Data!FB9,Offsets!$A$28,0)","v":0},{"$f":"OFFSET(Data!FC9,Offsets!$A$28,0)","v":2.2857142857142856}]
[null,"05:00:00",{"$f":"OFFSET(Data!DQ10,Offsets!$A$28,0)","v":0},{"$f":"OFFSET(Data!DR10,Offsets!$A$28,0)","v":0},{"$f":"OFFSET(Data!DS10,Offsets!$A$28,0)","v":0.5714285714285714},{"$f":"OFFSET(Data!DT10,Offsets!$A$28,0)","v":0.5714285714285714},{"$f":"OFFSET(Data!DU10,Offsets!$A$28,0)","v":0},{"$f":"OFFSET(Data!DV10,Offsets!$A$28,0)","v":0},{"$f":"OFFSET(Data!DW10,Offsets!$A$28,0)","v":0},{"$f":"OFFSET(Data!DX10,Offsets!$A$28,0)","v":0},{"$f":"OFFSET(Data!DY10,Offsets!$A$28,0)","v":0},{"$f":"OFFSET(Data!DZ10,Offsets!$A$28,0)","v":0},{"$f":"OFFSET(Data!EA10,Offsets!$A$28,0)","v":0},{"$f":"OFFSET(Data!EB10,Offsets!$A$28,0)","v":0},{"$f":"OFFSET(Data!EC10,Offsets!$A$28,0)","v":1.1428571428571428},{"$f":"OFFSET(Data!ED10,Offsets!$A$28,0)","v":0},{"$f":"OFFSET(Data!EE10,Offsets!$A$28,0)","v":0},{"$f":"OFFSET(Data!EF10,Offsets!$A$28,0)","v":2.4285714285714284},{"$f":"OFFSET(Data!EG10,Offsets!$A$28,0)","v":3},{"$f":"OFFSET(Data!EH10,Offsets!$A$28,0)","v":0},{"$f":"OFFSET(Data!EI10,Offsets!$A$28,0)","v":0},{"$f":"OFFSET(Data!EJ10,Offsets!$A$28,0)","v":0},{"$f":"OFFSET(Data!EK10,Offsets!$A$28,0)","v":0},{"$f":"OFFSET(Data!EL10,Offsets!$A$28,0)","v":0},{"$f":"OFFSET(Data!EM10,Offsets!$A$28,0)","v":0},{"$f":"OFFSET(Data!EN10,Offsets!$A$28,0)","v":0},{"$f":"OFFSET(Data!EO10,Offsets!$A$28,0)","v":0},{"$f":"OFFSET(Data!EP10,Offsets!$A$28,0)","v":5.4285714285714288},{"$f":"OFFSET(Data!EQ10,Offsets!$A$28,0)","v":0},{"$f":"OFFSET(Data!ER10,Offsets!$A$28,0)","v":0},{"$f":"OFFSET(Data!ES10,Offsets!$A$28,0)","v":3},{"$f":"OFFSET(Data!ET10,Offsets!$A$28,0)","v":3.5714285714285712},{"$f":"OFFSET(Data!EU10,Offsets!$A$28,0)","v":0},{"$f":"OFFSET(Data!EV10,Offsets!$A$28,0)","v":0},{"$f":"OFFSET(Data!EW10,Offsets!$A$28,0)","v":0},{"$f":"OFFSET(Data!EX10,Offsets!$A$28,0)","v":0},{"$f":"OFFSET(Data!EY10,Offsets!$A$28,0)","v":0},{"$f":"OFFSET(Data!EZ10,Offsets!$A$28,0)","v":0},{"$f":"OFFSET(Data!FA10,Offsets!$A$28,0)","v":0},{"$f":"OFFSET(Data!FB10,Offsets!$A$28,0)","v":0},{"$f":"OFFSET(Data!FC10,Offsets!$A$28,0)","v":6.5714285714285712}]
[null,"06:00:00",{"$f":"OFFSET(Data!DQ11,Offsets!$A$28,0)","v":0},{"$f":"OFFSET(Data!DR11,Offsets!$A$28,0)","v":0},{"$f":"OFFSET(Data!DS11,Offsets!$A$28,0)","v":2.1428571428571428},{"$f":"OFFSET(Data!DT11,Offsets!$A$28,0)","v":1.5714285714285714},{"$f":"OFFSET(Data!DU11,Offsets!$A$28,0)","v":0},{"$f":"OFFSET(Data!DV11,Offsets!$A$28,0)","v":0},{"$f":"OFFSET(Data!DW11,Offsets!$A$28,0)","v":0},{"$f":"OFFSET(Data!DX11,Offsets!$A$28,0)","v":0},{"$f":"OFFSET(Data!DY11,Offsets!$A$28,0)","v":0},{"$f":"OFFSET(Data!DZ11,Offsets!$A$28,0)","v":0},{"$f":"OFFSET(Data!EA11,Offsets!$A$28,0)","v":0},{"$f":"OFFSET(Data!EB11,Offsets!$A$28,0)","v":0},{"$f":"OFFSET(Data!EC11,Offsets!$A$28,0)","v":3.7142857142857144},{"$f":"OFFSET(Data!ED11,Offsets!$A$28,0)","v":0},{"$f":"OFFSET(Data!EE11,Offsets!$A$28,0)","v":0.2857142857142857},{"$f":"OFFSET(Data!EF11,Offsets!$A$28,0)","v":6.4285714285714288},{"$f":"OFFSET(Data!EG11,Offsets!$A$28,0)","v":7.5714285714285712},{"$f":"OFFSET(Data!EH11,Offsets!$A$28,0)","v":0.14285714285714285},{"$f":"OFFSET(Data!EI11,Offsets!$A$28,0)","v":0},{"$f":"OFFSET(Data!EJ11,Offsets!$A$28,0)","v":0},{"$f":"OFFSET(Data!EK11,Offsets!$A$28,0)","v":0},{"$f":"OFFSET(Data!EL11,Offsets!$A$28,0)","v":0},{"$f":"OFFSET(Data!EM11,Offsets!$A$28,0)","v":0},{"$f":"OFFSET(Data!EN11,Offsets!$A$28,0)","v":0},{"$f":"OFFSET(Data!EO11,Offsets!$A$28,0)","v":0},{"$f":"OFFSET(Data!EP11,Offsets!$A$28,0)","v":14.428571428571427},{"$f":"OFFSET(Data!EQ11,Offsets!$A$28,0)","v":0},{"$f":"OFFSET(Data!ER11,Offsets!$A$28,0)","v":0.2857142857142857},{"$f":"OFFSET(Data!ES11,Offsets!$A$28,0)","v":8.5714285714285712},{"$f":"OFFSET(Data!ET11,Offsets!$A$28,0)","v":9.1428571428571423},{"$f":"OFFSET(Data!EU11,Offsets!$A$28,0)","v":0.14285714285714285},{"$f":"OFFSET(Data!EV11,Offsets!$A$28,0)","v":0},{"$f":"OFFSET(Data!EW11,Offsets!$A$28,0)","v":0},{"$f":"OFFSET(Data!EX11,Offsets!$A$28,0)","v":0},{"$f":"OFFSET(Data!EY11,Offsets!$A$28,0)","v":0},{"$f":"OFFSET(Data!EZ11,Offsets!$A$28,0)","v":0},{"$f":"OFFSET(Data!FA11,Offsets!$A$28,0)","v":0},{"$f":"OFFSET(Data!FB11,Offsets!$A$28,0)","v":0},{"$f":"OFFSET(Data!FC11,Offsets!$A$28,0)","v":18.142857142857142}]
[null,"07:00:00",{"$f":"OFFSET(Data!DQ12,Offsets!$A$28,0)","v":0},{"$f":"OFFSET(Data!DR12,Offsets!$A$28,0)","v":0},{"$f":"OFFSET(Data!DS12,Offsets!$A$28,0)","v":3.2857142857142856},{"$f":"OFFSET(Data!DT12,Offsets!$A$28,0)","v":4.5714285714285712},{"$f":"OFFSET(Data!DU12,Offsets!$A$28,0)","v":0.14285714285714285},{"$f":"OFFSET(Data!DV12,Offsets!$A$28,0)","v":0},{"$f":"OFFSET(Data!DW12,Offsets!$A$28,0)","v":0},{"$f":"OFFSET(Data!DX12,Offsets!$A$28,0)","v":0},{"$f":"OFFSET(Data!DY12,Offsets!$A$28,0)","v":0},{"$f":"OFFSET(Data!DZ12,Offsets!$A$28,0)","v":0},{"$f":"OFFSET(Data!EA12,Offsets!$A$28,0)","v":0},{"$f":"OFFSET(Data!EB12,Offsets!$A$28,0)","v":0.14285714285714285},{"$f":"OFFSET(Data!EC12,Offsets!$A$28,0)","v":8.1428571428571423},{"$f":"OFFSET(Data!ED12,Offsets!$A$28,0)","v":0.14285714285714285},{"$f":"OFFSET(Data!EE12,Offsets!$A$28,0)","v":1.2857142857142858},{"$f":"OFFSET(Data!EF12,Offsets!$A$28,0)","v":12.857142857142858},{"$f":"OFFSET(Data!EG12,Offsets!$A$28,0)","v":10.285714285714286},{"$f":"OFFSET(Data!EH12,Offsets!$A$28,0)","v":0.2857142857142857},{"$f":"OFFSET(Data!EI12,Offsets!$A$28,0)","v":0},{"$f":"OFFSET(Data!EJ12,Offsets!$A$28,0)","v":0},{"$f":"OFFSET(Data!EK12,Offsets!$A$28,0)","v":0},{"$f":"OFFSET(Data!EL12,Offsets!$A$28,0)","v":0},{"$f":"OFFSET(Data!EM12,Offsets!$A$28,0)","v":0},{"$f":"OFFSET(Data!EN12,Offsets!$A$28,0)","v":0},{"$f":"OFFSET(Data!EO12,Offsets!$A$28,0)","v":0},{"$f":"OFFSET(Data!EP12,Offsets!$A$28,0)","v":24.857142857142858},{"$f":"OFFSET(Data!EQ12,Offsets!$A$28,0)","v":0.14285714285714285},{"$f":"OFFSET(Data!ER12,Offsets!$A$28,0)","v":1.2857142857142858},{"$f":"OFFSET(Data!ES12,Offsets!$A$28,0)","v":16.142857142857142},{"$f":"OFFSET(Data!ET12,Offsets!$A$28,0)","v":14.857142857142858},{"$f":"OFFSET(Data!EU12,Offsets!$A$28,0)","v":0.42857142857142855},{"$f":"OFFSET(Data!EV12,Offsets!$A$28,0)","v":0},{"$f":"OFFSET(Data!EW12,Offsets!$A$28,0)","v":0},{"$f":"OFFSET(Data!EX12,Offsets!$A$28,0)","v":0},{"$f":"OFFSET(Data!EY12,Offsets!$A$28,0)","v":0},{"$f":"OFFSET(Data!EZ12,Offsets!$A$28,0)","v":0},{"$f":"OFFSET(Data!FA12,Offsets!$A$28,0)","v":0},{"$f":"OFFSET(Data!FB12,Offsets!$A$28,0)","v":0.14285714285714285},{"$f":"OFFSET(Data!FC12,Offsets!$A$28,0)","v":33}]
[null,"08:00:00",{"$f":"OFFSET(Data!DQ13,Offsets!$A$28,0)","v":0},{"$f":"OFFSET(Data!DR13,Offsets!$A$28,0)","v":0},{"$f":"OFFSET(Data!DS13,Offsets!$A$28,0)","v":7},{"$f":"OFFSET(Data!DT13,Offsets!$A$28,0)","v":6.8571428571428568},{"$f":"OFFSET(Data!DU13,Offsets!$A$28,0)","v":0.14285714285714285},{"$f":"OFFSET(Data!DV13,Offsets!$A$28,0)","v":0},{"$f":"OFFSET(Data!DW13,Offsets!$A$28,0)","v":0},{"$f":"OFFSET(Data!DX13,Offsets!$A$28,0)","v":0},{"$f":"OFFSET(Data!DY13,Offsets!$A$28,0)","v":0},{"$f":"OFFSET(Data!DZ13,Offsets!$A$28,0)","v":0},{"$f":"OFFSET(Data!EA13,Offsets!$A$28,0)","v":0},{"$f":"OFFSET(Data!EB13,Offsets!$A$28,0)","v":0},{"$f":"OFFSET(Data!EC13,Offsets!$A$28,0)","v":14},{"$f":"OFFSET(Data!ED13,Offsets!$A$28,0)","v":0.14285714285714285},{"$f":"OFFSET(Data!EE13,Offsets!$A$28,0)","v":0.14285714285714285},{"$f":"OFFSET(Data!EF13,Offsets!$A$28,0)","v":14.857142857142858},{"$f":"OFFSET(Data!EG13,Offsets!$A$28,0)","v":11.857142857142858},{"$f":"OFFSET(Data!EH13,Offsets!$A$28,0)","v":0.2857142857142857},{"$f":"OFFSET(Data!EI13,Offsets!$A$28,0)","v":0},{"$f":"OFFSET(Data!EJ13,Offsets!$A$28,0)","v":0},{"$f":"OFFSET(Data!EK13,Offsets!$A$28,0)","v":0},{"$f":"OFFSET(Data!EL13,Offsets!$A$28,0)","v":0},{"$f":"OFFSET(Data!EM13,Offsets!$A$28,0)","v":0},{"$f":"OFFSET(Data!EN13,Offsets!$A$28,0)","v":0},{"$f":"OFFSET(Data!EO13,Offsets!$A$28,0)","v":0},{"$f":"OFFSET(Data!EP13,Offsets!$A$28,0)","v":27.285714285714285},{"$f":"OFFSET(Data!EQ13,Offsets!$A$28,0)","v":0.14285714285714285},{"$f":"OFFSET(Data!ER13,Offsets!$A$28,0)","v":0.14285714285714285},{"$f":"OFFSET(Data!ES13,Offsets!$A$28,0)","v":21.857142857142858},{"$f":"OFFSET(Data!ET13,Offsets!$A$28,0)","v":18.714285714285715},{"$f":"OFFSET(Data!EU13,Offsets!$A$28,0)","v":0.42857142857142855},{"$f":"OFFSET(Data!EV13,Offsets!$A$28,0)","v":0},{"$f":"OFFSET(Data!EW13,Offsets!$A$28,0)","v":0},{"$f":"OFFSET(Data!EX13,Offsets!$A$28,0)","v":0},{"$f":"OFFSET(Data!EY13,Offsets!$A$28,0)","v":0},{"$f":"OFFSET(Data!EZ13,Offsets!$A$28,0)","v":0},{"$f":"OFFSET(Data!FA13,Offsets!$A$28,0)","v":0},{"$f":"OFFSET(Data!FB13,Offsets!$A$28,0)","v":0},{"$f":"OFFSET(Data!FC13,Offsets!$A$28,0)","v":41.285714285714285}]
[null,"09:00:00",{"$f":"OFFSET(Data!DQ14,Offsets!$A$28,0)","v":0},{"$f":"OFFSET(Data!DR14,Offsets!$A$28,0)","v":0},{"$f":"OFFSET(Data!DS14,Offsets!$A$28,0)","v":8.7142857142857135},{"$f":"OFFSET(Data!DT14,Offsets!$A$28,0)","v":6},{"$f":"OFFSET(Data!DU14,Offsets!$A$28,0)","v":0.14285714285714285},{"$f":"OFFSET(Data!DV14,Offsets!$A$28,0)","v":0},{"$f":"OFFSET(Data!DW14,Offsets!$A$28,0)","v":0},{"$f":"OFFSET(Data!DX14,Offsets!$A$28,0)","v":0.14285714285714285},{"$f":"OFFSET(Data!DY14,Offsets!$A$28,0)","v":0},{"$f":"OFFSET(Data!DZ14,Offsets!$A$28,0)","v":0},{"$f":"OFFSET(Data!EA14,Offsets!$A$28,0)","v":0},{"$f":"OFFSET(Data!EB14,Offsets!$A$28,0)","v":0},{"$f":"OFFSET(Data!EC14,Offsets!$A$28,0)","v":14.999999999999998},{"$f":"OFFSET(Data!ED14,Offsets!$A$28,0)","v":0.14285714285714285},{"$f":"OFFSET(Data!EE14,Offsets!$A$28,0)","v":0.5714285714285714},{"$f":"OFFSET(Data!EF14,Offsets!$A$28,0)","v":12.714285714285714},{"$f":"OFFSET(Data!EG14,Offsets!$A$28,0)","v":11},{"$f":"OFFSET(Data!EH14,Offsets!$A$28,0)","v":0.42857142857142855},{"$f":"OFFSET(Data!EI14,Offsets!$A$28,0)","v":0},{"$f":"OFFSET(Data!EJ14,Offsets!$A$28,0)","v":0},{"$f":"OFFSET(Data!EK14,Offsets!$A$28,0)","v":0},{"$f":"OFFSET(Data!EL14,Offsets!$A$28,0)","v":0},{"$f":"OFFSET(Data!EM14,Offsets!$A$28,0)","v":0},{"$f":"OFFSET(Data!EN14,Offsets!$A$28,0)","v":0},{"$f":"OFFSET(Data!EO14,Offsets!$A$28,0)","v":0},{"$f":"OFFSET(Data!EP14,Offsets!$A$28,0)","v":24.857142857142854},{"$f":"OFFSET(Data!EQ14,Offsets!$A$28,0)","v":0.14285714285714285},{"$f":"OFFSET(Data!ER14,Offsets!$A$28,0)","v":0.5714285714285714},{"$f":"OFFSET(Data!ES14,Offsets!$A$28,0)","v":21.428571428571427},{"$f":"OFFSET(Data!ET14,Offsets!$A$28,0)","v":17},{"$f":"OFFSET(Data!EU14,Offsets!$A$28,0)","v":0.5714285714285714},{"$f":"OFFSET(Data!EV14,Offsets!$A$28,0)","v":0},{"$f":"OFFSET(Data!EW14,Offsets!$A$28,0)","v":0},{"$f":"OFFSET(Data!EX14,Offsets!$A$28,0)","v":0.14285714285714285},{"$f":"OFFSET(Data!EY14,Offsets!$A$28,0)","v":0},{"$f":"OFFSET(Data!EZ14,Offsets!$A$28,0)","v":0},{"$f":"OFFSET(Data!FA14,Offsets!$A$28,0)","v":0},{"$f":"OFFSET(Data!FB14,Offsets!$A$28,0)","v":0},{"$f":"OFFSET(Data!FC14,Offsets!$A$28,0)","v":39.857142857142854}]
[null,"10:00:00",{"$f":"OFFSET(Data!DQ15,Offsets!$A$28,0)","v":0},{"$f":"OFFSET(Data!DR15,Offsets!$A$28,0)","v":0.14285714285714285},{"$f":"OFFSET(Data!DS15,Offsets!$A$28,0)","v":8.4285714285714288},{"$f":"OFFSET(Data!DT15,Offsets!$A$28,0)","v":7.1428571428571432},{"$f":"OFFSET(Data!DU15,Offsets!$A$28,0)","v":1.1428571428571428},{"$f":"OFFSET(Data!DV15,Offsets!$A$28,0)","v":0},{"$f":"OFFSET(Data!DW15,Offsets!$A$28,0)","v":0},{"$f":"OFFSET(Data!DX15,Offsets!$A$28,0)","v":0},{"$f":"OFFSET(Data!DY15,Offsets!$A$28,0)","v":0},{"$f":"OFFSET(Data!DZ15,Offsets!$A$28,0)","v":0},{"$f":"OFFSET(Data!EA15,Offsets!$A$28,0)","v":0.14285714285714285},{"$f":"OFFSET(Data!EB15,Offsets!$A$28,0)","v":0},{"$f":"OFFSET(Data!EC15,Offsets!$A$28,0)","v":17},{"$f":"OFFSET(Data!ED15,Offsets!$A$28,0)","v":0},{"$f":"OFFSET(Data!EE15,Offsets!$A$28,0)","v":0.2857142857142857},{"$f":"OFFSET(Data!EF15,Offsets!$A$28,0)","v":10.428571428571429},{"$f":"OFFSET(Data!EG15,Offsets!$A$28,0)","v":10},{"$f":"OFFSET(Data!EH15,Offsets!$A$28,0)","v":0.5714285714285714},{"$f":"OFFSET(Data!EI15,Offsets!$A$28,0)","v":0},{"$f":"OFFSET(Data!EJ15,Offsets!$A$28,0)","v":0},{"$f":"OFFSET(Data!EK15,Offsets!$A$28,0)","v":0},{"$f":"OFFSET(Data!EL15,Offsets!$A$28,0)","v":0},{"$f":"OFFSET(Data!EM15,Offsets!$A$28,0)","v":0},{"$f":"OFFSET(Data!EN15,Offsets!$A$28,0)","v":0},{"$f":"OFFSET(Data!EO15,Offsets!$A$28,0)","v":0},{"$f":"OFFSET(Data!EP15,Offsets!$A$28,0)","v":21.285714285714288},{"$f":"OFFSET(Data!EQ15,Offsets!$A$28,0)","v":0},{"$f":"OFFSET(Data!ER15,Offsets!$A$28,0)","v":0.42857142857142855},{"$f":"OFFSET(Data!ES15,Offsets!$A$28,0)","v":18.857142857142858},{"$f":"OFFSET(Data!ET15,Offsets!$A$28,0)","v":17.142857142857142},{"$f":"OFFSET(Data!EU15,Offsets!$A$28,0)","v":1.7142857142857142},{"$f":"OFFSET(Data!EV15,Offsets!$A$28,0)","v":0},{"$f":"OFFSET(Data!EW15,Offsets!$A$28,0)","v":0},{"$f":"OFFSET(Data!EX15,Offsets!$A$28,0)","v":0},{"$f":"OFFSET(Data!EY15,Offsets!$A$28,0)","v":0},{"$f":"OFFSET(Data!EZ15,Offsets!$A$28,0)","v":0},{"$f":"OFFSET(Data!FA15,Offsets!$A$28,0)","v":0.14285714285714285},{"$f":"OFFSET(Data!FB15,Offsets!$A$28,0)","v":0},{"$f":"OFFSET(Data!FC15,Offsets!$A$28,0)","v":38.285714285714292}]
[null,"11:00:00",{"$f":"OFFSET(Data!DQ16,Offsets!$A$28,0)","v":0},{"$f":"OFFSET(Data!DR16,Offsets!$A$28,0)","v":0.14285714285714285},{"$f":"OFFSET(Data!DS16,Offsets!$A$28,0)","v":10.571428571428571},{"$f":"OFFSET(Data!DT16,Offsets!$A$28,0)","v":8},{"$f":"OFFSET(Data!DU16,Offsets!$A$28,0)","v":0.2857142857142857},{"$f":"OFFSET(Data!DV16,Offsets!$A$28,0)","v":0},{"$f":"OFFSET(Data!DW16,Offsets!$A$28,0)","v":0},{"$f":"OFFSET(Data!DX16,Offsets!$A$28,0)","v":0},{"$f":"OFFSET(Data!DY16,Offsets!$A$28,0)","v":0},{"$f":"OFFSET(Data!DZ16,Offsets!$A$28,0)","v":0},{"$f":"OFFSET(Data!EA16,Offsets!$A$28,0)","v":0},{"$f":"OFFSET(Data!EB16,Offsets!$A$28,0)","v":0.14285714285714285},{"$f":"OFFSET(Data!EC16,Offsets!$A$28,0)","v":19.142857142857142},{"$f":"OFFSET(Data!ED16,Offsets!$A$28,0)","v":0},{"$f":"OFFSET(Data!EE16,Offsets!$A$28,0)","v":0.5714285714285714},{"$f":"OFFSET(Data!EF16,Offsets!$A$28,0)","v":11.142857142857142},{"$f":"OFFSET(Data!EG16,Offsets!$A$28,0)","v":12.428571428571429},{"$f":"OFFSET(Data!EH16,Offsets!$A$28,0)","v":0.7142857142857143},{"$f":"OFFSET(Data!EI16,Offsets!$A$28,0)","v":0.14285714285714285},{"$f":"OFFSET(Data!EJ16,Offsets!$A$28,0)","v":0},{"$f":"OFFSET(Data!EK16,Offsets!$A$28,0)","v":0.14285714285714285},{"$f":"OFFSET(Data!EL16,Offsets!$A$28,0)","v":0},{"$f":"OFFSET(Data!EM16,Offsets!$A$28,0)","v":0},{"$f":"OFFSET(Data!EN16,Offsets!$A$28,0)","v":0},{"$f":"OFFSET(Data!EO16,Offsets!$A$28,0)","v":0},{"$f":"OFFSET(Data!EP16,Offsets!$A$28,0)","v":25.142857142857142},{"$f":"OFFSET(Data!EQ16,Offsets!$A$28,0)","v":0},{"$f":"OFFSET(Data!ER16,Offsets!$A$28,0)","v":0.71428571428571419},{"$f":"OFFSET(Data!ES16,Offsets!$A$28,0)","v":21.714285714285715},{"$f":"OFFSET(Data!ET16,Offsets!$A$28,0)","v":20.428571428571431},{"$f":"OFFSET(Data!EU16,Offsets!$A$28,0)","v":1},{"$f":"OFFSET(Data!EV16,Offsets!$A$28,0)","v":0.14285714285714285},{"$f":"OFFSET(Data!EW16,Offsets!$A$28,0)","v":0},{"$f":"OFFSET(Data!EX16,Offsets!$A$28,0)","v":0.14285714285714285},{"$f":"OFFSET(Data!EY16,Offsets!$A$28,0)","v":0},{"$f":"OFFSET(Data!EZ16,Offsets!$A$28,0)","v":0},{"$f":"OFFSET(Data!FA16,Offsets!$A$28,0)","v":0},{"$f":"OFFSET(Data!FB16,Offsets!$A$28,0)","v":0.14285714285714285},{"$f":"OFFSET(Data!FC16,Offsets!$A$28,0)","v":44.285714285714285}]
[null,"12:00:00",{"$f":"OFFSET(Data!DQ17,Offsets!$A$28,0)","v":0},{"$f":"OFFSET(Data!DR17,Offsets!$A$28,0)","v":0.2857142857142857},{"$f":"OFFSET(Data!DS17,Offsets!$A$28,0)","v":10.428571428571429},{"$f":"OFFSET(Data!DT17,Offsets!$A$28,0)","v":9.5714285714285712},{"$f":"OFFSET(Data!DU17,Offsets!$A$28,0)","v":0.42857142857142855},{"$f":"OFFSET(Data!DV17,Offsets!$A$28,0)","v":0},{"$f":"OFFSET(Data!DW17,Offsets!$A$28,0)","v":0},{"$f":"OFFSET(Data!DX17,Offsets!$A$28,0)","v":0},{"$f":"OFFSET(Data!DY17,Offsets!$A$28,0)","v":0},{"$f":"OFFSET(Data!DZ17,Offsets!$A$28,0)","v":0},{"$f":"OFFSET(Data!EA17,Offsets!$A$28,0)","v":0},{"$f":"OFFSET(Data!EB17,Offsets!$A$28,0)","v":0},{"$f":"OFFSET(Data!EC17,Offsets!$A$28,0)","v":20.714285714285712},{"$f":"OFFSET(Data!ED17,Offsets!$A$28,0)","v":0},{"$f":"OFFSET(Data!EE17,Offsets!$A$28,0)","v":0.14285714285714285},{"$f":"OFFSET(Data!EF17,Offsets!$A$28,0)","v":9.4285714285714288},{"$f":"OFFSET(Data!EG17,Offsets!$A$28,0)","v":9.7142857142857135},{"$f":"OFFSET(Data!EH17,Offsets!$A$28,0)","v":0.5714285714285714},{"$f":"OFFSET(Data!EI17,Offsets!$A$28,0)","v":0},{"$f":"OFFSET(Data!EJ17,Offsets!$A$28,0)","v":0},{"$f":"OFFSET(Data!EK17,Offsets!$A$28,0)","v":0},{"$f":"OFFSET(Data!EL17,Offsets!$A$28,0)","v":0},{"$f":"OFFSET(Data!EM17,Offsets!$A$28,0)","v":0},{"$f":"OFFSET(Data!EN17,Offsets!$A$28,0)","v":0},{"$f":"OFFSET(Data!EO17,Offsets!$A$28,0)","v":0},{"$f":"OFFSET(Data!EP17,Offsets!$A$28,0)","v":19.857142857142858},{"$f":"OFFSET(Data!EQ17,Offsets!$A$28,0)","v":0},{"$f":"OFFSET(Data!ER17,Offsets!$A$28,0)","v":0.42857142857142855},{"$f":"OFFSET(Data!ES17,Offsets!$A$28,0)","v":19.857142857142858},{"$f":"OFFSET(Data!ET17,Offsets!$A$28,0)","v":19.285714285714285},{"$f":"OFFSET(Data!EU17,Offsets!$A$28,0)","v":1},{"$f":"OFFSET(Data!EV17,Offsets!$A$28,0)","v":0},{"$f":"OFFSET(Data!EW17,Offsets!$A$28,0)","v":0},{"$f":"OFFSET(Data!EX17,Offsets!$A$28,0)","v":0},{"$f":"OFFSET(Data!EY17,Offsets!$A$28,0)","v":0},{"$f":"OFFSET(Data!EZ17,Offsets!$A$28,0)","v":0},{"$f":"OFFSET(Data!FA17,Offsets!$A$28,0)","v":0},{"$f":"OFFSET(Data!FB17,Offsets!$A$28,0)","v":0},{"$f":"OFFSET(Data!FC17,Offsets!$A$28,0)","v":40.571428571428569}]
[null,"13:00:00",{"$f":"OFFSET(Data!DQ18,Offsets!$A$28,0)","v":0},{"$f":"OFFSET(Data!DR18,Offsets!$A$28,0)","v":0},{"$f":"OFFSET(Data!DS18,Offsets!$A$28,0)","v":12.142857142857142},{"$f":"OFFSET(Data!DT18,Offsets!$A$28,0)","v":9.7142857142857135},{"$f":"OFFSET(Data!DU18,Offsets!$A$28,0)","v":0.42857142857142855},{"$f":"OFFSET(Data!DV18,Offsets!$A$28,0)","v":0},{"$f":"OFFSET(Data!DW18,Offsets!$A$28,0)","v":0},{"$f":"OFFSET(Data!DX18,Offsets!$A$28,0)","v":0.14285714285714285},{"$f":"OFFSET(Data!DY18,Offsets!$A$28,0)","v":0},{"$f":"OFFSET(Data!DZ18,Offsets!$A$28,0)","v":0},{"$f":"OFFSET(Data!EA18,Offsets!$A$28,0)","v":0},{"$f":"OFFSET(Data!EB18,Offsets!$A$28,0)","v":0},{"$f":"OFFSET(Data!EC18,Offsets!$A$28,0)","v":22.428571428571423},{"$f":"OFFSET(Data!ED18,Offsets!$A$28,0)","v":0},{"$f":"OFFSET(Data!EE18,Offsets!$A$28,0)","v":1},{"$f":"OFFSET(Data!EF18,Offsets!$A$28,0)","v":12.428571428571429},{"$f":"OFFSET(Data!EG18,Offsets!$A$28,0)","v":9},{"$f":"OFFSET(Data!EH18,Offsets!$A$28,0)","v":0.42857142857142855},{"$f":"OFFSET(Data!EI18,Offsets!$A$28,0)","v":0},{"$f":"OFFSET(Data!EJ18,Offsets!$A$28,0)","v":0},{"$f":"OFFSET(Data!EK18,Offsets!$A$28,0)","v":0.2857142857142857},{"$f":"OFFSET(Data!EL18,Offsets!$A$28,0)","v":0},{"$f":"OFFSET(Data!EM18,Offsets!$A$28,0)","v":0},{"$f":"OFFSET(Data!EN18,Offsets!$A$28,0)","v":0},{"$f":"OFFSET(Data!EO18,Offsets!$A$28,0)","v":0},{"$f":"OFFSET(Data!EP18,Offsets!$A$28,0)","v":23.142857142857142},{"$f":"OFFSET(Data!EQ18,Offsets!$A$28,0)","v":0},{"$f":"OFFSET(Data!ER18,Offsets!$A$28,0)","v":1},{"$f":"OFFSET(Data!ES18,Offsets!$A$28,0)","v":24.571428571428569},{"$f":"OFFSET(Data!ET18,Offsets!$A$28,0)","v":18.714285714285715},{"$f":"OFFSET(Data!EU18,Offsets!$A$28,0)","v":0.8571428571428571},{"$f":"OFFSET(Data!EV18,Offsets!$A$28,0)","v":0},{"$f":"OFFSET(Data!EW18,Offsets!$A$28,0)","v":0},{"$f":"OFFSET(Data!EX18,Offsets!$A$28,0)","v":0.42857142857142855},{"$f":"OFFSET(Data!EY18,Offsets!$A$28,0)","v":0},{"$f":"OFFSET(Data!EZ18,Offsets!$A$28,0)","v":0},{"$f":"OFFSET(Data!FA18,Offsets!$A$28,0)","v":0},{"$f":"OFFSET(Data!FB18,Offsets!$A$28,0)","v":0},{"$f":"OFFSET(Data!FC18,Offsets!$A$28,0)","v":45.571428571428569}]
[null,"14:00:00",{"$f":"OFFSET(Data!DQ19,Offsets!$A$28,0)","v":0},{"$f":"OFFSET(Data!DR19,Offsets!$A$28,0)","v":0.14285714285714285},{"$f":"OFFSET(Data!DS19,Offsets!$A$28,0)","v":9.4285714285714288},{"$f":"OFFSET(Data!DT19,Offsets!$A$28,0)","v":7.5714285714285712},{"$f":"OFFSET(Data!DU19,Offsets!$A$28,0)","v":0.42857142857142855},{"$f":"OFFSET(Data!DV19,Offsets!$A$28,0)","v":0},{"$f":"OFFSET(Data!DW19,Offsets!$A$28,0)","v":0},{"$f":"OFFSET(Data!DX19,Offsets!$A$28,0)","v":0.14285714285714285},{"$f":"OFFSET(Data!DY19,Offsets!$A$28,0)","v":0},{"$f":"OFFSET(Data!DZ19,Offsets!$A$28,0)","v":0},{"$f":"OFFSET(Data!EA19,Offsets!$A$28,0)","v":0},{"$f":"OFFSET(Data!EB19,Offsets!$A$28,0)","v":0},{"$f":"OFFSET(Data!EC19,Offsets!$A$28,0)","v":17.714285714285712},{"$f":"OFFSET(Data!ED19,Offsets!$A$28,0)","v":0},{"$f":"OFFSET(Data!EE19,Offsets!$A$28,0)","v":1},{"$f":"OFFSET(Data!EF19,Offsets!$A$28,0)","v":12.857142857142858},{"$f":"OFFSET(Data!EG19,Offsets!$A$28,0)","v":9},{"$f":"OFFSET(Data!EH19,Offsets!$A$28,0)","v":0.5714285714285714},{"$f":"OFFSET(Data!EI19,Offsets!$A$28,0)","v":0},{"$f":"OFFSET(Data!EJ19,Offsets!$A$28,0)","v":0},{"$f":"OFFSET(Data!EK19,Offsets!$A$28,0)","v":0.42857142857142855},{"$f":"OFFSET(Data!EL19,Offsets!$A$28,0)","v":0},{"$f":"OFFSET(Data!EM19,Offsets!$A$28,0)","v":0},{"$f":"OFFSET(Data!EN19,Offsets!$A$28,0)","v":0},{"$f":"OFFSET(Data!EO19,Offsets!$A$28,0)","v":0},{"$f":"OFFSET(Data!EP19,Offsets!$A$28,0)","v":23.857142857142858},{"$f":"OFFSET(Data!EQ19,Offsets!$A$28,0)","v":0},{"$f":"OFFSET(Data!ER19,Offsets!$A$28,0)","v":1.1428571428571428},{"$f":"OFFSET(Data!ES19,Offsets!$A$28,0)","v":22.285714285714285},{"$f":"OFFSET(Data!ET19,Offsets!$A$28,0)","v":16.571428571428569},{"$f":"OFFSET(Data!EU19,Offsets!$A$28,0)","v":1},{"$f":"OFFSET(Data!EV19,Offsets!$A$28,0)","v":0},{"$f":"OFFSET(Data!EW19,Offsets!$A$28,0)","v":0},{"$f":"OFFSET(Data!EX19,Offsets!$A$28,0)","v":0.5714285714285714},{"$f":"OFFSET(Data!EY19,Offsets!$A$28,0)","v":0},{"$f":"OFFSET(Data!EZ19,Offsets!$A$28,0)","v":0},{"$f":"OFFSET(Data!FA19,Offsets!$A$28,0)","v":0},{"$f":"OFFSET(Data!FB19,Offsets!$A$28,0)","v":0},{"$f":"OFFSET(Data!FC19,Offsets!$A$28,0)","v":41.571428571428569}]
[null,"15:00:00",{"$f":"OFFSET(Data!DQ20,Offsets!$A$28,0)","v":0},{"$f":"OFFSET(Data!DR20,Offsets!$A$28,0)","v":0},{"$f":"OFFSET(Data!DS20,Offsets!$A$28,0)","v":10.857142857142858},{"$f":"OFFSET(Data!DT20,Offsets!$A$28,0)","v":8.2857142857142865},{"$f":"OFFSET(Data!DU20,Offsets!$A$28,0)","v":0.14285714285714285},{"$f":"OFFSET(Data!DV20,Offsets!$A$28,0)","v":0},{"$f":"OFFSET(Data!DW20,Offsets!$A$28,0)","v":0},{"$f":"OFFSET(Data!DX20,Offsets!$A$28,0)","v":0},{"$f":"OFFSET(Data!DY20,Offsets!$A$28,0)","v":0},{"$f":"OFFSET(Data!DZ20,Offsets!$A$28,0)","v":0},{"$f":"OFFSET(Data!EA20,Offsets!$A$28,0)","v":0},{"$f":"OFFSET(Data!EB20,Offsets!$A$28,0)","v":0},{"$f":"OFFSET(Data!EC20,Offsets!$A$28,0)","v":19.285714285714288},{"$f":"OFFSET(Data!ED20,Offsets!$A$28,0)","v":0},{"$f":"OFFSET(Data!EE20,Offsets!$A$28,0)","v":1.4285714285714286},{"$f":"OFFSET(Data!EF20,Offsets!$A$28,0)","v":11.857142857142858},{"$f":"OFFSET(Data!EG20,Offsets!$A$28,0)","v":10.285714285714286},{"$f":"OFFSET(Data!EH20,Offsets!$A$28,0)","v":0.2857142857142857},{"$f":"OFFSET(Data!EI20,Offsets!$A$28,0)","v":0},{"$f":"OFFSET(Data!EJ20,Offsets!$A$28,0)","v":0},{"$f":"OFFSET(Data!EK20,Offsets!$A$28,0)","v":0.2857142857142857},{"$f":"OFFSET(Data!EL20,Offsets!$A$28,0)","v":0},{"$f":"OFFSET(Data!EM20,Offsets!$A$28,0)","v":0},{"$f":"OFFSET(Data!EN20,Offsets!$A$28,0)","v":0},{"$f":"OFFSET(Data!EO20,Offsets!$A$28,0)","v":0},{"$f":"OFFSET(Data!EP20,Offsets!$A$28,0)","v":24.142857142857142},{"$f":"OFFSET(Data!EQ20,Offsets!$A$28,0)","v":0},{"$f":"OFFSET(Data!ER20,Offsets!$A$28,0)","v":1.4285714285714286},{"$f":"OFFSET(Data!ES20,Offsets!$A$28,0)","v":22.714285714285715},{"$f":"OFFSET(Data!ET20,Offsets!$A$28,0)","v":18.571428571428573},{"$f":"OFFSET(Data!EU20,Offsets!$A$28,0)","v":0.42857142857142855},{"$f":"OFFSET(Data!EV20,Offsets!$A$28,0)","v":0},{"$f":"OFFSET(Data!EW20,Offsets!$A$28,0)","v":0},{"$f":"OFFSET(Data!EX20,Offsets!$A$28,0)","v":0.2857142857142857},{"$f":"OFFSET(Data!EY20,Offsets!$A$28,0)","v":0},{"$f":"OFFSET(Data!EZ20,Offsets!$A$28,0)","v":0},{"$f":"OFFSET(Data!FA20,Offsets!$A$28,0)","v":0},{"$f":"OFFSET(Data!FB20,Offsets!$A$28,0)","v":0},{"$f":"OFFSET(Data!FC20,Offsets!$A$28,0)","v":43.428571428571431}]
[null,"16:00:00",{"$f":"OFFSET(Data!DQ21,Offsets!$A$28,0)","v":0},{"$f":"OFFSET(Data!DR21,Offsets!$A$28,0)","v":1.1428571428571428},{"$f":"OFFSET(Data!DS21,Offsets!$A$28,0)","v":15.714285714285714},{"$f":"OFFSET(Data!DT21,Offsets!$A$28,0)","v":12.428571428571429},{"$f":"OFFSET(Data!DU21,Offsets!$A$28,0)","v":0.5714285714285714},{"$f":"OFFSET(Data!DV21,Offsets!$A$28,0)","v":0},{"$f":"OFFSET(Data!DW21,Offsets!$A$28,0)","v":0},{"$f":"OFFSET(Data!DX21,Offsets!$A$28,0)","v":0.14285714285714285},{"$f":"OFFSET(Data!DY21,Offsets!$A$28,0)","v":0},{"$f":"OFFSET(Data!DZ21,Offsets!$A$28,0)","v":0},{"$f":"OFFSET(Data!EA21,Offsets!$A$28,0)","v":0},{"$f":"OFFSET(Data!EB21,Offsets!$A$28,0)","v":0.14285714285714285},{"$f":"OFFSET(Data!EC21,Offsets!$A$28,0)","v":30.142857142857142},{"$f":"OFFSET(Data!ED21,Offsets!$A$28,0)","v":0},{"$f":"OFFSET(Data!EE21,Offsets!$A$28,0)","v":0.2857142857142857},{"$f":"OFFSET(Data!EF21,Offsets!$A$28,0)","v":11.571428571428571},{"$f":"OFFSET(Data!EG21,Offsets!$A$28,0)","v":11.142857142857142},{"$f":"OFFSET(Data!EH21,Offsets!$A$28,0)","v":0.42857142857142855},{"$f":"OFFSET(Data!EI21,Offsets!$A$28,0)","v":0},{"$f":"OFFSET(Data!EJ21,Offsets!$A$28,0)","v":0},{"$f":"OFFSET(Data!EK21,Offsets!$A$28,0)","v":0},{"$f":"OFFSET(Data!EL21,Offsets!$A$28,0)","v":0},{"$f":"OFFSET(Data!EM21,Offsets!$A$28,0)","v":0},{"$f":"OFFSET(Data!EN21,Offsets!$A$28,0)","v":0},{"$f":"OFFSET(Data!EO21,Offsets!$A$28,0)","v":0},{"$f":"OFFSET(Data!EP21,Offsets!$A$28,0)","v":23.428571428571427},{"$f":"OFFSET(Data!EQ21,Offsets!$A$28,0)","v":0},{"$f":"OFFSET(Data!ER21,Offsets!$A$28,0)","v":1.4285714285714284},{"$f":"OFFSET(Data!ES21,Offsets!$A$28,0)","v":27.285714285714285},{"$f":"OFFSET(Data!ET21,Offsets!$A$28,0)","v":23.571428571428569},{"$f":"OFFSET(Data!EU21,Offsets!$A$28,0)","v":1},{"$f":"OFFSET(Data!EV21,Offsets!$A$28,0)","v":0},{"$f":"OFFSET(Data!EW21,Offsets!$A$28,0)","v":0},{"$f":"OFFSET(Data!EX21,Offsets!$A$28,0)","v":0.14285714285714285},{"$f":"OFFSET(Data!EY21,Offsets!$A$28,0)","v":0},{"$f":"OFFSET(Data!EZ21,Offsets!$A$28,0)","v":0},{"$f":"OFFSET(Data!FA21,Offsets!$A$28,0)","v":0},{"$f":"OFFSET(Data!FB21,Offsets!$A$28,0)","v":0.14285714285714285},{"$f":"OFFSET(Data!FC21,Offsets!$A$28,0)","v":53.571428571428569}]
[null,"17:00:00",{"$f":"OFFSET(Data!DQ22,Offsets!$A$28,0)","v":0},{"$f":"OFFSET(Data!DR22,Offsets!$A$28,0)","v":0.2857142857142857},{"$f":"OFFSET(Data!DS22,Offsets!$A$28,0)","v":18.142857142857142},{"$f":"OFFSET(Data!DT22,Offsets!$A$28,0)","v":14},{"$f":"OFFSET(Data!DU22,Offsets!$A$28,0)","v":0.42857142857142855},{"$f":"OFFSET(Data!DV22,Offsets!$A$28,0)","v":0},{"$f":"OFFSET(Data!DW22,Offsets!$A$28,0)","v":0},{"$f":"OFFSET(Data!DX22,Offsets!$A$28,0)","v":0},{"$f":"OFFSET(Data!DY22,Offsets!$A$28,0)","v":0},{"$f":"OFFSET(Data!DZ22,Offsets!$A$28,0)","v":0},{"$f":"OFFSET(Data!EA22,Offsets!$A$28,0)","v":0},{"$f":"OFFSET(Data!EB22,Offsets!$A$28,0)","v":0},{"$f":"OFFSET(Data!EC22,Offsets!$A$28,0)","v":32.857142857142861},{"$f":"OFFSET(Data!ED22,Offsets!$A$28,0)","v":0},{"$f":"OFFSET(Data!EE22,Offsets!$A$28,0)","v":0.8571428571428571},{"$f":"OFFSET(Data!EF22,Offsets!$A$28,0)","v":11},{"$f":"OFFSET(Data!EG22,Offsets!$A$28,0)","v":10.857142857142858},{"$f":"OFFSET(Data!EH22,Offsets!$A$28,0)","v":0},{"$f":"OFFSET(Data!EI22,Offsets!$A$28,0)","v":0},{"$f":"OFFSET(Data!EJ22,Offsets!$A$28,0)","v":0},{"$f":"OFFSET(Data!EK22,Offsets!$A$28,0)","v":0},{"$f":"OFFSET(Data!EL22,Offsets!$A$28,0)","v":0},{"$f":"OFFSET(Data!EM22,Offsets!$A$28,0)","v":0},{"$f":"OFFSET(Data!EN22,Offsets!$A$28,0)","v":0},{"$f":"OFFSET(Data!EO22,Offsets!$A$28,0)","v":0},{"$f":"OFFSET(Data!EP22,Offsets!$A$28,0)","v":22.714285714285715},{"$f":"OFFSET(Data!EQ22,Offsets!$A$28,0)","v":0},{"$f":"OFFSET(Data!ER22,Offsets!$A$28,0)","v":1.1428571428571428},{"$f":"OFFSET(Data!ES22,Offsets!$A$28,0)","v":29.142857142857142},{"$f":"OFFSET(Data!ET22,Offsets!$A$28,0)","v":24.857142857142858},{"$f":"OFFSET(Data!EU22,Offsets!$A$28,0)","v":0.42857142857142855},{"$f":"OFFSET(Data!EV22,Offsets!$A$28,0)","v":0},{"$f":"OFFSET(Data!EW22,Offsets!$A$28,0)","v":0},{"$f":"OFFSET(Data!EX22,Offsets!$A$28,0)","v":0},{"$f":"OFFSET(Data!EY22,Offsets!$A$28,0)","v":0},{"$f":"OFFSET(Data!EZ22,Offsets!$A$28,0)","v":0},{"$f":"OFFSET(Data!FA22,Offsets!$A$28,0)","v":0},{"$f":"OFFSET(Data!FB22,Offsets!$A$28,0)","v":0},{"$f":"OFFSET(Data!FC22,Offsets!$A$28,0)","v":55.571428571428577}]
[null,"18:00:00",{"$f":"OFFSET(Data!DQ23,Offsets!$A$28,0)","v":0},{"$f":"OFFSET(Data!DR23,Offsets!$A$28,0)","v":0.7142857142857143},{"$f":"OFFSET(Data!DS23,Offsets!$A$28,0)","v":14},{"$f":"OFFSET(Data!DT23,Offsets!$A$28,0)","v":9.7142857142857135},{"$f":"OFFSET(Data!DU23,Offsets!$A$28,0)","v":0},{"$f":"OFFSET(Data!DV23,Offsets!$A$28,0)","v":0},{"$f":"OFFSET(Data!DW23,Offsets!$A$28,0)","v":0},{"$f":"OFFSET(Data!DX23,Offsets!$A$28,0)","v":0.14285714285714285},{"$f":"OFFSET(Data!DY23,Offsets!$A$28,0)","v":0},{"$f":"OFFSET(Data!DZ23,Offsets!$A$28,0)","v":0},{"$f":"OFFSET(Data!EA23,Offsets!$A$28,0)","v":0},{"$f":"OFFSET(Data!EB23,Offsets!$A$28,0)","v":0},{"$f":"OFFSET(Data!EC23,Offsets!$A$28,0)","v":24.571428571428569},{"$f":"OFFSET(Data!ED23,Offsets!$A$28,0)","v":0.14285714285714285},{"$f":"OFFSET(Data!EE23,Offsets!$A$28,0)","v":0.5714285714285714},{"$f":"OFFSET(Data!EF23,Offsets!$A$28,0)","v":11.142857142857142},{"$f":"OFFSET(Data!EG23,Offsets!$A$28,0)","v":8.4285714285714288},{"$f":"OFFSET(Data!EH23,Offsets!$A$28,0)","v":0.2857142857142857},{"$f":"OFFSET(Data!EI23,Offsets!$A$28,0)","v":0},{"$f":"OFFSET(Data!EJ23,Offsets!$A$28,0)","v":0},{"$f":"OFFSET(Data!EK23,Offsets!$A$28,0)","v":0},{"$f":"OFFSET(Data!EL23,Offsets!$A$28,0)","v":0},{"$f":"OFFSET(Data!EM23,Offsets!$A$28,0)","v":0},{"$f":"OFFSET(Data!EN23,Offsets!$A$28,0)","v":0},{"$f":"OFFSET(Data!EO23,Offsets!$A$28,0)","v":0},{"$f":"OFFSET(Data!EP23,Offsets!$A$28,0)","v":20.571428571428569},{"$f":"OFFSET(Data!EQ23,Offsets!$A$28,0)","v":0.14285714285714285},{"$f":"OFFSET(Data!ER23,Offsets!$A$28,0)","v":1.2857142857142856},{"$f":"OFFSET(Data!ES23,Offsets!$A$28,0)","v":25.142857142857142},{"$f":"OFFSET(Data!ET23,Offsets!$A$28,0)","v":18.142857142857142},{"$f":"OFFSET(Data!EU23,Offsets!$A$28,0)","v":0.2857142857142857},{"$f":"OFFSET(Data!EV23,Offsets!$A$28,0)","v":0},{"$f":"OFFSET(Data!EW23,Offsets!$A$28,0)","v":0},{"$f":"OFFSET(Data!EX23,Offsets!$A$28,0)","v":0.14285714285714285},{"$f":"OFFSET(Data!EY23,Offsets!$A$28,0)","v":0},{"$f":"OFFSET(Data!EZ23,Offsets!$A$28,0)","v":0},{"$f":"OFFSET(Data!FA23,Offsets!$A$28,0)","v":0},{"$f":"OFFSET(Data!FB23,Offsets!$A$28,0)","v":0},{"$f":"OFFSET(Data!FC23,Offsets!$A$28,0)","v":45.142857142857139}]
[null,"19:00:00",{"$f":"OFFSET(Data!DQ24,Offsets!$A$28,0)","v":0},{"$f":"OFFSET(Data!DR24,Offsets!$A$28,0)","v":0.2857142857142857},{"$f":"OFFSET(Data!DS24,Offsets!$A$28,0)","v":7},{"$f":"OFFSET(Data!DT24,Offsets!$A$28,0)","v":9.4285714285714288},{"$f":"OFFSET(Data!DU24,Offsets!$A$28,0)","v":0.14285714285714285},{"$f":"OFFSET(Data!DV24,Offsets!$A$28,0)","v":0},{"$f":"OFFSET(Data!DW24,Offsets!$A$28,0)","v":0},{"$f":"OFFSET(Data!DX24,Offsets!$A$28,0)","v":0.14285714285714285},{"$f":"OFFSET(Data!DY24,Offsets!$A$28,0)","v":0},{"$f":"OFFSET(Data!DZ24,Offsets!$A$28,0)","v":0},{"$f":"OFFSET(Data!EA24,Offsets!$A$28,0)","v":0},{"$f":"OFFSET(Data!EB24,Offsets!$A$28,0)","v":0},{"$f":"OFFSET(Data!EC24,Offsets!$A$28,0)","v":17},{"$f":"OFFSET(Data!ED24,Offsets!$A$28,0)","v":0},{"$f":"OFFSET(Data!EE24,Offsets!$A$28,0)","v":0},{"$f":"OFFSET(Data!EF24,Offsets!$A$28,0)","v":6.1428571428571432},{"$f":"OFFSET(Data!EG24,Offsets!$A$28,0)","v":3.8571428571428572},{"$f":"OFFSET(Data!EH24,Offsets!$A$28,0)","v":0},{"$f":"OFFSET(Data!EI24,Offsets!$A$28,0)","v":0},{"$f":"OFFSET(Data!EJ24,Offsets!$A$28,0)","v":0},{"$f":"OFFSET(Data!EK24,Offsets!$A$28,0)","v":0},{"$f":"OFFSET(Data!EL24,Offsets!$A$28,0)","v":0},{"$f":"OFFSET(Data!EM24,Offsets!$A$28,0)","v":0},{"$f":"OFFSET(Data!EN24,Offsets!$A$28,0)","v":0},{"$f":"OFFSET(Data!EO24,Offsets!$A$28,0)","v":0},{"$f":"OFFSET(Data!EP24,Offsets!$A$28,0)","v":10},{"$f":"OFFSET(Data!EQ24,Offsets!$A$28,0)","v":0},{"$f":"OFFSET(Data!ER24,Offsets!$A$28,0)","v":0.2857142857142857},{"$f":"OFFSET(Data!ES24,Offsets!$A$28,0)","v":13.142857142857142},{"$f":"OFFSET(Data!ET24,Offsets!$A$28,0)","v":13.285714285714286},{"$f":"OFFSET(Data!EU24,Offsets!$A$28,0)","v":0.14285714285714285},{"$f":"OFFSET(Data!EV24,Offsets!$A$28,0)","v":0},{"$f":"OFFSET(Data!EW24,Offsets!$A$28,0)","v":0},{"$f":"OFFSET(Data!EX24,Offsets!$A$28,0)","v":0.14285714285714285},{"$f":"OFFSET(Data!EY24,Offsets!$A$28,0)","v":0},{"$f":"OFFSET(Data!EZ24,Offsets!$A$28,0)","v":0},{"$f":"OFFSET(Data!FA24,Offsets!$A$28,0)","v":0},{"$f":"OFFSET(Data!FB24,Offsets!$A$28,0)","v":0},{"$f":"OFFSET(Data!FC24,Offsets!$A$28,0)","v":27}]
[null,"20:00:00",{"$f":"OFFSET(Data!DQ25,Offsets!$A$28,0)","v":0},{"$f":"OFFSET(Data!DR25,Offsets!$A$28,0)","v":0},{"$f":"OFFSET(Data!DS25,Offsets!$A$28,0)","v":6},{"$f":"OFFSET(Data!DT25,Offsets!$A$28,0)","v":4.2857142857142856},{"$f":"OFFSET(Data!DU25,Offsets!$A$28,0)","v":0},{"$f":"OFFSET(Data!DV25,Offsets!$A$28,0)","v":0},{"$f":"OFFSET(Data!DW25,Offsets!$A$28,0)","v":0},{"$f":"OFFSET(Data!DX25,Offsets!$A$28,0)","v":0},{"$f":"OFFSET(Data!DY25,Offsets!$A$28,0)","v":0},{"$f":"OFFSET(Data!DZ25,Offsets!$A$28,0)","v":0},{"$f":"OFFSET(Data!EA25,Offsets!$A$28,0)","v":0},{"$f":"OFFSET(Data!EB25,Offsets!$A$28,0)","v":0},{"$f":"OFFSET(Data!EC25,Offsets!$A$28,0)","v":10.285714285714285},{"$f":"OFFSET(Data!ED25,Offsets!$A$28,0)","v":0},{"$f":"OFFSET(Data!EE25,Offsets!$A$28,0)","v":0},{"$f":"OFFSET(Data!EF25,Offsets!$A$28,0)","v":3.7142857142857144},{"$f":"OFFSET(Data!EG25,Offsets!$A$28,0)","v":2.1428571428571428},{"$f":"OFFSET(Data!EH25,Offsets!$A$28,0)","v":0.2857142857142857},{"$f":"OFFSET(Data!EI25,Offsets!$A$28,0)","v":0},{"$f":"OFFSET(Data!EJ25,Offsets!$A$28,0)","v":0},{"$f":"OFFSET(Data!EK25,Offsets!$A$28,0)","v":0},{"$f":"OFFSET(Data!EL25,Offsets!$A$28,0)","v":0},{"$f":"OFFSET(Data!EM25,Offsets!$A$28,0)","v":0},{"$f":"OFFSET(Data!EN25,Offsets!$A$28,0)","v":0},{"$f":"OFFSET(Data!EO25,Offsets!$A$28,0)","v":0},{"$f":"OFFSET(Data!EP25,Offsets!$A$28,0)","v":6.1428571428571432},{"$f":"OFFSET(Data!EQ25,Offsets!$A$28,0)","v":0},{"$f":"OFFSET(Data!ER25,Offsets!$A$28,0)","v":0},{"$f":"OFFSET(Data!ES25,Offsets!$A$28,0)","v":9.7142857142857153},{"$f":"OFFSET(Data!ET25,Offsets!$A$28,0)","v":6.4285714285714288},{"$f":"OFFSET(Data!EU25,Offsets!$A$28,0)","v":0.2857142857142857},{"$f":"OFFSET(Data!EV25,Offsets!$A$28,0)","v":0},{"$f":"OFFSET(Data!EW25,Offsets!$A$28,0)","v":0},{"$f":"OFFSET(Data!EX25,Offsets!$A$28,0)","v":0},{"$f":"OFFSET(Data!EY25,Offsets!$A$28,0)","v":0},{"$f":"OFFSET(Data!EZ25,Offsets!$A$28,0)","v":0},{"$f":"OFFSET(Data!FA25,Offsets!$A$28,0)","v":0},{"$f":"OFFSET(Data!FB25,Offsets!$A$28,0)","v":0},{"$f":"OFFSET(Data!FC25,Offsets!$A$28,0)","v":16.428571428571427}]
[null,"21:00:00",{"$f":"OFFSET(Data!DQ26,Offsets!$A$28,0)","v":0},{"$f":"OFFSET(Data!DR26,Offsets!$A$28,0)","v":0.14285714285714285},{"$f":"OFFSET(Data!DS26,Offsets!$A$28,0)","v":3.1428571428571428},{"$f":"OFFSET(Data!DT26,Offsets!$A$28,0)","v":2.4285714285714284},{"$f":"OFFSET(Data!DU26,Offsets!$A$28,0)","v":0},{"$f":"OFFSET(Data!DV26,Offsets!$A$28,0)","v":0},{"$f":"OFFSET(Data!DW26,Offsets!$A$28,0)","v":0},{"$f":"OFFSET(Data!DX26,Offsets!$A$28,0)","v":0},{"$f":"OFFSET(Data!DY26,Offsets!$A$28,0)","v":0},{"$f":"OFFSET(Data!DZ26,Offsets!$A$28,0)","v":0},{"$f":"OFFSET(Data!EA26,Offsets!$A$28,0)","v":0},{"$f":"OFFSET(Data!EB26,Offsets!$A$28,0)","v":0},{"$f":"OFFSET(Data!EC26,Offsets!$A$28,0)","v":5.7142857142857135},{"$f":"OFFSET(Data!ED26,Offsets!$A$28,0)","v":0},{"$f":"OFFSET(Data!EE26,Offsets!$A$28,0)","v":0},{"$f":"OFFSET(Data!EF26,Offsets!$A$28,0)","v":2.5714285714285716},{"$f":"OFFSET(Data!EG26,Offsets!$A$28,0)","v":1.8571428571428572},{"$f":"OFFSET(Data!EH26,Offsets!$A$28,0)","v":0.2857142857142857},{"$f":"OFFSET(Data!EI26,Offsets!$A$28,0)","v":0},{"$f":"OFFSET(Data!EJ26,Offsets!$A$28,0)","v":0},{"$f":"OFFSET(Data!EK26,Offsets!$A$28,0)","v":0.14285714285714285},{"$f":"OFFSET(Data!EL26,Offsets!$A$28,0)","v":0},{"$f":"OFFSET(Data!EM26,Offsets!$A$28,0)","v":0},{"$f":"OFFSET(Data!EN26,Offsets!$A$28,0)","v":0},{"$f":"OFFSET(Data!EO26,Offsets!$A$28,0)","v":0},{"$f":"OFFSET(Data!EP26,Offsets!$A$28,0)","v":4.8571428571428577},{"$f":"OFFSET(Data!EQ26,Offsets!$A$28,0)","v":0},{"$f":"OFFSET(Data!ER26,Offsets!$A$28,0)","v":0.14285714285714285},{"$f":"OFFSET(Data!ES26,Offsets!$A$28,0)","v":5.7142857142857144},{"$f":"OFFSET(Data!ET26,Offsets!$A$28,0)","v":4.2857142857142856},{"$f":"OFFSET(Data!EU26,Offsets!$A$28,0)","v":0.2857142857142857},{"$f":"OFFSET(Data!EV26,Offsets!$A$28,0)","v":0},{"$f":"OFFSET(Data!EW26,Offsets!$A$28,0)","v":0},{"$f":"OFFSET(Data!EX26,Offsets!$A$28,0)","v":0.14285714285714285},{"$f":"OFFSET(Data!EY26,Offsets!$A$28,0)","v":0},{"$f":"OFFSET(Data!EZ26,Offsets!$A$28,0)","v":0},{"$f":"OFFSET(Data!FA26,Offsets!$A$28,0)","v":0},{"$f":"OFFSET(Data!FB26,Offsets!$A$28,0)","v":0},{"$f":"OFFSET(Data!FC26,Offsets!$A$28,0)","v":10.571428571428571}]
[null,"22:00:00",{"$f":"OFFSET(Data!DQ27,Offsets!$A$28,0)","v":0},{"$f":"OFFSET(Data!DR27,Offsets!$A$28,0)","v":0.14285714285714285},{"$f":"OFFSET(Data!DS27,Offsets!$A$28,0)","v":1.8571428571428572},{"$f":"OFFSET(Data!DT27,Offsets!$A$28,0)","v":3.5714285714285716},{"$f":"OFFSET(Data!DU27,Offsets!$A$28,0)","v":0},{"$f":"OFFSET(Data!DV27,Offsets!$A$28,0)","v":0},{"$f":"OFFSET(Data!DW27,Offsets!$A$28,0)","v":0},{"$f":"OFFSET(Data!DX27,Offsets!$A$28,0)","v":0},{"$f":"OFFSET(Data!DY27,Offsets!$A$28,0)","v":0},{"$f":"OFFSET(Data!DZ27,Offsets!$A$28,0)","v":0},{"$f":"OFFSET(Data!EA27,Offsets!$A$28,0)","v":0},{"$f":"OFFSET(Data!EB27,Offsets!$A$28,0)","v":0},{"$f":"OFFSET(Data!EC27,Offsets!$A$28,0)","v":5.5714285714285712},{"$f":"OFFSET(Data!ED27,Offsets!$A$28,0)","v":0},{"$f":"OFFSET(Data!EE27,Offsets!$A$28,0)","v":0},{"$f":"OFFSET(Data!EF27,Offsets!$A$28,0)","v":2.2857142857142856},{"$f":"OFFSET(Data!EG27,Offsets!$A$28,0)","v":1},{"$f":"OFFSET(Data!EH27,Offsets!$A$28,0)","v":0},{"$f":"OFFSET(Data!EI27,Offsets!$A$28,0)","v":0},{"$f":"OFFSET(Data!EJ27,Offsets!$A$28,0)","v":0},{"$f":"OFFSET(Data!EK27,Offsets!$A$28,0)","v":0},{"$f":"OFFSET(Data!EL27,Offsets!$A$28,0)","v":0},{"$f":"OFFSET(Data!EM27,Offsets!$A$28,0)","v":0},{"$f":"OFFSET(Data!EN27,Offsets!$A$28,0)","v":0},{"$f":"OFFSET(Data!EO27,Offsets!$A$28,0)","v":0},{"$f":"OFFSET(Data!EP27,Offsets!$A$28,0)","v":3.2857142857142856},{"$f":"OFFSET(Data!EQ27,Offsets!$A$28,0)","v":0},{"$f":"OFFSET(Data!ER27,Offsets!$A$28,0)","v":0.14285714285714285},{"$f":"OFFSET(Data!ES27,Offsets!$A$28,0)","v":4.1428571428571423},{"$f":"OFFSET(Data!ET27,Offsets!$A$28,0)","v":4.5714285714285712},{"$f":"OFFSET(Data!EU27,Offsets!$A$28,0)","v":0},{"$f":"OFFSET(Data!EV27,Offsets!$A$28,0)","v":0},{"$f":"OFFSET(Data!EW27,Offsets!$A$28,0)","v":0},{"$f":"OFFSET(Data!EX27,Offsets!$A$28,0)","v":0},{"$f":"OFFSET(Data!EY27,Offsets!$A$28,0)","v":0},{"$f":"OFFSET(Data!EZ27,Offsets!$A$28,0)","v":0},{"$f":"OFFSET(Data!FA27,Offsets!$A$28,0)","v":0},{"$f":"OFFSET(Data!FB27,Offsets!$A$28,0)","v":0},{"$f":"OFFSET(Data!FC27,Offsets!$A$28,0)","v":8.8571428571428577}]
[null,"23:00:00",{"$f":"OFFSET(Data!DQ28,Offsets!$A$28,0)","v":0},{"$f":"OFFSET(Data!DR28,Offsets!$A$28,0)","v":0.42857142857142855},{"$f":"OFFSET(Data!DS28,Offsets!$A$28,0)","v":1.5714285714285714},{"$f":"OFFSET(Data!DT28,Offsets!$A$28,0)","v":0.42857142857142855},{"$f":"OFFSET(Data!DU28,Offsets!$A$28,0)","v":0},{"$f":"OFFSET(Data!DV28,Offsets!$A$28,0)","v":0},{"$f":"OFFSET(Data!DW28,Offsets!$A$28,0)","v":0},{"$f":"OFFSET(Data!DX28,Offsets!$A$28,0)","v":0},{"$f":"OFFSET(Data!DY28,Offsets!$A$28,0)","v":0},{"$f":"OFFSET(Data!DZ28,Offsets!$A$28,0)","v":0},{"$f":"OFFSET(Data!EA28,Offsets!$A$28,0)","v":0},{"$f":"OFFSET(Data!EB28,Offsets!$A$28,0)","v":0},{"$f":"OFFSET(Data!EC28,Offsets!$A$28,0)","v":2.4285714285714284},{"$f":"OFFSET(Data!ED28,Offsets!$A$28,0)","v":0},{"$f":"OFFSET(Data!EE28,Offsets!$A$28,0)","v":0},{"$f":"OFFSET(Data!EF28,Offsets!$A$28,0)","v":0.5714285714285714},{"$f":"OFFSET(Data!EG28,Offsets!$A$28,0)","v":0.2857142857142857},{"$f":"OFFSET(Data!EH28,Offsets!$A$28,0)","v":0},{"$f":"OFFSET(Data!EI28,Offsets!$A$28,0)","v":0},{"$f":"OFFSET(Data!EJ28,Offsets!$A$28,0)","v":0},{"$f":"OFFSET(Data!EK28,Offsets!$A$28,0)","v":0},{"$f":"OFFSET(Data!EL28,Offsets!$A$28,0)","v":0},{"$f":"OFFSET(Data!EM28,Offsets!$A$28,0)","v":0},{"$f":"OFFSET(Data!EN28,Offsets!$A$28,0)","v":0},{"$f":"OFFSET(Data!EO28,Offsets!$A$28,0)","v":0},{"$f":"OFFSET(Data!EP28,Offsets!$A$28,0)","v":0.8571428571428571},{"$f":"OFFSET(Data!EQ28,Offsets!$A$28,0)","v":0},{"$f":"OFFSET(Data!ER28,Offsets!$A$28,0)","v":0.42857142857142855},{"$f":"OFFSET(Data!ES28,Offsets!$A$28,0)","v":2.1428571428571428},{"$f":"OFFSET(Data!ET28,Offsets!$A$28,0)","v":0.71428571428571419},{"$f":"OFFSET(Data!EU28,Offsets!$A$28,0)","v":0},{"$f":"OFFSET(Data!EV28,Offsets!$A$28,0)","v":0},{"$f":"OFFSET(Data!EW28,Offsets!$A$28,0)","v":0},{"$f":"OFFSET(Data!EX28,Offsets!$A$28,0)","v":0},{"$f":"OFFSET(Data!EY28,Offsets!$A$28,0)","v":0},{"$f":"OFFSET(Data!EZ28,Offsets!$A$28,0)","v":0},{"$f":"OFFSET(Data!FA28,Offsets!$A$28,0)","v":0},{"$f":"OFFSET(Data!FB28,Offsets!$A$28,0)","v":0},{"$f":"OFFSET(Data!FC28,Offsets!$A$28,0)","v":3.2857142857142856}]
[null,"Total",{"$f":"SUM(C22:C45)","v":0},{"$f":"SUM(D22:D45)","v":3.9999999999999996},152.57142857142858,127,4.4285714285714288,0,0,0.85714285714285698,0,0,0.14285714285714285,0.42857142857142855,289.42857142857139,0.5714285714285714,{"$f":"SUM(Q22:Q45)","v":8.428571428571427},168.28571428571433,{"$f":"SUM(S22:S45)","v":146.57142857142856},5.5714285714285712,0.14285714285714285,0,1.4285714285714284,0,0,0,0,331,0.5714285714285714,12.428571428571427,320.857142857143,273.57142857142861,10.000000000000002,0.14285714285714285,0,2.2857142857142851,0,0,0.14285714285714285,0.42857142857142855,620.42857142857144]

{"sheet":"Speed Summary","index":4,"n_rows":44,"n_cols":28,"rows_kept":44,"cut":false,"hidden":false,"merged":[[17,26,17,27],[6,3,6,5],[2,9,2,10],[9,3,9,5],[2,14,2,15],[2,17,2,18],[2,21,2,22],[17,2,17,25]]}
[]
[null,"Job No",null,{"$f":"'Volume Summary'!C2","v":"GBSth7811"},null,null,null,null,null,null,null,null,null,null,null,null,null,null,null,null,null,null,null,null,null,null,"Bin Summary"]
[null,"Client",null,{"$f":"'Volume Summary'!C3","v":"Julia Sibley"},null,null,null,null,null,null,null,null,null,null,null,null,null,null,null,null,null,null,null,null,"0-5",{"$f":"SUM(C$44/SUM($C$44:$Z$44))","v":0},"60-65",{"$f":"SUM(O$44/SUM($C$44:$Z$44))","v":0}]
[null,"Site",null,{"$f":"+Offsets!H3","v":"Brockhollands Road"},null,null,null,null,null,null,null,null,null,null,null,null,null,null,null,null,null,null,null,null,"5-10",{"$f":"SUM(D$44/SUM($C$44:$Z$44))","v":1.8262586377097729E-2},"65-70",{"$f":"SUM(P$44/SUM($C$44:$Z$44))","v":0}]
[null,"Location",null,{"$f":"+Offsets!I3","v":"51.744498, -2.558571 "},null,null,null,null,null,null,null,null,null,null,null,null,null,null,null,null,null,null,null,null,"10-15",{"$f":"SUM(E$44/SUM($C$44:$Z$44))","v":8.1934846989141136E-2},"70-75",{"$f":"SUM(Q$44/SUM($C$44:$Z$44))","v":0}]
[null,"Site No",null,{"$f":"+Offsets!J3","v":1},null,null,null,null,null,null,null,null,null,null,null,null,null,null,null,null,null,null,null,null,"15-20",{"$f":"SUM(F$44/SUM($C$44:$Z$44))","v":0.14856860809476799},"75-80",{"$f":"SUM(R$44/SUM($C$44:$Z$44))","v":0}]
[null,"Start Date",null,{"$f":"+Offsets!M3","v":"2023-09-28"},null,null,null,null,null,null,null,null,null,null,null,null,null,null,null,null,null,null,null,null,"20-25",{"$f":"SUM(G$44/SUM($C$44:$Z$44))","v":0.33711747285291205},"80-85",{"$f":"SUM(S$44/SUM($C$44:$Z$44))","v":0}]
[null,"Day",null,{"$f":"OFFSET(Offsets!A15,Offsets!A15,0)","v":"7 Day Ave"},null,null,null,null,null,null,null,null,null,null,null,null,null,null,null,null,null,null,null,null,"25-30",{"$f":"SUM(H$44/SUM($C$44:$Z$44))","v":0.30700888450148067},"85-90",{"$f":"SUM(T$44/SUM($C$44:$Z$44))","v":0}]
[null,"Direction",null,{"$f":"+Offsets!A2","v":"NB"},null,null,null,null,null,null,null,null,null,null,null,null,null,null,null,null,null,null,null,null,"30-35",{"$f":"SUM(I$44/SUM($C$44:$Z$44))","v":9.4768015794669272E-2},"90-95",{"$f":"SUM(U$44/SUM($C$44:$Z$44))","v":0}]
[null,"Description",null,"Speed Summary",null,null,null,null,null,null,null,null,null,null,null,null,null,null,null,null,null,null,null,null,"35-40",{"$f":"SUM(J$44/SUM($C$44:$Z$44))","v":1.1352418558736421E-2},"95-100",{"$f":"SUM(V$44/SUM($C$44:$Z$44))","v":0}]
[null,"Select Site",null,null,null,null,null,null,null,null,null,null,null,null,null,null,null,null,null,null,null,null,null,null,"40-45",{"$f":"SUM(K$44/SUM($C$44:$Z$44))","v":4.9358341559723579E-4},"100-105",{"$f":"SUM(W$44/SUM($C$44:$Z$44))","v":0}]
[null,null,null,null,null,null,null,null,null,null,null,null,null,null,null,null,null,null,null,null,null,null,null,null,"45-50",{"$f":"SUM(L$44/SUM($C$44:$Z$44))","v":4.9358341559723579E-4},"105-110",{"$f":"SUM(X$44/SUM($C$44:$Z$44))","v":0}]
[null,null,null,null,null,null,null,null,null,null,null,null,null,null,null,null,null,null,null,null,null,null,null,null,"50-55",{"$f":"SUM(M$44/SUM($C$44:$Z$44))","v":0},"110-115",{"$f":"SUM(Y$44/SUM($C$44:$Z$44))","v":0}]
[null,"Select Day",null,null,"Select Direction",null,null,null,null,null,null,null,null,null,null,null,null,null,null,null,null,null,null,null,"55-60",{"$f":"SUM(N$44/SUM($C$44:$Z$44))","v":0},"115+",{"$f":"SUM(Z$44/SUM($C$44:$Z$44))","v":0}]
[null,null,null,null,null,null,null,null,null,null,null,null,null,null,null,null,null,null,null,null,null,null,null,null,null,null,{"$f":"+AA44","v":23.31},{"$f":"+AB44","v":28.93}]
[]
[]
[null,"Hour","Vehicle Speed Bins (mph)",null,null,null,null,null,null,null,null,null,null,null,null,null,null,null,null,null,null,null,null,null,null,null,"Speed"]
[null,"Starting","0-5","5-10","10-15","15-20","20-25","25-30","30-35","35-40","40-45","45-50","50-55","55-60","60-65","65-70","70-75","75-80","80-85","85-90","90-95","95-100","100-105","105-110","110-115","115+","Average","85%ile"]
[null,"00:00:00",{"$f":"OFFSET(Data!O5,Offsets!$A$33,Offsets!$A$31)","v":0},{"$f":"OFFSET(Data!P5,Offsets!$A$33,Offsets!$A$31)","v":0},{"$f":"OFFSET(Data!Q5,Offsets!$A$33,Offsets!$A$31)","v":0.14285714285714285},{"$f":"OFFSET(Data!R5,Offsets!$A$33,Offsets!$A$31)","v":0.14285714285714285},{"$f":"OFFSET(Data!S5,Offsets!$A$33,Offsets!$A$31)","v":0.42857142857142855},{"$f":"OFFSET(Data!T5,Offsets!$A$33,Offsets!$A$31)","v":0.5714285714285714},{"$f":"OFFSET(Data!U5,Offsets!$A$33,Offsets!$A$31)","v":0.2857142857142857},{"$f":"OFFSET(Data!V5,Offsets!$A$33,Offsets!$A$31)","v":0.14285714285714285},{"$f":"OFFSET(Data!W5,Offsets!$A$33,Offsets!$A$31)","v":0},{"$f":"OFFSET(Data!X5,Offsets!$A$33,Offsets!$A$31)","v":0},{"$f":"OFFSET(Data!Y5,Offsets!$A$33,Offsets!$A$31)","v":0},{"$f":"OFFSET(Data!Z5,Offsets!$A$33,Offsets!$A$31)","v":0},{"$f":"OFFSET(Data!AA5,Offsets!$A$33,Offsets!$A$31)","v":0},{"$f":"OFFSET(Data!AB5,Offsets!$A$33,Offsets!$A$31)","v":0},{"$f":"OFFSET(Data!AC5,Offsets!$A$33,Offsets!$A$31)","v":0},{"$f":"OFFSET(Data!AD5,Offsets!$A$33,Offsets!$A$31)","v":0},{"$f":"OFFSET(Data!AE5,Offsets!$A$33,Offsets!$A$31)","v":0},{"$f":"OFFSET(Data!AF5,Offsets!$A$33,Offsets!$A$31)","v":0},{"$f":"OFFSET(Data!AG5,Offsets!$A$33,Offsets!$A$31)","v":0},{"$f":"OFFSET(Data!AH5,Offsets!$A$33,Offsets!$A$31)","v":0},{"$f":"OFFSET(Data!AI5,Offsets!$A$33,Offsets!$A$31)","v":0},{"$f":"OFFSET(Data!AJ5,Offsets!$A$33,Offsets!$A$31)","v":0},{"$f":"OFFSET(Data!AK5,Offsets!$A$33,Offsets!$A$31)","v":0},{"$f":"OFFSET(Data!AL5,Offsets!$A$33,Offsets!$A$31)","v":0},{"$f":"OFFSET(Data!AM5,Offsets!$A$33,Offsets!$A$31)","v":25.9},{"$f":"OFFSET(Data!AN5,Offsets!$A$33,Offsets!$A$31)","v":33.22}]
[null,"01:00:00",{"$f":"OFFSET(Data!O6,Offsets!$A$33,Offsets!$A$31)","v":0},{"$f":"OFFSET(Data!P6,Offsets!$A$33,Offsets!$A$31)","v":0},{"$f":"OFFSET(Data!Q6,Offsets!$A$33,Offsets!$A$31)","v":0.14285714285714285},{"$f":"OFFSET(Data!R6,Offsets!$A$33,Offsets!$A$31)","v":0},{"$f":"OFFSET(Data!S6,Offsets!$A$33,Offsets!$A$31)","v":0},{"$f":"OFFSET(Data!T6,Offsets!$A$33,Offsets!$A$31)","v":0},{"$f":"OFFSET(Data!U6,Offsets!$A$33,Offsets!$A$31)","v":0.2857142857142857},{"$f":"OFFSET(Data!V6,Offsets!$A$33,Offsets!$A$31)","v":0},{"$f":"OFFSET(Data!W6,Offsets!$A$33,Offsets!$A$31)","v":0},{"$f":"OFFSET(Data!X6,Offsets!$A$33,Offsets!$A$31)","v":0},{"$f":"OFFSET(Data!Y6,Offsets!$A$33,Offsets!$A$31)","v":0},{"$f":"OFFSET(Data!Z6,Offsets!$A$33,Offsets!$A$31)","v":0},{"$f":"OFFSET(Data!AA6,Offsets!$A$33,Offsets!$A$31)","v":0},{"$f":"OFFSET(Data!AB6,Offsets!$A$33,Offsets!$A$31)","v":0},{"$f":"OFFSET(Data!AC6,Offsets!$A$33,Offsets!$A$31)","v":0},{"$f":"OFFSET(Data!AD6,Offsets!$A$33,Offsets!$A$31)","v":0},{"$f":"OFFSET(Data!AE6,Offsets!$A$33,Offsets!$A$31)","v":0},{"$f":"OFFSET(Data!AF6,Offsets!$A$33,Offsets!$A$31)","v":0},{"$f":"OFFSET(Data!AG6,Offsets!$A$33,Offsets!$A$31)","v":0},{"$f":"OFFSET(Data!AH6,Offsets!$A$33,Offsets!$A$31)","v":0},{"$f":"OFFSET(Data!AI6,Offsets!$A$33,Offsets!$A$31)","v":0},{"$f":"OFFSET(Data!AJ6,Offsets!$A$33,Offsets!$A$31)","v":0},{"$f":"OFFSET(Data!AK6,Offsets!$A$33,Offsets!$A$31)","v":0},{"$f":"OFFSET(Data!AL6,Offsets!$A$33,Offsets!$A$31)","v":0},{"$f":"OFFSET(Data!AM6,Offsets!$A$33,Offsets!$A$31)","v":24.45},{"$f":"OFFSET(Data!AN6,Offsets!$A$33,Offsets!$A$31)","v":"-"}]
[null,"02:00:00",{"$f":"OFFSET(Data!O7,Offsets!$A$33,Offsets!$A$31)","v":0},{"$f":"OFFSET(Data!P7,Offsets!$A$33,Offsets!$A$31)","v":0},{"$f":"OFFSET(Data!Q7,Offsets!$A$33,Offsets!$A$31)","v":0},{"$f":"OFFSET(Data!R7,Offsets!$A$33,Offsets!$A$31)","v":0},{"$f":"OFFSET(Data!S7,Offsets!$A$33,Offsets!$A$31)","v":0.2857142857142857},{"$f":"OFFSET(Data!T7,Offsets!$A$33,Offsets!$A$31)","v":0},{"$f":"OFFSET(Data!U7,Offsets!$A$33,Offsets!$A$31)","v":0},{"$f":"OFFSET(Data!V7,Offsets!$A$33,Offsets!$A$31)","v":0},{"$f":"OFFSET(Data!W7,Offsets!$A$33,Offsets!$A$31)","v":0},{"$f":"OFFSET(Data!X7,Offsets!$A$33,Offsets!$A$31)","v":0},{"$f":"OFFSET(Data!Y7,Offsets!$A$33,Offsets!$A$31)","v":0},{"$f":"OFFSET(Data!Z7,Offsets!$A$33,Offsets!$A$31)","v":0},{"$f":"OFFSET(Data!AA7,Offsets!$A$33,Offsets!$A$31)","v":0},{"$f":"OFFSET(Data!AB7,Offsets!$A$33,Offsets!$A$31)","v":0},{"$f":"OFFSET(Data!AC7,Offsets!$A$33,Offsets!$A$31)","v":0},{"$f":"OFFSET(Data!AD7,Offsets!$A$33,Offsets!$A$31)","v":0},{"$f":"OFFSET(Data!AE7,Offsets!$A$33,Offsets!$A$31)","v":0},{"$f":"OFFSET(Data!AF7,Offsets!$A$33,Offsets!$A$31)","v":0},{"$f":"OFFSET(Data!AG7,Offsets!$A$33,Offsets!$A$31)","v":0},{"$f":"OFFSET(Data!AH7,Offsets!$A$33,Offsets!$A$31)","v":0},{"$f":"OFFSET(Data!AI7,Offsets!$A$33,Offsets!$A$31)","v":0},{"$f":"OFFSET(Data!AJ7,Offsets!$A$33,Offsets!$A$31)","v":0},{"$f":"OFFSET(Data!AK7,Offsets!$A$33,Offsets!$A$31)","v":0},{"$f":"OFFSET(Data!AL7,Offsets!$A$33,Offsets!$A$31)","v":0},{"$f":"OFFSET(Data!AM7,Offsets!$A$33,Offsets!$A$31)","v":23.02},{"$f":"OFFSET(Data!AN7,Offsets!$A$33,Offsets!$A$31)","v":"-"}]
[null,"03:00:00",{"$f":"OFFSET(Data!O8,Offsets!$A$33,Offsets!$A$31)","v":0},{"$f":"OFFSET(Data!P8,Offsets!$A$33,Offsets!$A$31)","v":0},{"$f":"OFFSET(Data!Q8,Offsets!$A$33,Offsets!$A$31)","v":0},{"$f":"OFFSET(Data!R8,Offsets!$A$33,Offsets!$A$31)","v":0},{"$f":"OFFSET(Data!S8,Offsets!$A$33,Offsets!$A$31)","v":0},{"$f":"OFFSET(Data!T8,Offsets!$A$33,Offsets!$A$31)","v":0},{"$f":"OFFSET(Data!U8,Offsets!$A$33,Offsets!$A$31)","v":0},{"$f":"OFFSET(Data!V8,Offsets!$A$33,Offsets!$A$31)","v":0},{"$f":"OFFSET(Data!W8,Offsets!$A$33,Offsets!$A$31)","v":0},{"$f":"OFFSET(Data!X8,Offsets!$A$33,Offsets!$A$31)","v":0},{"$f":"OFFSET(Data!Y8,Offsets!$A$33,Offsets!$A$31)","v":0},{"$f":"OFFSET(Data!Z8,Offsets!$A$33,Offsets!$A$31)","v":0},{"$f":"OFFSET(Data!AA8,Offsets!$A$33,Offsets!$A$31)","v":0},{"$f":"OFFSET(Data!AB8,Offsets!$A$33,Offsets!$A$31)","v":0},{"$f":"OFFSET(Data!AC8,Offsets!$A$33,Offsets!$A$31)","v":0},{"$f":"OFFSET(Data!AD8,Offsets!$A$33,Offsets!$A$31)","v":0},{"$f":"OFFSET(Data!AE8,Offsets!$A$33,Offsets!$A$31)","v":0},{"$f":"OFFSET(Data!AF8,Offsets!$A$33,Offsets!$A$31)","v":0},{"$f":"OFFSET(Data!AG8,Offsets!$A$33,Offsets!$A$31)","v":0},{"$f":"OFFSET(Data!AH8,Offsets!$A$33,Offsets!$A$31)","v":0},{"$f":"OFFSET(Data!AI8,Offsets!$A$33,Offsets!$A$31)","v":0},{"$f":"OFFSET(Data!AJ8,Offsets!$A$33,Offsets!$A$31)","v":0},{"$f":"OFFSET(Data!AK8,Offsets!$A$33,Offsets!$A$31)","v":0},{"$f":"OFFSET(Data!AL8,Offsets!$A$33,Offsets!$A$31)","v":0},{"$f":"OFFSET(Data!AM8,Offsets!$A$33,Offsets!$A$31)","v":"-"},{"$f":"OFFSET(Data!AN8,Offsets!$A$33,Offsets!$A$31)","v":"-"}]
[null,"04:00:00",{"$f":"OFFSET(Data!O9,Offsets!$A$33,Offsets!$A$31)","v":0},{"$f":"OFFSET(Data!P9,Offsets!$A$33,Offsets!$A$31)","v":0},{"$f":"OFFSET(Data!Q9,Offsets!$A$33,Offsets!$A$31)","v":0},{"$f":"OFFSET(Data!R9,Offsets!$A$33,Offsets!$A$31)","v":0},{"$f":"OFFSET(Data!S9,Offsets!$A$33,Offsets!$A$31)","v":0.14285714285714285},{"$f":"OFFSET(Data!T9,Offsets!$A$33,Offsets!$A$31)","v":0},{"$f":"OFFSET(Data!U9,Offsets!$A$33,Offsets!$A$31)","v":0},{"$f":"OFFSET(Data!V9,Offsets!$A$33,Offsets!$A$31)","v":0},{"$f":"OFFSET(Data!W9,Offsets!$A$33,Offsets!$A$31)","v":0},{"$f":"OFFSET(Data!X9,Offsets!$A$33,Offsets!$A$31)","v":0},{"$f":"OFFSET(Data!Y9,Offsets!$A$33,Offsets!$A$31)","v":0},{"$f":"OFFSET(Data!Z9,Offsets!$A$33,Offsets!$A$31)","v":0},{"$f":"OFFSET(Data!AA9,Offsets!$A$33,Offsets!$A$31)","v":0},{"$f":"OFFSET(Data!AB9,Offsets!$A$33,Offsets!$A$31)","v":0},{"$f":"OFFSET(Data!AC9,Offsets!$A$33,Offsets!$A$31)","v":0},{"$f":"OFFSET(Data!AD9,Offsets!$A$33,Offsets!$A$31)","v":0},{"$f":"OFFSET(Data!AE9,Offsets!$A$33,Offsets!$A$31)","v":0},{"$f":"OFFSET(Data!AF9,Offsets!$A$33,Offsets!$A$31)","v":0},{"$f":"OFFSET(Data!AG9,Offsets!$A$33,Offsets!$A$31)","v":0},{"$f":"OFFSET(Data!AH9,Offsets!$A$33,Offsets!$A$31)","v":0},{"$f":"OFFSET(Data!AI9,Offsets!$A$33,Offsets!$A$31)","v":0},{"$f":"OFFSET(Data!AJ9,Offsets!$A$33,Offsets!$A$31)","v":0},{"$f":"OFFSET(Data!AK9,Offsets!$A$33,Offsets!$A$31)","v":0},{"$f":"OFFSET(Data!AL9,Offsets!$A$33,Offsets!$A$31)","v":0},{"$f":"OFFSET(Data!AM9,Offsets!$A$33,Offsets!$A$31)","v":22.44},{"$f":"OFFSET(Data!AN9,Offsets!$A$33,Offsets!$A$31)","v":"-"}]
[null,"05:00:00",{"$f":"OFFSET(Data!O10,Offsets!$A$33,Offsets!$A$31)","v":0},{"$f":"OFFSET(Data!P10,Offsets!$A$33,Offsets!$A$31)","v":0},{"$f":"OFFSET(Data!Q10,Offsets!$A$33,Offsets!$A$31)","v":0},{"$f":"OFFSET(Data!R10,Offsets!$A$33,Offsets!$A$31)","v":0.2857142857142857},{"$f":"OFFSET(Data!S10,Offsets!$A$33,Offsets!$A$31)","v":0.2857142857142857},{"$f":"OFFSET(Data!T10,Offsets!$A$33,Offsets!$A$31)","v":0.14285714285714285},{"$f":"OFFSET(Data!U10,Offsets!$A$33,Offsets!$A$31)","v":0.2857142857142857},{"$f":"OFFSET(Data!V10,Offsets!$A$33,Offsets!$A$31)","v":0},{"$f":"OFFSET(Data!W10,Offsets!$A$33,Offsets!$A$31)","v":0.14285714285714285},{"$f":"OFFSET(Data!X10,Offsets!$A$33,Offsets!$A$31)","v":0},{"$f":"OFFSET(Data!Y10,Offsets!$A$33,Offsets!$A$31)","v":0},{"$f":"OFFSET(Data!Z10,Offsets!$A$33,Offsets!$A$31)","v":0},{"$f":"OFFSET(Data!AA10,Offsets!$A$33,Offsets!$A$31)","v":0},{"$f":"OFFSET(Data!AB10,Offsets!$A$33,Offsets!$A$31)","v":0},{"$f":"OFFSET(Data!AC10,Offsets!$A$33,Offsets!$A$31)","v":0},{"$f":"OFFSET(Data!AD10,Offsets!$A$33,Offsets!$A$31)","v":0},{"$f":"OFFSET(Data!AE10,Offsets!$A$33,Offsets!$A$31)","v":0},{"$f":"OFFSET(Data!AF10,Offsets!$A$33,Offsets!$A$31)","v":0},{"$f":"OFFSET(Data!AG10,Offsets!$A$33,Offsets!$A$31)","v":0},{"$f":"OFFSET(Data!AH10,Offsets!$A$33,Offsets!$A$31)","v":0},{"$f":"OFFSET(Data!AI10,Offsets!$A$33,Offsets!$A$31)","v":0},{"$f":"OFFSET(Data!AJ10,Offsets!$A$33,Offsets!$A$31)","v":0},{"$f":"OFFSET(Data!AK10,Offsets!$A$33,Offsets!$A$31)","v":0},{"$f":"OFFSET(Data!AL10,Offsets!$A$33,Offsets!$A$31)","v":0},{"$f":"OFFSET(Data!AM10,Offsets!$A$33,Offsets!$A$31)","v":27.55},{"$f":"OFFSET(Data!AN10,Offsets!$A$33,Offsets!$A$31)","v":"-"}]
[null,"06:00:00",{"$f":"OFFSET(Data!O11,Offsets!$A$33,Offsets!$A$31)","v":0},{"$f":"OFFSET(Data!P11,Offsets!$A$33,Offsets!$A$31)","v":0},{"$f":"OFFSET(Data!Q11,Offsets!$A$33,Offsets!$A$31)","v":1},{"$f":"OFFSET(Data!R11,Offsets!$A$33,Offsets!$A$31)","v":0.2857142857142857},{"$f":"OFFSET(Data!S11,Offsets!$A$33,Offsets!$A$31)","v":1.5714285714285714},{"$f":"OFFSET(Data!T11,Offsets!$A$33,Offsets!$A$31)","v":0.7142857142857143},{"$f":"OFFSET(Data!U11,Offsets!$A$33,Offsets!$A$31)","v":0.14285714285714285},{"$f":"OFFSET(Data!V11,Offsets!$A$33,Offsets!$A$31)","v":0},{"$f":"OFFSET(Data!W11,Offsets!$A$33,Offsets!$A$31)","v":0},{"$f":"OFFSET(Data!X11,Offsets!$A$33,Offsets!$A$31)","v":0},{"$f":"OFFSET(Data!Y11,Offsets!$A$33,Offsets!$A$31)","v":0},{"$f":"OFFSET(Data!Z11,Offsets!$A$33,Offsets!$A$31)","v":0},{"$f":"OFFSET(Data!AA11,Offsets!$A$33,Offsets!$A$31)","v":0},{"$f":"OFFSET(Data!AB11,Offsets!$A$33,Offsets!$A$31)","v":0},{"$f":"OFFSET(Data!AC11,Offsets!$A$33,Offsets!$A$31)","v":0},{"$f":"OFFSET(Data!AD11,Offsets!$A$33,Offsets!$A$31)","v":0},{"$f":"OFFSET(Data!AE11,Offsets!$A$33,Offsets!$A$31)","v":0},{"$f":"OFFSET(Data!AF11,Offsets!$A$33,Offsets!$A$31)","v":0},{"$f":"OFFSET(Data!AG11,Offsets!$A$33,Offsets!$A$31)","v":0},{"$f":"OFFSET(Data!AH11,Offsets!$A$33,Offsets!$A$31)","v":0},{"$f":"OFFSET(Data!AI11,Offsets!$A$33,Offsets!$A$31)","v":0},{"$f":"OFFSET(Data!AJ11,Offsets!$A$33,Offsets!$A$31)","v":0},{"$f":"OFFSET(Data!AK11,Offsets!$A$33,Offsets!$A$31)","v":0},{"$f":"OFFSET(Data!AL11,Offsets!$A$33,Offsets!$A$31)","v":0},{"$f":"OFFSET(Data!AM11,Offsets!$A$33,Offsets!$A$31)","v":20.57},{"$f":"OFFSET(Data!AN11,Offsets!$A$33,Offsets!$A$31)","v":26.72}]
[null,"07:00:00",{"$f":"OFFSET(Data!O12,Offsets!$A$33,Offsets!$A$31)","v":0},{"$f":"OFFSET(Data!P12,Offsets!$A$33,Offsets!$A$31)","v":0.14285714285714285},{"$f":"OFFSET(Data!Q12,Offsets!$A$33,Offsets!$A$31)","v":0.2857142857142857},{"$f":"OFFSET(Data!R12,Offsets!$A$33,Offsets!$A$31)","v":0.7142857142857143},{"$f":"OFFSET(Data!S12,Offsets!$A$33,Offsets!$A$31)","v":2.8571428571428572},{"$f":"OFFSET(Data!T12,Offsets!$A$33,Offsets!$A$31)","v":2.8571428571428572},{"$f":"OFFSET(Data!U12,Offsets!$A$33,Offsets!$A$31)","v":1.1428571428571428},{"$f":"OFFSET(Data!V12,Offsets!$A$33,Offsets!$A$31)","v":0.14285714285714285},{"$f":"OFFSET(Data!W12,Offsets!$A$33,Offsets!$A$31)","v":0},{"$f":"OFFSET(Data!X12,Offsets!$A$33,Offsets!$A$31)","v":0},{"$f":"OFFSET(Data!Y12,Offsets!$A$33,Offsets!$A$31)","v":0},{"$f":"OFFSET(Data!Z12,Offsets!$A$33,Offsets!$A$31)","v":0},{"$f":"OFFSET(Data!AA12,Offsets!$A$33,Offsets!$A$31)","v":0},{"$f":"OFFSET(Data!AB12,Offsets!$A$33,Offsets!$A$31)","v":0},{"$f":"OFFSET(Data!AC12,Offsets!$A$33,Offsets!$A$31)","v":0},{"$f":"OFFSET(Data!AD12,Offsets!$A$33,Offsets!$A$31)","v":0},{"$f":"OFFSET(Data!AE12,Offsets!$A$33,Offsets!$A$31)","v":0},{"$f":"OFFSET(Data!AF12,Offsets!$A$33,Offsets!$A$31)","v":0},{"$f":"OFFSET(Data!AG12,Offsets!$A$33,Offsets!$A$31)","v":0},{"$f":"OFFSET(Data!AH12,Offsets!$A$33,Offsets!$A$31)","v":0},{"$f":"OFFSET(Data!AI12,Offsets!$A$33,Offsets!$A$31)","v":0},{"$f":"OFFSET(Data!AJ12,Offsets!$A$33,Offsets!$A$31)","v":0},{"$f":"OFFSET(Data!AK12,Offsets!$A$33,Offsets!$A$31)","v":0},{"$f":"OFFSET(Data!AL12,Offsets!$A$33,Offsets!$A$31)","v":0},{"$f":"OFFSET(Data!AM12,Offsets!$A$33,Offsets!$A$31)","v":24.65},{"$f":"OFFSET(Data!AN12,Offsets!$A$33,Offsets!$A$31)","v":30.02}]
[null,"08:00:00",{"$f":"OFFSET(Data!O13,Offsets!$A$33,Offsets!$A$31)","v":0},{"$f":"OFFSET(Data!P13,Offsets!$A$33,Offsets!$A$31)","v":0.42857142857142855},{"$f":"OFFSET(Data!Q13,Offsets!$A$33,Offsets!$A$31)","v":1},{"$f":"OFFSET(Data!R13,Offsets!$A$33,Offsets!$A$31)","v":1.8571428571428572},{"$f":"OFFSET(Data!S13,Offsets!$A$33,Offsets!$A$31)","v":4.5714285714285712},{"$f":"OFFSET(Data!T13,Offsets!$A$33,Offsets!$A$31)","v":4.7142857142857144},{"$f":"OFFSET(Data!U13,Offsets!$A$33,Offsets!$A$31)","v":1.1428571428571428},{"$f":"OFFSET(Data!V13,Offsets!$A$33,Offsets!$A$31)","v":0.2857142857142857},{"$f":"OFFSET(Data!W13,Offsets!$A$33,Offsets!$A$31)","v":0},{"$f":"OFFSET(Data!X13,Offsets!$A$33,Offsets!$A$31)","v":0},{"$f":"OFFSET(Data!Y13,Offsets!$A$33,Offsets!$A$31)","v":0},{"$f":"OFFSET(Data!Z13,Offsets!$A$33,Offsets!$A$31)","v":0},{"$f":"OFFSET(Data!AA13,Offsets!$A$33,Offsets!$A$31)","v":0},{"$f":"OFFSET(Data!AB13,Offsets!$A$33,Offsets!$A$31)","v":0},{"$f":"OFFSET(Data!AC13,Offsets!$A$33,Offsets!$A$31)","v":0},{"$f":"OFFSET(Data!AD13,Offsets!$A$33,Offsets!$A$31)","v":0},{"$f":"OFFSET(Data!AE13,Offsets!$A$33,Offsets!$A$31)","v":0},{"$f":"OFFSET(Data!AF13,Offsets!$A$33,Offsets!$A$31)","v":0},{"$f":"OFFSET(Data!AG13,Offsets!$A$33,Offsets!$A$31)","v":0},{"$f":"OFFSET(Data!AH13,Offsets!$A$33,Offsets!$A$31)","v":0},{"$f":"OFFSET(Data!AI13,Offsets!$A$33,Offsets!$A$31)","v":0},{"$f":"OFFSET(Data!AJ13,Offsets!$A$33,Offsets!$A$31)","v":0},{"$f":"OFFSET(Data!AK13,Offsets!$A$33,Offsets!$A$31)","v":0},{"$f":"OFFSET(Data!AL13,Offsets!$A$33,Offsets!$A$31)","v":0},{"$f":"OFFSET(Data!AM13,Offsets!$A$33,Offsets!$A$31)","v":23.43},{"$f":"OFFSET(Data!AN13,Offsets!$A$33,Offsets!$A$31)","v":28.09}]
[null,"09:00:00",{"$f":"OFFSET(Data!O14,Offsets!$A$33,Offsets!$A$31)","v":0},{"$f":"OFFSET(Data!P14,Offsets!$A$33,Offsets!$A$31)","v":0.42857142857142855},{"$f":"OFFSET(Data!Q14,Offsets!$A$33,Offsets!$A$31)","v":0.5714285714285714},{"$f":"OFFSET(Data!R14,Offsets!$A$33,Offsets!$A$31)","v":2.5714285714285716},{"$f":"OFFSET(Data!S14,Offsets!$A$33,Offsets!$A$31)","v":5.7142857142857144},{"$f":"OFFSET(Data!T14,Offsets!$A$33,Offsets!$A$31)","v":4},{"$f":"OFFSET(Data!U14,Offsets!$A$33,Offsets!$A$31)","v":1.5714285714285714},{"$f":"OFFSET(Data!V14,Offsets!$A$33,Offsets!$A$31)","v":0.14285714285714285},{"$f":"OFFSET(Data!W14,Offsets!$A$33,Offsets!$A$31)","v":0},{"$f":"OFFSET(Data!X14,Offsets!$A$33,Offsets!$A$31)","v":0},{"$f":"OFFSET(Data!Y14,Offsets!$A$33,Offsets!$A$31)","v":0},{"$f":"OFFSET(Data!Z14,Offsets!$A$33,Offsets!$A$31)","v":0},{"$f":"OFFSET(Data!AA14,Offsets!$A$33,Offsets!$A$31)","v":0},{"$f":"OFFSET(Data!AB14,Offsets!$A$33,Offsets!$A$31)","v":0},{"$f":"OFFSET(Data!AC14,Offsets!$A$33,Offsets!$A$31)","v":0},{"$f":"OFFSET(Data!AD14,Offsets!$A$33,Offsets!$A$31)","v":0},{"$f":"OFFSET(Data!AE14,Offsets!$A$33,Offsets!$A$31)","v":0},{"$f":"OFFSET(Data!AF14,Offsets!$A$33,Offsets!$A$31)","v":0},{"$f":"OFFSET(Data!AG14,Offsets!$A$33,Offsets!$A$31)","v":0},{"$f":"OFFSET(Data!AH14,Offsets!$A$33,Offsets!$A$31)","v":0},{"$f":"OFFSET(Data!AI14,Offsets!$A$33,Offsets!$A$31)","v":0},{"$f":"OFFSET(Data!AJ14,Offsets!$A$33,Offsets!$A$31)","v":0},{"$f":"OFFSET(Data!AK14,Offsets!$A$33,Offsets!$A$31)","v":0},{"$f":"OFFSET(Data!AL14,Offsets!$A$33,Offsets!$A$31)","v":0},{"$f":"OFFSET(Data!AM14,Offsets!$A$33,Offsets!$A$31)","v":23.28},{"$f":"OFFSET(Data!AN14,Offsets!$A$33,Offsets!$A$31)","v":29.31}]
[null,"10:00:00",{"$f":"OFFSET(Data!O15,Offsets!$A$33,Offsets!$A$31)","v":0},{"$f":"OFFSET(Data!P15,Offsets!$A$33,Offsets!$A$31)","v":0.8571428571428571},{"$f":"OFFSET(Data!Q15,Offsets!$A$33,Offsets!$A$31)","v":1.8571428571428572},{"$f":"OFFSET(Data!R15,Offsets!$A$33,Offsets!$A$31)","v":2.8571428571428572},{"$f":"OFFSET(Data!S15,Offsets!$A$33,Offsets!$A$31)","v":4.8571428571428568},{"$f":"OFFSET(Data!T15,Offsets!$A$33,Offsets!$A$31)","v":5},{"$f":"OFFSET(Data!U15,Offsets!$A$33,Offsets!$A$31)","v":1.5714285714285714},{"$f":"OFFSET(Data!V15,Offsets!$A$33,Offsets!$A$31)","v":0},{"$f":"OFFSET(Data!W15,Offsets!$A$33,Offsets!$A$31)","v":0},{"$f":"OFFSET(Data!X15,Offsets!$A$33,Offsets!$A$31)","v":0},{"$f":"OFFSET(Data!Y15,Offsets!$A$33,Offsets!$A$31)","v":0},{"$f":"OFFSET(Data!Z15,Offsets!$A$33,Offsets!$A$31)","v":0},{"$f":"OFFSET(Data!AA15,Offsets!$A$33,Offsets!$A$31)","v":0},{"$f":"OFFSET(Data!AB15,Offsets!$A$33,Offsets!$A$31)","v":0},{"$f":"OFFSET(Data!AC15,Offsets!$A$33,Offsets!$A$31)","v":0},{"$f":"OFFSET(Data!AD15,Offsets!$A$33,Offsets!$A$31)","v":0},{"$f":"OFFSET(Data!AE15,Offsets!$A$33,Offsets!$A$31)","v":0},{"$f":"OFFSET(Data!AF15,Offsets!$A$33,Offsets!$A$31)","v":0},{"$f":"OFFSET(Data!AG15,Offsets!$A$33,Offsets!$A$31)","v":0},{"$f":"OFFSET(Data!AH15,Offsets!$A$33,Offsets!$A$31)","v":0},{"$f":"OFFSET(Data!AI15,Offsets!$A$33,Offsets!$A$31)","v":0},{"$f":"OFFSET(Data!AJ15,Offsets!$A$33,Offsets!$A$31)","v":0},{"$f":"OFFSET(Data!AK15,Offsets!$A$33,Offsets!$A$31)","v":0},{"$f":"OFFSET(Data!AL15,Offsets!$A$33,Offsets!$A$31)","v":0},{"$f":"OFFSET(Data!AM15,Offsets!$A$33,Offsets!$A$31)","v":22.23},{"$f":"OFFSET(Data!AN15,Offsets!$A$33,Offsets!$A$31)","v":28.51}]
[null,"11:00:00",{"$f":"OFFSET(Data!O16,Offsets!$A$33,Offsets!$A$31)","v":0},{"$f":"OFFSET(Data!P16,Offsets!$A$33,Offsets!$A$31)","v":0.8571428571428571},{"$f":"OFFSET(Data!Q16,Offsets!$A$33,Offsets!$A$31)","v":1.4285714285714286},{"$f":"OFFSET(Data!R16,Offsets!$A$33,Offsets!$A$31)","v":4.1428571428571432},{"$f":"OFFSET(Data!S16,Offsets!$A$33,Offsets!$A$31)","v":6.4285714285714288},{"$f":"OFFSET(Data!T16,Offsets!$A$33,Offsets!$A$31)","v":5.1428571428571432},{"$f":"OFFSET(Data!U16,Offsets!$A$33,Offsets!$A$31)","v":1.1428571428571428},{"$f":"OFFSET(Data!V16,Offsets!$A$33,Offsets!$A$31)","v":0},{"$f":"OFFSET(Data!W16,Offsets!$A$33,Offsets!$A$31)","v":0},{"$f":"OFFSET(Data!X16,Offsets!$A$33,Offsets!$A$31)","v":0},{"$f":"OFFSET(Data!Y16,Offsets!$A$33,Offsets!$A$31)","v":0},{"$f":"OFFSET(Data!Z16,Offsets!$A$33,Offsets!$A$31)","v":0},{"$f":"OFFSET(Data!AA16,Offsets!$A$33,Offsets!$A$31)","v":0},{"$f":"OFFSET(Data!AB16,Offsets!$A$33,Offsets!$A$31)","v":0},{"$f":"OFFSET(Data!AC16,Offsets!$A$33,Offsets!$A$31)","v":0},{"$f":"OFFSET(Data!AD16,Offsets!$A$33,Offsets!$A$31)","v":0},{"$f":"OFFSET(Data!AE16,Offsets!$A$33,Offsets!$A$31)","v":0},{"$f":"OFFSET(Data!AF16,Offsets!$A$33,Offsets!$A$31)","v":0},{"$f":"OFFSET(Data!AG16,Offsets!$A$33,Offsets!$A$31)","v":0},{"$f":"OFFSET(Data!AH16,Offsets!$A$33,Offsets!$A$31)","v":0},{"$f":"OFFSET(Data!AI16,Offsets!$A$33,Offsets!$A$31)","v":0},{"$f":"OFFSET(Data!AJ16,Offsets!$A$33,Offsets!$A$31)","v":0},{"$f":"OFFSET(Data!AK16,Offsets!$A$33,Offsets!$A$31)","v":0},{"$f":"OFFSET(Data!AL16,Offsets!$A$33,Offsets!$A$31)","v":0},{"$f":"OFFSET(Data!AM16,Offsets!$A$33,Offsets!$A$31)","v":21.84},{"$f":"OFFSET(Data!AN16,Offsets!$A$33,Offsets!$A$31)","v":27.27}]
[null,"12:00:00",{"$f":"OFFSET(Data!O17,Offsets!$A$33,Offsets!$A$31)","v":0},{"$f":"OFFSET(Data!P17,Offsets!$A$33,Offsets!$A$31)","v":0.7142857142857143},{"$f":"OFFSET(Data!Q17,Offsets!$A$33,Offsets!$A$31)","v":2},{"$f":"OFFSET(Data!R17,Offsets!$A$33,Offsets!$A$31)","v":3.1428571428571428},{"$f":"OFFSET(Data!S17,Offsets!$A$33,Offsets!$A$31)","v":7},{"$f":"OFFSET(Data!T17,Offsets!$A$33,Offsets!$A$31)","v":6.4285714285714288},{"$f":"OFFSET(Data!U17,Offsets!$A$33,Offsets!$A$31)","v":1.4285714285714286},{"$f":"OFFSET(Data!V17,Offsets!$A$33,Offsets!$A$31)","v":0},{"$f":"OFFSET(Data!W17,Offsets!$A$33,Offsets!$A$31)","v":0},{"$f":"OFFSET(Data!X17,Offsets!$A$33,Offsets!$A$31)","v":0},{"$f":"OFFSET(Data!Y17,Offsets!$A$33,Offsets!$A$31)","v":0},{"$f":"OFFSET(Data!Z17,Offsets!$A$33,Offsets!$A$31)","v":0},{"$f":"OFFSET(Data!AA17,Offsets!$A$33,Offsets!$A$31)","v":0},{"$f":"OFFSET(Data!AB17,Offsets!$A$33,Offsets!$A$31)","v":0},{"$f":"OFFSET(Data!AC17,Offsets!$A$33,Offsets!$A$31)","v":0},{"$f":"OFFSET(Data!AD17,Offsets!$A$33,Offsets!$A$31)","v":0},{"$f":"OFFSET(Data!AE17,Offsets!$A$33,Offsets!$A$31)","v":0},{"$f":"OFFSET(Data!AF17,Offsets!$A$33,Offsets!$A$31)","v":0},{"$f":"OFFSET(Data!AG17,Offsets!$A$33,Offsets!$A$31)","v":0},{"$f":"OFFSET(Data!AH17,Offsets!$A$33,Offsets!$A$31)","v":0},{"$f":"OFFSET(Data!AI17,Offsets!$A$33,Offsets!$A$31)","v":0},{"$f":"OFFSET(Data!AJ17,Offsets!$A$33,Offsets!$A$31)","v":0},{"$f":"OFFSET(Data!AK17,Offsets!$A$33,Offsets!$A$31)","v":0},{"$f":"OFFSET(Data!AL17,Offsets!$A$33,Offsets!$A$31)","v":0},{"$f":"OFFSET(Data!AM17,Offsets!$A$33,Offsets!$A$31)","v":22.55},{"$f":"OFFSET(Data!AN17,Offsets!$A$33,Offsets!$A$31)","v":28.32}]
[null,"13:00:00",{"$f":"OFFSET(Data!O18,Offsets!$A$33,Offsets!$A$31)","v":0},{"$f":"OFFSET(Data!P18,Offsets!$A$33,Offsets!$A$31)","v":0.14285714285714285},{"$f":"OFFSET(Data!Q18,Offsets!$A$33,Offsets!$A$31)","v":2.8571428571428572},{"$f":"OFFSET(Data!R18,Offsets!$A$33,Offsets!$A$31)","v":2.1428571428571428},{"$f":"OFFSET(Data!S18,Offsets!$A$33,Offsets!$A$31)","v":7.8571428571428568},{"$f":"OFFSET(Data!T18,Offsets!$A$33,Offsets!$A$31)","v":7.1428571428571432},{"$f":"OFFSET(Data!U18,Offsets!$A$33,Offsets!$A$31)","v":2},{"$f":"OFFSET(Data!V18,Offsets!$A$33,Offsets!$A$31)","v":0.2857142857142857},{"$f":"OFFSET(Data!W18,Offsets!$A$33,Offsets!$A$31)","v":0},{"$f":"OFFSET(Data!X18,Offsets!$A$33,Offsets!$A$31)","v":0},{"$f":"OFFSET(Data!Y18,Offsets!$A$33,Offsets!$A$31)","v":0},{"$f":"OFFSET(Data!Z18,Offsets!$A$33,Offsets!$A$31)","v":0},{"$f":"OFFSET(Data!AA18,Offsets!$A$33,Offsets!$A$31)","v":0},{"$f":"OFFSET(Data!AB18,Offsets!$A$33,Offsets!$A$31)","v":0},{"$f":"OFFSET(Data!AC18,Offsets!$A$33,Offsets!$A$31)","v":0},{"$f":"OFFSET(Data!AD18,Offsets!$A$33,Offsets!$A$31)","v":0},{"$f":"OFFSET(Data!AE18,Offsets!$A$33,Offsets!$A$31)","v":0},{"$f":"OFFSET(Data!AF18,Offsets!$A$33,Offsets!$A$31)","v":0},{"$f":"OFFSET(Data!AG18,Offsets!$A$33,Offsets!$A$31)","v":0},{"$f":"OFFSET(Data!AH18,Offsets!$A$33,Offsets!$A$31)","v":0},{"$f":"OFFSET(Data!AI18,Offsets!$A$33,Offsets!$A$31)","v":0},{"$f":"OFFSET(Data!AJ18,Offsets!$A$33,Offsets!$A$31)","v":0},{"$f":"OFFSET(Data!AK18,Offsets!$A$33,Offsets!$A$31)","v":0},{"$f":"OFFSET(Data!AL18,Offsets!$A$33,Offsets!$A$31)","v":0},{"$f":"OFFSET(Data!AM18,Offsets!$A$33,Offsets!$A$31)","v":23.3},{"$f":"OFFSET(Data!AN18,Offsets!$A$33,Offsets!$A$31)","v":29.01}]
[null,"14:00:00",{"$f":"OFFSET(Data!O19,Offsets!$A$33,Offsets!$A$31)","v":0},{"$f":"OFFSET(Data!P19,Offsets!$A$33,Offsets!$A$31)","v":0.14285714285714285},{"$f":"OFFSET(Data!Q19,Offsets!$A$33,Offsets!$A$31)","v":1},{"$f":"OFFSET(Data!R19,Offsets!$A$33,Offsets!$A$31)","v":3.1428571428571428},{"$f":"OFFSET(Data!S19,Offsets!$A$33,Offsets!$A$31)","v":6.7142857142857144},{"$f":"OFFSET(Data!T19,Offsets!$A$33,Offsets!$A$31)","v":4.1428571428571432},{"$f":"OFFSET(Data!U19,Offsets!$A$33,Offsets!$A$31)","v":2.4285714285714284},{"$f":"OFFSET(Data!V19,Offsets!$A$33,Offsets!$A$31)","v":0.14285714285714285},{"$f":"OFFSET(Data!W19,Offsets!$A$33,Offsets!$A$31)","v":0},{"$f":"OFFSET(Data!X19,Offsets!$A$33,Offsets!$A$31)","v":0},{"$f":"OFFSET(Data!Y19,Offsets!$A$33,Offsets!$A$31)","v":0},{"$f":"OFFSET(Data!Z19,Offsets!$A$33,Offsets!$A$31)","v":0},{"$f":"OFFSET(Data!AA19,Offsets!$A$33,Offsets!$A$31)","v":0},{"$f":"OFFSET(Data!AB19,Offsets!$A$33,Offsets!$A$31)","v":0},{"$f":"OFFSET(Data!AC19,Offsets!$A$33,Offsets!$A$31)","v":0},{"$f":"OFFSET(Data!AD19,Offsets!$A$33,Offsets!$A$31)","v":0},{"$f":"OFFSET(Data!AE19,Offsets!$A$33,Offsets!$A$31)","v":0},{"$f":"OFFSET(Data!AF19,Offsets!$A$33,Offsets!$A$31)","v":0},{"$f":"OFFSET(Data!AG19,Offsets!$A$33,Offsets!$A$31)","v":0},{"$f":"OFFSET(Data!AH19,Offsets!$A$33,Offsets!$A$31)","v":0},{"$f":"OFFSET(Data!AI19,Offsets!$A$33,Offsets!$A$31)","v":0},{"$f":"OFFSET(Data!AJ19,Offsets!$A$33,Offsets!$A$31)","v":0},{"$f":"OFFSET(Data!AK19,Offsets!$A$33,Offsets!$A$31)","v":0},{"$f":"OFFSET(Data!AL19,Offsets!$A$33,Offsets!$A$31)","v":0},{"$f":"OFFSET(Data!AM19,Offsets!$A$33,Offsets!$A$31)","v":23.35},{"$f":"OFFSET(Data!AN19,Offsets!$A$33,Offsets!$A$31)","v":29.47}]
[null,"15:00:00",{"$f":"OFFSET(Data!O20,Offsets!$A$33,Offsets!$A$31)","v":0},{"$f":"OFFSET(Data!P20,Offsets!$A$33,Offsets!$A$31)","v":0},{"$f":"OFFSET(Data!Q20,Offsets!$A$33,Offsets!$A$31)","v":2},{"$f":"OFFSET(Data!R20,Offsets!$A$33,Offsets!$A$31)","v":4.2857142857142856},{"$f":"OFFSET(Data!S20,Offsets!$A$33,Offsets!$A$31)","v":5.8571428571428568},{"$f":"OFFSET(Data!T20,Offsets!$A$33,Offsets!$A$31)","v":5.7142857142857144},{"$f":"OFFSET(Data!U20,Offsets!$A$33,Offsets!$A$31)","v":1.2857142857142858},{"$f":"OFFSET(Data!V20,Offsets!$A$33,Offsets!$A$31)","v":0.14285714285714285},{"$f":"OFFSET(Data!W20,Offsets!$A$33,Offsets!$A$31)","v":0},{"$f":"OFFSET(Data!X20,Offsets!$A$33,Offsets!$A$31)","v":0},{"$f":"OFFSET(Data!Y20,Offsets!$A$33,Offsets!$A$31)","v":0},{"$f":"OFFSET(Data!Z20,Offsets!$A$33,Offsets!$A$31)","v":0},{"$f":"OFFSET(Data!AA20,Offsets!$A$33,Offsets!$A$31)","v":0},{"$f":"OFFSET(Data!AB20,Offsets!$A$33,Offsets!$A$31)","v":0},{"$f":"OFFSET(Data!AC20,Offsets!$A$33,Offsets!$A$31)","v":0},{"$f":"OFFSET(Data!AD20,Offsets!$A$33,Offsets!$A$31)","v":0},{"$f":"OFFSET(Data!AE20,Offsets!$A$33,Offsets!$A$31)","v":0},{"$f":"OFFSET(Data!AF20,Offsets!$A$33,Offsets!$A$31)","v":0},{"$f":"OFFSET(Data!AG20,Offsets!$A$33,Offsets!$A$31)","v":0},{"$f":"OFFSET(Data!AH20,Offsets!$A$33,Offsets!$A$31)","v":0},{"$f":"OFFSET(Data!AI20,Offsets!$A$33,Offsets!$A$31)","v":0},{"$f":"OFFSET(Data!AJ20,Offsets!$A$33,Offsets!$A$31)","v":0},{"$f":"OFFSET(Data!AK20,Offsets!$A$33,Offsets!$A$31)","v":0},{"$f":"OFFSET(Data!AL20,Offsets!$A$33,Offsets!$A$31)","v":0},{"$f":"OFFSET(Data!AM20,Offsets!$A$33,Offsets!$A$31)","v":22.71},{"$f":"OFFSET(Data!AN20,Offsets!$A$33,Offsets!$A$31)","v":28.13}]
[null,"16:00:00",{"$f":"OFFSET(Data!O21,Offsets!$A$33,Offsets!$A$31)","v":0},{"$f":"OFFSET(Data!P21,Offsets!$A$33,Offsets!$A$31)","v":0.5714285714285714},{"$f":"OFFSET(Data!Q21,Offsets!$A$33,Offsets!$A$31)","v":3},{"$f":"OFFSET(Data!R21,Offsets!$A$33,Offsets!$A$31)","v":3.8571428571428572},{"$f":"OFFSET(Data!S21,Offsets!$A$33,Offsets!$A$31)","v":9.7142857142857135},{"$f":"OFFSET(Data!T21,Offsets!$A$33,Offsets!$A$31)","v":10},{"$f":"OFFSET(Data!U21,Offsets!$A$33,Offsets!$A$31)","v":2.4285714285714284},{"$f":"OFFSET(Data!V21,Offsets!$A$33,Offsets!$A$31)","v":0.42857142857142855},{"$f":"OFFSET(Data!W21,Offsets!$A$33,Offsets!$A$31)","v":0},{"$f":"OFFSET(Data!X21,Offsets!$A$33,Offsets!$A$31)","v":0.14285714285714285},{"$f":"OFFSET(Data!Y21,Offsets!$A$33,Offsets!$A$31)","v":0},{"$f":"OFFSET(Data!Z21,Offsets!$A$33,Offsets!$A$31)","v":0},{"$f":"OFFSET(Data!AA21,Offsets!$A$33,Offsets!$A$31)","v":0},{"$f":"OFFSET(Data!AB21,Offsets!$A$33,Offsets!$A$31)","v":0},{"$f":"OFFSET(Data!AC21,Offsets!$A$33,Offsets!$A$31)","v":0},{"$f":"OFFSET(Data!AD21,Offsets!$A$33,Offsets!$A$31)","v":0},{"$f":"OFFSET(Data!AE21,Offsets!$A$33,Offsets!$A$31)","v":0},{"$f":"OFFSET(Data!AF21,Offsets!$A$33,Offsets!$A$31)","v":0},{"$f":"OFFSET(Data!AG21,Offsets!$A$33,Offsets!$A$31)","v":0},{"$f":"OFFSET(Data!AH21,Offsets!$A$33,Offsets!$A$31)","v":0},{"$f":"OFFSET(Data!AI21,Offsets!$A$33,Offsets!$A$31)","v":0},{"$f":"OFFSET(Data!AJ21,Offsets!$A$33,Offsets!$A$31)","v":0},{"$f":"OFFSET(Data!AK21,Offsets!$A$33,Offsets!$A$31)","v":0},{"$f":"OFFSET(Data!AL21,Offsets!$A$33,Offsets!$A$31)","v":0},{"$f":"OFFSET(Data!AM21,Offsets!$A$33,Offsets!$A$31)","v":23.43},{"$f":"OFFSET(Data!AN21,Offsets!$A$33,Offsets!$A$31)","v":29.18}]
[null,"17:00:00",{"$f":"OFFSET(Data!O22,Offsets!$A$33,Offsets!$A$31)","v":0},{"$f":"OFFSET(Data!P22,Offsets!$A$33,Offsets!$A$31)","v":0.14285714285714285},{"$f":"OFFSET(Data!Q22,Offsets!$A$33,Offsets!$A$31)","v":2.5714285714285716},{"$f":"OFFSET(Data!R22,Offsets!$A$33,Offsets!$A$31)","v":4.8571428571428568},{"$f":"OFFSET(Data!S22,Offsets!$A$33,Offsets!$A$31)","v":12.714285714285714},{"$f":"OFFSET(Data!T22,Offsets!$A$33,Offsets!$A$31)","v":10.142857142857142},{"$f":"OFFSET(Data!U22,Offsets!$A$33,Offsets!$A$31)","v":2.2857142857142856},{"$f":"OFFSET(Data!V22,Offsets!$A$33,Offsets!$A$31)","v":0.14285714285714285},{"$f":"OFFSET(Data!W22,Offsets!$A$33,Offsets!$A$31)","v":0},{"$f":"OFFSET(Data!X22,Offsets!$A$33,Offsets!$A$31)","v":0},{"$f":"OFFSET(Data!Y22,Offsets!$A$33,Offsets!$A$31)","v":0},{"$f":"OFFSET(Data!Z22,Offsets!$A$33,Offsets!$A$31)","v":0},{"$f":"OFFSET(Data!AA22,Offsets!$A$33,Offsets!$A$31)","v":0},{"$f":"OFFSET(Data!AB22,Offsets!$A$33,Offsets!$A$31)","v":0},{"$f":"OFFSET(Data!AC22,Offsets!$A$33,Offsets!$A$31)","v":0},{"$f":"OFFSET(Data!AD22,Offsets!$A$33,Offsets!$A$31)","v":0},{"$f":"OFFSET(Data!AE22,Offsets!$A$33,Offsets!$A$31)","v":0},{"$f":"OFFSET(Data!AF22,Offsets!$A$33,Offsets!$A$31)","v":0},{"$f":"OFFSET(Data!AG22,Offsets!$A$33,Offsets!$A$31)","v":0},{"$f":"OFFSET(Data!AH22,Offsets!$A$33,Offsets!$A$31)","v":0},{"$f":"OFFSET(Data!AI22,Offsets!$A$33,Offsets!$A$31)","v":0},{"$f":"OFFSET(Data!AJ22,Offsets!$A$33,Offsets!$A$31)","v":0},{"$f":"OFFSET(Data!AK22,Offsets!$A$33,Offsets!$A$31)","v":0},{"$f":"OFFSET(Data!AL22,Offsets!$A$33,Offsets!$A$31)","v":0},{"$f":"OFFSET(Data!AM22,Offsets!$A$33,Offsets!$A$31)","v":23.2},{"$f":"OFFSET(Data!AN22,Offsets!$A$33,Offsets!$A$31)","v":28.5}]
[null,"18:00:00",{"$f":"OFFSET(Data!O23,Offsets!$A$33,Offsets!$A$31)","v":0},{"$f":"OFFSET(Data!P23,Offsets!$A$33,Offsets!$A$31)","v":0.42857142857142855},{"$f":"OFFSET(Data!Q23,Offsets!$A$33,Offsets!$A$31)","v":2.1428571428571428},{"$f":"OFFSET(Data!R23,Offsets!$A$33,Offsets!$A$31)","v":3.5714285714285716},{"$f":"OFFSET(Data!S23,Offsets!$A$33,Offsets!$A$31)","v":6.4285714285714288},{"$f":"OFFSET(Data!T23,Offsets!$A$33,Offsets!$A$31)","v":8.2857142857142865},{"$f":"OFFSET(Data!U23,Offsets!$A$33,Offsets!$A$31)","v":3.1428571428571428},{"$f":"OFFSET(Data!V23,Offsets!$A$33,Offsets!$A$31)","v":0.5714285714285714},{"$f":"OFFSET(Data!W23,Offsets!$A$33,Offsets!$A$31)","v":0},{"$f":"OFFSET(Data!X23,Offsets!$A$33,Offsets!$A$31)","v":0},{"$f":"OFFSET(Data!Y23,Offsets!$A$33,Offsets!$A$31)","v":0},{"$f":"OFFSET(Data!Z23,Offsets!$A$33,Offsets!$A$31)","v":0},{"$f":"OFFSET(Data!AA23,Offsets!$A$33,Offsets!$A$31)","v":0},{"$f":"OFFSET(Data!AB23,Offsets!$A$33,Offsets!$A$31)","v":0},{"$f":"OFFSET(Data!AC23,Offsets!$A$33,Offsets!$A$31)","v":0},{"$f":"OFFSET(Data!AD23,Offsets!$A$33,Offsets!$A$31)","v":0},{"$f":"OFFSET(Data!AE23,Offsets!$A$33,Offsets!$A$31)","v":0},{"$f":"OFFSET(Data!AF23,Offsets!$A$33,Offsets!$A$31)","v":0},{"$f":"OFFSET(Data!AG23,Offsets!$A$33,Offsets!$A$31)","v":0},{"$f":"OFFSET(Data!AH23,Offsets!$A$33,Offsets!$A$31)","v":0},{"$f":"OFFSET(Data!AI23,Offsets!$A$33,Offsets!$A$31)","v":0},{"$f":"OFFSET(Data!AJ23,Offsets!$A$33,Offsets!$A$31)","v":0},{"$f":"OFFSET(Data!AK23,Offsets!$A$33,Offsets!$A$31)","v":0},{"$f":"OFFSET(Data!AL23,Offsets!$A$33,Offsets!$A$31)","v":0},{"$f":"OFFSET(Data!AM23,Offsets!$A$33,Offsets!$A$31)","v":24.02},{"$f":"OFFSET(Data!AN23,Offsets!$A$33,Offsets!$A$31)","v":29.92}]
[null,"19:00:00",{"$f":"OFFSET(Data!O24,Offsets!$A$33,Offsets!$A$31)","v":0},{"$f":"OFFSET(Data!P24,Offsets!$A$33,Offsets!$A$31)","v":0},{"$f":"OFFSET(Data!Q24,Offsets!$A$33,Offsets!$A$31)","v":1},{"$f":"OFFSET(Data!R24,Offsets!$A$33,Offsets!$A$31)","v":2.1428571428571428},{"$f":"OFFSET(Data!S24,Offsets!$A$33,Offsets!$A$31)","v":5.8571428571428568},{"$f":"OFFSET(Data!T24,Offsets!$A$33,Offsets!$A$31)","v":5.7142857142857144},{"$f":"OFFSET(Data!U24,Offsets!$A$33,Offsets!$A$31)","v":2},{"$f":"OFFSET(Data!V24,Offsets!$A$33,Offsets!$A$31)","v":0.2857142857142857},{"$f":"OFFSET(Data!W24,Offsets!$A$33,Offsets!$A$31)","v":0},{"$f":"OFFSET(Data!X24,Offsets!$A$33,Offsets!$A$31)","v":0},{"$f":"OFFSET(Data!Y24,Offsets!$A$33,Offsets!$A$31)","v":0},{"$f":"OFFSET(Data!Z24,Offsets!$A$33,Offsets!$A$31)","v":0},{"$f":"OFFSET(Data!AA24,Offsets!$A$33,Offsets!$A$31)","v":0},{"$f":"OFFSET(Data!AB24,Offsets!$A$33,Offsets!$A$31)","v":0},{"$f":"OFFSET(Data!AC24,Offsets!$A$33,Offsets!$A$31)","v":0},{"$f":"OFFSET(Data!AD24,Offsets!$A$33,Offsets!$A$31)","v":0},{"$f":"OFFSET(Data!AE24,Offsets!$A$33,Offsets!$A$31)","v":0},{"$f":"OFFSET(Data!AF24,Offsets!$A$33,Offsets!$A$31)","v":0},{"$f":"OFFSET(Data!AG24,Offsets!$A$33,Offsets!$A$31)","v":0},{"$f":"OFFSET(Data!AH24,Offsets!$A$33,Offsets!$A$31)","v":0},{"$f":"OFFSET(Data!AI24,Offsets!$A$33,Offsets!$A$31)","v":0},{"$f":"OFFSET(Data!AJ24,Offsets!$A$33,Offsets!$A$31)","v":0},{"$f":"OFFSET(Data!AK24,Offsets!$A$33,Offsets!$A$31)","v":0},{"$f":"OFFSET(Data!AL24,Offsets!$A$33,Offsets!$A$31)","v":0},{"$f":"OFFSET(Data!AM24,Offsets!$A$33,Offsets!$A$31)","v":24.17},{"$f":"OFFSET(Data!AN24,Offsets!$A$33,Offsets!$A$31)","v":29.58}]
[null,"20:00:00",{"$f":"OFFSET(Data!O25,Offsets!$A$33,Offsets!$A$31)","v":0},{"$f":"OFFSET(Data!P25,Offsets!$A$33,Offsets!$A$31)","v":0.2857142857142857},{"$f":"OFFSET(Data!Q25,Offsets!$A$33,Offsets!$A$31)","v":0.2857142857142857},{"$f":"OFFSET(Data!R25,Offsets!$A$33,Offsets!$A$31)","v":1.2857142857142858},{"$f":"OFFSET(Data!S25,Offsets!$A$33,Offsets!$A$31)","v":3.2857142857142856},{"$f":"OFFSET(Data!T25,Offsets!$A$33,Offsets!$A$31)","v":3.5714285714285716},{"$f":"OFFSET(Data!U25,Offsets!$A$33,Offsets!$A$31)","v":1.1428571428571428},{"$f":"OFFSET(Data!V25,Offsets!$A$33,Offsets!$A$31)","v":0.42857142857142855},{"$f":"OFFSET(Data!W25,Offsets!$A$33,Offsets!$A$31)","v":0},{"$f":"OFFSET(Data!X25,Offsets!$A$33,Offsets!$A$31)","v":0},{"$f":"OFFSET(Data!Y25,Offsets!$A$33,Offsets!$A$31)","v":0},{"$f":"OFFSET(Data!Z25,Offsets!$A$33,Offsets!$A$31)","v":0},{"$f":"OFFSET(Data!AA25,Offsets!$A$33,Offsets!$A$31)","v":0},{"$f":"OFFSET(Data!AB25,Offsets!$A$33,Offsets!$A$31)","v":0},{"$f":"OFFSET(Data!AC25,Offsets!$A$33,Offsets!$A$31)","v":0},{"$f":"OFFSET(Data!AD25,Offsets!$A$33,Offsets!$A$31)","v":0},{"$f":"OFFSET(Data!AE25,Offsets!$A$33,Offsets!$A$31)","v":0},{"$f":"OFFSET(Data!AF25,Offsets!$A$33,Offsets!$A$31)","v":0},{"$f":"OFFSET(Data!AG25,Offsets!$A$33,Offsets!$A$31)","v":0},{"$f":"OFFSET(Data!AH25,Offsets!$A$33,Offsets!$A$31)","v":0},{"$f":"OFFSET(Data!AI25,Offsets!$A$33,Offsets!$A$31)","v":0},{"$f":"OFFSET(Data!AJ25,Offsets!$A$33,Offsets!$A$31)","v":0},{"$f":"OFFSET(Data!AK25,Offsets!$A$33,Offsets!$A$31)","v":0},{"$f":"OFFSET(Data!AL25,Offsets!$A$33,Offsets!$A$31)","v":0},{"$f":"OFFSET(Data!AM25,Offsets!$A$33,Offsets!$A$31)","v":24.65},{"$f":"OFFSET(Data!AN25,Offsets!$A$33,Offsets!$A$31)","v":29.97}]
[null,"21:00:00",{"$f":"OFFSET(Data!O26,Offsets!$A$33,Offsets!$A$31)","v":0},{"$f":"OFFSET(Data!P26,Offsets!$A$33,Offsets!$A$31)","v":0},{"$f":"OFFSET(Data!Q26,Offsets!$A$33,Offsets!$A$31)","v":0.42857142857142855},{"$f":"OFFSET(Data!R26,Offsets!$A$33,Offsets!$A$31)","v":0.42857142857142855},{"$f":"OFFSET(Data!S26,Offsets!$A$33,Offsets!$A$31)","v":2.2857142857142856},{"$f":"OFFSET(Data!T26,Offsets!$A$33,Offsets!$A$31)","v":1.7142857142857142},{"$f":"OFFSET(Data!U26,Offsets!$A$33,Offsets!$A$31)","v":0.8571428571428571},{"$f":"OFFSET(Data!V26,Offsets!$A$33,Offsets!$A$31)","v":0},{"$f":"OFFSET(Data!W26,Offsets!$A$33,Offsets!$A$31)","v":0},{"$f":"OFFSET(Data!X26,Offsets!$A$33,Offsets!$A$31)","v":0},{"$f":"OFFSET(Data!Y26,Offsets!$A$33,Offsets!$A$31)","v":0},{"$f":"OFFSET(Data!Z26,Offsets!$A$33,Offsets!$A$31)","v":0},{"$f":"OFFSET(Data!AA26,Offsets!$A$33,Offsets!$A$31)","v":0},{"$f":"OFFSET(Data!AB26,Offsets!$A$33,Offsets!$A$31)","v":0},{"$f":"OFFSET(Data!AC26,Offsets!$A$33,Offsets!$A$31)","v":0},{"$f":"OFFSET(Data!AD26,Offsets!$A$33,Offsets!$A$31)","v":0},{"$f":"OFFSET(Data!AE26,Offsets!$A$33,Offsets!$A$31)","v":0},{"$f":"OFFSET(Data!AF26,Offsets!$A$33,Offsets!$A$31)","v":0},{"$f":"OFFSET(Data!AG26,Offsets!$A$33,Offsets!$A$31)","v":0},{"$f":"OFFSET(Data!AH26,Offsets!$A$33,Offsets!$A$31)","v":0},{"$f":"OFFSET(Data!AI26,Offsets!$A$33,Offsets!$A$31)","v":0},{"$f":"OFFSET(Data!AJ26,Offsets!$A$33,Offsets!$A$31)","v":0},{"$f":"OFFSET(Data!AK26,Offsets!$A$33,Offsets!$A$31)","v":0},{"$f":"OFFSET(Data!AL26,Offsets!$A$33,Offsets!$A$31)","v":0},{"$f":"OFFSET(Data!AM26,Offsets!$A$33,Offsets!$A$31)","v":24.22},{"$f":"OFFSET(Data!AN26,Offsets!$A$33,Offsets!$A$31)","v":28.94}]
[null,"22:00:00",{"$f":"OFFSET(Data!O27,Offsets!$A$33,Offsets!$A$31)","v":0},{"$f":"OFFSET(Data!P27,Offsets!$A$33,Offsets!$A$31)","v":0.14285714285714285},{"$f":"OFFSET(Data!Q27,Offsets!$A$33,Offsets!$A$31)","v":0},{"$f":"OFFSET(Data!R27,Offsets!$A$33,Offsets!$A$31)","v":1},{"$f":"OFFSET(Data!S27,Offsets!$A$33,Offsets!$A$31)","v":1.5714285714285714},{"$f":"OFFSET(Data!T27,Offsets!$A$33,Offsets!$A$31)","v":2.2857142857142856},{"$f":"OFFSET(Data!U27,Offsets!$A$33,Offsets!$A$31)","v":0.5714285714285714},{"$f":"OFFSET(Data!V27,Offsets!$A$33,Offsets!$A$31)","v":0},{"$f":"OFFSET(Data!W27,Offsets!$A$33,Offsets!$A$31)","v":0},{"$f":"OFFSET(Data!X27,Offsets!$A$33,Offsets!$A$31)","v":0},{"$f":"OFFSET(Data!Y27,Offsets!$A$33,Offsets!$A$31)","v":0},{"$f":"OFFSET(Data!Z27,Offsets!$A$33,Offsets!$A$31)","v":0},{"$f":"OFFSET(Data!AA27,Offsets!$A$33,Offsets!$A$31)","v":0},{"$f":"OFFSET(Data!AB27,Offsets!$A$33,Offsets!$A$31)","v":0},{"$f":"OFFSET(Data!AC27,Offsets!$A$33,Offsets!$A$31)","v":0},{"$f":"OFFSET(Data!AD27,Offsets!$A$33,Offsets!$A$31)","v":0},{"$f":"OFFSET(Data!AE27,Offsets!$A$33,Offsets!$A$31)","v":0},{"$f":"OFFSET(Data!AF27,Offsets!$A$33,Offsets!$A$31)","v":0},{"$f":"OFFSET(Data!AG27,Offsets!$A$33,Offsets!$A$31)","v":0},{"$f":"OFFSET(Data!AH27,Offsets!$A$33,Offsets!$A$31)","v":0},{"$f":"OFFSET(Data!AI27,Offsets!$A$33,Offsets!$A$31)","v":0},{"$f":"OFFSET(Data!AJ27,Offsets!$A$33,Offsets!$A$31)","v":0},{"$f":"OFFSET(Data!AK27,Offsets!$A$33,Offsets!$A$31)","v":0},{"$f":"OFFSET(Data!AL27,Offsets!$A$33,Offsets!$A$31)","v":0},{"$f":"OFFSET(Data!AM27,Offsets!$A$33,Offsets!$A$31)","v":24.27},{"$f":"OFFSET(Data!AN27,Offsets!$A$33,Offsets!$A$31)","v":28.16}]
[null,"23:00:00",{"$f":"OFFSET(Data!O28,Offsets!$A$33,Offsets!$A$31)","v":0},{"$f":"OFFSET(Data!P28,Offsets!$A$33,Offsets!$A$31)","v":0},{"$f":"OFFSET(Data!Q28,Offsets!$A$33,Offsets!$A$31)","v":0},{"$f":"OFFSET(Data!R28,Offsets!$A$33,Offsets!$A$31)","v":0.2857142857142857},{"$f":"OFFSET(Data!S28,Offsets!$A$33,Offsets!$A$31)","v":1.1428571428571428},{"$f":"OFFSET(Data!T28,Offsets!$A$33,Offsets!$A$31)","v":0.5714285714285714},{"$f":"OFFSET(Data!U28,Offsets!$A$33,Offsets!$A$31)","v":0.2857142857142857},{"$f":"OFFSET(Data!V28,Offsets!$A$33,Offsets!$A$31)","v":0.14285714285714285},{"$f":"OFFSET(Data!W28,Offsets!$A$33,Offsets!$A$31)","v":0},{"$f":"OFFSET(Data!X28,Offsets!$A$33,Offsets!$A$31)","v":0},{"$f":"OFFSET(Data!Y28,Offsets!$A$33,Offsets!$A$31)","v":0},{"$f":"OFFSET(Data!Z28,Offsets!$A$33,Offsets!$A$31)","v":0},{"$f":"OFFSET(Data!AA28,Offsets!$A$33,Offsets!$A$31)","v":0},{"$f":"OFFSET(Data!AB28,Offsets!$A$33,Offsets!$A$31)","v":0},{"$f":"OFFSET(Data!AC28,Offsets!$A$33,Offsets!$A$31)","v":0},{"$f":"OFFSET(Data!AD28,Offsets!$A$33,Offsets!$A$31)","v":0},{"$f":"OFFSET(Data!AE28,Offsets!$A$33,Offsets!$A$31)","v":0},{"$f":"OFFSET(Data!AF28,Offsets!$A$33,Offsets!$A$31)","v":0},{"$f":"OFFSET(Data!AG28,Offsets!$A$33,Offsets!$A$31)","v":0},{"$f":"OFFSET(Data!AH28,Offsets!$A$33,Offsets!$A$31)","v":0},{"$f":"OFFSET(Data!AI28,Offsets!$A$33,Offsets!$A$31)","v":0},{"$f":"OFFSET(Data!AJ28,Offsets!$A$33,Offsets!$A$31)","v":0},{"$f":"OFFSET(Data!AK28,Offsets!$A$33,Offsets!$A$31)","v":0},{"$f":"OFFSET(Data!AL28,Offsets!$A$33,Offsets!$A$31)","v":0},{"$f":"OFFSET(Data!AM28,Offsets!$A$33,Offsets!$A$31)","v":25.29},{"$f":"OFFSET(Data!AN28,Offsets!$A$33,Offsets!$A$31)","v":30.18}]
[null,"Total",{"$f":"SUM(C20:C43)","v":0},{"$f":"SUM(D20:D43)","v":5.2857142857142865},23.714285714285712,43,97.571428571428569,88.857142857142861,27.428571428571427,3.2857142857142851,0.14285714285714285,0.14285714285714285,0,0,0,0,0,0,0,0,0,0,0,0,0,0,{"$f":"OFFSET(Data!Spd_Summary_Table,Offsets!$A$11+Offsets!$A$15-1,2+(Offsets!$A$3-1)*10)","v":23.31},{"$f":"OFFSET(Data!Spd_Summary_Table,Offsets!$A$11+Offsets!$A$15-1,3+(Offsets!$A$3-1)*10)","v":28.93}]

{"sheet":"Vol Graph","index":5,"n_rows":3,"n_cols":18,"rows_kept":3,"cut":false,"hidden":false,"merged":[]}
[]
[null,"Select Site",null,null,null,null,null,null,null,"Select direction"]
[null,null,null,null,null,null,null,null,null,null,null,null,null,null,null,null,null,"Select Day"]

{"sheet":"Traffic Data Summary","index":6,"n_rows":61,"n_cols":13,"rows_kept":61,"cut":false,"hidden":false,"merged":[[60,1,60,12],[44,1,45,4],[44,5,44,6],[44,7,44,8],[44,9,44,10],[44,11,44,12],[52,1,53,4],[52,5,52,6],[52,7,52,8],[52,9,52,10],[52,11,52,12],[54,1,54,4],[55,1,55,4],[56,1,56,4],[57,1,57,4],[58,1,58,4],[41,5,41,6],[41,7,41,8],[41,9,41,10],[41,11,41,12],[42,5,42,6],[42,7,42,8],[42,9,42,10],[42,11,42,12],[38,1,38,4],[38,5,38,6],[38,7,38,8],[38,9,38,10],[38,11,38,12],[40,1,40,4],[40,5,40,6],[40,7,40,8],[40,9,40,10],[40,11,40,12],[35,1,36,4],[35,5,35,8],[35,9,35,12],[36,6,36,7],[36,10,36,11],[37,1,37,4],[37,5,37,6],[37,7,37,8],[37,9,37,10],[37,11,37,12],[0,0,0,13],[2,4,2,5],[30,6,30,7],[32,1,33,4],[32,5,32,8],[32,9,32,10],[32,11,32,12],[33,5,33,8],[33,9,33,10],[33,11,33,12]]}
["SUMMARY OF AUTOMATIC TRAFFIC COUNT DATA"]
[null,null,"LOCATION :",{"$f":"CONCATENATE(OFFSET(Offsets!Rd,-1,0), \" \", OFFSET(Offsets!Loc,-1,0))","v":"Brockhollands Road 51.744498, -2.558571 "}]
[null,null,null,"SITE NUMBER :",{"$f":"OFFSET(Offsets!Site_Id,-1,0)","v":1},null,null,null,"GRID REFERENCE :",{"$f":"OFFSET(Offsets!Lat,-1,0)","v":615052}]
[null,null,null,"SPEED LIMIT (mph) :",{"$f":"OFFSET(Offsets!PSL,-1,0)","v":60},null,null,null,"COUNT DURATION : 1 WEEK :",{"$f":"CONCATENATE(TEXT(OFFSET(Offsets!Dte,-1,0),\"ddd dd-mmm-yyyy\"),\" to \",TEXT(OFFSET(Offsets!Dte,-1,0)+7,\"ddd dd-mmm-yyyy\"))","v":"Thu 28-Sep-2023 to Thu 05-Oct-2023"}]
[]
[]
[]
[]
[]
[]
[]
[]
[]
[]
[]
[]
[]
[]
[]
[]
[]
[]
[]
[]
[]
[]
[]
[]
[]
[]
[null,null,null,null,null,null,"Location Plan"]
[]
[null,"Combined Directions\nTraffic Volumes",null,null,null,"Time Period",null,null,null,"Weekday Average ",null,"7 Day Average"]
[null,null,null,null,null,"24 Hr Day",null,null,null,{"$f":"F39+J39","v":668},null,{"$f":"H39+L39","v":620}]
[]
[null,"Directional Traffic Data",null,null,null,"DIRECTION 1",null,null,null,"DIRECTION 2"]
[null,null,null,null,null,null,{"$f":"_xlfn.LET(_xlpm.dir,LEFT(OFFSET(Offsets!Dir_1,-1,0),1),_xlfn.IFS(_xlpm.dir=\"N\",\"Northbound\",_xlpm.dir=\"S\",\"Southbound\",_xlpm.dir=\"E\",\"Eastbound\",_xlpm.dir=\"W\",\"Westbound\"))","v":"Northbound"},null,null,null,{"$f":"_xlfn.LET(_xlpm.dir,LEFT(OFFSET(Offsets!Dir_2,-1,0),1),_xlfn.IFS(_xlpm.dir=\"N\",\"Northbound\",_xlpm.dir=\"S\",\"Southbound\",_xlpm.dir=\"E\",\"Eastbound\",_xlpm.dir=\"W\",\"Westbound\"))","v":"Southbound"}]
[null,"Traffic Volumes",null,null,null,"Weekday Average",null,"7 Day Average",null,"Weekday Average",null,"7 Day Average"]
[null,"24 Hr Day",null,null,null,{"$f":"ROUND(SUM(OFFSET(Data!FD5,(Offsets!Site_No-1)*(24*9*60/ImportData!Interval+3),0,24*60/ImportData!Interval,5))/5,0)","v":310},null,{"$f":"ROUND(SUM(OFFSET(Data!FD5,(Offsets!Site_No-1)*(24*9*60/ImportData!Interval+3),0,24*60/ImportData!Interval,7))/7,0)","v":289},null,{"$f":"ROUND(SUM(OFFSET(Data!FK5,(Offsets!Site_No-1)*(24*9*60/ImportData!Interval+3),0,24*60/ImportData!Interval,5))/5,0)","v":358},null,{"$f":"ROUND(SUM(OFFSET(Data!FK5,(Offsets!Site_No-1)*(24*9*60/ImportData!Interval+3),0,24*60/ImportData!Interval,7))/7,0)","v":331}]
[]
[null,"Vehicle Speeds",null,null,null,"Weekday Average",null,"7 Day Average",null,"Weekday Average",null,"7 Day Average"]
[null,null,null,null,"85 Percentile Speed (mph)",{"$f":"OFFSET(Data!Spd_Summary_Table,(Offsets!Site_No-1)*(24*9*60/ImportData!Interval+3)+7,3)","v":29.01},null,{"$f":"OFFSET(Data!Spd_Summary_Table,(Offsets!Site_No-1)*(24*9*60/ImportData!Interval+3)+8,3)","v":28.93},null,{"$f":"OFFSET(Data!Spd_Summary_Table,(Offsets!Site_No-1)*(24*9*60/ImportData!Interval+3)+7,13)","v":30.84},null,{"$f":"OFFSET(Data!Spd_Summary_Table,(Offsets!Site_No-1)*(24*9*60/ImportData!Interval+3)+8,13)","v":30.83}]
[null,null,null,null,"Average Speed (mph)",{"$f":"OFFSET(Data!Spd_Summary_Table,(Offsets!Site_No-1)*(24*9*60/ImportData!Interval+3)+7,2)","v":23.31},null,{"$f":"OFFSET(Data!Spd_Summary_Table,(Offsets!Site_No-1)*(24*9*60/ImportData!Interval+3)+8,2)","v":23.31},null,{"$f":"OFFSET(Data!Spd_Summary_Table,(Offsets!Site_No-1)*(24*9*60/ImportData!Interval+3)+7,12)","v":24.6},null,{"$f":"OFFSET(Data!Spd_Summary_Table,(Offsets!Site_No-1)*(24*9*60/ImportData!Interval+3)+8,12)","v":24.56}]
[]
[null,"Vehicle Speeds",null,null,null,"Weekday Average",null,"7 Day Average",null,"Weekday Average",null,"7 Day Average"]
[null,null,null,null,null,"Number","Percentage","Number","Percentage","Number","Percentage","Number","Percentage"]
[null,null,null,null,"Vehicles exceeding 20 mph ",{"$f":"SUM(OFFSET(Data!$S$5,(Offsets!Site_No-1)*(24*9*60/ImportData!Interval+3)+24*7*60/ImportData!Interval,0,24*60/ImportData!Interval,20))","v":233.20000000000002},{"$f":"(F47/F$39)*100","v":75.225806451612911},{"$f":"SUM(OFFSET(Data!$S$5,(Offsets!Site_No-1)*(24*9*60/ImportData!Interval+3)+24*8*60/ImportData!Interval,0,24*60/ImportData!Interval,20))","v":217.42857142857139},{"$f":"(H47/H$39)*100","v":75.234799802273827},{"$f":"SUM(OFFSET(Data!$S$5,(Offsets!Site_No-1)*(24*9*60/ImportData!Interval+3)+24*7*60/ImportData!Interval,COLUMNS(Data!Vehicle_Classification)+COLUMNS(Data!Vehicle_Speed_Bins)+COLUMNS(Data!Speed)+2,24*60/ImportData!Interval,20))","v":284.19999999999987},{"$f":"(J47/J$39)*100","v":79.385474860335165},{"$f":"SUM(OFFSET(Data!$S$5,(Offsets!Site_No-1)*(24*9*60/ImportData!Interval+3)+24*8*60/ImportData!Interval,COLUMNS(Data!Vehicle_Classification)+COLUMNS(Data!Vehicle_Speed_Bins)+COLUMNS(Data!Speed)+2,24*60/ImportData!Interval,20))","v":262.42857142857162},{"$f":"(L47/L$39)*100","v":79.283556322831302}]
[null,null,null,null,"Vehicles exceeding 30 mph ",{"$f":"SUM(OFFSET(Data!$U$5,(Offsets!Site_No-1)*(24*9*60/ImportData!Interval+3)+24*7*60/ImportData!Interval,0,24*60/ImportData!Interval,18))","v":33.999999999999986},{"$f":"(F48/F$39)*100","v":10.967741935483867},{"$f":"SUM(OFFSET(Data!$U$5,(Offsets!Site_No-1)*(24*9*60/ImportData!Interval+3)+24*8*60/ImportData!Interval,0,24*60/ImportData!Interval,18))","v":30.999999999999993},{"$f":"(H48/H$39)*100","v":10.726643598615915},{"$f":"SUM(OFFSET(Data!$U$5,(Offsets!Site_No-1)*(24*9*60/ImportData!Interval+3)+24*7*60/ImportData!Interval,COLUMNS(Data!Vehicle_Classification)+COLUMNS(Data!Vehicle_Speed_Bins)+COLUMNS(Data!Speed)+2,24*60/ImportData!Interval,18))","v":67.400000000000034},{"$f":"(J48/J$39)*100","v":18.826815642458111},{"$f":"SUM(OFFSET(Data!$U$5,(Offsets!Site_No-1)*(24*9*60/ImportData!Interval+3)+24*8*60/ImportData!Interval,COLUMNS(Data!Vehicle_Classification)+COLUMNS(Data!Vehicle_Speed_Bins)+COLUMNS(Data!Speed)+2,24*60/ImportData!Interval,18))","v":62.571428571428612},{"$f":"(L48/L$39)*100","v":18.903754855416498}]
[null,null,null,null,"Vehicles exceeding 40 mph ",{"$f":"SUM(OFFSET(Data!$W$5,(Offsets!Site_No-1)*(24*9*60/ImportData!Interval+3)+24*7*60/ImportData!Interval,0,24*60/ImportData!Interval,16))","v":0.4},{"$f":"(F49/F$39)*100","v":0.12903225806451613},{"$f":"SUM(OFFSET(Data!$W$5,(Offsets!Site_No-1)*(24*9*60/ImportData!Interval+3)+24*8*60/ImportData!Interval,0,24*60/ImportData!Interval,16))","v":0.2857142857142857},{"$f":"(H49/H$39)*100","v":9.8863074641621349E-2},{"$f":"SUM(OFFSET(Data!$W$5,(Offsets!Site_No-1)*(24*9*60/ImportData!Interval+3)+24*7*60/ImportData!Interval,COLUMNS(Data!Vehicle_Classification)+COLUMNS(Data!Vehicle_Speed_Bins)+COLUMNS(Data!Speed)+2,24*60/ImportData!Interval,16))","v":1.9999999999999998},{"$f":"(J49/J$39)*100","v":0.55865921787709494},{"$f":"SUM(OFFSET(Data!$W$5,(Offsets!Site_No-1)*(24*9*60/ImportData!Interval+3)+24*8*60/ImportData!Interval,COLUMNS(Data!Vehicle_Classification)+COLUMNS(Data!Vehicle_Speed_Bins)+COLUMNS(Data!Speed)+2,24*60/ImportData!Interval,16))","v":1.9999999999999996},{"$f":"(L49/L$39)*100","v":0.60422960725075514}]
[null,null,null,null,"Vehicles exceeding 50 mph ",{"$f":"SUM(OFFSET(Data!$Y$5,(Offsets!Site_No-1)*(24*9*60/ImportData!Interval+3)+24*7*60/ImportData!Interval,0,24*60/ImportData!Interval,14))","v":0},{"$f":"(F50/F$39)*100","v":0},{"$f":"SUM(OFFSET(Data!$Y$5,(Offsets!Site_No-1)*(24*9*60/ImportData!Interval+3)+24*8*60/ImportData!Interval,0,24*60/ImportData!Interval,14))","v":0},{"$f":"(H50/H$39)*100","v":0},{"$f":"SUM(OFFSET(Data!$Y$5,(Offsets!Site_No-1)*(24*9*60/ImportData!Interval+3)+24*7*60/ImportData!Interval,COLUMNS(Data!Vehicle_Classification)+COLUMNS(Data!Vehicle_Speed_Bins)+COLUMNS(Data!Speed)+2,24*60/ImportData!Interval,14))","v":0.2},{"$f":"(J50/J$39)*100","v":5.5865921787709501E-2},{"$f":"SUM(OFFSET(Data!$Y$5,(Offsets!Site_No-1)*(24*9*60/ImportData!Interval+3)+24*8*60/ImportData!Interval,COLUMNS(Data!Vehicle_Classification)+COLUMNS(Data!Vehicle_Speed_Bins)+COLUMNS(Data!Speed)+2,24*60/ImportData!Interval,14))","v":0.14285714285714285},{"$f":"(L50/L$39)*100","v":4.3159257660768238E-2}]
[null,null,null,null,"Vehicles exceeding 60 mph ",{"$f":"SUM(OFFSET(Data!$AA$5,(Offsets!Site_No-1)*(24*9*60/ImportData!Interval+3)+24*7*60/ImportData!Interval,0,24*60/ImportData!Interval,12))","v":0},0,{"$f":"SUM(OFFSET(Data!$AA$5,(Offsets!Site_No-1)*(24*9*60/ImportData!Interval+3)+24*8*60/ImportData!Interval,0,24*60/ImportData!Interval,12))","v":0},0,{"$f":"SUM(OFFSET(Data!$AA$5,(Offsets!Site_No-1)*(24*9*60/ImportData!Interval+3)+24*7*60/ImportData!Interval,COLUMNS(Data!Vehicle_Classification)+COLUMNS(Data!Vehicle_Speed_Bins)+COLUMNS(Data!Speed)+2,24*60/ImportData!Interval,12))","v":0},0,{"$f":"SUM(OFFSET(Data!$AA$5,(Offsets!Site_No-1)*(24*9*60/ImportData!Interval+3)+24*8*60/ImportData!Interval,COLUMNS(Data!Vehicle_Classification)+COLUMNS(Data!Vehicle_Speed_Bins)+COLUMNS(Data!Speed)+2,24*60/ImportData!Interval,12))","v":0},0]
[]
[null,"Vehicle Classes",null,null,null,"Weekday Average",null,"7 Day Average",null,"Weekday Average",null,"7 Day Average"]
[null,null,null,null,null,"Number","Percentage","Number","Percentage","Number","Percentage","Number","Percentage"]
[null,"Motor Cycle",null,null,null,{"$f":"SUM(OFFSET(Data!$D$5,(Offsets!Site_No-1)*(24*9*60/ImportData!Interval+3)+24*7*60/ImportData!Interval,0,24*60/ImportData!Interval,1))","v":3.6},{"$f":"(F55/F$39)*100","v":1.1612903225806452},{"$f":"SUM(OFFSET(Data!$D$5,(Offsets!Site_No-1)*(24*9*60/ImportData!Interval+3)+24*8*60/ImportData!Interval,0,24*60/ImportData!Interval,1))","v":3.9999999999999996},{"$f":"(H55/H$39)*100","v":1.3840830449826989},{"$f":"SUM(OFFSET(Data!$D$5,(Offsets!Site_No-1)*(24*9*60/ImportData!Interval+3)+24*7*60/ImportData!Interval,COLUMNS(Data!Vehicle_Classification)+COLUMNS(Data!Vehicle_Speed_Bins)+COLUMNS(Data!Speed)+2,24*60/ImportData!Interval,1))","v":7.0000000000000009},{"$f":"(J55/J$39)*100","v":1.9553072625698327},{"$f":"SUM(OFFSET(Data!$D$5,(Offsets!Site_No-1)*(24*9*60/ImportData!Interval+3)+24*8*60/ImportData!Interval,COLUMNS(Data!Vehicle_Classification)+COLUMNS(Data!Vehicle_Speed_Bins)+COLUMNS(Data!Speed)+2,24*60/ImportData!Interval,1))","v":8.428571428571427},{"$f":"(L55/L$39)*100","v":2.5463962019853255}]
[null,"Car",null,null,null,{"$f":"SUM(OFFSET(Data!$E$5,(Offsets!Site_No-1)*(24*9*60/ImportData!Interval+3)+24*7*60/ImportData!Interval,0,24*60/ImportData!Interval,1))","v":166.20000000000002},{"$f":"(F56/F$39)*100","v":53.612903225806448},{"$f":"SUM(OFFSET(Data!$E$5,(Offsets!Site_No-1)*(24*9*60/ImportData!Interval+3)+24*8*60/ImportData!Interval,0,24*60/ImportData!Interval,1))","v":152.57142857142858},{"$f":"(H56/H$39)*100","v":52.792881858625805},{"$f":"SUM(OFFSET(Data!$E$5,(Offsets!Site_No-1)*(24*9*60/ImportData!Interval+3)+24*7*60/ImportData!Interval,COLUMNS(Data!Vehicle_Classification)+COLUMNS(Data!Vehicle_Speed_Bins)+COLUMNS(Data!Speed)+2,24*60/ImportData!Interval,1))","v":187.99999999999997},{"$f":"(J56/J$39)*100","v":52.513966480446918},{"$f":"SUM(OFFSET(Data!$E$5,(Offsets!Site_No-1)*(24*9*60/ImportData!Interval+3)+24*8*60/ImportData!Interval,COLUMNS(Data!Vehicle_Classification)+COLUMNS(Data!Vehicle_Speed_Bins)+COLUMNS(Data!Speed)+2,24*60/ImportData!Interval,1))","v":168.28571428571433},{"$f":"(L56/L$39)*100","v":50.841605524384988}]
[null,"LGV",null,null,null,{"$f":"SUM(OFFSET(Data!$F$5,(Offsets!Site_No-1)*(24*9*60/ImportData!Interval+3)+24*7*60/ImportData!Interval,0,24*60/ImportData!Interval,1))","v":133.19999999999999},{"$f":"(F57/F$39)*100","v":42.967741935483865},{"$f":"SUM(OFFSET(Data!$F$5,(Offsets!Site_No-1)*(24*9*60/ImportData!Interval+3)+24*8*60/ImportData!Interval,0,24*60/ImportData!Interval,1))","v":127},{"$f":"(H57/H$39)*100","v":43.944636678200695},{"$f":"SUM(OFFSET(Data!$F$5,(Offsets!Site_No-1)*(24*9*60/ImportData!Interval+3)+24*7*60/ImportData!Interval,COLUMNS(Data!Vehicle_Classification)+COLUMNS(Data!Vehicle_Speed_Bins)+COLUMNS(Data!Speed)+2,24*60/ImportData!Interval,1))","v":154.19999999999996},{"$f":"(J57/J$39)*100","v":43.072625698324011},{"$f":"SUM(OFFSET(Data!$F$5,(Offsets!Site_No-1)*(24*9*60/ImportData!Interval+3)+24*8*60/ImportData!Interval,COLUMNS(Data!Vehicle_Classification)+COLUMNS(Data!Vehicle_Speed_Bins)+COLUMNS(Data!Speed)+2,24*60/ImportData!Interval,1))","v":146.57142857142856},{"$f":"(L57/L$39)*100","v":44.281398359948206}]
[null,"HGV",null,null,null,{"$f":"SUM(OFFSET(Data!$G$5,(Offsets!Site_No-1)*(24*9*60/ImportData!Interval+3)+24*7*60/ImportData!Interval,0,24*60/ImportData!Interval,6))","v":6.2000000000000011},{"$f":"(F58/F$39)*100","v":2.0000000000000004},{"$f":"SUM(OFFSET(Data!$G$5,(Offsets!Site_No-1)*(24*9*60/ImportData!Interval+3)+24*8*60/ImportData!Interval,0,24*60/ImportData!Interval,6))","v":5.2857142857142865},{"$f":"(H58/H$39)*100","v":1.8289668808699953},{"$f":"SUM(OFFSET(Data!$G$5,(Offsets!Site_No-1)*(24*9*60/ImportData!Interval+3)+24*7*60/ImportData!Interval,COLUMNS(Data!Vehicle_Classification)+COLUMNS(Data!Vehicle_Speed_Bins)+COLUMNS(Data!Speed)+2,24*60/ImportData!Interval,6))","v":7.8000000000000025},{"$f":"(J58/J$39)*100","v":2.1787709497206711},{"$f":"SUM(OFFSET(Data!$G$5,(Offsets!Site_No-1)*(24*9*60/ImportData!Interval+3)+24*8*60/ImportData!Interval,COLUMNS(Data!Vehicle_Classification)+COLUMNS(Data!Vehicle_Speed_Bins)+COLUMNS(Data!Speed)+2,24*60/ImportData!Interval,6))","v":7.1428571428571423},{"$f":"(L58/L$39)*100","v":2.1579628830384117}]
[null,"Bus",null,null,null,{"$f":"SUM(OFFSET(Data!$M$5,(Offsets!Site_No-1)*(24*9*60/ImportData!Interval+3)+24*7*60/ImportData!Interval,0,24*60/ImportData!Interval,1))","v":0.2},{"$f":"(F59/F$39)*100","v":6.4516129032258063E-2},{"$f":"SUM(OFFSET(Data!$M$5,(Offsets!Site_No-1)*(24*9*60/ImportData!Interval+3)+24*8*60/ImportData!Interval,0,24*60/ImportData!Interval,1))","v":0.14285714285714285},{"$f":"(H59/H$39)*100","v":4.9431537320810674E-2},{"$f":"SUM(OFFSET(Data!$M$5,(Offsets!Site_No-1)*(24*9*60/ImportData!Interval+3)+24*7*60/ImportData!Interval,COLUMNS(Data!Vehicle_Classification)+COLUMNS(Data!Vehicle_Speed_Bins)+COLUMNS(Data!Speed)+2,24*60/ImportData!Interval,1))","v":0},{"$f":"(J59/J$39)*100","v":0},{"$f":"SUM(OFFSET(Data!$M$5,(Offsets!Site_No-1)*(24*9*60/ImportData!Interval+3)+24*8*60/ImportData!Interval,COLUMNS(Data!Vehicle_Classification)+COLUMNS(Data!Vehicle_Speed_Bins)+COLUMNS(Data!Speed)+2,24*60/ImportData!Interval,1))","v":0},{"$f":"(L59/L$39)*100","v":0}]
[]
[null,""]

{"sheet":"Offsets","index":7,"n_rows":42,"n_cols":45,"rows_kept":42,"cut":false,"hidden":true,"merged":[]}
["Vol Sum Dir",null,null,null,null,null,"Job No","GBSth7811"]
[{"$f":"OFFSET(A4,A3,0)","v":"NB"},null,null,null,null,null,"Client","Julia Sibley",null,null,null,null,null,null,null,null,null,null,null,null,null,null,null,null,null,"Graph Data"]
[1,null,null,{"$f":"OFFSET(D4,$N$4,0)","v":60},{"$f":"OFFSET(E4,$N$4,0)","v":615052},null,{"$f":"OFFSET(G4,Site_No,0)","v":1},{"$f":"OFFSET(Rd,Site_No,0)","v":"Brockhollands Road"},{"$f":"OFFSET(Loc,Site_No,0)","v":"51.744498, -2.558571 "},{"$f":"OFFSET(Site_Id,Site_No,0)","v":1},{"$f":"OFFSET(Dir_1,Site_No,0)","v":"NB"},{"$f":"OFFSET(Dir_2,Site_No,0)","v":"SB"},{"$f":"OFFSET(Dte,Site_No,0)","v":"2023-09-28"},{"$f":"OFFSET(Site_No,Site_No,0)","v":"1. Brockhollands Road"},null,{"$f":"OFFSET(P4,$N$4,0)","v":"2023-10-02"},{"$f":"OFFSET(Q4,$N$4,0)","v":"2023-10-03"},"2023-10-04","2023-09-28","2023-09-29","2023-09-30","2023-10-01",null,null,null,null,null,null,null,null,null,null,null,null,null,null,true,true,true,true,true,true,true,true,true]
["Direction",null,null,"PSL","OSGR",null,null,"Road","Location","Site No.","Dir1","Dir2","DATE",1,"Start Day","Mon","Tue","Wed","Thu","Fri","Sat","Sun",null,null,null,null,"Mon","Tue","Wed","Thu","Fri","Sat","Sun","5 Day Ave","7 Day Ave",null,"Mon","Tue","Wed","Thu","Fri","Sat","Sun","5 Day Ave","7 Day Ave"]
[{"$f":"OFFSET(Dir_1,-1,0)","v":"NB"},null,null,60,615052,null,1,"Brockhollands Road","51.744498, -2.558571 ",1,"NB","SB","2023-09-28",{"$f":"J5&\". \"&H5&\"\"","v":"1. Brockhollands Road"},{"$f":"IF(ISBLANK($M5),\"\",IF(WEEKDAY(M5,2)=1,\"Mon\",IF(WEEKDAY(M5,2)=2,\"Tue\",IF(WEEKDAY(M5,2)=3,\"Wed\",IF(WEEKDAY(M5,2)=4,\"Thu\",IF(WEEKDAY(M5,2)=5,\"Fri\",IF(WEEKDAY(M5,2)=6,\"Sat\",IF(WEEKDAY(M5,2)=7,\"Sun\"))))))))","v":"Thu"},{"$f":"IF(ISBLANK($M5),\"\",$M5+MOD(weekdaycode(P$4)-WEEKDAY($M5,2),7))","v":"2023-10-02"},"2023-10-03","2023-10-04","2023-09-28","2023-09-29","2023-09-30","2023-10-01",null,null,null,0,{"$f":"OFFSET(Data!FD5,$A$37,$A$36)","v":2},{"$f":"OFFSET(Data!FE5,$A$37,$A$36)","v":0},{"$f":"OFFSET(Data!FF5,$A$37,$A$36)","v":2},{"$f":"OFFSET(Data!FG5,$A$37,$A$36)","v":0},{"$f":"OFFSET(Data!FH5,$A$37,$A$36)","v":1},{"$f":"OFFSET(Data!FI5,$A$37,$A$36)","v":5},{"$f":"OFFSET(Data!FJ5,$A$37,$A$36)","v":2},{"$f":"SUM(AA5:AE5)/5","v":1},{"$f":"SUM(AA5:AG5)/7","v":1.7142857142857142},0,{"$f":"IF(AK$3=TRUE,AA5,\"\")","v":2},{"$f":"IF(AL$3=TRUE,AB5,\"\")","v":0},{"$f":"IF(AM$3=TRUE,AC5,\"\")","v":2},{"$f":"IF(AN$3=TRUE,AD5,\"\")","v":0},{"$f":"IF(AO$3=TRUE,AE5,\"\")","v":1},{"$f":"IF(AP$3=TRUE,AF5,\"\")","v":5},{"$f":"IF(AQ$3=TRUE,AG5,\"\")","v":2},{"$f":"IF(AR$3=TRUE,AH5,\"\")","v":1},{"$f":"IF(AS$3=TRUE,AI5,\"\")","v":1.7142857142857142}]
[{"$f":"OFFSET(Dir_2,-1,0)","v":"SB"},null,null,null,null,null,2,null,null,null,null,null,null,". ",{"$f":"IF(ISBLANK($M6),\"\",IF(WEEKDAY(M6,2)=1,\"Mon\",IF(WEEKDAY(M6,2)=2,\"Tue\",IF(WEEKDAY(M6,2)=3,\"Wed\",IF(WEEKDAY(M6,2)=4,\"Thu\",IF(WEEKDAY(M6,2)=5,\"Fri\",IF(WEEKDAY(M6,2)=6,\"Sat\",IF(WEEKDAY(M6,2)=7,\"Sun\"))))))))","v":""},{"$f":"IF(ISBLANK($M6),\"\",$M6+MOD(weekdaycode(P$4)-WEEKDAY($M6,2),7))","v":""},"","","","","","",null,null,null,100,{"$f":"OFFSET(Data!FD6,$A$37,$A$36)","v":1},{"$f":"OFFSET(Data!FE6,$A$37,$A$36)","v":0},{"$f":"OFFSET(Data!FF6,$A$37,$A$36)","v":0},{"$f":"OFFSET(Data!FG6,$A$37,$A$36)","v":0},{"$f":"OFFSET(Data!FH6,$A$37,$A$36)","v":0},{"$f":"OFFSET(Data!FI6,$A$37,$A$36)","v":0},{"$f":"OFFSET(Data!FJ6,$A$37,$A$36)","v":2},{"$f":"SUM(AA6:AE6)/5","v":0.2},{"$f":"SUM(AA6:AG6)/7","v":0.42857142857142855},100,{"$f":"IF(AK$3=TRUE,AA6,\"\")","v":1},0,0,0,0,0,2,0.2,0.42857142857142855]
["Combined",null,null,null,null,null,3,null,null,null,null,null,null,". ",{"$f":"IF(ISBLANK($M7),\"\",IF(WEEKDAY(M7,2)=1,\"Mon\",IF(WEEKDAY(M7,2)=2,\"Tue\",IF(WEEKDAY(M7,2)=3,\"Wed\",IF(WEEKDAY(M7,2)=4,\"Thu\",IF(WEEKDAY(M7,2)=5,\"Fri\",IF(WEEKDAY(M7,2)=6,\"Sat\",IF(WEEKDAY(M7,2)=7,\"Sun\"))))))))","v":""},"","","","","","","",null,null,null,200,{"$f":"OFFSET(Data!FD7,$A$37,$A$36)","v":0},{"$f":"OFFSET(Data!FE7,$A$37,$A$36)","v":0},{"$f":"OFFSET(Data!FF7,$A$37,$A$36)","v":1},{"$f":"OFFSET(Data!FG7,$A$37,$A$36)","v":0},{"$f":"OFFSET(Data!FH7,$A$37,$A$36)","v":0},{"$f":"OFFSET(Data!FI7,$A$37,$A$36)","v":0},{"$f":"OFFSET(Data!FJ7,$A$37,$A$36)","v":1},0.2,0.2857142857142857,200,0,0,1,0,0,0,1,0.2,0.2857142857142857]
[null,null,null,null,null,null,4,null,null,null,null,null,null,". ","","","","","","","","",null,null,null,300,{"$f":"OFFSET(Data!FD8,$A$37,$A$36)","v":0},{"$f":"OFFSET(Data!FE8,$A$37,$A$36)","v":0},{"$f":"OFFSET(Data!FF8,$A$37,$A$36)","v":0},{"$f":"OFFSET(Data!FG8,$A$37,$A$36)","v":0},{"$f":"OFFSET(Data!FH8,$A$37,$A$36)","v":0},{"$f":"OFFSET(Data!FI8,$A$37,$A$36)","v":0},{"$f":"OFFSET(Data!FJ8,$A$37,$A$36)","v":0},0,0,300,0,0,0,0,0,0,0,0,0]
["Vol Sum Dir",null,null,null,null,null,5,null,null,null,null,null,null,". ","","","","","","","","",null,null,null,400,{"$f":"OFFSET(Data!FD9,$A$37,$A$36)","v":0},{"$f":"OFFSET(Data!FE9,$A$37,$A$36)","v":0},{"$f":"OFFSET(Data!FF9,$A$37,$A$36)","v":0},{"$f":"OFFSET(Data!FG9,$A$37,$A$36)","v":0},{"$f":"OFFSET(Data!FH9,$A$37,$A$36)","v":0},{"$f":"OFFSET(Data!FI9,$A$37,$A$36)","v":1},{"$f":"OFFSET(Data!FJ9,$A$37,$A$36)","v":0},0,0.14285714285714285,400,0,0,0,0,0,1,0,0,0.14285714285714285]
[{"$f":"($A$3-1)*7","v":0},"Col","Dir",null,null,null,6,null,null,null,null,null,null,". ","","","","","","","","",null,null,null,500,{"$f":"OFFSET(Data!FD10,$A$37,$A$36)","v":1},{"$f":"OFFSET(Data!FE10,$A$37,$A$36)","v":1},{"$f":"OFFSET(Data!FF10,$A$37,$A$36)","v":2},{"$f":"OFFSET(Data!FG10,$A$37,$A$36)","v":1},{"$f":"OFFSET(Data!FH10,$A$37,$A$36)","v":1},{"$f":"OFFSET(Data!FI10,$A$37,$A$36)","v":2},{"$f":"OFFSET(Data!FJ10,$A$37,$A$36)","v":0},1.2,1.1428571428571428,500,1,1,2,1,1,2,0,1.2,1.1428571428571428]
[{"$f":"(Site_No-1)*(24*9*60/ImportData!Interval+3)","v":0},"Row","Site",null,null,null,7,null,null,null,null,null,null,". ","","","","","","","","",null,null,null,600,{"$f":"OFFSET(Data!FD11,$A$37,$A$36)","v":4},{"$f":"OFFSET(Data!FE11,$A$37,$A$36)","v":2},{"$f":"OFFSET(Data!FF11,$A$37,$A$36)","v":3},{"$f":"OFFSET(Data!FG11,$A$37,$A$36)","v":5},{"$f":"OFFSET(Data!FH11,$A$37,$A$36)","v":5},{"$f":"OFFSET(Data!FI11,$A$37,$A$36)","v":2},{"$f":"OFFSET(Data!FJ11,$A$37,$A$36)","v":5},3.8,3.7142857142857144,600,4,2,3,5,5,2,5,3.8,3.7142857142857144]
[null,null,null,null,null,null,8,null,null,null,null,null,null,". ","","","","","","","","",null,null,null,700,{"$f":"OFFSET(Data!FD12,$A$37,$A$36)","v":7},{"$f":"OFFSET(Data!FE12,$A$37,$A$36)","v":14},{"$f":"OFFSET(Data!FF12,$A$37,$A$36)","v":4},{"$f":"OFFSET(Data!FG12,$A$37,$A$36)","v":14},{"$f":"OFFSET(Data!FH12,$A$37,$A$36)","v":12},{"$f":"OFFSET(Data!FI12,$A$37,$A$36)","v":4},{"$f":"OFFSET(Data!FJ12,$A$37,$A$36)","v":2},10.199999999999999,8.1428571428571423,700,7,14,4,14,12,4,2,10.199999999999999,8.1428571428571423]
[null,null,null,null,null,null,9,null,null,null,null,null,null,". ","","","","","","","","",null,null,null,800,{"$f":"OFFSET(Data!FD13,$A$37,$A$36)","v":14},{"$f":"OFFSET(Data!FE13,$A$37,$A$36)","v":21},{"$f":"OFFSET(Data!FF13,$A$37,$A$36)","v":19},{"$f":"OFFSET(Data!FG13,$A$37,$A$36)","v":15},{"$f":"OFFSET(Data!FH13,$A$37,$A$36)","v":17},{"$f":"OFFSET(Data!FI13,$A$37,$A$36)","v":9},{"$f":"OFFSET(Data!FJ13,$A$37,$A$36)","v":3},17.2,14,800,14,21,19,15,17,9,3,17.2,14]
["Class Summ",null,null,null,null,null,10,null,null,null,null,null,null,". ","","","","","","","","",null,null,null,900,{"$f":"OFFSET(Data!FD14,$A$37,$A$36)","v":14},{"$f":"OFFSET(Data!FE14,$A$37,$A$36)","v":14},{"$f":"OFFSET(Data!FF14,$A$37,$A$36)","v":14},{"$f":"OFFSET(Data!FG14,$A$37,$A$36)","v":19},{"$f":"OFFSET(Data!FH14,$A$37,$A$36)","v":20},{"$f":"OFFSET(Data!FI14,$A$37,$A$36)","v":15},{"$f":"OFFSET(Data!FJ14,$A$37,$A$36)","v":9},16.2,15,900,14,14,14,19,20,15,9,16.2,15]
[9,null,null,null,null,null,11,null,null,null,null,null,null,". ","","","","","","","","",null,null,null,1000,{"$f":"OFFSET(Data!FD15,$A$37,$A$36)","v":18},{"$f":"OFFSET(Data!FE15,$A$37,$A$36)","v":15},{"$f":"OFFSET(Data!FF15,$A$37,$A$36)","v":9},{"$f":"OFFSET(Data!FG15,$A$37,$A$36)","v":14},{"$f":"OFFSET(Data!FH15,$A$37,$A$36)","v":24},{"$f":"OFFSET(Data!FI15,$A$37,$A$36)","v":24},{"$f":"OFFSET(Data!FJ15,$A$37,$A$36)","v":15},16,17,1000,18,15,9,14,24,24,15,16,17]
["Monday",null,null,null,null,null,12,null,null,null,null,null,null,". ","","","","","","","","",null,null,null,1100,{"$f":"OFFSET(Data!FD16,$A$37,$A$36)","v":18},{"$f":"OFFSET(Data!FE16,$A$37,$A$36)","v":20},{"$f":"OFFSET(Data!FF16,$A$37,$A$36)","v":22},{"$f":"OFFSET(Data!FG16,$A$37,$A$36)","v":23},{"$f":"OFFSET(Data!FH16,$A$37,$A$36)","v":21},{"$f":"OFFSET(Data!FI16,$A$37,$A$36)","v":20},{"$f":"OFFSET(Data!FJ16,$A$37,$A$36)","v":10},20.8,19.142857142857142,1100,18,20,22,23,21,20,10,20.8,19.142857142857142]
["Tuesday",null,null,null,null,null,13,null,null,null,null,null,null,". ","","","","","","","","",null,null,null,1200,{"$f":"OFFSET(Data!FD17,$A$37,$A$36)","v":12},{"$f":"OFFSET(Data!FE17,$A$37,$A$36)","v":17},{"$f":"OFFSET(Data!FF17,$A$37,$A$36)","v":19},{"$f":"OFFSET(Data!FG17,$A$37,$A$36)","v":24},{"$f":"OFFSET(Data!FH17,$A$37,$A$36)","v":22},{"$f":"OFFSET(Data!FI17,$A$37,$A$36)","v":25},{"$f":"OFFSET(Data!FJ17,$A$37,$A$36)","v":26},18.8,20.714285714285715,1200,12,17,19,24,22,25,26,18.8,20.714285714285715]
["Wednesday",null,null,null,null,null,14,null,null,null,null,null,null,". ","","","","","","","","",null,null,null,1300,{"$f":"OFFSET(Data!FD18,$A$37,$A$36)","v":34},{"$f":"OFFSET(Data!FE18,$A$37,$A$36)","v":22},{"$f":"OFFSET(Data!FF18,$A$37,$A$36)","v":20},{"$f":"OFFSET(Data!FG18,$A$37,$A$36)","v":18},{"$f":"OFFSET(Data!FH18,$A$37,$A$36)","v":24},{"$f":"OFFSET(Data!FI18,$A$37,$A$36)","v":24},{"$f":"OFFSET(Data!FJ18,$A$37,$A$36)","v":15},23.6,22.428571428571427,1300,34,22,20,18,24,24,15,23.6,22.428571428571427]
["Thursday",null,null,null,null,null,15,null,null,null,null,null,null,". ","","","","","","","","",null,null,null,1400,{"$f":"OFFSET(Data!FD19,$A$37,$A$36)","v":18},{"$f":"OFFSET(Data!FE19,$A$37,$A$36)","v":23},{"$f":"OFFSET(Data!FF19,$A$37,$A$36)","v":19},{"$f":"OFFSET(Data!FG19,$A$37,$A$36)","v":15},{"$f":"OFFSET(Data!FH19,$A$37,$A$36)","v":18},{"$f":"OFFSET(Data!FI19,$A$37,$A$36)","v":15},{"$f":"OFFSET(Data!FJ19,$A$37,$A$36)","v":16},18.600000000000001,17.714285714285715,1400,18,23,19,15,18,15,16,18.600000000000001,17.714285714285715]
["Friday",null,null,null,null,null,16,null,null,null,null,null,null,". ","","","","","","","","",null,null,null,1500,{"$f":"OFFSET(Data!FD20,$A$37,$A$36)","v":17},{"$f":"OFFSET(Data!FE20,$A$37,$A$36)","v":23},{"$f":"OFFSET(Data!FF20,$A$37,$A$36)","v":16},{"$f":"OFFSET(Data!FG20,$A$37,$A$36)","v":17},{"$f":"OFFSET(Data!FH20,$A$37,$A$36)","v":24},{"$f":"OFFSET(Data!FI20,$A$37,$A$36)","v":26},{"$f":"OFFSET(Data!FJ20,$A$37,$A$36)","v":12},19.399999999999999,19.285714285714285,1500,17,23,16,17,24,26,12,19.399999999999999,19.285714285714285]
["Saturday",null,null,null,null,null,17,null,null,null,null,null,null,". ","","","","","","","","",null,null,null,1600,{"$f":"OFFSET(Data!FD21,$A$37,$A$36)","v":29},{"$f":"OFFSET(Data!FE21,$A$37,$A$36)","v":37},{"$f":"OFFSET(Data!FF21,$A$37,$A$36)","v":36},{"$f":"OFFSET(Data!FG21,$A$37,$A$36)","v":41},{"$f":"OFFSET(Data!FH21,$A$37,$A$36)","v":26},{"$f":"OFFSET(Data!FI21,$A$37,$A$36)","v":22},{"$f":"OFFSET(Data!FJ21,$A$37,$A$36)","v":20},33.799999999999997,30.142857142857142,1600,29,37,36,41,26,22,20,33.799999999999997,30.142857142857142]
["Sunday",null,null,null,null,null,18,null,null,null,null,null,null,". ","",{"$f":"IF(ISBLANK($M22),\"\",$M22+MOD(weekdaycode(P$4)-WEEKDAY($M22,2),7))","v":""},"","","","","","",null,null,null,1700,{"$f":"OFFSET(Data!FD22,$A$37,$A$36)","v":41},{"$f":"OFFSET(Data!FE22,$A$37,$A$36)","v":36},{"$f":"OFFSET(Data!FF22,$A$37,$A$36)","v":38},{"$f":"OFFSET(Data!FG22,$A$37,$A$36)","v":38},{"$f":"OFFSET(Data!FH22,$A$37,$A$36)","v":35},{"$f":"OFFSET(Data!FI22,$A$37,$A$36)","v":25},{"$f":"OFFSET(Data!FJ22,$A$37,$A$36)","v":17},37.6,32.857142857142854,1700,41,36,38,38,35,25,17,37.6,32.857142857142854]
["Weekday Ave",null,null,null,null,null,19,null,null,null,null,null,null,". ","","","","","","","","",null,null,null,1800,{"$f":"OFFSET(Data!FD23,$A$37,$A$36)","v":24},{"$f":"OFFSET(Data!FE23,$A$37,$A$36)","v":27},{"$f":"OFFSET(Data!FF23,$A$37,$A$36)","v":23},{"$f":"OFFSET(Data!FG23,$A$37,$A$36)","v":32},{"$f":"OFFSET(Data!FH23,$A$37,$A$36)","v":32},{"$f":"OFFSET(Data!FI23,$A$37,$A$36)","v":18},{"$f":"OFFSET(Data!FJ23,$A$37,$A$36)","v":16},27.6,24.571428571428573,1800,24,27,23,32,32,18,16,27.6,24.571428571428573]
["7 Day Ave",null,null,null,null,null,20,null,null,null,null,null,null,". ","","","","","","","","",null,null,null,1900,{"$f":"OFFSET(Data!FD24,$A$37,$A$36)","v":19},{"$f":"OFFSET(Data!FE24,$A$37,$A$36)","v":14},{"$f":"OFFSET(Data!FF24,$A$37,$A$36)","v":19},{"$f":"OFFSET(Data!FG24,$A$37,$A$36)","v":17},{"$f":"OFFSET(Data!FH24,$A$37,$A$36)","v":17},{"$f":"OFFSET(Data!FI24,$A$37,$A$36)","v":21},{"$f":"OFFSET(Data!FJ24,$A$37,$A$36)","v":12},17.2,17,1900,19,14,19,17,17,21,12,17.2,17]
[null,null,null,null,null,null,21,null,null,null,null,null,null,". ","","","","","","","","",null,null,null,2000,{"$f":"OFFSET(Data!FD25,$A$37,$A$36)","v":13},{"$f":"OFFSET(Data!FE25,$A$37,$A$36)","v":6},{"$f":"OFFSET(Data!FF25,$A$37,$A$36)","v":14},{"$f":"OFFSET(Data!FG25,$A$37,$A$36)","v":14},{"$f":"OFFSET(Data!FH25,$A$37,$A$36)","v":18},{"$f":"OFFSET(Data!FI25,$A$37,$A$36)","v":2},{"$f":"OFFSET(Data!FJ25,$A$37,$A$36)","v":5},13,10.285714285714286,2000,13,6,14,14,18,2,5,13,10.285714285714286]
["Class Summ",null,null,null,null,null,22,null,null,null,null,null,null,". ","","","","","","","","",null,null,null,2100,{"$f":"OFFSET(Data!FD26,$A$37,$A$36)","v":4},{"$f":"OFFSET(Data!FE26,$A$37,$A$36)","v":5},{"$f":"OFFSET(Data!FF26,$A$37,$A$36)","v":6},{"$f":"OFFSET(Data!FG26,$A$37,$A$36)","v":9},{"$f":"OFFSET(Data!FH26,$A$37,$A$36)","v":7},{"$f":"OFFSET(Data!FI26,$A$37,$A$36)","v":5},{"$f":"OFFSET(Data!FJ26,$A$37,$A$36)","v":4},6.2,5.7142857142857144,2100,4,5,6,9,7,5,4,6.2,5.7142857142857144]
[{"$f":"($A$15-1)*24*60/ImportData!Interval","v":192},"Row 1","Day",null,null,null,23,null,null,null,null,null,null,". ","","","","","","","","",null,null,null,2200,{"$f":"OFFSET(Data!FD27,$A$37,$A$36)","v":4},{"$f":"OFFSET(Data!FE27,$A$37,$A$36)","v":6},{"$f":"OFFSET(Data!FF27,$A$37,$A$36)","v":3},{"$f":"OFFSET(Data!FG27,$A$37,$A$36)","v":5},{"$f":"OFFSET(Data!FH27,$A$37,$A$36)","v":7},{"$f":"OFFSET(Data!FI27,$A$37,$A$36)","v":7},{"$f":"OFFSET(Data!FJ27,$A$37,$A$36)","v":7},5,5.5714285714285712,2200,4,6,3,5,7,7,7,5,5.5714285714285712]
[{"$f":"(Site_No-1)*(24*9*60/ImportData!Interval+3)+A27","v":192},"Row 2","Site",null,null,null,24,null,null,null,null,null,null,". ","","","","","","","","",null,null,null,2300,{"$f":"OFFSET(Data!FD28,$A$37,$A$36)","v":1},{"$f":"OFFSET(Data!FE28,$A$37,$A$36)","v":1},{"$f":"OFFSET(Data!FF28,$A$37,$A$36)","v":5},{"$f":"OFFSET(Data!FG28,$A$37,$A$36)","v":1},{"$f":"OFFSET(Data!FH28,$A$37,$A$36)","v":4},{"$f":"OFFSET(Data!FI28,$A$37,$A$36)","v":3},{"$f":"OFFSET(Data!FJ28,$A$37,$A$36)","v":2},2.4,2.4285714285714284,2300,1,1,5,1,4,3,2,2.4,2.4285714285714284]
[null,null,null,null,null,null,25,null,null,null,null,null,null,". ","","","","","","","",""]
["Speed Summary",null,null,null,null,null,26,null,null,null,null,null,null,". ","","","","","","","",""]
[{"$f":"($A$3-1)*(COLUMNS(Data!Vehicle_Classification)+COLUMNS(Data!Vehicle_Speed_Bins)+COLUMNS(Data!Speed)+2)","v":0},"Col",null,null,null,null,27,null,null,null,null,null,null,". ","","","","","","","",""]
[{"$f":"($A$15-1)*24*60/ImportData!Interval","v":192},"Row1",null,null,null,null,28,null,null,null,null,null,null,". ","","","","","","","",""]
[{"$f":"($A$32+$A$11)","v":192},"Row2",null,null,null,null,29,null,null,null,null,null,null,". ","","","","","","","",""]
[null,null,null,null,null,null,30,null,null,null,null,null,null,". ","","","","","","","",""]
["Vol Graph"]
[{"$f":"+A10","v":0},"Col"]
[{"$f":"+A11","v":0},"Row","Site"]
[]
[2]
["Headway"]
[">= 0s"]
[">= 4s"]

{"sheet":"ImportData","index":8,"n_rows":56,"n_cols":24,"rows_kept":56,"cut":false,"hidden":true,"merged":[[17,10,17,23],[17,0,19,4],[17,5,19,9],[18,10,18,11],[18,12,18,13],[18,14,18,15],[18,16,18,17],[18,18,18,19],[18,20,18,21],[18,22,18,23],[53,0,53,4],[53,5,53,9],[54,0,54,4],[54,5,54,9],[55,0,55,4],[55,5,55,9],[50,0,50,4],[50,5,50,9],[51,0,51,4],[51,5,51,9],[52,0,52,4],[52,5,52,9],[47,0,47,4],[47,5,47,9],[48,0,48,4],[48,5,48,9],[49,0,49,4],[49,5,49,9],[44,0,44,4],[44,5,44,9],[45,0,45,4],[45,5,45,9],[46,0,46,4],[46,5,46,9],[41,0,41,4],[41,5,41,9],[42,0,42,4],[42,5,42,9],[43,0,43,4],[43,5,43,9],[38,0,38,4],[38,5,38,9],[39,0,39,4],[39,5,39,9],[40,0,40,4],[40,5,40,9],[35,0,35,4],[35,5,35,9],[36,0,36,4],[36,5,36,9],[37,0,37,4],[37,5,37,9],[32,0,32,4],[32,5,32,9],[33,0,33,4],[33,5,33,9],[34,0,34,4],[34,5,34,9],[29,0,29,4],[29,5,29,9],[30,0,30,4],[30,5,30,9],[31,0,31,4],[31,5,31,9],[26,0,26,4],[26,5,26,9],[27,0,27,4],[27,5,27,9],[28,0,28,4],[28,5,28,9],[23,0,23,4],[23,5,23,9],[24,0,24,4],[24,5,24,9],[25,0,25,4],[25,5,25,9],[20,0,20,4],[20,5,20,9],[21,0,21,4],[21,5,21,9],[22,0,22,4],[22,5,22,9]]}
[]
[]
[]
[]
[]
[]
[]
["Time Interval (Minute)",60]
[]
["Start Date",{"$f":"OFFSET(Offsets!M4,Offsets!Site_No,0,1,1)","v":"2023-09-28"},null,"Day of Week",{"$f":"WEEKDAY(B10,2)","v":4}]
[]
["Survey Period (Weeks)",1," "]
[]
["Dir1","N"]
["Dir2",{"$f":"IF(B14=\"N\",\"S\",IF(B14=\"S\",\"N\",IF(B14=\"E\",\"W\",IF(B14=\"W\",\"E\"))))","v":"S"}]
[]
[]
["Survey Location:",null,null,null,null,"Individual Report File:",null,null,null,null,"Percentage of Class 5 Out of Total Volume"]
[null,null,null,null,null,null,null,null,null,null,"Mon",null,"Tue",null,"Wed",null,"Thu",null,"Fri",null,"Sat",null,"Sun"]
[null,null,null,null,null,null,null,null,null,null,"Dir 1","Dir 2","Dir 1","Dir 2","Dir 1","Dir 2","Dir 1","Dir 2","Dir 1","Dir 2","Dir 1","Dir 2","Dir 1","Dir 2"]
["1. Brockhollands Road",null,null,null,null,"Individual-173.txt",null,null,null,null,{"$f":"_xlfn.LET(_xlpm.Rows_Day,24 * (60 / $B$8), _xlpm.Dir_Cols,0,IF(ISBLANK($F21),\"\",SUM(OFFSET(Data!$G$5,(Offsets!$G5-1)*(9 * _xlpm.Rows_Day + 3)+(weekdaycode(K$19)-1)*_xlpm.Rows_Day,_xlpm.Dir_Cols,_xlpm.Rows_Day,1))/SUM(OFFSET(Data!$C$5,(Offsets!$G5-1)*(9 * _xlpm.Rows_Day + 3)+(weekdaycode(K$19)-1)*_xlpm.Rows_Day,_xlpm.Dir_Cols,_xlpm.Rows_Day,COLUMNS(Data!Vehicle_Classification)))))","v":6.7796610169491523E-3},{"$f":"_xlfn.LET(_xlpm.Rows_Day,24 * (60 / $B$8), _xlpm.Dir_Cols,(COLUMNS(Data!Vehicle_Classification)+COLUMNS(Data!Vehicle_Speed_Bins)+COLUMNS(Data!Speed)+2),IF(ISBLANK($F21),\"\",SUM(OFFSET(Data!$G$5,(Offsets!$G5-1)*(9 * _xlpm.Rows_Day + 3)+(weekdaycode(K$19)-1)*_xlpm.Rows_Day,_xlpm.Dir_Cols,_xlpm.Rows_Day,1))/SUM(OFFSET(Data!$C$5,(Offsets!$G5-1)*(9 * _xlpm.Rows_Day + 3)+(weekdaycode(K$19)-1)*_xlpm.Rows_Day,_xlpm.Dir_Cols,_xlpm.Rows_Day,COLUMNS(Data!Vehicle_Classification)))))","v":2.046783625730994E-2},{"$f":"_xlfn.LET(_xlpm.Rows_Day,24 * (60 / $B$8), _xlpm.Dir_Cols,0,IF(ISBLANK($F21),\"\",SUM(OFFSET(Data!$G$5,(Offsets!$G5-1)*(9 * _xlpm.Rows_Day + 3)+(weekdaycode(M$19)-1)*_xlpm.Rows_Day,_xlpm.Dir_Cols,_xlpm.Rows_Day,1))/SUM(OFFSET(Data!$C$5,(Offsets!$G5-1)*(9 * _xlpm.Rows_Day + 3)+(weekdaycode(M$19)-1)*_xlpm.Rows_Day,_xlpm.Dir_Cols,_xlpm.Rows_Day,COLUMNS(Data!Vehicle_Classification)))))","v":2.9605263157894735E-2},{"$f":"_xlfn.LET(_xlpm.Rows_Day,24 * (60 / $B$8), _xlpm.Dir_Cols,(COLUMNS(Data!Vehicle_Classification)+COLUMNS(Data!Vehicle_Speed_Bins)+COLUMNS(Data!Speed)+2),IF(ISBLANK($F21),\"\",SUM(OFFSET(Data!$G$5,(Offsets!$G5-1)*(9 * _xlpm.Rows_Day + 3)+(weekdaycode(M$19)-1)*_xlpm.Rows_Day,_xlpm.Dir_Cols,_xlpm.Rows_Day,1))/SUM(OFFSET(Data!$C$5,(Offsets!$G5-1)*(9 * _xlpm.Rows_Day + 3)+(weekdaycode(M$19)-1)*_xlpm.Rows_Day,_xlpm.Dir_Cols,_xlpm.Rows_Day,COLUMNS(Data!Vehicle_Classification)))))","v":2.8735632183908046E-2},{"$f":"_xlfn.LET(_xlpm.Rows_Day,24 * (60 / $B$8), _xlpm.Dir_Cols,0,IF(ISBLANK($F21),\"\",SUM(OFFSET(Data!$G$5,(Offsets!$G5-1)*(9 * _xlpm.Rows_Day + 3)+(weekdaycode(O$19)-1)*_xlpm.Rows_Day,_xlpm.Dir_Cols,_xlpm.Rows_Day,1))/SUM(OFFSET(Data!$C$5,(Offsets!$G5-1)*(9 * _xlpm.Rows_Day + 3)+(weekdaycode(O$19)-1)*_xlpm.Rows_Day,_xlpm.Dir_Cols,_xlpm.Rows_Day,COLUMNS(Data!Vehicle_Classification)))))","v":2.0408163265306121E-2},{"$f":"_xlfn.LET(_xlpm.Rows_Day,24 * (60 / $B$8), _xlpm.Dir_Cols,(COLUMNS(Data!Vehicle_Classification)+COLUMNS(Data!Vehicle_Speed_Bins)+COLUMNS(Data!Speed)+2),IF(ISBLANK($F21),\"\",SUM(OFFSET(Data!$G$5,(Offsets!$G5-1)*(9 * _xlpm.Rows_Day + 3)+(weekdaycode(O$19)-1)*_xlpm.Rows_Day,_xlpm.Dir_Cols,_xlpm.Rows_Day,1))/SUM(OFFSET(Data!$C$5,(Offsets!$G5-1)*(9 * _xlpm.Rows_Day + 3)+(weekdaycode(O$19)-1)*_xlpm.Rows_Day,_xlpm.Dir_Cols,_xlpm.Rows_Day,COLUMNS(Data!Vehicle_Classification)))))","v":1.7751479289940829E-2},{"$f":"_xlfn.LET(_xlpm.Rows_Day,24 * (60 / $B$8), _xlpm.Dir_Cols,0,IF(ISBLANK($F21),\"\",SUM(OFFSET(Data!$G$5,(Offsets!$G5-1)*(9 * _xlpm.Rows_Day + 3)+(weekdaycode(Q$19)-1)*_xlpm.Rows_Day,_xlpm.Dir_Cols,_xlpm.Rows_Day,1))/SUM(OFFSET(Data!$C$5,(Offsets!$G5-1)*(9 * _xlpm.Rows_Day + 3)+(weekdaycode(Q$19)-1)*_xlpm.Rows_Day,_xlpm.Dir_Cols,_xlpm.Rows_Day,COLUMNS(Data!Vehicle_Classification)))))","v":1.8633540372670808E-2},{"$f":"_xlfn.LET(_xlpm.Rows_Day,24 * (60 / $B$8), _xlpm.Dir_Cols,(COLUMNS(Data!Vehicle_Classification)+COLUMNS(Data!Vehicle_Speed_Bins)+COLUMNS(Data!Speed)+2),IF(ISBLANK($F21),\"\",SUM(OFFSET(Data!$G$5,(Offsets!$G5-1)*(9 * _xlpm.Rows_Day + 3)+(weekdaycode(Q$19)-1)*_xlpm.Rows_Day,_xlpm.Dir_Cols,_xlpm.Rows_Day,1))/SUM(OFFSET(Data!$C$5,(Offsets!$G5-1)*(9 * _xlpm.Rows_Day + 3)+(weekdaycode(Q$19)-1)*_xlpm.Rows_Day,_xlpm.Dir_Cols,_xlpm.Rows_Day,COLUMNS(Data!Vehicle_Classification)))))","v":8.0000000000000002E-3},{"$f":"_xlfn.LET(_xlpm.Rows_Day,24 * (60 / $B$8), _xlpm.Dir_Cols,0,IF(ISBLANK($F21),\"\",SUM(OFFSET(Data!$G$5,(Offsets!$G5-1)*(9 * _xlpm.Rows_Day + 3)+(weekdaycode(S$19)-1)*_xlpm.Rows_Day,_xlpm.Dir_Cols,_xlpm.Rows_Day,1))/SUM(OFFSET(Data!$C$5,(Offsets!$G5-1)*(9 * _xlpm.Rows_Day + 3)+(weekdaycode(S$19)-1)*_xlpm.Rows_Day,_xlpm.Dir_Cols,_xlpm.Rows_Day,COLUMNS(Data!Vehicle_Classification)))))","v":1.4925373134328358E-2},{"$f":"_xlfn.LET(_xlpm.Rows_Day,24 * (60 / $B$8), _xlpm.Dir_Cols,(COLUMNS(Data!Vehicle_Classification)+COLUMNS(Data!Vehicle_Speed_Bins)+COLUMNS(Data!Speed)+2),IF(ISBLANK($F21),\"\",SUM(OFFSET(Data!$G$5,(Offsets!$G5-1)*(9 * _xlpm.Rows_Day + 3)+(weekdaycode(S$19)-1)*_xlpm.Rows_Day,_xlpm.Dir_Cols,_xlpm.Rows_Day,1))/SUM(OFFSET(Data!$C$5,(Offsets!$G5-1)*(9 * _xlpm.Rows_Day + 3)+(weekdaycode(S$19)-1)*_xlpm.Rows_Day,_xlpm.Dir_Cols,_xlpm.Rows_Day,COLUMNS(Data!Vehicle_Classification)))))","v":1.5584415584415584E-2},{"$f":"_xlfn.LET(_xlpm.Rows_Day,24 * (60 / $B$8), _xlpm.Dir_Cols,0,IF(ISBLANK($F21),\"\",SUM(OFFSET(Data!$G$5,(Offsets!$G5-1)*(9 * _xlpm.Rows_Day + 3)+(weekdaycode(U$19)-1)*_xlpm.Rows_Day,_xlpm.Dir_Cols,_xlpm.Rows_Day,1))/SUM(OFFSET(Data!$C$5,(Offsets!$G5-1)*(9 * _xlpm.Rows_Day + 3)+(weekdaycode(U$19)-1)*_xlpm.Rows_Day,_xlpm.Dir_Cols,_xlpm.Rows_Day,COLUMNS(Data!Vehicle_Classification)))))","v":3.6363636363636364E-3},{"$f":"_xlfn.LET(_xlpm.Rows_Day,24 * (60 / $B$8), _xlpm.Dir_Cols,(COLUMNS(Data!Vehicle_Classification)+COLUMNS(Data!Vehicle_Speed_Bins)+COLUMNS(Data!Speed)+2),IF(ISBLANK($F21),\"\",SUM(OFFSET(Data!$G$5,(Offsets!$G5-1)*(9 * _xlpm.Rows_Day + 3)+(weekdaycode(U$19)-1)*_xlpm.Rows_Day,_xlpm.Dir_Cols,_xlpm.Rows_Day,1))/SUM(OFFSET(Data!$C$5,(Offsets!$G5-1)*(9 * _xlpm.Rows_Day + 3)+(weekdaycode(U$19)-1)*_xlpm.Rows_Day,_xlpm.Dir_Cols,_xlpm.Rows_Day,COLUMNS(Data!Vehicle_Classification)))))","v":3.3003300330033004E-3},{"$f":"_xlfn.LET(_xlpm.Rows_Day,24 * (60 / $B$8), _xlpm.Dir_Cols,0,IF(ISBLANK($F21),\"\",SUM(OFFSET(Data!$G$5,(Offsets!$G5-1)*(9 * _xlpm.Rows_Day + 3)+(weekdaycode(W$19)-1)*_xlpm.Rows_Day,_xlpm.Dir_Cols,_xlpm.Rows_Day,1))/SUM(OFFSET(Data!$C$5,(Offsets!$G5-1)*(9 * _xlpm.Rows_Day + 3)+(weekdaycode(W$19)-1)*_xlpm.Rows_Day,_xlpm.Dir_Cols,_xlpm.Rows_Day,COLUMNS(Data!Vehicle_Classification)))))","v":9.9502487562189053E-3},{"$f":"_xlfn.LET(_xlpm.Rows_Day,24 * (60 / $B$8), _xlpm.Dir_Cols,(COLUMNS(Data!Vehicle_Classification)+COLUMNS(Data!Vehicle_Speed_Bins)+COLUMNS(Data!Speed)+2),IF(ISBLANK($F21),\"\",SUM(OFFSET(Data!$G$5,(Offsets!$G5-1)*(9 * _xlpm.Rows_Day + 3)+(weekdaycode(W$19)-1)*_xlpm.Rows_Day,_xlpm.Dir_Cols,_xlpm.Rows_Day,1))/SUM(OFFSET(Data!$C$5,(Offsets!$G5-1)*(9 * _xlpm.Rows_Day + 3)+(weekdaycode(W$19)-1)*_xlpm.Rows_Day,_xlpm.Dir_Cols,_xlpm.Rows_Day,COLUMNS(Data!Vehicle_Classification)))))","v":2.6548672566371681E-2}]
[null,null,null,null,null,null,null,null,null,null,{"$f":"_xlfn.LET(_xlpm.Rows_Day,24 * (60 / $B$8), _xlpm.Dir_Cols,0,IF(ISBLANK($F22),\"\",SUM(OFFSET(Data!$G$5,(Offsets!$G6-1)*(9 * _xlpm.Rows_Day + 3)+(weekdaycode(K$19)-1)*_xlpm.Rows_Day,_xlpm.Dir_Cols,_xlpm.Rows_Day,1))/SUM(OFFSET(Data!$C$5,(Offsets!$G6-1)*(9 * _xlpm.Rows_Day + 3)+(weekdaycode(K$19)-1)*_xlpm.Rows_Day,_xlpm.Dir_Cols,_xlpm.Rows_Day,COLUMNS(Data!Vehicle_Classification)))))","v":""},{"$f":"_xlfn.LET(_xlpm.Rows_Day,24 * (60 / $B$8), _xlpm.Dir_Cols,(COLUMNS(Data!Vehicle_Classification)+COLUMNS(Data!Vehicle_Speed_Bins)+COLUMNS(Data!Speed)+2),IF(ISBLANK($F22),\"\",SUM(OFFSET(Data!$G$5,(Offsets!$G6-1)*(9 * _xlpm.Rows_Day + 3)+(weekdaycode(K$19)-1)*_xlpm.Rows_Day,_xlpm.Dir_Cols,_xlpm.Rows_Day,1))/SUM(OFFSET(Data!$C$5,(Offsets!$G6-1)*(9 * _xlpm.Rows_Day + 3)+(weekdaycode(K$19)-1)*_xlpm.Rows_Day,_xlpm.Dir_Cols,_xlpm.Rows_Day,COLUMNS(Data!Vehicle_Classification)))))","v":""},{"$f":"_xlfn.LET(_xlpm.Rows_Day,24 * (60 / $B$8), _xlpm.Dir_Cols,0,IF(ISBLANK($F22),\"\",SUM(OFFSET(Data!$G$5,(Offsets!$G6-1)*(9 * _xlpm.Rows_Day + 3)+(weekdaycode(M$19)-1)*_xlpm.Rows_Day,_xlpm.Dir_Cols,_xlpm.Rows_Day,1))/SUM(OFFSET(Data!$C$5,(Offsets!$G6-1)*(9 * _xlpm.Rows_Day + 3)+(weekdaycode(M$19)-1)*_xlpm.Rows_Day,_xlpm.Dir_Cols,_xlpm.Rows_Day,COLUMNS(Data!Vehicle_Classification)))))","v":""},{"$f":"_xlfn.LET(_xlpm.Rows_Day,24 * (60 / $B$8), _xlpm.Dir_Cols,(COLUMNS(Data!Vehicle_Classification)+COLUMNS(Data!Vehicle_Speed_Bins)+COLUMNS(Data!Speed)+2),IF(ISBLANK($F22),\"\",SUM(OFFSET(Data!$G$5,(Offsets!$G6-1)*(9 * _xlpm.Rows_Day + 3)+(weekdaycode(M$19)-1)*_xlpm.Rows_Day,_xlpm.Dir_Cols,_xlpm.Rows_Day,1))/SUM(OFFSET(Data!$C$5,(Offsets!$G6-1)*(9 * _xlpm.Rows_Day + 3)+(weekdaycode(M$19)-1)*_xlpm.Rows_Day,_xlpm.Dir_Cols,_xlpm.Rows_Day,COLUMNS(Data!Vehicle_Classification)))))","v":""},{"$f":"_xlfn.LET(_xlpm.Rows_Day,24 * (60 / $B$8), _xlpm.Dir_Cols,0,IF(ISBLANK($F22),\"\",SUM(OFFSET(Data!$G$5,(Offsets!$G6-1)*(9 * _xlpm.Rows_Day + 3)+(weekdaycode(O$19)-1)*_xlpm.Rows_Day,_xlpm.Dir_Cols,_xlpm.Rows_Day,1))/SUM(OFFSET(Data!$C$5,(Offsets!$G6-1)*(9 * _xlpm.Rows_Day + 3)+(weekdaycode(O$19)-1)*_xlpm.Rows_Day,_xlpm.Dir_Cols,_xlpm.Rows_Day,COLUMNS(Data!Vehicle_Classification)))))","v":""},{"$f":"_xlfn.LET(_xlpm.Rows_Day,24 * (60 / $B$8), _xlpm.Dir_Cols,(COLUMNS(Data!Vehicle_Classification)+COLUMNS(Data!Vehicle_Speed_Bins)+COLUMNS(Data!Speed)+2),IF(ISBLANK($F22),\"\",SUM(OFFSET(Data!$G$5,(Offsets!$G6-1)*(9 * _xlpm.Rows_Day + 3)+(weekdaycode(O$19)-1)*_xlpm.Rows_Day,_xlpm.Dir_Cols,_xlpm.Rows_Day,1))/SUM(OFFSET(Data!$C$5,(Offsets!$G6-1)*(9 * _xlpm.Rows_Day + 3)+(weekdaycode(O$19)-1)*_xlpm.Rows_Day,_xlpm.Dir_Cols,_xlpm.Rows_Day,COLUMNS(Data!Vehicle_Classification)))))","v":""},{"$f":"_xlfn.LET(_xlpm.Rows_Day,24 * (60 / $B$8), _xlpm.Dir_Cols,0,IF(ISBLANK($F22),\"\",SUM(OFFSET(Data!$G$5,(Offsets!$G6-1)*(9 * _xlpm.Rows_Day + 3)+(weekdaycode(Q$19)-1)*_xlpm.Rows_Day,_xlpm.Dir_Cols,_xlpm.Rows_Day,1))/SUM(OFFSET(Data!$C$5,(Offsets!$G6-1)*(9 * _xlpm.Rows_Day + 3)+(weekdaycode(Q$19)-1)*_xlpm.Rows_Day,_xlpm.Dir_Cols,_xlpm.Rows_Day,COLUMNS(Data!Vehicle_Classification)))))","v":""},{"$f":"_xlfn.LET(_xlpm.Rows_Day,24 * (60 / $B$8), _xlpm.Dir_Cols,(COLUMNS(Data!Vehicle_Classification)+COLUMNS(Data!Vehicle_Speed_Bins)+COLUMNS(Data!Speed)+2),IF(ISBLANK($F22),\"\",SUM(OFFSET(Data!$G$5,(Offsets!$G6-1)*(9 * _xlpm.Rows_Day + 3)+(weekdaycode(Q$19)-1)*_xlpm.Rows_Day,_xlpm.Dir_Cols,_xlpm.Rows_Day,1))/SUM(OFFSET(Data!$C$5,(Offsets!$G6-1)*(9 * _xlpm.Rows_Day + 3)+(weekdaycode(Q$19)-1)*_xlpm.Rows_Day,_xlpm.Dir_Cols,_xlpm.Rows_Day,COLUMNS(Data!Vehicle_Classification)))))","v":""},{"$f":"_xlfn.LET(_xlpm.Rows_Day,24 * (60 / $B$8), _xlpm.Dir_Cols,0,IF(ISBLANK($F22),\"\",SUM(OFFSET(Data!$G$5,(Offsets!$G6-1)*(9 * _xlpm.Rows_Day + 3)+(weekdaycode(S$19)-1)*_xlpm.Rows_Day,_xlpm.Dir_Cols,_xlpm.Rows_Day,1))/SUM(OFFSET(Data!$C$5,(Offsets!$G6-1)*(9 * _xlpm.Rows_Day + 3)+(weekdaycode(S$19)-1)*_xlpm.Rows_Day,_xlpm.Dir_Cols,_xlpm.Rows_Day,COLUMNS(Data!Vehicle_Classification)))))","v":""},{"$f":"_xlfn.LET(_xlpm.Rows_Day,24 * (60 / $B$8), _xlpm.Dir_Cols,(COLUMNS(Data!Vehicle_Classification)+COLUMNS(Data!Vehicle_Speed_Bins)+COLUMNS(Data!Speed)+2),IF(ISBLANK($F22),\"\",SUM(OFFSET(Data!$G$5,(Offsets!$G6-1)*(9 * _xlpm.Rows_Day + 3)+(weekdaycode(S$19)-1)*_xlpm.Rows_Day,_xlpm.Dir_Cols,_xlpm.Rows_Day,1))/SUM(OFFSET(Data!$C$5,(Offsets!$G6-1)*(9 * _xlpm.Rows_Day + 3)+(weekdaycode(S$19)-1)*_xlpm.Rows_Day,_xlpm.Dir_Cols,_xlpm.Rows_Day,COLUMNS(Data!Vehicle_Classification)))))","v":""},{"$f":"_xlfn.LET(_xlpm.Rows_Day,24 * (60 / $B$8), _xlpm.Dir_Cols,0,IF(ISBLANK($F22),\"\",SUM(OFFSET(Data!$G$5,(Offsets!$G6-1)*(9 * _xlpm.Rows_Day + 3)+(weekdaycode(U$19)-1)*_xlpm.Rows_Day,_xlpm.Dir_Cols,_xlpm.Rows_Day,1))/SUM(OFFSET(Data!$C$5,(Offsets!$G6-1)*(9 * _xlpm.Rows_Day + 3)+(weekdaycode(U$19)-1)*_xlpm.Rows_Day,_xlpm.Dir_Cols,_xlpm.Rows_Day,COLUMNS(Data!Vehicle_Classification)))))","v":""},{"$f":"_xlfn.LET(_xlpm.Rows_Day,24 * (60 / $B$8), _xlpm.Dir_Cols,(COLUMNS(Data!Vehicle_Classification)+COLUMNS(Data!Vehicle_Speed_Bins)+COLUMNS(Data!Speed)+2),IF(ISBLANK($F22),\"\",SUM(OFFSET(Data!$G$5,(Offsets!$G6-1)*(9 * _xlpm.Rows_Day + 3)+(weekdaycode(U$19)-1)*_xlpm.Rows_Day,_xlpm.Dir_Cols,_xlpm.Rows_Day,1))/SUM(OFFSET(Data!$C$5,(Offsets!$G6-1)*(9 * _xlpm.Rows_Day + 3)+(weekdaycode(U$19)-1)*_xlpm.Rows_Day,_xlpm.Dir_Cols,_xlpm.Rows_Day,COLUMNS(Data!Vehicle_Classification)))))","v":""},{"$f":"_xlfn.LET(_xlpm.Rows_Day,24 * (60 / $B$8), _xlpm.Dir_Cols,0,IF(ISBLANK($F22),\"\",SUM(OFFSET(Data!$G$5,(Offsets!$G6-1)*(9 * _xlpm.Rows_Day + 3)+(weekdaycode(W$19)-1)*_xlpm.Rows_Day,_xlpm.Dir_Cols,_xlpm.Rows_Day,1))/SUM(OFFSET(Data!$C$5,(Offsets!$G6-1)*(9 * _xlpm.Rows_Day + 3)+(weekdaycode(W$19)-1)*_xlpm.Rows_Day,_xlpm.Dir_Cols,_xlpm.Rows_Day,COLUMNS(Data!Vehicle_Classification)))))","v":""},{"$f":"_xlfn.LET(_xlpm.Rows_Day,24 * (60 / $B$8), _xlpm.Dir_Cols,(COLUMNS(Data!Vehicle_Classification)+COLUMNS(Data!Vehicle_Speed_Bins)+COLUMNS(Data!Speed)+2),IF(ISBLANK($F22),\"\",SUM(OFFSET(Data!$G$5,(Offsets!$G6-1)*(9 * _xlpm.Rows_Day + 3)+(weekdaycode(W$19)-1)*_xlpm.Rows_Day,_xlpm.Dir_Cols,_xlpm.Rows_Day,1))/SUM(OFFSET(Data!$C$5,(Offsets!$G6-1)*(9 * _xlpm.Rows_Day + 3)+(weekdaycode(W$19)-1)*_xlpm.Rows_Day,_xlpm.Dir_Cols,_xlpm.Rows_Day,COLUMNS(Data!Vehicle_Classification)))))","v":""}]
[null,null,null,null,null,null,null,null,null,null,{"$f":"_xlfn.LET(_xlpm.Rows_Day,24 * (60 / $B$8), _xlpm.Dir_Cols,0,IF(ISBLANK($F23),\"\",SUM(OFFSET(Data!$G$5,(Offsets!$G7-1)*(9 * _xlpm.Rows_Day + 3)+(weekdaycode(K$19)-1)*_xlpm.Rows_Day,_xlpm.Dir_Cols,_xlpm.Rows_Day,1))/SUM(OFFSET(Data!$C$5,(Offsets!$G7-1)*(9 * _xlpm.Rows_Day + 3)+(weekdaycode(K$19)-1)*_xlpm.Rows_Day,_xlpm.Dir_Cols,_xlpm.Rows_Day,COLUMNS(Data!Vehicle_Classification)))))","v":""},{"$f":"_xlfn.LET(_xlpm.Rows_Day,24 * (60 / $B$8), _xlpm.Dir_Cols,(COLUMNS(Data!Vehicle_Classification)+COLUMNS(Data!Vehicle_Speed_Bins)+COLUMNS(Data!Speed)+2),IF(ISBLANK($F23),\"\",SUM(OFFSET(Data!$G$5,(Offsets!$G7-1)*(9 * _xlpm.Rows_Day + 3)+(weekdaycode(K$19)-1)*_xlpm.Rows_Day,_xlpm.Dir_Cols,_xlpm.Rows_Day,1))/SUM(OFFSET(Data!$C$5,(Offsets!$G7-1)*(9 * _xlpm.Rows_Day + 3)+(weekdaycode(K$19)-1)*_xlpm.Rows_Day,_xlpm.Dir_Cols,_xlpm.Rows_Day,COLUMNS(Data!Vehicle_Classification)))))","v":""},{"$f":"_xlfn.LET(_xlpm.Rows_Day,24 * (60 / $B$8), _xlpm.Dir_Cols,0,IF(ISBLANK($F23),\"\",SUM(OFFSET(Data!$G$5,(Offsets!$G7-1)*(9 * _xlpm.Rows_Day + 3)+(weekdaycode(M$19)-1)*_xlpm.Rows_Day,_xlpm.Dir_Cols,_xlpm.Rows_Day,1))/SUM(OFFSET(Data!$C$5,(Offsets!$G7-1)*(9 * _xlpm.Rows_Day + 3)+(weekdaycode(M$19)-1)*_xlpm.Rows_Day,_xlpm.Dir_Cols,_xlpm.Rows_Day,COLUMNS(Data!Vehicle_Classification)))))","v":""},{"$f":"_xlfn.LET(_xlpm.Rows_Day,24 * (60 / $B$8), _xlpm.Dir_Cols,(COLUMNS(Data!Vehicle_Classification)+COLUMNS(Data!Vehicle_Speed_Bins)+COLUMNS(Data!Speed)+2),IF(ISBLANK($F23),\"\",SUM(OFFSET(Data!$G$5,(Offsets!$G7-1)*(9 * _xlpm.Rows_Day + 3)+(weekdaycode(M$19)-1)*_xlpm.Rows_Day,_xlpm.Dir_Cols,_xlpm.Rows_Day,1))/SUM(OFFSET(Data!$C$5,(Offsets!$G7-1)*(9 * _xlpm.Rows_Day + 3)+(weekdaycode(M$19)-1)*_xlpm.Rows_Day,_xlpm.Dir_Cols,_xlpm.Rows_Day,COLUMNS(Data!Vehicle_Classification)))))","v":""},{"$f":"_xlfn.LET(_xlpm.Rows_Day,24 * (60 / $B$8), _xlpm.Dir_Cols,0,IF(ISBLANK($F23),\"\",SUM(OFFSET(Data!$G$5,(Offsets!$G7-1)*(9 * _xlpm.Rows_Day + 3)+(weekdaycode(O$19)-1)*_xlpm.Rows_Day,_xlpm.Dir_Cols,_xlpm.Rows_Day,1))/SUM(OFFSET(Data!$C$5,(Offsets!$G7-1)*(9 * _xlpm.Rows_Day + 3)+(weekdaycode(O$19)-1)*_xlpm.Rows_Day,_xlpm.Dir_Cols,_xlpm.Rows_Day,COLUMNS(Data!Vehicle_Classification)))))","v":""},{"$f":"_xlfn.LET(_xlpm.Rows_Day,24 * (60 / $B$8), _xlpm.Dir_Cols,(COLUMNS(Data!Vehicle_Classification)+COLUMNS(Data!Vehicle_Speed_Bins)+COLUMNS(Data!Speed)+2),IF(ISBLANK($F23),\"\",SUM(OFFSET(Data!$G$5,(Offsets!$G7-1)*(9 * _xlpm.Rows_Day + 3)+(weekdaycode(O$19)-1)*_xlpm.Rows_Day,_xlpm.Dir_Cols,_xlpm.Rows_Day,1))/SUM(OFFSET(Data!$C$5,(Offsets!$G7-1)*(9 * _xlpm.Rows_Day + 3)+(weekdaycode(O$19)-1)*_xlpm.Rows_Day,_xlpm.Dir_Cols,_xlpm.Rows_Day,COLUMNS(Data!Vehicle_Classification)))))","v":""},{"$f":"_xlfn.LET(_xlpm.Rows_Day,24 * (60 / $B$8), _xlpm.Dir_Cols,0,IF(ISBLANK($F23),\"\",SUM(OFFSET(Data!$G$5,(Offsets!$G7-1)*(9 * _xlpm.Rows_Day + 3)+(weekdaycode(Q$19)-1)*_xlpm.Rows_Day,_xlpm.Dir_Cols,_xlpm.Rows_Day,1))/SUM(OFFSET(Data!$C$5,(Offsets!$G7-1)*(9 * _xlpm.Rows_Day + 3)+(weekdaycode(Q$19)-1)*_xlpm.Rows_Day,_xlpm.Dir_Cols,_xlpm.Rows_Day,COLUMNS(Data!Vehicle_Classification)))))","v":""},{"$f":"_xlfn.LET(_xlpm.Rows_Day,24 * (60 / $B$8), _xlpm.Dir_Cols,(COLUMNS(Data!Vehicle_Classification)+COLUMNS(Data!Vehicle_Speed_Bins)+COLUMNS(Data!Speed)+2),IF(ISBLANK($F23),\"\",SUM(OFFSET(Data!$G$5,(Offsets!$G7-1)*(9 * _xlpm.Rows_Day + 3)+(weekdaycode(Q$19)-1)*_xlpm.Rows_Day,_xlpm.Dir_Cols,_xlpm.Rows_Day,1))/SUM(OFFSET(Data!$C$5,(Offsets!$G7-1)*(9 * _xlpm.Rows_Day + 3)+(weekdaycode(Q$19)-1)*_xlpm.Rows_Day,_xlpm.Dir_Cols,_xlpm.Rows_Day,COLUMNS(Data!Vehicle_Classification)))))","v":""},{"$f":"_xlfn.LET(_xlpm.Rows_Day,24 * (60 / $B$8), _xlpm.Dir_Cols,0,IF(ISBLANK($F23),\"\",SUM(OFFSET(Data!$G$5,(Offsets!$G7-1)*(9 * _xlpm.Rows_Day + 3)+(weekdaycode(S$19)-1)*_xlpm.Rows_Day,_xlpm.Dir_Cols,_xlpm.Rows_Day,1))/SUM(OFFSET(Data!$C$5,(Offsets!$G7-1)*(9 * _xlpm.Rows_Day + 3)+(weekdaycode(S$19)-1)*_xlpm.Rows_Day,_xlpm.Dir_Cols,_xlpm.Rows_Day,COLUMNS(Data!Vehicle_Classification)))))","v":""},{"$f":"_xlfn.LET(_xlpm.Rows_Day,24 * (60 / $B$8), _xlpm.Dir_Cols,(COLUMNS(Data!Vehicle_Classification)+COLUMNS(Data!Vehicle_Speed_Bins)+COLUMNS(Data!Speed)+2),IF(ISBLANK($F23),\"\",SUM(OFFSET(Data!$G$5,(Offsets!$G7-1)*(9 * _xlpm.Rows_Day + 3)+(weekdaycode(S$19)-1)*_xlpm.Rows_Day,_xlpm.Dir_Cols,_xlpm.Rows_Day,1))/SUM(OFFSET(Data!$C$5,(Offsets!$G7-1)*(9 * _xlpm.Rows_Day + 3)+(weekdaycode(S$19)-1)*_xlpm.Rows_Day,_xlpm.Dir_Cols,_xlpm.Rows_Day,COLUMNS(Data!Vehicle_Classification)))))","v":""},{"$f":"_xlfn.LET(_xlpm.Rows_Day,24 * (60 / $B$8), _xlpm.Dir_Cols,0,IF(ISBLANK($F23),\"\",SUM(OFFSET(Data!$G$5,(Offsets!$G7-1)*(9 * _xlpm.Rows_Day + 3)+(weekdaycode(U$19)-1)*_xlpm.Rows_Day,_xlpm.Dir_Cols,_xlpm.Rows_Day,1))/SUM(OFFSET(Data!$C$5,(Offsets!$G7-1)*(9 * _xlpm.Rows_Day + 3)+(weekdaycode(U$19)-1)*_xlpm.Rows_Day,_xlpm.Dir_Cols,_xlpm.Rows_Day,COLUMNS(Data!Vehicle_Classification)))))","v":""},{"$f":"_xlfn.LET(_xlpm.Rows_Day,24 * (60 / $B$8), _xlpm.Dir_Cols,(COLUMNS(Data!Vehicle_Classification)+COLUMNS(Data!Vehicle_Speed_Bins)+COLUMNS(Data!Speed)+2),IF(ISBLANK($F23),\"\",SUM(OFFSET(Data!$G$5,(Offsets!$G7-1)*(9 * _xlpm.Rows_Day + 3)+(weekdaycode(U$19)-1)*_xlpm.Rows_Day,_xlpm.Dir_Cols,_xlpm.Rows_Day,1))/SUM(OFFSET(Data!$C$5,(Offsets!$G7-1)*(9 * _xlpm.Rows_Day + 3)+(weekdaycode(U$19)-1)*_xlpm.Rows_Day,_xlpm.Dir_Cols,_xlpm.Rows_Day,COLUMNS(Data!Vehicle_Classification)))))","v":""},{"$f":"_xlfn.LET(_xlpm.Rows_Day,24 * (60 / $B$8), _xlpm.Dir_Cols,0,IF(ISBLANK($F23),\"\",SUM(OFFSET(Data!$G$5,(Offsets!$G7-1)*(9 * _xlpm.Rows_Day + 3)+(weekdaycode(W$19)-1)*_xlpm.Rows_Day,_xlpm.Dir_Cols,_xlpm.Rows_Day,1))/SUM(OFFSET(Data!$C$5,(Offsets!$G7-1)*(9 * _xlpm.Rows_Day + 3)+(weekdaycode(W$19)-1)*_xlpm.Rows_Day,_xlpm.Dir_Cols,_xlpm.Rows_Day,COLUMNS(Data!Vehicle_Classification)))))","v":""},{"$f":"_xlfn.LET(_xlpm.Rows_Day,24 * (60 / $B$8), _xlpm.Dir_Cols,(COLUMNS(Data!Vehicle_Classification)+COLUMNS(Data!Vehicle_Speed_Bins)+COLUMNS(Data!Speed)+2),IF(ISBLANK($F23),\"\",SUM(OFFSET(Data!$G$5,(Offsets!$G7-1)*(9 * _xlpm.Rows_Day + 3)+(weekdaycode(W$19)-1)*_xlpm.Rows_Day,_xlpm.Dir_Cols,_xlpm.Rows_Day,1))/SUM(OFFSET(Data!$C$5,(Offsets!$G7-1)*(9 * _xlpm.Rows_Day + 3)+(weekdaycode(W$19)-1)*_xlpm.Rows_Day,_xlpm.Dir_Cols,_xlpm.Rows_Day,COLUMNS(Data!Vehicle_Classification)))))","v":""}]
[null,null,null,null,null,null,null,null,null,null,{"$f":"_xlfn.LET(_xlpm.Rows_Day,24 * (60 / $B$8), _xlpm.Dir_Cols,0,IF(ISBLANK($F24),\"\",SUM(OFFSET(Data!$G$5,(Offsets!$G8-1)*(9 * _xlpm.Rows_Day + 3)+(weekdaycode(K$19)-1)*_xlpm.Rows_Day,_xlpm.Dir_Cols,_xlpm.Rows_Day,1))/SUM(OFFSET(Data!$C$5,(Offsets!$G8-1)*(9 * _xlpm.Rows_Day + 3)+(weekdaycode(K$19)-1)*_xlpm.Rows_Day,_xlpm.Dir_Cols,_xlpm.Rows_Day,COLUMNS(Data!Vehicle_Classification)))))","v":""},{"$f":"_xlfn.LET(_xlpm.Rows_Day,24 * (60 / $B$8), _xlpm.Dir_Cols,(COLUMNS(Data!Vehicle_Classification)+COLUMNS(Data!Vehicle_Speed_Bins)+COLUMNS(Data!Speed)+2),IF(ISBLANK($F24),\"\",SUM(OFFSET(Data!$G$5,(Offsets!$G8-1)*(9 * _xlpm.Rows_Day + 3)+(weekdaycode(K$19)-1)*_xlpm.Rows_Day,_xlpm.Dir_Cols,_xlpm.Rows_Day,1))/SUM(OFFSET(Data!$C$5,(Offsets!$G8-1)*(9 * _xlpm.Rows_Day + 3)+(weekdaycode(K$19)-1)*_xlpm.Rows_Day,_xlpm.Dir_Cols,_xlpm.Rows_Day,COLUMNS(Data!Vehicle_Classification)))))","v":""},{"$f":"_xlfn.LET(_xlpm.Rows_Day,24 * (60 / $B$8), _xlpm.Dir_Cols,0,IF(ISBLANK($F24),\"\",SUM(OFFSET(Data!$G$5,(Offsets!$G8-1)*(9 * _xlpm.Rows_Day + 3)+(weekdaycode(M$19)-1)*_xlpm.Rows_Day,_xlpm.Dir_Cols,_xlpm.Rows_Day,1))/SUM(OFFSET(Data!$C$5,(Offsets!$G8-1)*(9 * _xlpm.Rows_Day + 3)+(weekdaycode(M$19)-1)*_xlpm.Rows_Day,_xlpm.Dir_Cols,_xlpm.Rows_Day,COLUMNS(Data!Vehicle_Classification)))))","v":""},{"$f":"_xlfn.LET(_xlpm.Rows_Day,24 * (60 / $B$8), _xlpm.Dir_Cols,(COLUMNS(Data!Vehicle_Classification)+COLUMNS(Data!Vehicle_Speed_Bins)+COLUMNS(Data!Speed)+2),IF(ISBLANK($F24),\"\",SUM(OFFSET(Data!$G$5,(Offsets!$G8-1)*(9 * _xlpm.Rows_Day + 3)+(weekdaycode(M$19)-1)*_xlpm.Rows_Day,_xlpm.Dir_Cols,_xlpm.Rows_Day,1))/SUM(OFFSET(Data!$C$5,(Offsets!$G8-1)*(9 * _xlpm.Rows_Day + 3)+(weekdaycode(M$19)-1)*_xlpm.Rows_Day,_xlpm.Dir_Cols,_xlpm.Rows_Day,COLUMNS(Data!Vehicle_Classification)))))","v":""},{"$f":"_xlfn.LET(_xlpm.Rows_Day,24 * (60 / $B$8), _xlpm.Dir_Cols,0,IF(ISBLANK($F24),\"\",SUM(OFFSET(Data!$G$5,(Offsets!$G8-1)*(9 * _xlpm.Rows_Day + 3)+(weekdaycode(O$19)-1)*_xlpm.Rows_Day,_xlpm.Dir_Cols,_xlpm.Rows_Day,1))/SUM(OFFSET(Data!$C$5,(Offsets!$G8-1)*(9 * _xlpm.Rows_Day + 3)+(weekdaycode(O$19)-1)*_xlpm.Rows_Day,_xlpm.Dir_Cols,_xlpm.Rows_Day,COLUMNS(Data!Vehicle_Classification)))))","v":""},{"$f":"_xlfn.LET(_xlpm.Rows_Day,24 * (60 / $B$8), _xlpm.Dir_Cols,(COLUMNS(Data!Vehicle_Classification)+COLUMNS(Data!Vehicle_Speed_Bins)+COLUMNS(Data!Speed)+2),IF(ISBLANK($F24),\"\",SUM(OFFSET(Data!$G$5,(Offsets!$G8-1)*(9 * _xlpm.Rows_Day + 3)+(weekdaycode(O$19)-1)*_xlpm.Rows_Day,_xlpm.Dir_Cols,_xlpm.Rows_Day,1))/SUM(OFFSET(Data!$C$5,(Offsets!$G8-1)*(9 * _xlpm.Rows_Day + 3)+(weekdaycode(O$19)-1)*_xlpm.Rows_Day,_xlpm.Dir_Cols,_xlpm.Rows_Day,COLUMNS(Data!Vehicle_Classification)))))","v":""},{"$f":"_xlfn.LET(_xlpm.Rows_Day,24 * (60 / $B$8), _xlpm.Dir_Cols,0,IF(ISBLANK($F24),\"\",SUM(OFFSET(Data!$G$5,(Offsets!$G8-1)*(9 * _xlpm.Rows_Day + 3)+(weekdaycode(Q$19)-1)*_xlpm.Rows_Day,_xlpm.Dir_Cols,_xlpm.Rows_Day,1))/SUM(OFFSET(Data!$C$5,(Offsets!$G8-1)*(9 * _xlpm.Rows_Day + 3)+(weekdaycode(Q$19)-1)*_xlpm.Rows_Day,_xlpm.Dir_Cols,_xlpm.Rows_Day,COLUMNS(Data!Vehicle_Classification)))))","v":""},{"$f":"_xlfn.LET(_xlpm.Rows_Day,24 * (60 / $B$8), _xlpm.Dir_Cols,(COLUMNS(Data!Vehicle_Classification)+COLUMNS(Data!Vehicle_Speed_Bins)+COLUMNS(Data!Speed)+2),IF(ISBLANK($F24),\"\",SUM(OFFSET(Data!$G$5,(Offsets!$G8-1)*(9 * _xlpm.Rows_Day + 3)+(weekdaycode(Q$19)-1)*_xlpm.Rows_Day,_xlpm.Dir_Cols,_xlpm.Rows_Day,1))/SUM(OFFSET(Data!$C$5,(Offsets!$G8-1)*(9 * _xlpm.Rows_Day + 3)+(weekdaycode(Q$19)-1)*_xlpm.Rows_Day,_xlpm.Dir_Cols,_xlpm.Rows_Day,COLUMNS(Data!Vehicle_Classification)))))","v":""},{"$f":"_xlfn.LET(_xlpm.Rows_Day,24 * (60 / $B$8), _xlpm.Dir_Cols,0,IF(ISBLANK($F24),\"\",SUM(OFFSET(Data!$G$5,(Offsets!$G8-1)*(9 * _xlpm.Rows_Day + 3)+(weekdaycode(S$19)-1)*_xlpm.Rows_Day,_xlpm.Dir_Cols,_xlpm.Rows_Day,1))/SUM(OFFSET(Data!$C$5,(Offsets!$G8-1)*(9 * _xlpm.Rows_Day + 3)+(weekdaycode(S$19)-1)*_xlpm.Rows_Day,_xlpm.Dir_Cols,_xlpm.Rows_Day,COLUMNS(Data!Vehicle_Classification)))))","v":""},{"$f":"_xlfn.LET(_xlpm.Rows_Day,24 * (60 / $B$8), _xlpm.Dir_Cols,(COLUMNS(Data!Vehicle_Classification)+COLUMNS(Data!Vehicle_Speed_Bins)+COLUMNS(Data!Speed)+2),IF(ISBLANK($F24),\"\",SUM(OFFSET(Data!$G$5,(Offsets!$G8-1)*(9 * _xlpm.Rows_Day + 3)+(weekdaycode(S$19)-1)*_xlpm.Rows_Day,_xlpm.Dir_Cols,_xlpm.Rows_Day,1))/SUM(OFFSET(Data!$C$5,(Offsets!$G8-1)*(9 * _xlpm.Rows_Day + 3)+(weekdaycode(S$19)-1)*_xlpm.Rows_Day,_xlpm.Dir_Cols,_xlpm.Rows_Day,COLUMNS(Data!Vehicle_Classification)))))","v":""},{"$f":"_xlfn.LET(_xlpm.Rows_Day,24 * (60 / $B$8), _xlpm.Dir_Cols,0,IF(ISBLANK($F24),\"\",SUM(OFFSET(Data!$G$5,(Offsets!$G8-1)*(9 * _xlpm.Rows_Day + 3)+(weekdaycode(U$19)-1)*_xlpm.Rows_Day,_xlpm.Dir_Cols,_xlpm.Rows_Day,1))/SUM(OFFSET(Data!$C$5,(Offsets!$G8-1)*(9 * _xlpm.Rows_Day + 3)+(weekdaycode(U$19)-1)*_xlpm.Rows_Day,_xlpm.Dir_Cols,_xlpm.Rows_Day,COLUMNS(Data!Vehicle_Classification)))))","v":""},{"$f":"_xlfn.LET(_xlpm.Rows_Day,24 * (60 / $B$8), _xlpm.Dir_Cols,(COLUMNS(Data!Vehicle_Classification)+COLUMNS(Data!Vehicle_Speed_Bins)+COLUMNS(Data!Speed)+2),IF(ISBLANK($F24),\"\",SUM(OFFSET(Data!$G$5,(Offsets!$G8-1)*(9 * _xlpm.Rows_Day + 3)+(weekdaycode(U$19)-1)*_xlpm.Rows_Day,_xlpm.Dir_Cols,_xlpm.Rows_Day,1))/SUM(OFFSET(Data!$C$5,(Offsets!$G8-1)*(9 * _xlpm.Rows_Day + 3)+(weekdaycode(U$19)-1)*_xlpm.Rows_Day,_xlpm.Dir_Cols,_xlpm.Rows_Day,COLUMNS(Data!Vehicle_Classification)))))","v":""},{"$f":"_xlfn.LET(_xlpm.Rows_Day,24 * (60 / $B$8), _xlpm.Dir_Cols,0,IF(ISBLANK($F24),\"\",SUM(OFFSET(Data!$G$5,(Offsets!$G8-1)*(9 * _xlpm.Rows_Day + 3)+(weekdaycode(W$19)-1)*_xlpm.Rows_Day,_xlpm.Dir_Cols,_xlpm.Rows_Day,1))/SUM(OFFSET(Data!$C$5,(Offsets!$G8-1)*(9 * _xlpm.Rows_Day + 3)+(weekdaycode(W$19)-1)*_xlpm.Rows_Day,_xlpm.Dir_Cols,_xlpm.Rows_Day,COLUMNS(Data!Vehicle_Classification)))))","v":""},{"$f":"_xlfn.LET(_xlpm.Rows_Day,24 * (60 / $B$8), _xlpm.Dir_Cols,(COLUMNS(Data!Vehicle_Classification)+COLUMNS(Data!Vehicle_Speed_Bins)+COLUMNS(Data!Speed)+2),IF(ISBLANK($F24),\"\",SUM(OFFSET(Data!$G$5,(Offsets!$G8-1)*(9 * _xlpm.Rows_Day + 3)+(weekdaycode(W$19)-1)*_xlpm.Rows_Day,_xlpm.Dir_Cols,_xlpm.Rows_Day,1))/SUM(OFFSET(Data!$C$5,(Offsets!$G8-1)*(9 * _xlpm.Rows_Day + 3)+(weekdaycode(W$19)-1)*_xlpm.Rows_Day,_xlpm.Dir_Cols,_xlpm.Rows_Day,COLUMNS(Data!Vehicle_Classification)))))","v":""}]
[null,null,null,null,null,null,null,null,null,null,{"$f":"_xlfn.LET(_xlpm.Rows_Day,24 * (60 / $B$8), _xlpm.Dir_Cols,0,IF(ISBLANK($F25),\"\",SUM(OFFSET(Data!$G$5,(Offsets!$G9-1)*(9 * _xlpm.Rows_Day + 3)+(weekdaycode(K$19)-1)*_xlpm.Rows_Day,_xlpm.Dir_Cols,_xlpm.Rows_Day,1))/SUM(OFFSET(Data!$C$5,(Offsets!$G9-1)*(9 * _xlpm.Rows_Day + 3)+(weekdaycode(K$19)-1)*_xlpm.Rows_Day,_xlpm.Dir_Cols,_xlpm.Rows_Day,COLUMNS(Data!Vehicle_Classification)))))","v":""},{"$f":"_xlfn.LET(_xlpm.Rows_Day,24 * (60 / $B$8), _xlpm.Dir_Cols,(COLUMNS(Data!Vehicle_Classification)+COLUMNS(Data!Vehicle_Speed_Bins)+COLUMNS(Data!Speed)+2),IF(ISBLANK($F25),\"\",SUM(OFFSET(Data!$G$5,(Offsets!$G9-1)*(9 * _xlpm.Rows_Day + 3)+(weekdaycode(K$19)-1)*_xlpm.Rows_Day,_xlpm.Dir_Cols,_xlpm.Rows_Day,1))/SUM(OFFSET(Data!$C$5,(Offsets!$G9-1)*(9 * _xlpm.Rows_Day + 3)+(weekdaycode(K$19)-1)*_xlpm.Rows_Day,_xlpm.Dir_Cols,_xlpm.Rows_Day,COLUMNS(Data!Vehicle_Classification)))))","v":""},{"$f":"_xlfn.LET(_xlpm.Rows_Day,24 * (60 / $B$8), _xlpm.Dir_Cols,0,IF(ISBLANK($F25),\"\",SUM(OFFSET(Data!$G$5,(Offsets!$G9-1)*(9 * _xlpm.Rows_Day + 3)+(weekdaycode(M$19)-1)*_xlpm.Rows_Day,_xlpm.Dir_Cols,_xlpm.Rows_Day,1))/SUM(OFFSET(Data!$C$5,(Offsets!$G9-1)*(9 * _xlpm.Rows_Day + 3)+(weekdaycode(M$19)-1)*_xlpm.Rows_Day,_xlpm.Dir_Cols,_xlpm.Rows_Day,COLUMNS(Data!Vehicle_Classification)))))","v":""},{"$f":"_xlfn.LET(_xlpm.Rows_Day,24 * (60 / $B$8), _xlpm.Dir_Cols,(COLUMNS(Data!Vehicle_Classification)+COLUMNS(Data!Vehicle_Speed_Bins)+COLUMNS(Data!Speed)+2),IF(ISBLANK($F25),\"\",SUM(OFFSET(Data!$G$5,(Offsets!$G9-1)*(9 * _xlpm.Rows_Day + 3)+(weekdaycode(M$19)-1)*_xlpm.Rows_Day,_xlpm.Dir_Cols,_xlpm.Rows_Day,1))/SUM(OFFSET(Data!$C$5,(Offsets!$G9-1)*(9 * _xlpm.Rows_Day + 3)+(weekdaycode(M$19)-1)*_xlpm.Rows_Day,_xlpm.Dir_Cols,_xlpm.Rows_Day,COLUMNS(Data!Vehicle_Classification)))))","v":""},{"$f":"_xlfn.LET(_xlpm.Rows_Day,24 * (60 / $B$8), _xlpm.Dir_Cols,0,IF(ISBLANK($F25),\"\",SUM(OFFSET(Data!$G$5,(Offsets!$G9-1)*(9 * _xlpm.Rows_Day + 3)+(weekdaycode(O$19)-1)*_xlpm.Rows_Day,_xlpm.Dir_Cols,_xlpm.Rows_Day,1))/SUM(OFFSET(Data!$C$5,(Offsets!$G9-1)*(9 * _xlpm.Rows_Day + 3)+(weekdaycode(O$19)-1)*_xlpm.Rows_Day,_xlpm.Dir_Cols,_xlpm.Rows_Day,COLUMNS(Data!Vehicle_Classification)))))","v":""},{"$f":"_xlfn.LET(_xlpm.Rows_Day,24 * (60 / $B$8), _xlpm.Dir_Cols,(COLUMNS(Data!Vehicle_Classification)+COLUMNS(Data!Vehicle_Speed_Bins)+COLUMNS(Data!Speed)+2),IF(ISBLANK($F25),\"\",SUM(OFFSET(Data!$G$5,(Offsets!$G9-1)*(9 * _xlpm.Rows_Day + 3)+(weekdaycode(O$19)-1)*_xlpm.Rows_Day,_xlpm.Dir_Cols,_xlpm.Rows_Day,1))/SUM(OFFSET(Data!$C$5,(Offsets!$G9-1)*(9 * _xlpm.Rows_Day + 3)+(weekdaycode(O$19)-1)*_xlpm.Rows_Day,_xlpm.Dir_Cols,_xlpm.Rows_Day,COLUMNS(Data!Vehicle_Classification)))))","v":""},{"$f":"_xlfn.LET(_xlpm.Rows_Day,24 * (60 / $B$8), _xlpm.Dir_Cols,0,IF(ISBLANK($F25),\"\",SUM(OFFSET(Data!$G$5,(Offsets!$G9-1)*(9 * _xlpm.Rows_Day + 3)+(weekdaycode(Q$19)-1)*_xlpm.Rows_Day,_xlpm.Dir_Cols,_xlpm.Rows_Day,1))/SUM(OFFSET(Data!$C$5,(Offsets!$G9-1)*(9 * _xlpm.Rows_Day + 3)+(weekdaycode(Q$19)-1)*_xlpm.Rows_Day,_xlpm.Dir_Cols,_xlpm.Rows_Day,COLUMNS(Data!Vehicle_Classification)))))","v":""},{"$f":"_xlfn.LET(_xlpm.Rows_Day,24 * (60 / $B$8), _xlpm.Dir_Cols,(COLUMNS(Data!Vehicle_Classification)+COLUMNS(Data!Vehicle_Speed_Bins)+COLUMNS(Data!Speed)+2),IF(ISBLANK($F25),\"\",SUM(OFFSET(Data!$G$5,(Offsets!$G9-1)*(9 * _xlpm.Rows_Day + 3)+(weekdaycode(Q$19)-1)*_xlpm.Rows_Day,_xlpm.Dir_Cols,_xlpm.Rows_Day,1))/SUM(OFFSET(Data!$C$5,(Offsets!$G9-1)*(9 * _xlpm.Rows_Day + 3)+(weekdaycode(Q$19)-1)*_xlpm.Rows_Day,_xlpm.Dir_Cols,_xlpm.Rows_Day,COLUMNS(Data!Vehicle_Classification)))))","v":""},{"$f":"_xlfn.LET(_xlpm.Rows_Day,24 * (60 / $B$8), _xlpm.Dir_Cols,0,IF(ISBLANK($F25),\"\",SUM(OFFSET(Data!$G$5,(Offsets!$G9-1)*(9 * _xlpm.Rows_Day + 3)+(weekdaycode(S$19)-1)*_xlpm.Rows_Day,_xlpm.Dir_Cols,_xlpm.Rows_Day,1))/SUM(OFFSET(Data!$C$5,(Offsets!$G9-1)*(9 * _xlpm.Rows_Day + 3)+(weekdaycode(S$19)-1)*_xlpm.Rows_Day,_xlpm.Dir_Cols,_xlpm.Rows_Day,COLUMNS(Data!Vehicle_Classification)))))","v":""},{"$f":"_xlfn.LET(_xlpm.Rows_Day,24 * (60 / $B$8), _xlpm.Dir_Cols,(COLUMNS(Data!Vehicle_Classification)+COLUMNS(Data!Vehicle_Speed_Bins)+COLUMNS(Data!Speed)+2),IF(ISBLANK($F25),\"\",SUM(OFFSET(Data!$G$5,(Offsets!$G9-1)*(9 * _xlpm.Rows_Day + 3)+(weekdaycode(S$19)-1)*_xlpm.Rows_Day,_xlpm.Dir_Cols,_xlpm.Rows_Day,1))/SUM(OFFSET(Data!$C$5,(Offsets!$G9-1)*(9 * _xlpm.Rows_Day + 3)+(weekdaycode(S$19)-1)*_xlpm.Rows_Day,_xlpm.Dir_Cols,_xlpm.Rows_Day,COLUMNS(Data!Vehicle_Classification)))))","v":""},{"$f":"_xlfn.LET(_xlpm.Rows_Day,24 * (60 / $B$8), _xlpm.Dir_Cols,0,IF(ISBLANK($F25),\"\",SUM(OFFSET(Data!$G$5,(Offsets!$G9-1)*(9 * _xlpm.Rows_Day + 3)+(weekdaycode(U$19)-1)*_xlpm.Rows_Day,_xlpm.Dir_Cols,_xlpm.Rows_Day,1))/SUM(OFFSET(Data!$C$5,(Offsets!$G9-1)*(9 * _xlpm.Rows_Day + 3)+(weekdaycode(U$19)-1)*_xlpm.Rows_Day,_xlpm.Dir_Cols,_xlpm.Rows_Day,COLUMNS(Data!Vehicle_Classification)))))","v":""},{"$f":"_xlfn.LET(_xlpm.Rows_Day,24 * (60 / $B$8), _xlpm.Dir_Cols,(COLUMNS(Data!Vehicle_Classification)+COLUMNS(Data!Vehicle_Speed_Bins)+COLUMNS(Data!Speed)+2),IF(ISBLANK($F25),\"\",SUM(OFFSET(Data!$G$5,(Offsets!$G9-1)*(9 * _xlpm.Rows_Day + 3)+(weekdaycode(U$19)-1)*_xlpm.Rows_Day,_xlpm.Dir_Cols,_xlpm.Rows_Day,1))/SUM(OFFSET(Data!$C$5,(Offsets!$G9-1)*(9 * _xlpm.Rows_Day + 3)+(weekdaycode(U$19)-1)*_xlpm.Rows_Day,_xlpm.Dir_Cols,_xlpm.Rows_Day,COLUMNS(Data!Vehicle_Classification)))))","v":""},{"$f":"_xlfn.LET(_xlpm.Rows_Day,24 * (60 / $B$8), _xlpm.Dir_Cols,0,IF(ISBLANK($F25),\"\",SUM(OFFSET(Data!$G$5,(Offsets!$G9-1)*(9 * _xlpm.Rows_Day + 3)+(weekdaycode(W$19)-1)*_xlpm.Rows_Day,_xlpm.Dir_Cols,_xlpm.Rows_Day,1))/SUM(OFFSET(Data!$C$5,(Offsets!$G9-1)*(9 * _xlpm.Rows_Day + 3)+(weekdaycode(W$19)-1)*_xlpm.Rows_Day,_xlpm.Dir_Cols,_xlpm.Rows_Day,COLUMNS(Data!Vehicle_Classification)))))","v":""},{"$f":"_xlfn.LET(_xlpm.Rows_Day,24 * (60 / $B$8), _xlpm.Dir_Cols,(COLUMNS(Data!Vehicle_Classification)+COLUMNS(Data!Vehicle_Speed_Bins)+COLUMNS(Data!Speed)+2),IF(ISBLANK($F25),\"\",SUM(OFFSET(Data!$G$5,(Offsets!$G9-1)*(9 * _xlpm.Rows_Day + 3)+(weekdaycode(W$19)-1)*_xlpm.Rows_Day,_xlpm.Dir_Cols,_xlpm.Rows_Day,1))/SUM(OFFSET(Data!$C$5,(Offsets!$G9-1)*(9 * _xlpm.Rows_Day + 3)+(weekdaycode(W$19)-1)*_xlpm.Rows_Day,_xlpm.Dir_Cols,_xlpm.Rows_Day,COLUMNS(Data!Vehicle_Classification)))))","v":""}]
[null,null,null,null,null,null,null,null,null,null,{"$f":"_xlfn.LET(_xlpm.Rows_Day,24 * (60 / $B$8), _xlpm.Dir_Cols,0,IF(ISBLANK($F26),\"\",SUM(OFFSET(Data!$G$5,(Offsets!$G10-1)*(9 * _xlpm.Rows_Day + 3)+(weekdaycode(K$19)-1)*_xlpm.Rows_Day,_xlpm.Dir_Cols,_xlpm.Rows_Day,1))/SUM(OFFSET(Data!$C$5,(Offsets!$G10-1)*(9 * _xlpm.Rows_Day + 3)+(weekdaycode(K$19)-1)*_xlpm.Rows_Day,_xlpm.Dir_Cols,_xlpm.Rows_Day,COLUMNS(Data!Vehicle_Classification)))))","v":""},{"$f":"_xlfn.LET(_xlpm.Rows_Day,24 * (60 / $B$8), _xlpm.Dir_Cols,(COLUMNS(Data!Vehicle_Classification)+COLUMNS(Data!Vehicle_Speed_Bins)+COLUMNS(Data!Speed)+2),IF(ISBLANK($F26),\"\",SUM(OFFSET(Data!$G$5,(Offsets!$G10-1)*(9 * _xlpm.Rows_Day + 3)+(weekdaycode(K$19)-1)*_xlpm.Rows_Day,_xlpm.Dir_Cols,_xlpm.Rows_Day,1))/SUM(OFFSET(Data!$C$5,(Offsets!$G10-1)*(9 * _xlpm.Rows_Day + 3)+(weekdaycode(K$19)-1)*_xlpm.Rows_Day,_xlpm.Dir_Cols,_xlpm.Rows_Day,COLUMNS(Data!Vehicle_Classification)))))","v":""},{"$f":"_xlfn.LET(_xlpm.Rows_Day,24 * (60 / $B$8), _xlpm.Dir_Cols,0,IF(ISBLANK($F26),\"\",SUM(OFFSET(Data!$G$5,(Offsets!$G10-1)*(9 * _xlpm.Rows_Day + 3)+(weekdaycode(M$19)-1)*_xlpm.Rows_Day,_xlpm.Dir_Cols,_xlpm.Rows_Day,1))/SUM(OFFSET(Data!$C$5,(Offsets!$G10-1)*(9 * _xlpm.Rows_Day + 3)+(weekdaycode(M$19)-1)*_xlpm.Rows_Day,_xlpm.Dir_Cols,_xlpm.Rows_Day,COLUMNS(Data!Vehicle_Classification)))))","v":""},{"$f":"_xlfn.LET(_xlpm.Rows_Day,24 * (60 / $B$8), _xlpm.Dir_Cols,(COLUMNS(Data!Vehicle_Classification)+COLUMNS(Data!Vehicle_Speed_Bins)+COLUMNS(Data!Speed)+2),IF(ISBLANK($F26),\"\",SUM(OFFSET(Data!$G$5,(Offsets!$G10-1)*(9 * _xlpm.Rows_Day + 3)+(weekdaycode(M$19)-1)*_xlpm.Rows_Day,_xlpm.Dir_Cols,_xlpm.Rows_Day,1))/SUM(OFFSET(Data!$C$5,(Offsets!$G10-1)*(9 * _xlpm.Rows_Day + 3)+(weekdaycode(M$19)-1)*_xlpm.Rows_Day,_xlpm.Dir_Cols,_xlpm.Rows_Day,COLUMNS(Data!Vehicle_Classification)))))","v":""},{"$f":"_xlfn.LET(_xlpm.Rows_Day,24 * (60 / $B$8), _xlpm.Dir_Cols,0,IF(ISBLANK($F26),\"\",SUM(OFFSET(Data!$G$5,(Offsets!$G10-1)*(9 * _xlpm.Rows_Day + 3)+(weekdaycode(O$19)-1)*_xlpm.Rows_Day,_xlpm.Dir_Cols,_xlpm.Rows_Day,1))/SUM(OFFSET(Data!$C$5,(Offsets!$G10-1)*(9 * _xlpm.Rows_Day + 3)+(weekdaycode(O$19)-1)*_xlpm.Rows_Day,_xlpm.Dir_Cols,_xlpm.Rows_Day,COLUMNS(Data!Vehicle_Classification)))))","v":""},{"$f":"_xlfn.LET(_xlpm.Rows_Day,24 * (60 / $B$8), _xlpm.Dir_Cols,(COLUMNS(Data!Vehicle_Classification)+COLUMNS(Data!Vehicle_Speed_Bins)+COLUMNS(Data!Speed)+2),IF(ISBLANK($F26),\"\",SUM(OFFSET(Data!$G$5,(Offsets!$G10-1)*(9 * _xlpm.Rows_Day + 3)+(weekdaycode(O$19)-1)*_xlpm.Rows_Day,_xlpm.Dir_Cols,_xlpm.Rows_Day,1))/SUM(OFFSET(Data!$C$5,(Offsets!$G10-1)*(9 * _xlpm.Rows_Day + 3)+(weekdaycode(O$19)-1)*_xlpm.Rows_Day,_xlpm.Dir_Cols,_xlpm.Rows_Day,COLUMNS(Data!Vehicle_Classification)))))","v":""},{"$f":"_xlfn.LET(_xlpm.Rows_Day,24 * (60 / $B$8), _xlpm.Dir_Cols,0,IF(ISBLANK($F26),\"\",SUM(OFFSET(Data!$G$5,(Offsets!$G10-1)*(9 * _xlpm.Rows_Day + 3)+(weekdaycode(Q$19)-1)*_xlpm.Rows_Day,_xlpm.Dir_Cols,_xlpm.Rows_Day,1))/SUM(OFFSET(Data!$C$5,(Offsets!$G10-1)*(9 * _xlpm.Rows_Day + 3)+(weekdaycode(Q$19)-1)*_xlpm.Rows_Day,_xlpm.Dir_Cols,_xlpm.Rows_Day,COLUMNS(Data!Vehicle_Classification)))))","v":""},{"$f":"_xlfn.LET(_xlpm.Rows_Day,24 * (60 / $B$8), _xlpm.Dir_Cols,(COLUMNS(Data!Vehicle_Classification)+COLUMNS(Data!Vehicle_Speed_Bins)+COLUMNS(Data!Speed)+2),IF(ISBLANK($F26),\"\",SUM(OFFSET(Data!$G$5,(Offsets!$G10-1)*(9 * _xlpm.Rows_Day + 3)+(weekdaycode(Q$19)-1)*_xlpm.Rows_Day,_xlpm.Dir_Cols,_xlpm.Rows_Day,1))/SUM(OFFSET(Data!$C$5,(Offsets!$G10-1)*(9 * _xlpm.Rows_Day + 3)+(weekdaycode(Q$19)-1)*_xlpm.Rows_Day,_xlpm.Dir_Cols,_xlpm.Rows_Day,COLUMNS(Data!Vehicle_Classification)))))","v":""},{"$f":"_xlfn.LET(_xlpm.Rows_Day,24 * (60 / $B$8), _xlpm.Dir_Cols,0,IF(ISBLANK($F26),\"\",SUM(OFFSET(Data!$G$5,(Offsets!$G10-1)*(9 * _xlpm.Rows_Day + 3)+(weekdaycode(S$19)-1)*_xlpm.Rows_Day,_xlpm.Dir_Cols,_xlpm.Rows_Day,1))/SUM(OFFSET(Data!$C$5,(Offsets!$G10-1)*(9 * _xlpm.Rows_Day + 3)+(weekdaycode(S$19)-1)*_xlpm.Rows_Day,_xlpm.Dir_Cols,_xlpm.Rows_Day,COLUMNS(Data!Vehicle_Classification)))))","v":""},{"$f":"_xlfn.LET(_xlpm.Rows_Day,24 * (60 / $B$8), _xlpm.Dir_Cols,(COLUMNS(Data!Vehicle_Classification)+COLUMNS(Data!Vehicle_Speed_Bins)+COLUMNS(Data!Speed)+2),IF(ISBLANK($F26),\"\",SUM(OFFSET(Data!$G$5,(Offsets!$G10-1)*(9 * _xlpm.Rows_Day + 3)+(weekdaycode(S$19)-1)*_xlpm.Rows_Day,_xlpm.Dir_Cols,_xlpm.Rows_Day,1))/SUM(OFFSET(Data!$C$5,(Offsets!$G10-1)*(9 * _xlpm.Rows_Day + 3)+(weekdaycode(S$19)-1)*_xlpm.Rows_Day,_xlpm.Dir_Cols,_xlpm.Rows_Day,COLUMNS(Data!Vehicle_Classification)))))","v":""},{"$f":"_xlfn.LET(_xlpm.Rows_Day,24 * (60 / $B$8), _xlpm.Dir_Cols,0,IF(ISBLANK($F26),\"\",SUM(OFFSET(Data!$G$5,(Offsets!$G10-1)*(9 * _xlpm.Rows_Day + 3)+(weekdaycode(U$19)-1)*_xlpm.Rows_Day,_xlpm.Dir_Cols,_xlpm.Rows_Day,1))/SUM(OFFSET(Data!$C$5,(Offsets!$G10-1)*(9 * _xlpm.Rows_Day + 3)+(weekdaycode(U$19)-1)*_xlpm.Rows_Day,_xlpm.Dir_Cols,_xlpm.Rows_Day,COLUMNS(Data!Vehicle_Classification)))))","v":""},{"$f":"_xlfn.LET(_xlpm.Rows_Day,24 * (60 / $B$8), _xlpm.Dir_Cols,(COLUMNS(Data!Vehicle_Classification)+COLUMNS(Data!Vehicle_Speed_Bins)+COLUMNS(Data!Speed)+2),IF(ISBLANK($F26),\"\",SUM(OFFSET(Data!$G$5,(Offsets!$G10-1)*(9 * _xlpm.Rows_Day + 3)+(weekdaycode(U$19)-1)*_xlpm.Rows_Day,_xlpm.Dir_Cols,_xlpm.Rows_Day,1))/SUM(OFFSET(Data!$C$5,(Offsets!$G10-1)*(9 * _xlpm.Rows_Day + 3)+(weekdaycode(U$19)-1)*_xlpm.Rows_Day,_xlpm.Dir_Cols,_xlpm.Rows_Day,COLUMNS(Data!Vehicle_Classification)))))","v":""},{"$f":"_xlfn.LET(_xlpm.Rows_Day,24 * (60 / $B$8), _xlpm.Dir_Cols,0,IF(ISBLANK($F26),\"\",SUM(OFFSET(Data!$G$5,(Offsets!$G10-1)*(9 * _xlpm.Rows_Day + 3)+(weekdaycode(W$19)-1)*_xlpm.Rows_Day,_xlpm.Dir_Cols,_xlpm.Rows_Day,1))/SUM(OFFSET(Data!$C$5,(Offsets!$G10-1)*(9 * _xlpm.Rows_Day + 3)+(weekdaycode(W$19)-1)*_xlpm.Rows_Day,_xlpm.Dir_Cols,_xlpm.Rows_Day,COLUMNS(Data!Vehicle_Classification)))))","v":""},{"$f":"_xlfn.LET(_xlpm.Rows_Day,24 * (60 / $B$8), _xlpm.Dir_Cols,(COLUMNS(Data!Vehicle_Classification)+COLUMNS(Data!Vehicle_Speed_Bins)+COLUMNS(Data!Speed)+2),IF(ISBLANK($F26),\"\",SUM(OFFSET(Data!$G$5,(Offsets!$G10-1)*(9 * _xlpm.Rows_Day + 3)+(weekdaycode(W$19)-1)*_xlpm.Rows_Day,_xlpm.Dir_Cols,_xlpm.Rows_Day,1))/SUM(OFFSET(Data!$C$5,(Offsets!$G10-1)*(9 * _xlpm.Rows_Day + 3)+(weekdaycode(W$19)-1)*_xlpm.Rows_Day,_xlpm.Dir_Cols,_xlpm.Rows_Day,COLUMNS(Data!Vehicle_Classification)))))","v":""}]
[null,null,null,null,null,null,null,null,null,null,{"$f":"_xlfn.LET(_xlpm.Rows_Day,24 * (60 / $B$8), _xlpm.Dir_Cols,0,IF(ISBLANK($F27),\"\",SUM(OFFSET(Data!$G$5,(Offsets!$G11-1)*(9 * _xlpm.Rows_Day + 3)+(weekdaycode(K$19)-1)*_xlpm.Rows_Day,_xlpm.Dir_Cols,_xlpm.Rows_Day,1))/SUM(OFFSET(Data!$C$5,(Offsets!$G11-1)*(9 * _xlpm.Rows_Day + 3)+(weekdaycode(K$19)-1)*_xlpm.Rows_Day,_xlpm.Dir_Cols,_xlpm.Rows_Day,COLUMNS(Data!Vehicle_Classification)))))","v":""},{"$f":"_xlfn.LET(_xlpm.Rows_Day,24 * (60 / $B$8), _xlpm.Dir_Cols,(COLUMNS(Data!Vehicle_Classification)+COLUMNS(Data!Vehicle_Speed_Bins)+COLUMNS(Data!Speed)+2),IF(ISBLANK($F27),\"\",SUM(OFFSET(Data!$G$5,(Offsets!$G11-1)*(9 * _xlpm.Rows_Day + 3)+(weekdaycode(K$19)-1)*_xlpm.Rows_Day,_xlpm.Dir_Cols,_xlpm.Rows_Day,1))/SUM(OFFSET(Data!$C$5,(Offsets!$G11-1)*(9 * _xlpm.Rows_Day + 3)+(weekdaycode(K$19)-1)*_xlpm.Rows_Day,_xlpm.Dir_Cols,_xlpm.Rows_Day,COLUMNS(Data!Vehicle_Classification)))))","v":""},{"$f":"_xlfn.LET(_xlpm.Rows_Day,24 * (60 / $B$8), _xlpm.Dir_Cols,0,IF(ISBLANK($F27),\"\",SUM(OFFSET(Data!$G$5,(Offsets!$G11-1)*(9 * _xlpm.Rows_Day + 3)+(weekdaycode(M$19)-1)*_xlpm.Rows_Day,_xlpm.Dir_Cols,_xlpm.Rows_Day,1))/SUM(OFFSET(Data!$C$5,(Offsets!$G11-1)*(9 * _xlpm.Rows_Day + 3)+(weekdaycode(M$19)-1)*_xlpm.Rows_Day,_xlpm.Dir_Cols,_xlpm.Rows_Day,COLUMNS(Data!Vehicle_Classification)))))","v":""},{"$f":"_xlfn.LET(_xlpm.Rows_Day,24 * (60 / $B$8), _xlpm.Dir_Cols,(COLUMNS(Data!Vehicle_Classification)+COLUMNS(Data!Vehicle_Speed_Bins)+COLUMNS(Data!Speed)+2),IF(ISBLANK($F27),\"\",SUM(OFFSET(Data!$G$5,(Offsets!$G11-1)*(9 * _xlpm.Rows_Day + 3)+(weekdaycode(M$19)-1)*_xlpm.Rows_Day,_xlpm.Dir_Cols,_xlpm.Rows_Day,1))/SUM(OFFSET(Data!$C$5,(Offsets!$G11-1)*(9 * _xlpm.Rows_Day + 3)+(weekdaycode(M$19)-1)*_xlpm.Rows_Day,_xlpm.Dir_Cols,_xlpm.Rows_Day,COLUMNS(Data!Vehicle_Classification)))))","v":""},{"$f":"_xlfn.LET(_xlpm.Rows_Day,24 * (60 / $B$8), _xlpm.Dir_Cols,0,IF(ISBLANK($F27),\"\",SUM(OFFSET(Data!$G$5,(Offsets!$G11-1)*(9 * _xlpm.Rows_Day + 3)+(weekdaycode(O$19)-1)*_xlpm.Rows_Day,_xlpm.Dir_Cols,_xlpm.Rows_Day,1))/SUM(OFFSET(Data!$C$5,(Offsets!$G11-1)*(9 * _xlpm.Rows_Day + 3)+(weekdaycode(O$19)-1)*_xlpm.Rows_Day,_xlpm.Dir_Cols,_xlpm.Rows_Day,COLUMNS(Data!Vehicle_Classification)))))","v":""},{"$f":"_xlfn.LET(_xlpm.Rows_Day,24 * (60 / $B$8), _xlpm.Dir_Cols,(COLUMNS(Data!Vehicle_Classification)+COLUMNS(Data!Vehicle_Speed_Bins)+COLUMNS(Data!Speed)+2),IF(ISBLANK($F27),\"\",SUM(OFFSET(Data!$G$5,(Offsets!$G11-1)*(9 * _xlpm.Rows_Day + 3)+(weekdaycode(O$19)-1)*_xlpm.Rows_Day,_xlpm.Dir_Cols,_xlpm.Rows_Day,1))/SUM(OFFSET(Data!$C$5,(Offsets!$G11-1)*(9 * _xlpm.Rows_Day + 3)+(weekdaycode(O$19)-1)*_xlpm.Rows_Day,_xlpm.Dir_Cols,_xlpm.Rows_Day,COLUMNS(Data!Vehicle_Classification)))))","v":""},{"$f":"_xlfn.LET(_xlpm.Rows_Day,24 * (60 / $B$8), _xlpm.Dir_Cols,0,IF(ISBLANK($F27),\"\",SUM(OFFSET(Data!$G$5,(Offsets!$G11-1)*(9 * _xlpm.Rows_Day + 3)+(weekdaycode(Q$19)-1)*_xlpm.Rows_Day,_xlpm.Dir_Cols,_xlpm.Rows_Day,1))/SUM(OFFSET(Data!$C$5,(Offsets!$G11-1)*(9 * _xlpm.Rows_Day + 3)+(weekdaycode(Q$19)-1)*_xlpm.Rows_Day,_xlpm.Dir_Cols,_xlpm.Rows_Day,COLUMNS(Data!Vehicle_Classification)))))","v":""},{"$f":"_xlfn.LET(_xlpm.Rows_Day,24 * (60 / $B$8), _xlpm.Dir_Cols,(COLUMNS(Data!Vehicle_Classification)+COLUMNS(Data!Vehicle_Speed_Bins)+COLUMNS(Data!Speed)+2),IF(ISBLANK($F27),\"\",SUM(OFFSET(Data!$G$5,(Offsets!$G11-1)*(9 * _xlpm.Rows_Day + 3)+(weekdaycode(Q$19)-1)*_xlpm.Rows_Day,_xlpm.Dir_Cols,_xlpm.Rows_Day,1))/SUM(OFFSET(Data!$C$5,(Offsets!$G11-1)*(9 * _xlpm.Rows_Day + 3)+(weekdaycode(Q$19)-1)*_xlpm.Rows_Day,_xlpm.Dir_Cols,_xlpm.Rows_Day,COLUMNS(Data!Vehicle_Classification)))))","v":""},{"$f":"_xlfn.LET(_xlpm.Rows_Day,24 * (60 / $B$8), _xlpm.Dir_Cols,0,IF(ISBLANK($F27),\"\",SUM(OFFSET(Data!$G$5,(Offsets!$G11-1)*(9 * _xlpm.Rows_Day + 3)+(weekdaycode(S$19)-1)*_xlpm.Rows_Day,_xlpm.Dir_Cols,_xlpm.Rows_Day,1))/SUM(OFFSET(Data!$C$5,(Offsets!$G11-1)*(9 * _xlpm.Rows_Day + 3)+(weekdaycode(S$19)-1)*_xlpm.Rows_Day,_xlpm.Dir_Cols,_xlpm.Rows_Day,COLUMNS(Data!Vehicle_Classification)))))","v":""},{"$f":"_xlfn.LET(_xlpm.Rows_Day,24 * (60 / $B$8), _xlpm.Dir_Cols,(COLUMNS(Data!Vehicle_Classification)+COLUMNS(Data!Vehicle_Speed_Bins)+COLUMNS(Data!Speed)+2),IF(ISBLANK($F27),\"\",SUM(OFFSET(Data!$G$5,(Offsets!$G11-1)*(9 * _xlpm.Rows_Day + 3)+(weekdaycode(S$19)-1)*_xlpm.Rows_Day,_xlpm.Dir_Cols,_xlpm.Rows_Day,1))/SUM(OFFSET(Data!$C$5,(Offsets!$G11-1)*(9 * _xlpm.Rows_Day + 3)+(weekdaycode(S$19)-1)*_xlpm.Rows_Day,_xlpm.Dir_Cols,_xlpm.Rows_Day,COLUMNS(Data!Vehicle_Classification)))))","v":""},{"$f":"_xlfn.LET(_xlpm.Rows_Day,24 * (60 / $B$8), _xlpm.Dir_Cols,0,IF(ISBLANK($F27),\"\",SUM(OFFSET(Data!$G$5,(Offsets!$G11-1)*(9 * _xlpm.Rows_Day + 3)+(weekdaycode(U$19)-1)*_xlpm.Rows_Day,_xlpm.Dir_Cols,_xlpm.Rows_Day,1))/SUM(OFFSET(Data!$C$5,(Offsets!$G11-1)*(9 * _xlpm.Rows_Day + 3)+(weekdaycode(U$19)-1)*_xlpm.Rows_Day,_xlpm.Dir_Cols,_xlpm.Rows_Day,COLUMNS(Data!Vehicle_Classification)))))","v":""},{"$f":"_xlfn.LET(_xlpm.Rows_Day,24 * (60 / $B$8), _xlpm.Dir_Cols,(COLUMNS(Data!Vehicle_Classification)+COLUMNS(Data!Vehicle_Speed_Bins)+COLUMNS(Data!Speed)+2),IF(ISBLANK($F27),\"\",SUM(OFFSET(Data!$G$5,(Offsets!$G11-1)*(9 * _xlpm.Rows_Day + 3)+(weekdaycode(U$19)-1)*_xlpm.Rows_Day,_xlpm.Dir_Cols,_xlpm.Rows_Day,1))/SUM(OFFSET(Data!$C$5,(Offsets!$G11-1)*(9 * _xlpm.Rows_Day + 3)+(weekdaycode(U$19)-1)*_xlpm.Rows_Day,_xlpm.Dir_Cols,_xlpm.Rows_Day,COLUMNS(Data!Vehicle_Classification)))))","v":""},{"$f":"_xlfn.LET(_xlpm.Rows_Day,24 * (60 / $B$8), _xlpm.Dir_Cols,0,IF(ISBLANK($F27),\"\",SUM(OFFSET(Data!$G$5,(Offsets!$G11-1)*(9 * _xlpm.Rows_Day + 3)+(weekdaycode(W$19)-1)*_xlpm.Rows_Day,_xlpm.Dir_Cols,_xlpm.Rows_Day,1))/SUM(OFFSET(Data!$C$5,(Offsets!$G11-1)*(9 * _xlpm.Rows_Day + 3)+(weekdaycode(W$19)-1)*_xlpm.Rows_Day,_xlpm.Dir_Cols,_xlpm.Rows_Day,COLUMNS(Data!Vehicle_Classification)))))","v":""},{"$f":"_xlfn.LET(_xlpm.Rows_Day,24 * (60 / $B$8), _xlpm.Dir_Cols,(COLUMNS(Data!Vehicle_Classification)+COLUMNS(Data!Vehicle_Speed_Bins)+COLUMNS(Data!Speed)+2),IF(ISBLANK($F27),\"\",SUM(OFFSET(Data!$G$5,(Offsets!$G11-1)*(9 * _xlpm.Rows_Day + 3)+(weekdaycode(W$19)-1)*_xlpm.Rows_Day,_xlpm.Dir_Cols,_xlpm.Rows_Day,1))/SUM(OFFSET(Data!$C$5,(Offsets!$G11-1)*(9 * _xlpm.Rows_Day + 3)+(weekdaycode(W$19)-1)*_xlpm.Rows_Day,_xlpm.Dir_Cols,_xlpm.Rows_Day,COLUMNS(Data!Vehicle_Classification)))))","v":""}]
[null,null,null,null,null,null,null,null,null,null,{"$f":"_xlfn.LET(_xlpm.Rows_Day,24 * (60 / $B$8), _xlpm.Dir_Cols,0,IF(ISBLANK($F28),\"\",SUM(OFFSET(Data!$G$5,(Offsets!$G12-1)*(9 * _xlpm.Rows_Day + 3)+(weekdaycode(K$19)-1)*_xlpm.Rows_Day,_xlpm.Dir_Cols,_xlpm.Rows_Day,1))/SUM(OFFSET(Data!$C$5,(Offsets!$G12-1)*(9 * _xlpm.Rows_Day + 3)+(weekdaycode(K$19)-1)*_xlpm.Rows_Day,_xlpm.Dir_Cols,_xlpm.Rows_Day,COLUMNS(Data!Vehicle_Classification)))))","v":""},{"$f":"_xlfn.LET(_xlpm.Rows_Day,24 * (60 / $B$8), _xlpm.Dir_Cols,(COLUMNS(Data!Vehicle_Classification)+COLUMNS(Data!Vehicle_Speed_Bins)+COLUMNS(Data!Speed)+2),IF(ISBLANK($F28),\"\",SUM(OFFSET(Data!$G$5,(Offsets!$G12-1)*(9 * _xlpm.Rows_Day + 3)+(weekdaycode(K$19)-1)*_xlpm.Rows_Day,_xlpm.Dir_Cols,_xlpm.Rows_Day,1))/SUM(OFFSET(Data!$C$5,(Offsets!$G12-1)*(9 * _xlpm.Rows_Day + 3)+(weekdaycode(K$19)-1)*_xlpm.Rows_Day,_xlpm.Dir_Cols,_xlpm.Rows_Day,COLUMNS(Data!Vehicle_Classification)))))","v":""},{"$f":"_xlfn.LET(_xlpm.Rows_Day,24 * (60 / $B$8), _xlpm.Dir_Cols,0,IF(ISBLANK($F28),\"\",SUM(OFFSET(Data!$G$5,(Offsets!$G12-1)*(9 * _xlpm.Rows_Day + 3)+(weekdaycode(M$19)-1)*_xlpm.Rows_Day,_xlpm.Dir_Cols,_xlpm.Rows_Day,1))/SUM(OFFSET(Data!$C$5,(Offsets!$G12-1)*(9 * _xlpm.Rows_Day + 3)+(weekdaycode(M$19)-1)*_xlpm.Rows_Day,_xlpm.Dir_Cols,_xlpm.Rows_Day,COLUMNS(Data!Vehicle_Classification)))))","v":""},{"$f":"_xlfn.LET(_xlpm.Rows_Day,24 * (60 / $B$8), _xlpm.Dir_Cols,(COLUMNS(Data!Vehicle_Classification)+COLUMNS(Data!Vehicle_Speed_Bins)+COLUMNS(Data!Speed)+2),IF(ISBLANK($F28),\"\",SUM(OFFSET(Data!$G$5,(Offsets!$G12-1)*(9 * _xlpm.Rows_Day + 3)+(weekdaycode(M$19)-1)*_xlpm.Rows_Day,_xlpm.Dir_Cols,_xlpm.Rows_Day,1))/SUM(OFFSET(Data!$C$5,(Offsets!$G12-1)*(9 * _xlpm.Rows_Day + 3)+(weekdaycode(M$19)-1)*_xlpm.Rows_Day,_xlpm.Dir_Cols,_xlpm.Rows_Day,COLUMNS(Data!Vehicle_Classification)))))","v":""},{"$f":"_xlfn.LET(_xlpm.Rows_Day,24 * (60 / $B$8), _xlpm.Dir_Cols,0,IF(ISBLANK($F28),\"\",SUM(OFFSET(Data!$G$5,(Offsets!$G12-1)*(9 * _xlpm.Rows_Day + 3)+(weekdaycode(O$19)-1)*_xlpm.Rows_Day,_xlpm.Dir_Cols,_xlpm.Rows_Day,1))/SUM(OFFSET(Data!$C$5,(Offsets!$G12-1)*(9 * _xlpm.Rows_Day + 3)+(weekdaycode(O$19)-1)*_xlpm.Rows_Day,_xlpm.Dir_Cols,_xlpm.Rows_Day,COLUMNS(Data!Vehicle_Classification)))))","v":""},{"$f":"_xlfn.LET(_xlpm.Rows_Day,24 * (60 / $B$8), _xlpm.Dir_Cols,(COLUMNS(Data!Vehicle_Classification)+COLUMNS(Data!Vehicle_Speed_Bins)+COLUMNS(Data!Speed)+2),IF(ISBLANK($F28),\"\",SUM(OFFSET(Data!$G$5,(Offsets!$G12-1)*(9 * _xlpm.Rows_Day + 3)+(weekdaycode(O$19)-1)*_xlpm.Rows_Day,_xlpm.Dir_Cols,_xlpm.Rows_Day,1))/SUM(OFFSET(Data!$C$5,(Offsets!$G12-1)*(9 * _xlpm.Rows_Day + 3)+(weekdaycode(O$19)-1)*_xlpm.Rows_Day,_xlpm.Dir_Cols,_xlpm.Rows_Day,COLUMNS(Data!Vehicle_Classification)))))","v":""},{"$f":"_xlfn.LET(_xlpm.Rows_Day,24 * (60 / $B$8), _xlpm.Dir_Cols,0,IF(ISBLANK($F28),\"\",SUM(OFFSET(Data!$G$5,(Offsets!$G12-1)*(9 * _xlpm.Rows_Day + 3)+(weekdaycode(Q$19)-1)*_xlpm.Rows_Day,_xlpm.Dir_Cols,_xlpm.Rows_Day,1))/SUM(OFFSET(Data!$C$5,(Offsets!$G12-1)*(9 * _xlpm.Rows_Day + 3)+(weekdaycode(Q$19)-1)*_xlpm.Rows_Day,_xlpm.Dir_Cols,_xlpm.Rows_Day,COLUMNS(Data!Vehicle_Classification)))))","v":""},{"$f":"_xlfn.LET(_xlpm.Rows_Day,24 * (60 / $B$8), _xlpm.Dir_Cols,(COLUMNS(Data!Vehicle_Classification)+COLUMNS(Data!Vehicle_Speed_Bins)+COLUMNS(Data!Speed)+2),IF(ISBLANK($F28),\"\",SUM(OFFSET(Data!$G$5,(Offsets!$G12-1)*(9 * _xlpm.Rows_Day + 3)+(weekdaycode(Q$19)-1)*_xlpm.Rows_Day,_xlpm.Dir_Cols,_xlpm.Rows_Day,1))/SUM(OFFSET(Data!$C$5,(Offsets!$G12-1)*(9 * _xlpm.Rows_Day + 3)+(weekdaycode(Q$19)-1)*_xlpm.Rows_Day,_xlpm.Dir_Cols,_xlpm.Rows_Day,COLUMNS(Data!Vehicle_Classification)))))","v":""},{"$f":"_xlfn.LET(_xlpm.Rows_Day,24 * (60 / $B$8), _xlpm.Dir_Cols,0,IF(ISBLANK($F28),\"\",SUM(OFFSET(Data!$G$5,(Offsets!$G12-1)*(9 * _xlpm.Rows_Day + 3)+(weekdaycode(S$19)-1)*_xlpm.Rows_Day,_xlpm.Dir_Cols,_xlpm.Rows_Day,1))/SUM(OFFSET(Data!$C$5,(Offsets!$G12-1)*(9 * _xlpm.Rows_Day + 3)+(weekdaycode(S$19)-1)*_xlpm.Rows_Day,_xlpm.Dir_Cols,_xlpm.Rows_Day,COLUMNS(Data!Vehicle_Classification)))))","v":""},{"$f":"_xlfn.LET(_xlpm.Rows_Day,24 * (60 / $B$8), _xlpm.Dir_Cols,(COLUMNS(Data!Vehicle_Classification)+COLUMNS(Data!Vehicle_Speed_Bins)+COLUMNS(Data!Speed)+2),IF(ISBLANK($F28),\"\",SUM(OFFSET(Data!$G$5,(Offsets!$G12-1)*(9 * _xlpm.Rows_Day + 3)+(weekdaycode(S$19)-1)*_xlpm.Rows_Day,_xlpm.Dir_Cols,_xlpm.Rows_Day,1))/SUM(OFFSET(Data!$C$5,(Offsets!$G12-1)*(9 * _xlpm.Rows_Day + 3)+(weekdaycode(S$19)-1)*_xlpm.Rows_Day,_xlpm.Dir_Cols,_xlpm.Rows_Day,COLUMNS(Data!Vehicle_Classification)))))","v":""},{"$f":"_xlfn.LET(_xlpm.Rows_Day,24 * (60 / $B$8), _xlpm.Dir_Cols,0,IF(ISBLANK($F28),\"\",SUM(OFFSET(Data!$G$5,(Offsets!$G12-1)*(9 * _xlpm.Rows_Day + 3)+(weekdaycode(U$19)-1)*_xlpm.Rows_Day,_xlpm.Dir_Cols,_xlpm.Rows_Day,1))/SUM(OFFSET(Data!$C$5,(Offsets!$G12-1)*(9 * _xlpm.Rows_Day + 3)+(weekdaycode(U$19)-1)*_xlpm.Rows_Day,_xlpm.Dir_Cols,_xlpm.Rows_Day,COLUMNS(Data!Vehicle_Classification)))))","v":""},{"$f":"_xlfn.LET(_xlpm.Rows_Day,24 * (60 / $B$8), _xlpm.Dir_Cols,(COLUMNS(Data!Vehicle_Classification)+COLUMNS(Data!Vehicle_Speed_Bins)+COLUMNS(Data!Speed)+2),IF(ISBLANK($F28),\"\",SUM(OFFSET(Data!$G$5,(Offsets!$G12-1)*(9 * _xlpm.Rows_Day + 3)+(weekdaycode(U$19)-1)*_xlpm.Rows_Day,_xlpm.Dir_Cols,_xlpm.Rows_Day,1))/SUM(OFFSET(Data!$C$5,(Offsets!$G12-1)*(9 * _xlpm.Rows_Day + 3)+(weekdaycode(U$19)-1)*_xlpm.Rows_Day,_xlpm.Dir_Cols,_xlpm.Rows_Day,COLUMNS(Data!Vehicle_Classification)))))","v":""},{"$f":"_xlfn.LET(_xlpm.Rows_Day,24 * (60 / $B$8), _xlpm.Dir_Cols,0,IF(ISBLANK($F28),\"\",SUM(OFFSET(Data!$G$5,(Offsets!$G12-1)*(9 * _xlpm.Rows_Day + 3)+(weekdaycode(W$19)-1)*_xlpm.Rows_Day,_xlpm.Dir_Cols,_xlpm.Rows_Day,1))/SUM(OFFSET(Data!$C$5,(Offsets!$G12-1)*(9 * _xlpm.Rows_Day + 3)+(weekdaycode(W$19)-1)*_xlpm.Rows_Day,_xlpm.Dir_Cols,_xlpm.Rows_Day,COLUMNS(Data!Vehicle_Classification)))))","v":""},{"$f":"_xlfn.LET(_xlpm.Rows_Day,24 * (60 / $B$8), _xlpm.Dir_Cols,(COLUMNS(Data!Vehicle_Classification)+COLUMNS(Data!Vehicle_Speed_Bins)+COLUMNS(Data!Speed)+2),IF(ISBLANK($F28),\"\",SUM(OFFSET(Data!$G$5,(Offsets!$G12-1)*(9 * _xlpm.Rows_Day + 3)+(weekdaycode(W$19)-1)*_xlpm.Rows_Day,_xlpm.Dir_Cols,_xlpm.Rows_Day,1))/SUM(OFFSET(Data!$C$5,(Offsets!$G12-1)*(9 * _xlpm.Rows_Day + 3)+(weekdaycode(W$19)-1)*_xlpm.Rows_Day,_xlpm.Dir_Cols,_xlpm.Rows_Day,COLUMNS(Data!Vehicle_Classification)))))","v":""}]
[null,null,null,null,null,null,null,null,null,null,{"$f":"_xlfn.LET(_xlpm.Rows_Day,24 * (60 / $B$8), _xlpm.Dir_Cols,0,IF(ISBLANK($F29),\"\",SUM(OFFSET(Data!$G$5,(Offsets!$G13-1)*(9 * _xlpm.Rows_Day + 3)+(weekdaycode(K$19)-1)*_xlpm.Rows_Day,_xlpm.Dir_Cols,_xlpm.Rows_Day,1))/SUM(OFFSET(Data!$C$5,(Offsets!$G13-1)*(9 * _xlpm.Rows_Day + 3)+(weekdaycode(K$19)-1)*_xlpm.Rows_Day,_xlpm.Dir_Cols,_xlpm.Rows_Day,COLUMNS(Data!Vehicle_Classification)))))","v":""},{"$f":"_xlfn.LET(_xlpm.Rows_Day,24 * (60 / $B$8), _xlpm.Dir_Cols,(COLUMNS(Data!Vehicle_Classification)+COLUMNS(Data!Vehicle_Speed_Bins)+COLUMNS(Data!Speed)+2),IF(ISBLANK($F29),\"\",SUM(OFFSET(Data!$G$5,(Offsets!$G13-1)*(9 * _xlpm.Rows_Day + 3)+(weekdaycode(K$19)-1)*_xlpm.Rows_Day,_xlpm.Dir_Cols,_xlpm.Rows_Day,1))/SUM(OFFSET(Data!$C$5,(Offsets!$G13-1)*(9 * _xlpm.Rows_Day + 3)+(weekdaycode(K$19)-1)*_xlpm.Rows_Day,_xlpm.Dir_Cols,_xlpm.Rows_Day,COLUMNS(Data!Vehicle_Classification)))))","v":""},{"$f":"_xlfn.LET(_xlpm.Rows_Day,24 * (60 / $B$8), _xlpm.Dir_Cols,0,IF(ISBLANK($F29),\"\",SUM(OFFSET(Data!$G$5,(Offsets!$G13-1)*(9 * _xlpm.Rows_Day + 3)+(weekdaycode(M$19)-1)*_xlpm.Rows_Day,_xlpm.Dir_Cols,_xlpm.Rows_Day,1))/SUM(OFFSET(Data!$C$5,(Offsets!$G13-1)*(9 * _xlpm.Rows_Day + 3)+(weekdaycode(M$19)-1)*_xlpm.Rows_Day,_xlpm.Dir_Cols,_xlpm.Rows_Day,COLUMNS(Data!Vehicle_Classification)))))","v":""},{"$f":"_xlfn.LET(_xlpm.Rows_Day,24 * (60 / $B$8), _xlpm.Dir_Cols,(COLUMNS(Data!Vehicle_Classification)+COLUMNS(Data!Vehicle_Speed_Bins)+COLUMNS(Data!Speed)+2),IF(ISBLANK($F29),\"\",SUM(OFFSET(Data!$G$5,(Offsets!$G13-1)*(9 * _xlpm.Rows_Day + 3)+(weekdaycode(M$19)-1)*_xlpm.Rows_Day,_xlpm.Dir_Cols,_xlpm.Rows_Day,1))/SUM(OFFSET(Data!$C$5,(Offsets!$G13-1)*(9 * _xlpm.Rows_Day + 3)+(weekdaycode(M$19)-1)*_xlpm.Rows_Day,_xlpm.Dir_Cols,_xlpm.Rows_Day,COLUMNS(Data!Vehicle_Classification)))))","v":""},{"$f":"_xlfn.LET(_xlpm.Rows_Day,24 * (60 / $B$8), _xlpm.Dir_Cols,0,IF(ISBLANK($F29),\"\",SUM(OFFSET(Data!$G$5,(Offsets!$G13-1)*(9 * _xlpm.Rows_Day + 3)+(weekdaycode(O$19)-1)*_xlpm.Rows_Day,_xlpm.Dir_Cols,_xlpm.Rows_Day,1))/SUM(OFFSET(Data!$C$5,(Offsets!$G13-1)*(9 * _xlpm.Rows_Day + 3)+(weekdaycode(O$19)-1)*_xlpm.Rows_Day,_xlpm.Dir_Cols,_xlpm.Rows_Day,COLUMNS(Data!Vehicle_Classification)))))","v":""},{"$f":"_xlfn.LET(_xlpm.Rows_Day,24 * (60 / $B$8), _xlpm.Dir_Cols,(COLUMNS(Data!Vehicle_Classification)+COLUMNS(Data!Vehicle_Speed_Bins)+COLUMNS(Data!Speed)+2),IF(ISBLANK($F29),\"\",SUM(OFFSET(Data!$G$5,(Offsets!$G13-1)*(9 * _xlpm.Rows_Day + 3)+(weekdaycode(O$19)-1)*_xlpm.Rows_Day,_xlpm.Dir_Cols,_xlpm.Rows_Day,1))/SUM(OFFSET(Data!$C$5,(Offsets!$G13-1)*(9 * _xlpm.Rows_Day + 3)+(weekdaycode(O$19)-1)*_xlpm.Rows_Day,_xlpm.Dir_Cols,_xlpm.Rows_Day,COLUMNS(Data!Vehicle_Classification)))))","v":""},{"$f":"_xlfn.LET(_xlpm.Rows_Day,24 * (60 / $B$8), _xlpm.Dir_Cols,0,IF(ISBLANK($F29),\"\",SUM(OFFSET(Data!$G$5,(Offsets!$G13-1)*(9 * _xlpm.Rows_Day + 3)+(weekdaycode(Q$19)-1)*_xlpm.Rows_Day,_xlpm.Dir_Cols,_xlpm.Rows_Day,1))/SUM(OFFSET(Data!$C$5,(Offsets!$G13-1)*(9 * _xlpm.Rows_Day + 3)+(weekdaycode(Q$19)-1)*_xlpm.Rows_Day,_xlpm.Dir_Cols,_xlpm.Rows_Day,COLUMNS(Data!Vehicle_Classification)))))","v":""},{"$f":"_xlfn.LET(_xlpm.Rows_Day,24 * (60 / $B$8), _xlpm.Dir_Cols,(COLUMNS(Data!Vehicle_Classification)+COLUMNS(Data!Vehicle_Speed_Bins)+COLUMNS(Data!Speed)+2),IF(ISBLANK($F29),\"\",SUM(OFFSET(Data!$G$5,(Offsets!$G13-1)*(9 * _xlpm.Rows_Day + 3)+(weekdaycode(Q$19)-1)*_xlpm.Rows_Day,_xlpm.Dir_Cols,_xlpm.Rows_Day,1))/SUM(OFFSET(Data!$C$5,(Offsets!$G13-1)*(9 * _xlpm.Rows_Day + 3)+(weekdaycode(Q$19)-1)*_xlpm.Rows_Day,_xlpm.Dir_Cols,_xlpm.Rows_Day,COLUMNS(Data!Vehicle_Classification)))))","v":""},{"$f":"_xlfn.LET(_xlpm.Rows_Day,24 * (60 / $B$8), _xlpm.Dir_Cols,0,IF(ISBLANK($F29),\"\",SUM(OFFSET(Data!$G$5,(Offsets!$G13-1)*(9 * _xlpm.Rows_Day + 3)+(weekdaycode(S$19)-1)*_xlpm.Rows_Day,_xlpm.Dir_Cols,_xlpm.Rows_Day,1))/SUM(OFFSET(Data!$C$5,(Offsets!$G13-1)*(9 * _xlpm.Rows_Day + 3)+(weekdaycode(S$19)-1)*_xlpm.Rows_Day,_xlpm.Dir_Cols,_xlpm.Rows_Day,COLUMNS(Data!Vehicle_Classification)))))","v":""},{"$f":"_xlfn.LET(_xlpm.Rows_Day,24 * (60 / $B$8), _xlpm.Dir_Cols,(COLUMNS(Data!Vehicle_Classification)+COLUMNS(Data!Vehicle_Speed_Bins)+COLUMNS(Data!Speed)+2),IF(ISBLANK($F29),\"\",SUM(OFFSET(Data!$G$5,(Offsets!$G13-1)*(9 * _xlpm.Rows_Day + 3)+(weekdaycode(S$19)-1)*_xlpm.Rows_Day,_xlpm.Dir_Cols,_xlpm.Rows_Day,1))/SUM(OFFSET(Data!$C$5,(Offsets!$G13-1)*(9 * _xlpm.Rows_Day + 3)+(weekdaycode(S$19)-1)*_xlpm.Rows_Day,_xlpm.Dir_Cols,_xlpm.Rows_Day,COLUMNS(Data!Vehicle_Classification)))))","v":""},{"$f":"_xlfn.LET(_xlpm.Rows_Day,24 * (60 / $B$8), _xlpm.Dir_Cols,0,IF(ISBLANK($F29),\"\",SUM(OFFSET(Data!$G$5,(Offsets!$G13-1)*(9 * _xlpm.Rows_Day + 3)+(weekdaycode(U$19)-1)*_xlpm.Rows_Day,_xlpm.Dir_Cols,_xlpm.Rows_Day,1))/SUM(OFFSET(Data!$C$5,(Offsets!$G13-1)*(9 * _xlpm.Rows_Day + 3)+(weekdaycode(U$19)-1)*_xlpm.Rows_Day,_xlpm.Dir_Cols,_xlpm.Rows_Day,COLUMNS(Data!Vehicle_Classification)))))","v":""},{"$f":"_xlfn.LET(_xlpm.Rows_Day,24 * (60 / $B$8), _xlpm.Dir_Cols,(COLUMNS(Data!Vehicle_Classification)+COLUMNS(Data!Vehicle_Speed_Bins)+COLUMNS(Data!Speed)+2),IF(ISBLANK($F29),\"\",SUM(OFFSET(Data!$G$5,(Offsets!$G13-1)*(9 * _xlpm.Rows_Day + 3)+(weekdaycode(U$19)-1)*_xlpm.Rows_Day,_xlpm.Dir_Cols,_xlpm.Rows_Day,1))/SUM(OFFSET(Data!$C$5,(Offsets!$G13-1)*(9 * _xlpm.Rows_Day + 3)+(weekdaycode(U$19)-1)*_xlpm.Rows_Day,_xlpm.Dir_Cols,_xlpm.Rows_Day,COLUMNS(Data!Vehicle_Classification)))))","v":""},{"$f":"_xlfn.LET(_xlpm.Rows_Day,24 * (60 / $B$8), _xlpm.Dir_Cols,0,IF(ISBLANK($F29),\"\",SUM(OFFSET(Data!$G$5,(Offsets!$G13-1)*(9 * _xlpm.Rows_Day + 3)+(weekdaycode(W$19)-1)*_xlpm.Rows_Day,_xlpm.Dir_Cols,_xlpm.Rows_Day,1))/SUM(OFFSET(Data!$C$5,(Offsets!$G13-1)*(9 * _xlpm.Rows_Day + 3)+(weekdaycode(W$19)-1)*_xlpm.Rows_Day,_xlpm.Dir_Cols,_xlpm.Rows_Day,COLUMNS(Data!Vehicle_Classification)))))","v":""},{"$f":"_xlfn.LET(_xlpm.Rows_Day,24 * (60 / $B$8), _xlpm.Dir_Cols,(COLUMNS(Data!Vehicle_Classification)+COLUMNS(Data!Vehicle_Speed_Bins)+COLUMNS(Data!Speed)+2),IF(ISBLANK($F29),\"\",SUM(OFFSET(Data!$G$5,(Offsets!$G13-1)*(9 * _xlpm.Rows_Day + 3)+(weekdaycode(W$19)-1)*_xlpm.Rows_Day,_xlpm.Dir_Cols,_xlpm.Rows_Day,1))/SUM(OFFSET(Data!$C$5,(Offsets!$G13-1)*(9 * _xlpm.Rows_Day + 3)+(weekdaycode(W$19)-1)*_xlpm.Rows_Day,_xlpm.Dir_Cols,_xlpm.Rows_Day,COLUMNS(Data!Vehicle_Classification)))))","v":""}]
[null,null,null,null,null,null,null,null,null,null,{"$f":"_xlfn.LET(_xlpm.Rows_Day,24 * (60 / $B$8), _xlpm.Dir_Cols,0,IF(ISBLANK($F30),\"\",SUM(OFFSET(Data!$G$5,(Offsets!$G14-1)*(9 * _xlpm.Rows_Day + 3)+(weekdaycode(K$19)-1)*_xlpm.Rows_Day,_xlpm.Dir_Cols,_xlpm.Rows_Day,1))/SUM(OFFSET(Data!$C$5,(Offsets!$G14-1)*(9 * _xlpm.Rows_Day + 3)+(weekdaycode(K$19)-1)*_xlpm.Rows_Day,_xlpm.Dir_Cols,_xlpm.Rows_Day,COLUMNS(Data!Vehicle_Classification)))))","v":""},{"$f":"_xlfn.LET(_xlpm.Rows_Day,24 * (60 / $B$8), _xlpm.Dir_Cols,(COLUMNS(Data!Vehicle_Classification)+COLUMNS(Data!Vehicle_Speed_Bins)+COLUMNS(Data!Speed)+2),IF(ISBLANK($F30),\"\",SUM(OFFSET(Data!$G$5,(Offsets!$G14-1)*(9 * _xlpm.Rows_Day + 3)+(weekdaycode(K$19)-1)*_xlpm.Rows_Day,_xlpm.Dir_Cols,_xlpm.Rows_Day,1))/SUM(OFFSET(Data!$C$5,(Offsets!$G14-1)*(9 * _xlpm.Rows_Day + 3)+(weekdaycode(K$19)-1)*_xlpm.Rows_Day,_xlpm.Dir_Cols,_xlpm.Rows_Day,COLUMNS(Data!Vehicle_Classification)))))","v":""},{"$f":"_xlfn.LET(_xlpm.Rows_Day,24 * (60 / $B$8), _xlpm.Dir_Cols,0,IF(ISBLANK($F30),\"\",SUM(OFFSET(Data!$G$5,(Offsets!$G14-1)*(9 * _xlpm.Rows_Day + 3)+(weekdaycode(M$19)-1)*_xlpm.Rows_Day,_xlpm.Dir_Cols,_xlpm.Rows_Day,1))/SUM(OFFSET(Data!$C$5,(Offsets!$G14-1)*(9 * _xlpm.Rows_Day + 3)+(weekdaycode(M$19)-1)*_xlpm.Rows_Day,_xlpm.Dir_Cols,_xlpm.Rows_Day,COLUMNS(Data!Vehicle_Classification)))))","v":""},{"$f":"_xlfn.LET(_xlpm.Rows_Day,24 * (60 / $B$8), _xlpm.Dir_Cols,(COLUMNS(Data!Vehicle_Classification)+COLUMNS(Data!Vehicle_Speed_Bins)+COLUMNS(Data!Speed)+2),IF(ISBLANK($F30),\"\",SUM(OFFSET(Data!$G$5,(Offsets!$G14-1)*(9 * _xlpm.Rows_Day + 3)+(weekdaycode(M$19)-1)*_xlpm.Rows_Day,_xlpm.Dir_Cols,_xlpm.Rows_Day,1))/SUM(OFFSET(Data!$C$5,(Offsets!$G14-1)*(9 * _xlpm.Rows_Day + 3)+(weekdaycode(M$19)-1)*_xlpm.Rows_Day,_xlpm.Dir_Cols,_xlpm.Rows_Day,COLUMNS(Data!Vehicle_Classification)))))","v":""},{"$f":"_xlfn.LET(_xlpm.Rows_Day,24 * (60 / $B$8), _xlpm.Dir_Cols,0,IF(ISBLANK($F30),\"\",SUM(OFFSET(Data!$G$5,(Offsets!$G14-1)*(9 * _xlpm.Rows_Day + 3)+(weekdaycode(O$19)-1)*_xlpm.Rows_Day,_xlpm.Dir_Cols,_xlpm.Rows_Day,1))/SUM(OFFSET(Data!$C$5,(Offsets!$G14-1)*(9 * _xlpm.Rows_Day + 3)+(weekdaycode(O$19)-1)*_xlpm.Rows_Day,_xlpm.Dir_Cols,_xlpm.Rows_Day,COLUMNS(Data!Vehicle_Classification)))))","v":""},{"$f":"_xlfn.LET(_xlpm.Rows_Day,24 * (60 / $B$8), _xlpm.Dir_Cols,(COLUMNS(Data!Vehicle_Classification)+COLUMNS(Data!Vehicle_Speed_Bins)+COLUMNS(Data!Speed)+2),IF(ISBLANK($F30),\"\",SUM(OFFSET(Data!$G$5,(Offsets!$G14-1)*(9 * _xlpm.Rows_Day + 3)+(weekdaycode(O$19)-1)*_xlpm.Rows_Day,_xlpm.Dir_Cols,_xlpm.Rows_Day,1))/SUM(OFFSET(Data!$C$5,(Offsets!$G14-1)*(9 * _xlpm.Rows_Day + 3)+(weekdaycode(O$19)-1)*_xlpm.Rows_Day,_xlpm.Dir_Cols,_xlpm.Rows_Day,COLUMNS(Data!Vehicle_Classification)))))","v":""},{"$f":"_xlfn.LET(_xlpm.Rows_Day,24 * (60 / $B$8), _xlpm.Dir_Cols,0,IF(ISBLANK($F30),\"\",SUM(OFFSET(Data!$G$5,(Offsets!$G14-1)*(9 * _xlpm.Rows_Day + 3)+(weekdaycode(Q$19)-1)*_xlpm.Rows_Day,_xlpm.Dir_Cols,_xlpm.Rows_Day,1))/SUM(OFFSET(Data!$C$5,(Offsets!$G14-1)*(9 * _xlpm.Rows_Day + 3)+(weekdaycode(Q$19)-1)*_xlpm.Rows_Day,_xlpm.Dir_Cols,_xlpm.Rows_Day,COLUMNS(Data!Vehicle_Classification)))))","v":""},{"$f":"_xlfn.LET(_xlpm.Rows_Day,24 * (60 / $B$8), _xlpm.Dir_Cols,(COLUMNS(Data!Vehicle_Classification)+COLUMNS(Data!Vehicle_Speed_Bins)+COLUMNS(Data!Speed)+2),IF(ISBLANK($F30),\"\",SUM(OFFSET(Data!$G$5,(Offsets!$G14-1)*(9 * _xlpm.Rows_Day + 3)+(weekdaycode(Q$19)-1)*_xlpm.Rows_Day,_xlpm.Dir_Cols,_xlpm.Rows_Day,1))/SUM(OFFSET(Data!$C$5,(Offsets!$G14-1)*(9 * _xlpm.Rows_Day + 3)+(weekdaycode(Q$19)-1)*_xlpm.Rows_Day,_xlpm.Dir_Cols,_xlpm.Rows_Day,COLUMNS(Data!Vehicle_Classification)))))","v":""},{"$f":"_xlfn.LET(_xlpm.Rows_Day,24 * (60 / $B$8), _xlpm.Dir_Cols,0,IF(ISBLANK($F30),\"\",SUM(OFFSET(Data!$G$5,(Offsets!$G14-1)*(9 * _xlpm.Rows_Day + 3)+(weekdaycode(S$19)-1)*_xlpm.Rows_Day,_xlpm.Dir_Cols,_xlpm.Rows_Day,1))/SUM(OFFSET(Data!$C$5,(Offsets!$G14-1)*(9 * _xlpm.Rows_Day + 3)+(weekdaycode(S$19)-1)*_xlpm.Rows_Day,_xlpm.Dir_Cols,_xlpm.Rows_Day,COLUMNS(Data!Vehicle_Classification)))))","v":""},{"$f":"_xlfn.LET(_xlpm.Rows_Day,24 * (60 / $B$8), _xlpm.Dir_Cols,(COLUMNS(Data!Vehicle_Classification)+COLUMNS(Data!Vehicle_Speed_Bins)+COLUMNS(Data!Speed)+2),IF(ISBLANK($F30),\"\",SUM(OFFSET(Data!$G$5,(Offsets!$G14-1)*(9 * _xlpm.Rows_Day + 3)+(weekdaycode(S$19)-1)*_xlpm.Rows_Day,_xlpm.Dir_Cols,_xlpm.Rows_Day,1))/SUM(OFFSET(Data!$C$5,(Offsets!$G14-1)*(9 * _xlpm.Rows_Day + 3)+(weekdaycode(S$19)-1)*_xlpm.Rows_Day,_xlpm.Dir_Cols,_xlpm.Rows_Day,COLUMNS(Data!Vehicle_Classification)))))","v":""},{"$f":"_xlfn.LET(_xlpm.Rows_Day,24 * (60 / $B$8), _xlpm.Dir_Cols,0,IF(ISBLANK($F30),\"\",SUM(OFFSET(Data!$G$5,(Offsets!$G14-1)*(9 * _xlpm.Rows_Day + 3)+(weekdaycode(U$19)-1)*_xlpm.Rows_Day,_xlpm.Dir_Cols,_xlpm.Rows_Day,1))/SUM(OFFSET(Data!$C$5,(Offsets!$G14-1)*(9 * _xlpm.Rows_Day + 3)+(weekdaycode(U$19)-1)*_xlpm.Rows_Day,_xlpm.Dir_Cols,_xlpm.Rows_Day,COLUMNS(Data!Vehicle_Classification)))))","v":""},{"$f":"_xlfn.LET(_xlpm.Rows_Day,24 * (60 / $B$8), _xlpm.Dir_Cols,(COLUMNS(Data!Vehicle_Classification)+COLUMNS(Data!Vehicle_Speed_Bins)+COLUMNS(Data!Speed)+2),IF(ISBLANK($F30),\"\",SUM(OFFSET(Data!$G$5,(Offsets!$G14-1)*(9 * _xlpm.Rows_Day + 3)+(weekdaycode(U$19)-1)*_xlpm.Rows_Day,_xlpm.Dir_Cols,_xlpm.Rows_Day,1))/SUM(OFFSET(Data!$C$5,(Offsets!$G14-1)*(9 * _xlpm.Rows_Day + 3)+(weekdaycode(U$19)-1)*_xlpm.Rows_Day,_xlpm.Dir_Cols,_xlpm.Rows_Day,COLUMNS(Data!Vehicle_Classification)))))","v":""},{"$f":"_xlfn.LET(_xlpm.Rows_Day,24 * (60 / $B$8), _xlpm.Dir_Cols,0,IF(ISBLANK($F30),\"\",SUM(OFFSET(Data!$G$5,(Offsets!$G14-1)*(9 * _xlpm.Rows_Day + 3)+(weekdaycode(W$19)-1)*_xlpm.Rows_Day,_xlpm.Dir_Cols,_xlpm.Rows_Day,1))/SUM(OFFSET(Data!$C$5,(Offsets!$G14-1)*(9 * _xlpm.Rows_Day + 3)+(weekdaycode(W$19)-1)*_xlpm.Rows_Day,_xlpm.Dir_Cols,_xlpm.Rows_Day,COLUMNS(Data!Vehicle_Classification)))))","v":""},{"$f":"_xlfn.LET(_xlpm.Rows_Day,24 * (60 / $B$8), _xlpm.Dir_Cols,(COLUMNS(Data!Vehicle_Classification)+COLUMNS(Data!Vehicle_Speed_Bins)+COLUMNS(Data!Speed)+2),IF(ISBLANK($F30),\"\",SUM(OFFSET(Data!$G$5,(Offsets!$G14-1)*(9 * _xlpm.Rows_Day + 3)+(weekdaycode(W$19)-1)*_xlpm.Rows_Day,_xlpm.Dir_Cols,_xlpm.Rows_Day,1))/SUM(OFFSET(Data!$C$5,(Offsets!$G14-1)*(9 * _xlpm.Rows_Day + 3)+(weekdaycode(W$19)-1)*_xlpm.Rows_Day,_xlpm.Dir_Cols,_xlpm.Rows_Day,COLUMNS(Data!Vehicle_Classification)))))","v":""}]
[null,null,null,null,null,null,null,null,null,null,{"$f":"_xlfn.LET(_xlpm.Rows_Day,24 * (60 / $B$8), _xlpm.Dir_Cols,0,IF(ISBLANK($F31),\"\",SUM(OFFSET(Data!$G$5,(Offsets!$G15-1)*(9 * _xlpm.Rows_Day + 3)+(weekdaycode(K$19)-1)*_xlpm.Rows_Day,_xlpm.Dir_Cols,_xlpm.Rows_Day,1))/SUM(OFFSET(Data!$C$5,(Offsets!$G15-1)*(9 * _xlpm.Rows_Day + 3)+(weekdaycode(K$19)-1)*_xlpm.Rows_Day,_xlpm.Dir_Cols,_xlpm.Rows_Day,COLUMNS(Data!Vehicle_Classification)))))","v":""},{"$f":"_xlfn.LET(_xlpm.Rows_Day,24 * (60 / $B$8), _xlpm.Dir_Cols,(COLUMNS(Data!Vehicle_Classification)+COLUMNS(Data!Vehicle_Speed_Bins)+COLUMNS(Data!Speed)+2),IF(ISBLANK($F31),\"\",SUM(OFFSET(Data!$G$5,(Offsets!$G15-1)*(9 * _xlpm.Rows_Day + 3)+(weekdaycode(K$19)-1)*_xlpm.Rows_Day,_xlpm.Dir_Cols,_xlpm.Rows_Day,1))/SUM(OFFSET(Data!$C$5,(Offsets!$G15-1)*(9 * _xlpm.Rows_Day + 3)+(weekdaycode(K$19)-1)*_xlpm.Rows_Day,_xlpm.Dir_Cols,_xlpm.Rows_Day,COLUMNS(Data!Vehicle_Classification)))))","v":""},{"$f":"_xlfn.LET(_xlpm.Rows_Day,24 * (60 / $B$8), _xlpm.Dir_Cols,0,IF(ISBLANK($F31),\"\",SUM(OFFSET(Data!$G$5,(Offsets!$G15-1)*(9 * _xlpm.Rows_Day + 3)+(weekdaycode(M$19)-1)*_xlpm.Rows_Day,_xlpm.Dir_Cols,_xlpm.Rows_Day,1))/SUM(OFFSET(Data!$C$5,(Offsets!$G15-1)*(9 * _xlpm.Rows_Day + 3)+(weekdaycode(M$19)-1)*_xlpm.Rows_Day,_xlpm.Dir_Cols,_xlpm.Rows_Day,COLUMNS(Data!Vehicle_Classification)))))","v":""},{"$f":"_xlfn.LET(_xlpm.Rows_Day,24 * (60 / $B$8), _xlpm.Dir_Cols,(COLUMNS(Data!Vehicle_Classification)+COLUMNS(Data!Vehicle_Speed_Bins)+COLUMNS(Data!Speed)+2),IF(ISBLANK($F31),\"\",SUM(OFFSET(Data!$G$5,(Offsets!$G15-1)*(9 * _xlpm.Rows_Day + 3)+(weekdaycode(M$19)-1)*_xlpm.Rows_Day,_xlpm.Dir_Cols,_xlpm.Rows_Day,1))/SUM(OFFSET(Data!$C$5,(Offsets!$G15-1)*(9 * _xlpm.Rows_Day + 3)+(weekdaycode(M$19)-1)*_xlpm.Rows_Day,_xlpm.Dir_Cols,_xlpm.Rows_Day,COLUMNS(Data!Vehicle_Classification)))))","v":""},{"$f":"_xlfn.LET(_xlpm.Rows_Day,24 * (60 / $B$8), _xlpm.Dir_Cols,0,IF(ISBLANK($F31),\"\",SUM(OFFSET(Data!$G$5,(Offsets!$G15-1)*(9 * _xlpm.Rows_Day + 3)+(weekdaycode(O$19)-1)*_xlpm.Rows_Day,_xlpm.Dir_Cols,_xlpm.Rows_Day,1))/SUM(OFFSET(Data!$C$5,(Offsets!$G15-1)*(9 * _xlpm.Rows_Day + 3)+(weekdaycode(O$19)-1)*_xlpm.Rows_Day,_xlpm.Dir_Cols,_xlpm.Rows_Day,COLUMNS(Data!Vehicle_Classification)))))","v":""},{"$f":"_xlfn.LET(_xlpm.Rows_Day,24 * (60 / $B$8), _xlpm.Dir_Cols,(COLUMNS(Data!Vehicle_Classification)+COLUMNS(Data!Vehicle_Speed_Bins)+COLUMNS(Data!Speed)+2),IF(ISBLANK($F31),\"\",SUM(OFFSET(Data!$G$5,(Offsets!$G15-1)*(9 * _xlpm.Rows_Day + 3)+(weekdaycode(O$19)-1)*_xlpm.Rows_Day,_xlpm.Dir_Cols,_xlpm.Rows_Day,1))/SUM(OFFSET(Data!$C$5,(Offsets!$G15-1)*(9 * _xlpm.Rows_Day + 3)+(weekdaycode(O$19)-1)*_xlpm.Rows_Day,_xlpm.Dir_Cols,_xlpm.Rows_Day,COLUMNS(Data!Vehicle_Classification)))))","v":""},{"$f":"_xlfn.LET(_xlpm.Rows_Day,24 * (60 / $B$8), _xlpm.Dir_Cols,0,IF(ISBLANK($F31),\"\",SUM(OFFSET(Data!$G$5,(Offsets!$G15-1)*(9 * _xlpm.Rows_Day + 3)+(weekdaycode(Q$19)-1)*_xlpm.Rows_Day,_xlpm.Dir_Cols,_xlpm.Rows_Day,1))/SUM(OFFSET(Data!$C$5,(Offsets!$G15-1)*(9 * _xlpm.Rows_Day + 3)+(weekdaycode(Q$19)-1)*_xlpm.Rows_Day,_xlpm.Dir_Cols,_xlpm.Rows_Day,COLUMNS(Data!Vehicle_Classification)))))","v":""},{"$f":"_xlfn.LET(_xlpm.Rows_Day,24 * (60 / $B$8), _xlpm.Dir_Cols,(COLUMNS(Data!Vehicle_Classification)+COLUMNS(Data!Vehicle_Speed_Bins)+COLUMNS(Data!Speed)+2),IF(ISBLANK($F31),\"\",SUM(OFFSET(Data!$G$5,(Offsets!$G15-1)*(9 * _xlpm.Rows_Day + 3)+(weekdaycode(Q$19)-1)*_xlpm.Rows_Day,_xlpm.Dir_Cols,_xlpm.Rows_Day,1))/SUM(OFFSET(Data!$C$5,(Offsets!$G15-1)*(9 * _xlpm.Rows_Day + 3)+(weekdaycode(Q$19)-1)*_xlpm.Rows_Day,_xlpm.Dir_Cols,_xlpm.Rows_Day,COLUMNS(Data!Vehicle_Classification)))))","v":""},{"$f":"_xlfn.LET(_xlpm.Rows_Day,24 * (60 / $B$8), _xlpm.Dir_Cols,0,IF(ISBLANK($F31),\"\",SUM(OFFSET(Data!$G$5,(Offsets!$G15-1)*(9 * _xlpm.Rows_Day + 3)+(weekdaycode(S$19)-1)*_xlpm.Rows_Day,_xlpm.Dir_Cols,_xlpm.Rows_Day,1))/SUM(OFFSET(Data!$C$5,(Offsets!$G15-1)*(9 * _xlpm.Rows_Day + 3)+(weekdaycode(S$19)-1)*_xlpm.Rows_Day,_xlpm.Dir_Cols,_xlpm.Rows_Day,COLUMNS(Data!Vehicle_Classification)))))","v":""},{"$f":"_xlfn.LET(_xlpm.Rows_Day,24 * (60 / $B$8), _xlpm.Dir_Cols,(COLUMNS(Data!Vehicle_Classification)+COLUMNS(Data!Vehicle_Speed_Bins)+COLUMNS(Data!Speed)+2),IF(ISBLANK($F31),\"\",SUM(OFFSET(Data!$G$5,(Offsets!$G15-1)*(9 * _xlpm.Rows_Day + 3)+(weekdaycode(S$19)-1)*_xlpm.Rows_Day,_xlpm.Dir_Cols,_xlpm.Rows_Day,1))/SUM(OFFSET(Data!$C$5,(Offsets!$G15-1)*(9 * _xlpm.Rows_Day + 3)+(weekdaycode(S$19)-1)*_xlpm.Rows_Day,_xlpm.Dir_Cols,_xlpm.Rows_Day,COLUMNS(Data!Vehicle_Classification)))))","v":""},{"$f":"_xlfn.LET(_xlpm.Rows_Day,24 * (60 / $B$8), _xlpm.Dir_Cols,0,IF(ISBLANK($F31),\"\",SUM(OFFSET(Data!$G$5,(Offsets!$G15-1)*(9 * _xlpm.Rows_Day + 3)+(weekdaycode(U$19)-1)*_xlpm.Rows_Day,_xlpm.Dir_Cols,_xlpm.Rows_Day,1))/SUM(OFFSET(Data!$C$5,(Offsets!$G15-1)*(9 * _xlpm.Rows_Day + 3)+(weekdaycode(U$19)-1)*_xlpm.Rows_Day,_xlpm.Dir_Cols,_xlpm.Rows_Day,COLUMNS(Data!Vehicle_Classification)))))","v":""},{"$f":"_xlfn.LET(_xlpm.Rows_Day,24 * (60 / $B$8), _xlpm.Dir_Cols,(COLUMNS(Data!Vehicle_Classification)+COLUMNS(Data!Vehicle_Speed_Bins)+COLUMNS(Data!Speed)+2),IF(ISBLANK($F31),\"\",SUM(OFFSET(Data!$G$5,(Offsets!$G15-1)*(9 * _xlpm.Rows_Day + 3)+(weekdaycode(U$19)-1)*_xlpm.Rows_Day,_xlpm.Dir_Cols,_xlpm.Rows_Day,1))/SUM(OFFSET(Data!$C$5,(Offsets!$G15-1)*(9 * _xlpm.Rows_Day + 3)+(weekdaycode(U$19)-1)*_xlpm.Rows_Day,_xlpm.Dir_Cols,_xlpm.Rows_Day,COLUMNS(Data!Vehicle_Classification)))))","v":""},{"$f":"_xlfn.LET(_xlpm.Rows_Day,24 * (60 / $B$8), _xlpm.Dir_Cols,0,IF(ISBLANK($F31),\"\",SUM(OFFSET(Data!$G$5,(Offsets!$G15-1)*(9 * _xlpm.Rows_Day + 3)+(weekdaycode(W$19)-1)*_xlpm.Rows_Day,_xlpm.Dir_Cols,_xlpm.Rows_Day,1))/SUM(OFFSET(Data!$C$5,(Offsets!$G15-1)*(9 * _xlpm.Rows_Day + 3)+(weekdaycode(W$19)-1)*_xlpm.Rows_Day,_xlpm.Dir_Cols,_xlpm.Rows_Day,COLUMNS(Data!Vehicle_Classification)))))","v":""},{"$f":"_xlfn.LET(_xlpm.Rows_Day,24 * (60 / $B$8), _xlpm.Dir_Cols,(COLUMNS(Data!Vehicle_Classification)+COLUMNS(Data!Vehicle_Speed_Bins)+COLUMNS(Data!Speed)+2),IF(ISBLANK($F31),\"\",SUM(OFFSET(Data!$G$5,(Offsets!$G15-1)*(9 * _xlpm.Rows_Day + 3)+(weekdaycode(W$19)-1)*_xlpm.Rows_Day,_xlpm.Dir_Cols,_xlpm.Rows_Day,1))/SUM(OFFSET(Data!$C$5,(Offsets!$G15-1)*(9 * _xlpm.Rows_Day + 3)+(weekdaycode(W$19)-1)*_xlpm.Rows_Day,_xlpm.Dir_Cols,_xlpm.Rows_Day,COLUMNS(Data!Vehicle_Classification)))))","v":""}]
[null,null,null,null,null,null,null,null,null,null,{"$f":"_xlfn.LET(_xlpm.Rows_Day,24 * (60 / $B$8), _xlpm.Dir_Cols,0,IF(ISBLANK($F32),\"\",SUM(OFFSET(Data!$G$5,(Offsets!$G16-1)*(9 * _xlpm.Rows_Day + 3)+(weekdaycode(K$19)-1)*_xlpm.Rows_Day,_xlpm.Dir_Cols,_xlpm.Rows_Day,1))/SUM(OFFSET(Data!$C$5,(Offsets!$G16-1)*(9 * _xlpm.Rows_Day + 3)+(weekdaycode(K$19)-1)*_xlpm.Rows_Day,_xlpm.Dir_Cols,_xlpm.Rows_Day,COLUMNS(Data!Vehicle_Classification)))))","v":""},{"$f":"_xlfn.LET(_xlpm.Rows_Day,24 * (60 / $B$8), _xlpm.Dir_Cols,(COLUMNS(Data!Vehicle_Classification)+COLUMNS(Data!Vehicle_Speed_Bins)+COLUMNS(Data!Speed)+2),IF(ISBLANK($F32),\"\",SUM(OFFSET(Data!$G$5,(Offsets!$G16-1)*(9 * _xlpm.Rows_Day + 3)+(weekdaycode(K$19)-1)*_xlpm.Rows_Day,_xlpm.Dir_Cols,_xlpm.Rows_Day,1))/SUM(OFFSET(Data!$C$5,(Offsets!$G16-1)*(9 * _xlpm.Rows_Day + 3)+(weekdaycode(K$19)-1)*_xlpm.Rows_Day,_xlpm.Dir_Cols,_xlpm.Rows_Day,COLUMNS(Data!Vehicle_Classification)))))","v":""},{"$f":"_xlfn.LET(_xlpm.Rows_Day,24 * (60 / $B$8), _xlpm.Dir_Cols,0,IF(ISBLANK($F32),\"\",SUM(OFFSET(Data!$G$5,(Offsets!$G16-1)*(9 * _xlpm.Rows_Day + 3)+(weekdaycode(M$19)-1)*_xlpm.Rows_Day,_xlpm.Dir_Cols,_xlpm.Rows_Day,1))/SUM(OFFSET(Data!$C$5,(Offsets!$G16-1)*(9 * _xlpm.Rows_Day + 3)+(weekdaycode(M$19)-1)*_xlpm.Rows_Day,_xlpm.Dir_Cols,_xlpm.Rows_Day,COLUMNS(Data!Vehicle_Classification)))))","v":""},{"$f":"_xlfn.LET(_xlpm.Rows_Day,24 * (60 / $B$8), _xlpm.Dir_Cols,(COLUMNS(Data!Vehicle_Classification)+COLUMNS(Data!Vehicle_Speed_Bins)+COLUMNS(Data!Speed)+2),IF(ISBLANK($F32),\"\",SUM(OFFSET(Data!$G$5,(Offsets!$G16-1)*(9 * _xlpm.Rows_Day + 3)+(weekdaycode(M$19)-1)*_xlpm.Rows_Day,_xlpm.Dir_Cols,_xlpm.Rows_Day,1))/SUM(OFFSET(Data!$C$5,(Offsets!$G16-1)*(9 * _xlpm.Rows_Day + 3)+(weekdaycode(M$19)-1)*_xlpm.Rows_Day,_xlpm.Dir_Cols,_xlpm.Rows_Day,COLUMNS(Data!Vehicle_Classification)))))","v":""},{"$f":"_xlfn.LET(_xlpm.Rows_Day,24 * (60 / $B$8), _xlpm.Dir_Cols,0,IF(ISBLANK($F32),\"\",SUM(OFFSET(Data!$G$5,(Offsets!$G16-1)*(9 * _xlpm.Rows_Day + 3)+(weekdaycode(O$19)-1)*_xlpm.Rows_Day,_xlpm.Dir_Cols,_xlpm.Rows_Day,1))/SUM(OFFSET(Data!$C$5,(Offsets!$G16-1)*(9 * _xlpm.Rows_Day + 3)+(weekdaycode(O$19)-1)*_xlpm.Rows_Day,_xlpm.Dir_Cols,_xlpm.Rows_Day,COLUMNS(Data!Vehicle_Classification)))))","v":""},{"$f":"_xlfn.LET(_xlpm.Rows_Day,24 * (60 / $B$8), _xlpm.Dir_Cols,(COLUMNS(Data!Vehicle_Classification)+COLUMNS(Data!Vehicle_Speed_Bins)+COLUMNS(Data!Speed)+2),IF(ISBLANK($F32),\"\",SUM(OFFSET(Data!$G$5,(Offsets!$G16-1)*(9 * _xlpm.Rows_Day + 3)+(weekdaycode(O$19)-1)*_xlpm.Rows_Day,_xlpm.Dir_Cols,_xlpm.Rows_Day,1))/SUM(OFFSET(Data!$C$5,(Offsets!$G16-1)*(9 * _xlpm.Rows_Day + 3)+(weekdaycode(O$19)-1)*_xlpm.Rows_Day,_xlpm.Dir_Cols,_xlpm.Rows_Day,COLUMNS(Data!Vehicle_Classification)))))","v":""},{"$f":"_xlfn.LET(_xlpm.Rows_Day,24 * (60 / $B$8), _xlpm.Dir_Cols,0,IF(ISBLANK($F32),\"\",SUM(OFFSET(Data!$G$5,(Offsets!$G16-1)*(9 * _xlpm.Rows_Day + 3)+(weekdaycode(Q$19)-1)*_xlpm.Rows_Day,_xlpm.Dir_Cols,_xlpm.Rows_Day,1))/SUM(OFFSET(Data!$C$5,(Offsets!$G16-1)*(9 * _xlpm.Rows_Day + 3)+(weekdaycode(Q$19)-1)*_xlpm.Rows_Day,_xlpm.Dir_Cols,_xlpm.Rows_Day,COLUMNS(Data!Vehicle_Classification)))))","v":""},{"$f":"_xlfn.LET(_xlpm.Rows_Day,24 * (60 / $B$8), _xlpm.Dir_Cols,(COLUMNS(Data!Vehicle_Classification)+COLUMNS(Data!Vehicle_Speed_Bins)+COLUMNS(Data!Speed)+2),IF(ISBLANK($F32),\"\",SUM(OFFSET(Data!$G$5,(Offsets!$G16-1)*(9 * _xlpm.Rows_Day + 3)+(weekdaycode(Q$19)-1)*_xlpm.Rows_Day,_xlpm.Dir_Cols,_xlpm.Rows_Day,1))/SUM(OFFSET(Data!$C$5,(Offsets!$G16-1)*(9 * _xlpm.Rows_Day + 3)+(weekdaycode(Q$19)-1)*_xlpm.Rows_Day,_xlpm.Dir_Cols,_xlpm.Rows_Day,COLUMNS(Data!Vehicle_Classification)))))","v":""},{"$f":"_xlfn.LET(_xlpm.Rows_Day,24 * (60 / $B$8), _xlpm.Dir_Cols,0,IF(ISBLANK($F32),\"\",SUM(OFFSET(Data!$G$5,(Offsets!$G16-1)*(9 * _xlpm.Rows_Day + 3)+(weekdaycode(S$19)-1)*_xlpm.Rows_Day,_xlpm.Dir_Cols,_xlpm.Rows_Day,1))/SUM(OFFSET(Data!$C$5,(Offsets!$G16-1)*(9 * _xlpm.Rows_Day + 3)+(weekdaycode(S$19)-1)*_xlpm.Rows_Day,_xlpm.Dir_Cols,_xlpm.Rows_Day,COLUMNS(Data!Vehicle_Classification)))))","v":""},{"$f":"_xlfn.LET(_xlpm.Rows_Day,24 * (60 / $B$8), _xlpm.Dir_Cols,(COLUMNS(Data!Vehicle_Classification)+COLUMNS(Data!Vehicle_Speed_Bins)+COLUMNS(Data!Speed)+2),IF(ISBLANK($F32),\"\",SUM(OFFSET(Data!$G$5,(Offsets!$G16-1)*(9 * _xlpm.Rows_Day + 3)+(weekdaycode(S$19)-1)*_xlpm.Rows_Day,_xlpm.Dir_Cols,_xlpm.Rows_Day,1))/SUM(OFFSET(Data!$C$5,(Offsets!$G16-1)*(9 * _xlpm.Rows_Day + 3)+(weekdaycode(S$19)-1)*_xlpm.Rows_Day,_xlpm.Dir_Cols,_xlpm.Rows_Day,COLUMNS(Data!Vehicle_Classification)))))","v":""},{"$f":"_xlfn.LET(_xlpm.Rows_Day,24 * (60 / $B$8), _xlpm.Dir_Cols,0,IF(ISBLANK($F32),\"\",SUM(OFFSET(Data!$G$5,(Offsets!$G16-1)*(9 * _xlpm.Rows_Day + 3)+(weekdaycode(U$19)-1)*_xlpm.Rows_Day,_xlpm.Dir_Cols,_xlpm.Rows_Day,1))/SUM(OFFSET(Data!$C$5,(Offsets!$G16-1)*(9 * _xlpm.Rows_Day + 3)+(weekdaycode(U$19)-1)*_xlpm.Rows_Day,_xlpm.Dir_Cols,_xlpm.Rows_Day,COLUMNS(Data!Vehicle_Classification)))))","v":""},{"$f":"_xlfn.LET(_xlpm.Rows_Day,24 * (60 / $B$8), _xlpm.Dir_Cols,(COLUMNS(Data!Vehicle_Classification)+COLUMNS(Data!Vehicle_Speed_Bins)+COLUMNS(Data!Speed)+2),IF(ISBLANK($F32),\"\",SUM(OFFSET(Data!$G$5,(Offsets!$G16-1)*(9 * _xlpm.Rows_Day + 3)+(weekdaycode(U$19)-1)*_xlpm.Rows_Day,_xlpm.Dir_Cols,_xlpm.Rows_Day,1))/SUM(OFFSET(Data!$C$5,(Offsets!$G16-1)*(9 * _xlpm.Rows_Day + 3)+(weekdaycode(U$19)-1)*_xlpm.Rows_Day,_xlpm.Dir_Cols,_xlpm.Rows_Day,COLUMNS(Data!Vehicle_Classification)))))","v":""},{"$f":"_xlfn.LET(_xlpm.Rows_Day,24 * (60 / $B$8), _xlpm.Dir_Cols,0,IF(ISBLANK($F32),\"\",SUM(OFFSET(Data!$G$5,(Offsets!$G16-1)*(9 * _xlpm.Rows_Day + 3)+(weekdaycode(W$19)-1)*_xlpm.Rows_Day,_xlpm.Dir_Cols,_xlpm.Rows_Day,1))/SUM(OFFSET(Data!$C$5,(Offsets!$G16-1)*(9 * _xlpm.Rows_Day + 3)+(weekdaycode(W$19)-1)*_xlpm.Rows_Day,_xlpm.Dir_Cols,_xlpm.Rows_Day,COLUMNS(Data!Vehicle_Classification)))))","v":""},{"$f":"_xlfn.LET(_xlpm.Rows_Day,24 * (60 / $B$8), _xlpm.Dir_Cols,(COLUMNS(Data!Vehicle_Classification)+COLUMNS(Data!Vehicle_Speed_Bins)+COLUMNS(Data!Speed)+2),IF(ISBLANK($F32),\"\",SUM(OFFSET(Data!$G$5,(Offsets!$G16-1)*(9 * _xlpm.Rows_Day + 3)+(weekdaycode(W$19)-1)*_xlpm.Rows_Day,_xlpm.Dir_Cols,_xlpm.Rows_Day,1))/SUM(OFFSET(Data!$C$5,(Offsets!$G16-1)*(9 * _xlpm.Rows_Day + 3)+(weekdaycode(W$19)-1)*_xlpm.Rows_Day,_xlpm.Dir_Cols,_xlpm.Rows_Day,COLUMNS(Data!Vehicle_Classification)))))","v":""}]
[null,null,null,null,null,null,null,null,null,null,{"$f":"_xlfn.LET(_xlpm.Rows_Day,24 * (60 / $B$8), _xlpm.Dir_Cols,0,IF(ISBLANK($F33),\"\",SUM(OFFSET(Data!$G$5,(Offsets!$G17-1)*(9 * _xlpm.Rows_Day + 3)+(weekdaycode(K$19)-1)*_xlpm.Rows_Day,_xlpm.Dir_Cols,_xlpm.Rows_Day,1))/SUM(OFFSET(Data!$C$5,(Offsets!$G17-1)*(9 * _xlpm.Rows_Day + 3)+(weekdaycode(K$19)-1)*_xlpm.Rows_Day,_xlpm.Dir_Cols,_xlpm.Rows_Day,COLUMNS(Data!Vehicle_Classification)))))","v":""},{"$f":"_xlfn.LET(_xlpm.Rows_Day,24 * (60 / $B$8), _xlpm.Dir_Cols,(COLUMNS(Data!Vehicle_Classification)+COLUMNS(Data!Vehicle_Speed_Bins)+COLUMNS(Data!Speed)+2),IF(ISBLANK($F33),\"\",SUM(OFFSET(Data!$G$5,(Offsets!$G17-1)*(9 * _xlpm.Rows_Day + 3)+(weekdaycode(K$19)-1)*_xlpm.Rows_Day,_xlpm.Dir_Cols,_xlpm.Rows_Day,1))/SUM(OFFSET(Data!$C$5,(Offsets!$G17-1)*(9 * _xlpm.Rows_Day + 3)+(weekdaycode(K$19)-1)*_xlpm.Rows_Day,_xlpm.Dir_Cols,_xlpm.Rows_Day,COLUMNS(Data!Vehicle_Classification)))))","v":""},{"$f":"_xlfn.LET(_xlpm.Rows_Day,24 * (60 / $B$8), _xlpm.Dir_Cols,0,IF(ISBLANK($F33),\"\",SUM(OFFSET(Data!$G$5,(Offsets!$G17-1)*(9 * _xlpm.Rows_Day + 3)+(weekdaycode(M$19)-1)*_xlpm.Rows_Day,_xlpm.Dir_Cols,_xlpm.Rows_Day,1))/SUM(OFFSET(Data!$C$5,(Offsets!$G17-1)*(9 * _xlpm.Rows_Day + 3)+(weekdaycode(M$19)-1)*_xlpm.Rows_Day,_xlpm.Dir_Cols,_xlpm.Rows_Day,COLUMNS(Data!Vehicle_Classification)))))","v":""},{"$f":"_xlfn.LET(_xlpm.Rows_Day,24 * (60 / $B$8), _xlpm.Dir_Cols,(COLUMNS(Data!Vehicle_Classification)+COLUMNS(Data!Vehicle_Speed_Bins)+COLUMNS(Data!Speed)+2),IF(ISBLANK($F33),\"\",SUM(OFFSET(Data!$G$5,(Offsets!$G17-1)*(9 * _xlpm.Rows_Day + 3)+(weekdaycode(M$19)-1)*_xlpm.Rows_Day,_xlpm.Dir_Cols,_xlpm.Rows_Day,1))/SUM(OFFSET(Data!$C$5,(Offsets!$G17-1)*(9 * _xlpm.Rows_Day + 3)+(weekdaycode(M$19)-1)*_xlpm.Rows_Day,_xlpm.Dir_Cols,_xlpm.Rows_Day,COLUMNS(Data!Vehicle_Classification)))))","v":""},{"$f":"_xlfn.LET(_xlpm.Rows_Day,24 * (60 / $B$8), _xlpm.Dir_Cols,0,IF(ISBLANK($F33),\"\",SUM(OFFSET(Data!$G$5,(Offsets!$G17-1)*(9 * _xlpm.Rows_Day + 3)+(weekdaycode(O$19)-1)*_xlpm.Rows_Day,_xlpm.Dir_Cols,_xlpm.Rows_Day,1))/SUM(OFFSET(Data!$C$5,(Offsets!$G17-1)*(9 * _xlpm.Rows_Day + 3)+(weekdaycode(O$19)-1)*_xlpm.Rows_Day,_xlpm.Dir_Cols,_xlpm.Rows_Day,COLUMNS(Data!Vehicle_Classification)))))","v":""},{"$f":"_xlfn.LET(_xlpm.Rows_Day,24 * (60 / $B$8), _xlpm.Dir_Cols,(COLUMNS(Data!Vehicle_Classification)+COLUMNS(Data!Vehicle_Speed_Bins)+COLUMNS(Data!Speed)+2),IF(ISBLANK($F33),\"\",SUM(OFFSET(Data!$G$5,(Offsets!$G17-1)*(9 * _xlpm.Rows_Day + 3)+(weekdaycode(O$19)-1)*_xlpm.Rows_Day,_xlpm.Dir_Cols,_xlpm.Rows_Day,1))/SUM(OFFSET(Data!$C$5,(Offsets!$G17-1)*(9 * _xlpm.Rows_Day + 3)+(weekdaycode(O$19)-1)*_xlpm.Rows_Day,_xlpm.Dir_Cols,_xlpm.Rows_Day,COLUMNS(Data!Vehicle_Classification)))))","v":""},{"$f":"_xlfn.LET(_xlpm.Rows_Day,24 * (60 / $B$8), _xlpm.Dir_Cols,0,IF(ISBLANK($F33),\"\",SUM(OFFSET(Data!$G$5,(Offsets!$G17-1)*(9 * _xlpm.Rows_Day + 3)+(weekdaycode(Q$19)-1)*_xlpm.Rows_Day,_xlpm.Dir_Cols,_xlpm.Rows_Day,1))/SUM(OFFSET(Data!$C$5,(Offsets!$G17-1)*(9 * _xlpm.Rows_Day + 3)+(weekdaycode(Q$19)-1)*_xlpm.Rows_Day,_xlpm.Dir_Cols,_xlpm.Rows_Day,COLUMNS(Data!Vehicle_Classification)))))","v":""},{"$f":"_xlfn.LET(_xlpm.Rows_Day,24 * (60 / $B$8), _xlpm.Dir_Cols,(COLUMNS(Data!Vehicle_Classification)+COLUMNS(Data!Vehicle_Speed_Bins)+COLUMNS(Data!Speed)+2),IF(ISBLANK($F33),\"\",SUM(OFFSET(Data!$G$5,(Offsets!$G17-1)*(9 * _xlpm.Rows_Day + 3)+(weekdaycode(Q$19)-1)*_xlpm.Rows_Day,_xlpm.Dir_Cols,_xlpm.Rows_Day,1))/SUM(OFFSET(Data!$C$5,(Offsets!$G17-1)*(9 * _xlpm.Rows_Day + 3)+(weekdaycode(Q$19)-1)*_xlpm.Rows_Day,_xlpm.Dir_Cols,_xlpm.Rows_Day,COLUMNS(Data!Vehicle_Classification)))))","v":""},{"$f":"_xlfn.LET(_xlpm.Rows_Day,24 * (60 / $B$8), _xlpm.Dir_Cols,0,IF(ISBLANK($F33),\"\",SUM(OFFSET(Data!$G$5,(Offsets!$G17-1)*(9 * _xlpm.Rows_Day + 3)+(weekdaycode(S$19)-1)*_xlpm.Rows_Day,_xlpm.Dir_Cols,_xlpm.Rows_Day,1))/SUM(OFFSET(Data!$C$5,(Offsets!$G17-1)*(9 * _xlpm.Rows_Day + 3)+(weekdaycode(S$19)-1)*_xlpm.Rows_Day,_xlpm.Dir_Cols,_xlpm.Rows_Day,COLUMNS(Data!Vehicle_Classification)))))","v":""},{"$f":"_xlfn.LET(_xlpm.Rows_Day,24 * (60 / $B$8), _xlpm.Dir_Cols,(COLUMNS(Data!Vehicle_Classification)+COLUMNS(Data!Vehicle_Speed_Bins)+COLUMNS(Data!Speed)+2),IF(ISBLANK($F33),\"\",SUM(OFFSET(Data!$G$5,(Offsets!$G17-1)*(9 * _xlpm.Rows_Day + 3)+(weekdaycode(S$19)-1)*_xlpm.Rows_Day,_xlpm.Dir_Cols,_xlpm.Rows_Day,1))/SUM(OFFSET(Data!$C$5,(Offsets!$G17-1)*(9 * _xlpm.Rows_Day + 3)+(weekdaycode(S$19)-1)*_xlpm.Rows_Day,_xlpm.Dir_Cols,_xlpm.Rows_Day,COLUMNS(Data!Vehicle_Classification)))))","v":""},{"$f":"_xlfn.LET(_xlpm.Rows_Day,24 * (60 / $B$8), _xlpm.Dir_Cols,0,IF(ISBLANK($F33),\"\",SUM(OFFSET(Data!$G$5,(Offsets!$G17-1)*(9 * _xlpm.Rows_Day + 3)+(weekdaycode(U$19)-1)*_xlpm.Rows_Day,_xlpm.Dir_Cols,_xlpm.Rows_Day,1))/SUM(OFFSET(Data!$C$5,(Offsets!$G17-1)*(9 * _xlpm.Rows_Day + 3)+(weekdaycode(U$19)-1)*_xlpm.Rows_Day,_xlpm.Dir_Cols,_xlpm.Rows_Day,COLUMNS(Data!Vehicle_Classification)))))","v":""},{"$f":"_xlfn.LET(_xlpm.Rows_Day,24 * (60 / $B$8), _xlpm.Dir_Cols,(COLUMNS(Data!Vehicle_Classification)+COLUMNS(Data!Vehicle_Speed_Bins)+COLUMNS(Data!Speed)+2),IF(ISBLANK($F33),\"\",SUM(OFFSET(Data!$G$5,(Offsets!$G17-1)*(9 * _xlpm.Rows_Day + 3)+(weekdaycode(U$19)-1)*_xlpm.Rows_Day,_xlpm.Dir_Cols,_xlpm.Rows_Day,1))/SUM(OFFSET(Data!$C$5,(Offsets!$G17-1)*(9 * _xlpm.Rows_Day + 3)+(weekdaycode(U$19)-1)*_xlpm.Rows_Day,_xlpm.Dir_Cols,_xlpm.Rows_Day,COLUMNS(Data!Vehicle_Classification)))))","v":""},{"$f":"_xlfn.LET(_xlpm.Rows_Day,24 * (60 / $B$8), _xlpm.Dir_Cols,0,IF(ISBLANK($F33),\"\",SUM(OFFSET(Data!$G$5,(Offsets!$G17-1)*(9 * _xlpm.Rows_Day + 3)+(weekdaycode(W$19)-1)*_xlpm.Rows_Day,_xlpm.Dir_Cols,_xlpm.Rows_Day,1))/SUM(OFFSET(Data!$C$5,(Offsets!$G17-1)*(9 * _xlpm.Rows_Day + 3)+(weekdaycode(W$19)-1)*_xlpm.Rows_Day,_xlpm.Dir_Cols,_xlpm.Rows_Day,COLUMNS(Data!Vehicle_Classification)))))","v":""},{"$f":"_xlfn.LET(_xlpm.Rows_Day,24 * (60 / $B$8), _xlpm.Dir_Cols,(COLUMNS(Data!Vehicle_Classification)+COLUMNS(Data!Vehicle_Speed_Bins)+COLUMNS(Data!Speed)+2),IF(ISBLANK($F33),\"\",SUM(OFFSET(Data!$G$5,(Offsets!$G17-1)*(9 * _xlpm.Rows_Day + 3)+(weekdaycode(W$19)-1)*_xlpm.Rows_Day,_xlpm.Dir_Cols,_xlpm.Rows_Day,1))/SUM(OFFSET(Data!$C$5,(Offsets!$G17-1)*(9 * _xlpm.Rows_Day + 3)+(weekdaycode(W$19)-1)*_xlpm.Rows_Day,_xlpm.Dir_Cols,_xlpm.Rows_Day,COLUMNS(Data!Vehicle_Classification)))))","v":""}]
[null,null,null,null,null,null,null,null,null,null,{"$f":"_xlfn.LET(_xlpm.Rows_Day,24 * (60 / $B$8), _xlpm.Dir_Cols,0,IF(ISBLANK($F34),\"\",SUM(OFFSET(Data!$G$5,(Offsets!$G18-1)*(9 * _xlpm.Rows_Day + 3)+(weekdaycode(K$19)-1)*_xlpm.Rows_Day,_xlpm.Dir_Cols,_xlpm.Rows_Day,1))/SUM(OFFSET(Data!$C$5,(Offsets!$G18-1)*(9 * _xlpm.Rows_Day + 3)+(weekdaycode(K$19)-1)*_xlpm.Rows_Day,_xlpm.Dir_Cols,_xlpm.Rows_Day,COLUMNS(Data!Vehicle_Classification)))))","v":""},{"$f":"_xlfn.LET(_xlpm.Rows_Day,24 * (60 / $B$8), _xlpm.Dir_Cols,(COLUMNS(Data!Vehicle_Classification)+COLUMNS(Data!Vehicle_Speed_Bins)+COLUMNS(Data!Speed)+2),IF(ISBLANK($F34),\"\",SUM(OFFSET(Data!$G$5,(Offsets!$G18-1)*(9 * _xlpm.Rows_Day + 3)+(weekdaycode(K$19)-1)*_xlpm.Rows_Day,_xlpm.Dir_Cols,_xlpm.Rows_Day,1))/SUM(OFFSET(Data!$C$5,(Offsets!$G18-1)*(9 * _xlpm.Rows_Day + 3)+(weekdaycode(K$19)-1)*_xlpm.Rows_Day,_xlpm.Dir_Cols,_xlpm.Rows_Day,COLUMNS(Data!Vehicle_Classification)))))","v":""},{"$f":"_xlfn.LET(_xlpm.Rows_Day,24 * (60 / $B$8), _xlpm.Dir_Cols,0,IF(ISBLANK($F34),\"\",SUM(OFFSET(Data!$G$5,(Offsets!$G18-1)*(9 * _xlpm.Rows_Day + 3)+(weekdaycode(M$19)-1)*_xlpm.Rows_Day,_xlpm.Dir_Cols,_xlpm.Rows_Day,1))/SUM(OFFSET(Data!$C$5,(Offsets!$G18-1)*(9 * _xlpm.Rows_Day + 3)+(weekdaycode(M$19)-1)*_xlpm.Rows_Day,_xlpm.Dir_Cols,_xlpm.Rows_Day,COLUMNS(Data!Vehicle_Classification)))))","v":""},{"$f":"_xlfn.LET(_xlpm.Rows_Day,24 * (60 / $B$8), _xlpm.Dir_Cols,(COLUMNS(Data!Vehicle_Classification)+COLUMNS(Data!Vehicle_Speed_Bins)+COLUMNS(Data!Speed)+2),IF(ISBLANK($F34),\"\",SUM(OFFSET(Data!$G$5,(Offsets!$G18-1)*(9 * _xlpm.Rows_Day + 3)+(weekdaycode(M$19)-1)*_xlpm.Rows_Day,_xlpm.Dir_Cols,_xlpm.Rows_Day,1))/SUM(OFFSET(Data!$C$5,(Offsets!$G18-1)*(9 * _xlpm.Rows_Day + 3)+(weekdaycode(M$19)-1)*_xlpm.Rows_Day,_xlpm.Dir_Cols,_xlpm.Rows_Day,COLUMNS(Data!Vehicle_Classification)))))","v":""},{"$f":"_xlfn.LET(_xlpm.Rows_Day,24 * (60 / $B$8), _xlpm.Dir_Cols,0,IF(ISBLANK($F34),\"\",SUM(OFFSET(Data!$G$5,(Offsets!$G18-1)*(9 * _xlpm.Rows_Day + 3)+(weekdaycode(O$19)-1)*_xlpm.Rows_Day,_xlpm.Dir_Cols,_xlpm.Rows_Day,1))/SUM(OFFSET(Data!$C$5,(Offsets!$G18-1)*(9 * _xlpm.Rows_Day + 3)+(weekdaycode(O$19)-1)*_xlpm.Rows_Day,_xlpm.Dir_Cols,_xlpm.Rows_Day,COLUMNS(Data!Vehicle_Classification)))))","v":""},{"$f":"_xlfn.LET(_xlpm.Rows_Day,24 * (60 / $B$8), _xlpm.Dir_Cols,(COLUMNS(Data!Vehicle_Classification)+COLUMNS(Data!Vehicle_Speed_Bins)+COLUMNS(Data!Speed)+2),IF(ISBLANK($F34),\"\",SUM(OFFSET(Data!$G$5,(Offsets!$G18-1)*(9 * _xlpm.Rows_Day + 3)+(weekdaycode(O$19)-1)*_xlpm.Rows_Day,_xlpm.Dir_Cols,_xlpm.Rows_Day,1))/SUM(OFFSET(Data!$C$5,(Offsets!$G18-1)*(9 * _xlpm.Rows_Day + 3)+(weekdaycode(O$19)-1)*_xlpm.Rows_Day,_xlpm.Dir_Cols,_xlpm.Rows_Day,COLUMNS(Data!Vehicle_Classification)))))","v":""},{"$f":"_xlfn.LET(_xlpm.Rows_Day,24 * (60 / $B$8), _xlpm.Dir_Cols,0,IF(ISBLANK($F34),\"\",SUM(OFFSET(Data!$G$5,(Offsets!$G18-1)*(9 * _xlpm.Rows_Day + 3)+(weekdaycode(Q$19)-1)*_xlpm.Rows_Day,_xlpm.Dir_Cols,_xlpm.Rows_Day,1))/SUM(OFFSET(Data!$C$5,(Offsets!$G18-1)*(9 * _xlpm.Rows_Day + 3)+(weekdaycode(Q$19)-1)*_xlpm.Rows_Day,_xlpm.Dir_Cols,_xlpm.Rows_Day,COLUMNS(Data!Vehicle_Classification)))))","v":""},{"$f":"_xlfn.LET(_xlpm.Rows_Day,24 * (60 / $B$8), _xlpm.Dir_Cols,(COLUMNS(Data!Vehicle_Classification)+COLUMNS(Data!Vehicle_Speed_Bins)+COLUMNS(Data!Speed)+2),IF(ISBLANK($F34),\"\",SUM(OFFSET(Data!$G$5,(Offsets!$G18-1)*(9 * _xlpm.Rows_Day + 3)+(weekdaycode(Q$19)-1)*_xlpm.Rows_Day,_xlpm.Dir_Cols,_xlpm.Rows_Day,1))/SUM(OFFSET(Data!$C$5,(Offsets!$G18-1)*(9 * _xlpm.Rows_Day + 3)+(weekdaycode(Q$19)-1)*_xlpm.Rows_Day,_xlpm.Dir_Cols,_xlpm.Rows_Day,COLUMNS(Data!Vehicle_Classification)))))","v":""},{"$f":"_xlfn.LET(_xlpm.Rows_Day,24 * (60 / $B$8), _xlpm.Dir_Cols,0,IF(ISBLANK($F34),\"\",SUM(OFFSET(Data!$G$5,(Offsets!$G18-1)*(9 * _xlpm.Rows_Day + 3)+(weekdaycode(S$19)-1)*_xlpm.Rows_Day,_xlpm.Dir_Cols,_xlpm.Rows_Day,1))/SUM(OFFSET(Data!$C$5,(Offsets!$G18-1)*(9 * _xlpm.Rows_Day + 3)+(weekdaycode(S$19)-1)*_xlpm.Rows_Day,_xlpm.Dir_Cols,_xlpm.Rows_Day,COLUMNS(Data!Vehicle_Classification)))))","v":""},{"$f":"_xlfn.LET(_xlpm.Rows_Day,24 * (60 / $B$8), _xlpm.Dir_Cols,(COLUMNS(Data!Vehicle_Classification)+COLUMNS(Data!Vehicle_Speed_Bins)+COLUMNS(Data!Speed)+2),IF(ISBLANK($F34),\"\",SUM(OFFSET(Data!$G$5,(Offsets!$G18-1)*(9 * _xlpm.Rows_Day + 3)+(weekdaycode(S$19)-1)*_xlpm.Rows_Day,_xlpm.Dir_Cols,_xlpm.Rows_Day,1))/SUM(OFFSET(Data!$C$5,(Offsets!$G18-1)*(9 * _xlpm.Rows_Day + 3)+(weekdaycode(S$19)-1)*_xlpm.Rows_Day,_xlpm.Dir_Cols,_xlpm.Rows_Day,COLUMNS(Data!Vehicle_Classification)))))","v":""},{"$f":"_xlfn.LET(_xlpm.Rows_Day,24 * (60 / $B$8), _xlpm.Dir_Cols,0,IF(ISBLANK($F34),\"\",SUM(OFFSET(Data!$G$5,(Offsets!$G18-1)*(9 * _xlpm.Rows_Day + 3)+(weekdaycode(U$19)-1)*_xlpm.Rows_Day,_xlpm.Dir_Cols,_xlpm.Rows_Day,1))/SUM(OFFSET(Data!$C$5,(Offsets!$G18-1)*(9 * _xlpm.Rows_Day + 3)+(weekdaycode(U$19)-1)*_xlpm.Rows_Day,_xlpm.Dir_Cols,_xlpm.Rows_Day,COLUMNS(Data!Vehicle_Classification)))))","v":""},{"$f":"_xlfn.LET(_xlpm.Rows_Day,24 * (60 / $B$8), _xlpm.Dir_Cols,(COLUMNS(Data!Vehicle_Classification)+COLUMNS(Data!Vehicle_Speed_Bins)+COLUMNS(Data!Speed)+2),IF(ISBLANK($F34),\"\",SUM(OFFSET(Data!$G$5,(Offsets!$G18-1)*(9 * _xlpm.Rows_Day + 3)+(weekdaycode(U$19)-1)*_xlpm.Rows_Day,_xlpm.Dir_Cols,_xlpm.Rows_Day,1))/SUM(OFFSET(Data!$C$5,(Offsets!$G18-1)*(9 * _xlpm.Rows_Day + 3)+(weekdaycode(U$19)-1)*_xlpm.Rows_Day,_xlpm.Dir_Cols,_xlpm.Rows_Day,COLUMNS(Data!Vehicle_Classification)))))","v":""},{"$f":"_xlfn.LET(_xlpm.Rows_Day,24 * (60 / $B$8), _xlpm.Dir_Cols,0,IF(ISBLANK($F34),\"\",SUM(OFFSET(Data!$G$5,(Offsets!$G18-1)*(9 * _xlpm.Rows_Day + 3)+(weekdaycode(W$19)-1)*_xlpm.Rows_Day,_xlpm.Dir_Cols,_xlpm.Rows_Day,1))/SUM(OFFSET(Data!$C$5,(Offsets!$G18-1)*(9 * _xlpm.Rows_Day + 3)+(weekdaycode(W$19)-1)*_xlpm.Rows_Day,_xlpm.Dir_Cols,_xlpm.Rows_Day,COLUMNS(Data!Vehicle_Classification)))))","v":""},{"$f":"_xlfn.LET(_xlpm.Rows_Day,24 * (60 / $B$8), _xlpm.Dir_Cols,(COLUMNS(Data!Vehicle_Classification)+COLUMNS(Data!Vehicle_Speed_Bins)+COLUMNS(Data!Speed)+2),IF(ISBLANK($F34),\"\",SUM(OFFSET(Data!$G$5,(Offsets!$G18-1)*(9 * _xlpm.Rows_Day + 3)+(weekdaycode(W$19)-1)*_xlpm.Rows_Day,_xlpm.Dir_Cols,_xlpm.Rows_Day,1))/SUM(OFFSET(Data!$C$5,(Offsets!$G18-1)*(9 * _xlpm.Rows_Day + 3)+(weekdaycode(W$19)-1)*_xlpm.Rows_Day,_xlpm.Dir_Cols,_xlpm.Rows_Day,COLUMNS(Data!Vehicle_Classification)))))","v":""}]
[null,null,null,null,null,null,null,null,null,null,{"$f":"_xlfn.LET(_xlpm.Rows_Day,24 * (60 / $B$8), _xlpm.Dir_Cols,0,IF(ISBLANK($F35),\"\",SUM(OFFSET(Data!$G$5,(Offsets!$G19-1)*(9 * _xlpm.Rows_Day + 3)+(weekdaycode(K$19)-1)*_xlpm.Rows_Day,_xlpm.Dir_Cols,_xlpm.Rows_Day,1))/SUM(OFFSET(Data!$C$5,(Offsets!$G19-1)*(9 * _xlpm.Rows_Day + 3)+(weekdaycode(K$19)-1)*_xlpm.Rows_Day,_xlpm.Dir_Cols,_xlpm.Rows_Day,COLUMNS(Data!Vehicle_Classification)))))","v":""},{"$f":"_xlfn.LET(_xlpm.Rows_Day,24 * (60 / $B$8), _xlpm.Dir_Cols,(COLUMNS(Data!Vehicle_Classification)+COLUMNS(Data!Vehicle_Speed_Bins)+COLUMNS(Data!Speed)+2),IF(ISBLANK($F35),\"\",SUM(OFFSET(Data!$G$5,(Offsets!$G19-1)*(9 * _xlpm.Rows_Day + 3)+(weekdaycode(K$19)-1)*_xlpm.Rows_Day,_xlpm.Dir_Cols,_xlpm.Rows_Day,1))/SUM(OFFSET(Data!$C$5,(Offsets!$G19-1)*(9 * _xlpm.Rows_Day + 3)+(weekdaycode(K$19)-1)*_xlpm.Rows_Day,_xlpm.Dir_Cols,_xlpm.Rows_Day,COLUMNS(Data!Vehicle_Classification)))))","v":""},{"$f":"_xlfn.LET(_xlpm.Rows_Day,24 * (60 / $B$8), _xlpm.Dir_Cols,0,IF(ISBLANK($F35),\"\",SUM(OFFSET(Data!$G$5,(Offsets!$G19-1)*(9 * _xlpm.Rows_Day + 3)+(weekdaycode(M$19)-1)*_xlpm.Rows_Day,_xlpm.Dir_Cols,_xlpm.Rows_Day,1))/SUM(OFFSET(Data!$C$5,(Offsets!$G19-1)*(9 * _xlpm.Rows_Day + 3)+(weekdaycode(M$19)-1)*_xlpm.Rows_Day,_xlpm.Dir_Cols,_xlpm.Rows_Day,COLUMNS(Data!Vehicle_Classification)))))","v":""},{"$f":"_xlfn.LET(_xlpm.Rows_Day,24 * (60 / $B$8), _xlpm.Dir_Cols,(COLUMNS(Data!Vehicle_Classification)+COLUMNS(Data!Vehicle_Speed_Bins)+COLUMNS(Data!Speed)+2),IF(ISBLANK($F35),\"\",SUM(OFFSET(Data!$G$5,(Offsets!$G19-1)*(9 * _xlpm.Rows_Day + 3)+(weekdaycode(M$19)-1)*_xlpm.Rows_Day,_xlpm.Dir_Cols,_xlpm.Rows_Day,1))/SUM(OFFSET(Data!$C$5,(Offsets!$G19-1)*(9 * _xlpm.Rows_Day + 3)+(weekdaycode(M$19)-1)*_xlpm.Rows_Day,_xlpm.Dir_Cols,_xlpm.Rows_Day,COLUMNS(Data!Vehicle_Classification)))))","v":""},{"$f":"_xlfn.LET(_xlpm.Rows_Day,24 * (60 / $B$8), _xlpm.Dir_Cols,0,IF(ISBLANK($F35),\"\",SUM(OFFSET(Data!$G$5,(Offsets!$G19-1)*(9 * _xlpm.Rows_Day + 3)+(weekdaycode(O$19)-1)*_xlpm.Rows_Day,_xlpm.Dir_Cols,_xlpm.Rows_Day,1))/SUM(OFFSET(Data!$C$5,(Offsets!$G19-1)*(9 * _xlpm.Rows_Day + 3)+(weekdaycode(O$19)-1)*_xlpm.Rows_Day,_xlpm.Dir_Cols,_xlpm.Rows_Day,COLUMNS(Data!Vehicle_Classification)))))","v":""},{"$f":"_xlfn.LET(_xlpm.Rows_Day,24 * (60 / $B$8), _xlpm.Dir_Cols,(COLUMNS(Data!Vehicle_Classification)+COLUMNS(Data!Vehicle_Speed_Bins)+COLUMNS(Data!Speed)+2),IF(ISBLANK($F35),\"\",SUM(OFFSET(Data!$G$5,(Offsets!$G19-1)*(9 * _xlpm.Rows_Day + 3)+(weekdaycode(O$19)-1)*_xlpm.Rows_Day,_xlpm.Dir_Cols,_xlpm.Rows_Day,1))/SUM(OFFSET(Data!$C$5,(Offsets!$G19-1)*(9 * _xlpm.Rows_Day + 3)+(weekdaycode(O$19)-1)*_xlpm.Rows_Day,_xlpm.Dir_Cols,_xlpm.Rows_Day,COLUMNS(Data!Vehicle_Classification)))))","v":""},{"$f":"_xlfn.LET(_xlpm.Rows_Day,24 * (60 / $B$8), _xlpm.Dir_Cols,0,IF(ISBLANK($F35),\"\",SUM(OFFSET(Data!$G$5,(Offsets!$G19-1)*(9 * _xlpm.Rows_Day + 3)+(weekdaycode(Q$19)-1)*_xlpm.Rows_Day,_xlpm.Dir_Cols,_xlpm.Rows_Day,1))/SUM(OFFSET(Data!$C$5,(Offsets!$G19-1)*(9 * _xlpm.Rows_Day + 3)+(weekdaycode(Q$19)-1)*_xlpm.Rows_Day,_xlpm.Dir_Cols,_xlpm.Rows_Day,COLUMNS(Data!Vehicle_Classification)))))","v":""},{"$f":"_xlfn.LET(_xlpm.Rows_Day,24 * (60 / $B$8), _xlpm.Dir_Cols,(COLUMNS(Data!Vehicle_Classification)+COLUMNS(Data!Vehicle_Speed_Bins)+COLUMNS(Data!Speed)+2),IF(ISBLANK($F35),\"\",SUM(OFFSET(Data!$G$5,(Offsets!$G19-1)*(9 * _xlpm.Rows_Day + 3)+(weekdaycode(Q$19)-1)*_xlpm.Rows_Day,_xlpm.Dir_Cols,_xlpm.Rows_Day,1))/SUM(OFFSET(Data!$C$5,(Offsets!$G19-1)*(9 * _xlpm.Rows_Day + 3)+(weekdaycode(Q$19)-1)*_xlpm.Rows_Day,_xlpm.Dir_Cols,_xlpm.Rows_Day,COLUMNS(Data!Vehicle_Classification)))))","v":""},{"$f":"_xlfn.LET(_xlpm.Rows_Day,24 * (60 / $B$8), _xlpm.Dir_Cols,0,IF(ISBLANK($F35),\"\",SUM(OFFSET(Data!$G$5,(Offsets!$G19-1)*(9 * _xlpm.Rows_Day + 3)+(weekdaycode(S$19)-1)*_xlpm.Rows_Day,_xlpm.Dir_Cols,_xlpm.Rows_Day,1))/SUM(OFFSET(Data!$C$5,(Offsets!$G19-1)*(9 * _xlpm.Rows_Day + 3)+(weekdaycode(S$19)-1)*_xlpm.Rows_Day,_xlpm.Dir_Cols,_xlpm.Rows_Day,COLUMNS(Data!Vehicle_Classification)))))","v":""},{"$f":"_xlfn.LET(_xlpm.Rows_Day,24 * (60 / $B$8), _xlpm.Dir_Cols,(COLUMNS(Data!Vehicle_Classification)+COLUMNS(Data!Vehicle_Speed_Bins)+COLUMNS(Data!Speed)+2),IF(ISBLANK($F35),\"\",SUM(OFFSET(Data!$G$5,(Offsets!$G19-1)*(9 * _xlpm.Rows_Day + 3)+(weekdaycode(S$19)-1)*_xlpm.Rows_Day,_xlpm.Dir_Cols,_xlpm.Rows_Day,1))/SUM(OFFSET(Data!$C$5,(Offsets!$G19-1)*(9 * _xlpm.Rows_Day + 3)+(weekdaycode(S$19)-1)*_xlpm.Rows_Day,_xlpm.Dir_Cols,_xlpm.Rows_Day,COLUMNS(Data!Vehicle_Classification)))))","v":""},{"$f":"_xlfn.LET(_xlpm.Rows_Day,24 * (60 / $B$8), _xlpm.Dir_Cols,0,IF(ISBLANK($F35),\"\",SUM(OFFSET(Data!$G$5,(Offsets!$G19-1)*(9 * _xlpm.Rows_Day + 3)+(weekdaycode(U$19)-1)*_xlpm.Rows_Day,_xlpm.Dir_Cols,_xlpm.Rows_Day,1))/SUM(OFFSET(Data!$C$5,(Offsets!$G19-1)*(9 * _xlpm.Rows_Day + 3)+(weekdaycode(U$19)-1)*_xlpm.Rows_Day,_xlpm.Dir_Cols,_xlpm.Rows_Day,COLUMNS(Data!Vehicle_Classification)))))","v":""},{"$f":"_xlfn.LET(_xlpm.Rows_Day,24 * (60 / $B$8), _xlpm.Dir_Cols,(COLUMNS(Data!Vehicle_Classification)+COLUMNS(Data!Vehicle_Speed_Bins)+COLUMNS(Data!Speed)+2),IF(ISBLANK($F35),\"\",SUM(OFFSET(Data!$G$5,(Offsets!$G19-1)*(9 * _xlpm.Rows_Day + 3)+(weekdaycode(U$19)-1)*_xlpm.Rows_Day,_xlpm.Dir_Cols,_xlpm.Rows_Day,1))/SUM(OFFSET(Data!$C$5,(Offsets!$G19-1)*(9 * _xlpm.Rows_Day + 3)+(weekdaycode(U$19)-1)*_xlpm.Rows_Day,_xlpm.Dir_Cols,_xlpm.Rows_Day,COLUMNS(Data!Vehicle_Classification)))))","v":""},{"$f":"_xlfn.LET(_xlpm.Rows_Day,24 * (60 / $B$8), _xlpm.Dir_Cols,0,IF(ISBLANK($F35),\"\",SUM(OFFSET(Data!$G$5,(Offsets!$G19-1)*(9 * _xlpm.Rows_Day + 3)+(weekdaycode(W$19)-1)*_xlpm.Rows_Day,_xlpm.Dir_Cols,_xlpm.Rows_Day,1))/SUM(OFFSET(Data!$C$5,(Offsets!$G19-1)*(9 * _xlpm.Rows_Day + 3)+(weekdaycode(W$19)-1)*_xlpm.Rows_Day,_xlpm.Dir_Cols,_xlpm.Rows_Day,COLUMNS(Data!Vehicle_Classification)))))","v":""},{"$f":"_xlfn.LET(_xlpm.Rows_Day,24 * (60 / $B$8), _xlpm.Dir_Cols,(COLUMNS(Data!Vehicle_Classification)+COLUMNS(Data!Vehicle_Speed_Bins)+COLUMNS(Data!Speed)+2),IF(ISBLANK($F35),\"\",SUM(OFFSET(Data!$G$5,(Offsets!$G19-1)*(9 * _xlpm.Rows_Day + 3)+(weekdaycode(W$19)-1)*_xlpm.Rows_Day,_xlpm.Dir_Cols,_xlpm.Rows_Day,1))/SUM(OFFSET(Data!$C$5,(Offsets!$G19-1)*(9 * _xlpm.Rows_Day + 3)+(weekdaycode(W$19)-1)*_xlpm.Rows_Day,_xlpm.Dir_Cols,_xlpm.Rows_Day,COLUMNS(Data!Vehicle_Classification)))))","v":""}]
[null,null,null,null,null,null,null,null,null,null,{"$f":"_xlfn.LET(_xlpm.Rows_Day,24 * (60 / $B$8), _xlpm.Dir_Cols,0,IF(ISBLANK($F36),\"\",SUM(OFFSET(Data!$G$5,(Offsets!$G20-1)*(9 * _xlpm.Rows_Day + 3)+(weekdaycode(K$19)-1)*_xlpm.Rows_Day,_xlpm.Dir_Cols,_xlpm.Rows_Day,1))/SUM(OFFSET(Data!$C$5,(Offsets!$G20-1)*(9 * _xlpm.Rows_Day + 3)+(weekdaycode(K$19)-1)*_xlpm.Rows_Day,_xlpm.Dir_Cols,_xlpm.Rows_Day,COLUMNS(Data!Vehicle_Classification)))))","v":""},{"$f":"_xlfn.LET(_xlpm.Rows_Day,24 * (60 / $B$8), _xlpm.Dir_Cols,(COLUMNS(Data!Vehicle_Classification)+COLUMNS(Data!Vehicle_Speed_Bins)+COLUMNS(Data!Speed)+2),IF(ISBLANK($F36),\"\",SUM(OFFSET(Data!$G$5,(Offsets!$G20-1)*(9 * _xlpm.Rows_Day + 3)+(weekdaycode(K$19)-1)*_xlpm.Rows_Day,_xlpm.Dir_Cols,_xlpm.Rows_Day,1))/SUM(OFFSET(Data!$C$5,(Offsets!$G20-1)*(9 * _xlpm.Rows_Day + 3)+(weekdaycode(K$19)-1)*_xlpm.Rows_Day,_xlpm.Dir_Cols,_xlpm.Rows_Day,COLUMNS(Data!Vehicle_Classification)))))","v":""},{"$f":"_xlfn.LET(_xlpm.Rows_Day,24 * (60 / $B$8), _xlpm.Dir_Cols,0,IF(ISBLANK($F36),\"\",SUM(OFFSET(Data!$G$5,(Offsets!$G20-1)*(9 * _xlpm.Rows_Day + 3)+(weekdaycode(M$19)-1)*_xlpm.Rows_Day,_xlpm.Dir_Cols,_xlpm.Rows_Day,1))/SUM(OFFSET(Data!$C$5,(Offsets!$G20-1)*(9 * _xlpm.Rows_Day + 3)+(weekdaycode(M$19)-1)*_xlpm.Rows_Day,_xlpm.Dir_Cols,_xlpm.Rows_Day,COLUMNS(Data!Vehicle_Classification)))))","v":""},{"$f":"_xlfn.LET(_xlpm.Rows_Day,24 * (60 / $B$8), _xlpm.Dir_Cols,(COLUMNS(Data!Vehicle_Classification)+COLUMNS(Data!Vehicle_Speed_Bins)+COLUMNS(Data!Speed)+2),IF(ISBLANK($F36),\"\",SUM(OFFSET(Data!$G$5,(Offsets!$G20-1)*(9 * _xlpm.Rows_Day + 3)+(weekdaycode(M$19)-1)*_xlpm.Rows_Day,_xlpm.Dir_Cols,_xlpm.Rows_Day,1))/SUM(OFFSET(Data!$C$5,(Offsets!$G20-1)*(9 * _xlpm.Rows_Day + 3)+(weekdaycode(M$19)-1)*_xlpm.Rows_Day,_xlpm.Dir_Cols,_xlpm.Rows_Day,COLUMNS(Data!Vehicle_Classification)))))","v":""},{"$f":"_xlfn.LET(_xlpm.Rows_Day,24 * (60 / $B$8), _xlpm.Dir_Cols,0,IF(ISBLANK($F36),\"\",SUM(OFFSET(Data!$G$5,(Offsets!$G20-1)*(9 * _xlpm.Rows_Day + 3)+(weekdaycode(O$19)-1)*_xlpm.Rows_Day,_xlpm.Dir_Cols,_xlpm.Rows_Day,1))/SUM(OFFSET(Data!$C$5,(Offsets!$G20-1)*(9 * _xlpm.Rows_Day + 3)+(weekdaycode(O$19)-1)*_xlpm.Rows_Day,_xlpm.Dir_Cols,_xlpm.Rows_Day,COLUMNS(Data!Vehicle_Classification)))))","v":""},{"$f":"_xlfn.LET(_xlpm.Rows_Day,24 * (60 / $B$8), _xlpm.Dir_Cols,(COLUMNS(Data!Vehicle_Classification)+COLUMNS(Data!Vehicle_Speed_Bins)+COLUMNS(Data!Speed)+2),IF(ISBLANK($F36),\"\",SUM(OFFSET(Data!$G$5,(Offsets!$G20-1)*(9 * _xlpm.Rows_Day + 3)+(weekdaycode(O$19)-1)*_xlpm.Rows_Day,_xlpm.Dir_Cols,_xlpm.Rows_Day,1))/SUM(OFFSET(Data!$C$5,(Offsets!$G20-1)*(9 * _xlpm.Rows_Day + 3)+(weekdaycode(O$19)-1)*_xlpm.Rows_Day,_xlpm.Dir_Cols,_xlpm.Rows_Day,COLUMNS(Data!Vehicle_Classification)))))","v":""},{"$f":"_xlfn.LET(_xlpm.Rows_Day,24 * (60 / $B$8), _xlpm.Dir_Cols,0,IF(ISBLANK($F36),\"\",SUM(OFFSET(Data!$G$5,(Offsets!$G20-1)*(9 * _xlpm.Rows_Day + 3)+(weekdaycode(Q$19)-1)*_xlpm.Rows_Day,_xlpm.Dir_Cols,_xlpm.Rows_Day,1))/SUM(OFFSET(Data!$C$5,(Offsets!$G20-1)*(9 * _xlpm.Rows_Day + 3)+(weekdaycode(Q$19)-1)*_xlpm.Rows_Day,_xlpm.Dir_Cols,_xlpm.Rows_Day,COLUMNS(Data!Vehicle_Classification)))))","v":""},{"$f":"_xlfn.LET(_xlpm.Rows_Day,24 * (60 / $B$8), _xlpm.Dir_Cols,(COLUMNS(Data!Vehicle_Classification)+COLUMNS(Data!Vehicle_Speed_Bins)+COLUMNS(Data!Speed)+2),IF(ISBLANK($F36),\"\",SUM(OFFSET(Data!$G$5,(Offsets!$G20-1)*(9 * _xlpm.Rows_Day + 3)+(weekdaycode(Q$19)-1)*_xlpm.Rows_Day,_xlpm.Dir_Cols,_xlpm.Rows_Day,1))/SUM(OFFSET(Data!$C$5,(Offsets!$G20-1)*(9 * _xlpm.Rows_Day + 3)+(weekdaycode(Q$19)-1)*_xlpm.Rows_Day,_xlpm.Dir_Cols,_xlpm.Rows_Day,COLUMNS(Data!Vehicle_Classification)))))","v":""},{"$f":"_xlfn.LET(_xlpm.Rows_Day,24 * (60 / $B$8), _xlpm.Dir_Cols,0,IF(ISBLANK($F36),\"\",SUM(OFFSET(Data!$G$5,(Offsets!$G20-1)*(9 * _xlpm.Rows_Day + 3)+(weekdaycode(S$19)-1)*_xlpm.Rows_Day,_xlpm.Dir_Cols,_xlpm.Rows_Day,1))/SUM(OFFSET(Data!$C$5,(Offsets!$G20-1)*(9 * _xlpm.Rows_Day + 3)+(weekdaycode(S$19)-1)*_xlpm.Rows_Day,_xlpm.Dir_Cols,_xlpm.Rows_Day,COLUMNS(Data!Vehicle_Classification)))))","v":""},{"$f":"_xlfn.LET(_xlpm.Rows_Day,24 * (60 / $B$8), _xlpm.Dir_Cols,(COLUMNS(Data!Vehicle_Classification)+COLUMNS(Data!Vehicle_Speed_Bins)+COLUMNS(Data!Speed)+2),IF(ISBLANK($F36),\"\",SUM(OFFSET(Data!$G$5,(Offsets!$G20-1)*(9 * _xlpm.Rows_Day + 3)+(weekdaycode(S$19)-1)*_xlpm.Rows_Day,_xlpm.Dir_Cols,_xlpm.Rows_Day,1))/SUM(OFFSET(Data!$C$5,(Offsets!$G20-1)*(9 * _xlpm.Rows_Day + 3)+(weekdaycode(S$19)-1)*_xlpm.Rows_Day,_xlpm.Dir_Cols,_xlpm.Rows_Day,COLUMNS(Data!Vehicle_Classification)))))","v":""},{"$f":"_xlfn.LET(_xlpm.Rows_Day,24 * (60 / $B$8), _xlpm.Dir_Cols,0,IF(ISBLANK($F36),\"\",SUM(OFFSET(Data!$G$5,(Offsets!$G20-1)*(9 * _xlpm.Rows_Day + 3)+(weekdaycode(U$19)-1)*_xlpm.Rows_Day,_xlpm.Dir_Cols,_xlpm.Rows_Day,1))/SUM(OFFSET(Data!$C$5,(Offsets!$G20-1)*(9 * _xlpm.Rows_Day + 3)+(weekdaycode(U$19)-1)*_xlpm.Rows_Day,_xlpm.Dir_Cols,_xlpm.Rows_Day,COLUMNS(Data!Vehicle_Classification)))))","v":""},{"$f":"_xlfn.LET(_xlpm.Rows_Day,24 * (60 / $B$8), _xlpm.Dir_Cols,(COLUMNS(Data!Vehicle_Classification)+COLUMNS(Data!Vehicle_Speed_Bins)+COLUMNS(Data!Speed)+2),IF(ISBLANK($F36),\"\",SUM(OFFSET(Data!$G$5,(Offsets!$G20-1)*(9 * _xlpm.Rows_Day + 3)+(weekdaycode(U$19)-1)*_xlpm.Rows_Day,_xlpm.Dir_Cols,_xlpm.Rows_Day,1))/SUM(OFFSET(Data!$C$5,(Offsets!$G20-1)*(9 * _xlpm.Rows_Day + 3)+(weekdaycode(U$19)-1)*_xlpm.Rows_Day,_xlpm.Dir_Cols,_xlpm.Rows_Day,COLUMNS(Data!Vehicle_Classification)))))","v":""},{"$f":"_xlfn.LET(_xlpm.Rows_Day,24 * (60 / $B$8), _xlpm.Dir_Cols,0,IF(ISBLANK($F36),\"\",SUM(OFFSET(Data!$G$5,(Offsets!$G20-1)*(9 * _xlpm.Rows_Day + 3)+(weekdaycode(W$19)-1)*_xlpm.Rows_Day,_xlpm.Dir_Cols,_xlpm.Rows_Day,1))/SUM(OFFSET(Data!$C$5,(Offsets!$G20-1)*(9 * _xlpm.Rows_Day + 3)+(weekdaycode(W$19)-1)*_xlpm.Rows_Day,_xlpm.Dir_Cols,_xlpm.Rows_Day,COLUMNS(Data!Vehicle_Classification)))))","v":""},{"$f":"_xlfn.LET(_xlpm.Rows_Day,24 * (60 / $B$8), _xlpm.Dir_Cols,(COLUMNS(Data!Vehicle_Classification)+COLUMNS(Data!Vehicle_Speed_Bins)+COLUMNS(Data!Speed)+2),IF(ISBLANK($F36),\"\",SUM(OFFSET(Data!$G$5,(Offsets!$G20-1)*(9 * _xlpm.Rows_Day + 3)+(weekdaycode(W$19)-1)*_xlpm.Rows_Day,_xlpm.Dir_Cols,_xlpm.Rows_Day,1))/SUM(OFFSET(Data!$C$5,(Offsets!$G20-1)*(9 * _xlpm.Rows_Day + 3)+(weekdaycode(W$19)-1)*_xlpm.Rows_Day,_xlpm.Dir_Cols,_xlpm.Rows_Day,COLUMNS(Data!Vehicle_Classification)))))","v":""}]
[null,null,null,null,null,null,null,null,null,null,{"$f":"_xlfn.LET(_xlpm.Rows_Day,24 * (60 / $B$8), _xlpm.Dir_Cols,0,IF(ISBLANK($F37),\"\",SUM(OFFSET(Data!$G$5,(Offsets!$G21-1)*(9 * _xlpm.Rows_Day + 3)+(weekdaycode(K$19)-1)*_xlpm.Rows_Day,_xlpm.Dir_Cols,_xlpm.Rows_Day,1))/SUM(OFFSET(Data!$C$5,(Offsets!$G21-1)*(9 * _xlpm.Rows_Day + 3)+(weekdaycode(K$19)-1)*_xlpm.Rows_Day,_xlpm.Dir_Cols,_xlpm.Rows_Day,COLUMNS(Data!Vehicle_Classification)))))","v":""},{"$f":"_xlfn.LET(_xlpm.Rows_Day,24 * (60 / $B$8), _xlpm.Dir_Cols,(COLUMNS(Data!Vehicle_Classification)+COLUMNS(Data!Vehicle_Speed_Bins)+COLUMNS(Data!Speed)+2),IF(ISBLANK($F37),\"\",SUM(OFFSET(Data!$G$5,(Offsets!$G21-1)*(9 * _xlpm.Rows_Day + 3)+(weekdaycode(K$19)-1)*_xlpm.Rows_Day,_xlpm.Dir_Cols,_xlpm.Rows_Day,1))/SUM(OFFSET(Data!$C$5,(Offsets!$G21-1)*(9 * _xlpm.Rows_Day + 3)+(weekdaycode(K$19)-1)*_xlpm.Rows_Day,_xlpm.Dir_Cols,_xlpm.Rows_Day,COLUMNS(Data!Vehicle_Classification)))))","v":""},{"$f":"_xlfn.LET(_xlpm.Rows_Day,24 * (60 / $B$8), _xlpm.Dir_Cols,0,IF(ISBLANK($F37),\"\",SUM(OFFSET(Data!$G$5,(Offsets!$G21-1)*(9 * _xlpm.Rows_Day + 3)+(weekdaycode(M$19)-1)*_xlpm.Rows_Day,_xlpm.Dir_Cols,_xlpm.Rows_Day,1))/SUM(OFFSET(Data!$C$5,(Offsets!$G21-1)*(9 * _xlpm.Rows_Day + 3)+(weekdaycode(M$19)-1)*_xlpm.Rows_Day,_xlpm.Dir_Cols,_xlpm.Rows_Day,COLUMNS(Data!Vehicle_Classification)))))","v":""},{"$f":"_xlfn.LET(_xlpm.Rows_Day,24 * (60 / $B$8), _xlpm.Dir_Cols,(COLUMNS(Data!Vehicle_Classification)+COLUMNS(Data!Vehicle_Speed_Bins)+COLUMNS(Data!Speed)+2),IF(ISBLANK($F37),\"\",SUM(OFFSET(Data!$G$5,(Offsets!$G21-1)*(9 * _xlpm.Rows_Day + 3)+(weekdaycode(M$19)-1)*_xlpm.Rows_Day,_xlpm.Dir_Cols,_xlpm.Rows_Day,1))/SUM(OFFSET(Data!$C$5,(Offsets!$G21-1)*(9 * _xlpm.Rows_Day + 3)+(weekdaycode(M$19)-1)*_xlpm.Rows_Day,_xlpm.Dir_Cols,_xlpm.Rows_Day,COLUMNS(Data!Vehicle_Classification)))))","v":""},{"$f":"_xlfn.LET(_xlpm.Rows_Day,24 * (60 / $B$8), _xlpm.Dir_Cols,0,IF(ISBLANK($F37),\"\",SUM(OFFSET(Data!$G$5,(Offsets!$G21-1)*(9 * _xlpm.Rows_Day + 3)+(weekdaycode(O$19)-1)*_xlpm.Rows_Day,_xlpm.Dir_Cols,_xlpm.Rows_Day,1))/SUM(OFFSET(Data!$C$5,(Offsets!$G21-1)*(9 * _xlpm.Rows_Day + 3)+(weekdaycode(O$19)-1)*_xlpm.Rows_Day,_xlpm.Dir_Cols,_xlpm.Rows_Day,COLUMNS(Data!Vehicle_Classification)))))","v":""},{"$f":"_xlfn.LET(_xlpm.Rows_Day,24 * (60 / $B$8), _xlpm.Dir_Cols,(COLUMNS(Data!Vehicle_Classification)+COLUMNS(Data!Vehicle_Speed_Bins)+COLUMNS(Data!Speed)+2),IF(ISBLANK($F37),\"\",SUM(OFFSET(Data!$G$5,(Offsets!$G21-1)*(9 * _xlpm.Rows_Day + 3)+(weekdaycode(O$19)-1)*_xlpm.Rows_Day,_xlpm.Dir_Cols,_xlpm.Rows_Day,1))/SUM(OFFSET(Data!$C$5,(Offsets!$G21-1)*(9 * _xlpm.Rows_Day + 3)+(weekdaycode(O$19)-1)*_xlpm.Rows_Day,_xlpm.Dir_Cols,_xlpm.Rows_Day,COLUMNS(Data!Vehicle_Classification)))))","v":""},{"$f":"_xlfn.LET(_xlpm.Rows_Day,24 * (60 / $B$8), _xlpm.Dir_Cols,0,IF(ISBLANK($F37),\"\",SUM(OFFSET(Data!$G$5,(Offsets!$G21-1)*(9 * _xlpm.Rows_Day + 3)+(weekdaycode(Q$19)-1)*_xlpm.Rows_Day,_xlpm.Dir_Cols,_xlpm.Rows_Day,1))/SUM(OFFSET(Data!$C$5,(Offsets!$G21-1)*(9 * _xlpm.Rows_Day + 3)+(weekdaycode(Q$19)-1)*_xlpm.Rows_Day,_xlpm.Dir_Cols,_xlpm.Rows_Day,COLUMNS(Data!Vehicle_Classification)))))","v":""},{"$f":"_xlfn.LET(_xlpm.Rows_Day,24 * (60 / $B$8), _xlpm.Dir_Cols,(COLUMNS(Data!Vehicle_Classification)+COLUMNS(Data!Vehicle_Speed_Bins)+COLUMNS(Data!Speed)+2),IF(ISBLANK($F37),\"\",SUM(OFFSET(Data!$G$5,(Offsets!$G21-1)*(9 * _xlpm.Rows_Day + 3)+(weekdaycode(Q$19)-1)*_xlpm.Rows_Day,_xlpm.Dir_Cols,_xlpm.Rows_Day,1))/SUM(OFFSET(Data!$C$5,(Offsets!$G21-1)*(9 * _xlpm.Rows_Day + 3)+(weekdaycode(Q$19)-1)*_xlpm.Rows_Day,_xlpm.Dir_Cols,_xlpm.Rows_Day,COLUMNS(Data!Vehicle_Classification)))))","v":""},{"$f":"_xlfn.LET(_xlpm.Rows_Day,24 * (60 / $B$8), _xlpm.Dir_Cols,0,IF(ISBLANK($F37),\"\",SUM(OFFSET(Data!$G$5,(Offsets!$G21-1)*(9 * _xlpm.Rows_Day + 3)+(weekdaycode(S$19)-1)*_xlpm.Rows_Day,_xlpm.Dir_Cols,_xlpm.Rows_Day,1))/SUM(OFFSET(Data!$C$5,(Offsets!$G21-1)*(9 * _xlpm.Rows_Day + 3)+(weekdaycode(S$19)-1)*_xlpm.Rows_Day,_xlpm.Dir_Cols,_xlpm.Rows_Day,COLUMNS(Data!Vehicle_Classification)))))","v":""},{"$f":"_xlfn.LET(_xlpm.Rows_Day,24 * (60 / $B$8), _xlpm.Dir_Cols,(COLUMNS(Data!Vehicle_Classification)+COLUMNS(Data!Vehicle_Speed_Bins)+COLUMNS(Data!Speed)+2),IF(ISBLANK($F37),\"\",SUM(OFFSET(Data!$G$5,(Offsets!$G21-1)*(9 * _xlpm.Rows_Day + 3)+(weekdaycode(S$19)-1)*_xlpm.Rows_Day,_xlpm.Dir_Cols,_xlpm.Rows_Day,1))/SUM(OFFSET(Data!$C$5,(Offsets!$G21-1)*(9 * _xlpm.Rows_Day + 3)+(weekdaycode(S$19)-1)*_xlpm.Rows_Day,_xlpm.Dir_Cols,_xlpm.Rows_Day,COLUMNS(Data!Vehicle_Classification)))))","v":""},{"$f":"_xlfn.LET(_xlpm.Rows_Day,24 * (60 / $B$8), _xlpm.Dir_Cols,0,IF(ISBLANK($F37),\"\",SUM(OFFSET(Data!$G$5,(Offsets!$G21-1)*(9 * _xlpm.Rows_Day + 3)+(weekdaycode(U$19)-1)*_xlpm.Rows_Day,_xlpm.Dir_Cols,_xlpm.Rows_Day,1))/SUM(OFFSET(Data!$C$5,(Offsets!$G21-1)*(9 * _xlpm.Rows_Day + 3)+(weekdaycode(U$19)-1)*_xlpm.Rows_Day,_xlpm.Dir_Cols,_xlpm.Rows_Day,COLUMNS(Data!Vehicle_Classification)))))","v":""},{"$f":"_xlfn.LET(_xlpm.Rows_Day,24 * (60 / $B$8), _xlpm.Dir_Cols,(COLUMNS(Data!Vehicle_Classification)+COLUMNS(Data!Vehicle_Speed_Bins)+COLUMNS(Data!Speed)+2),IF(ISBLANK($F37),\"\",SUM(OFFSET(Data!$G$5,(Offsets!$G21-1)*(9 * _xlpm.Rows_Day + 3)+(weekdaycode(U$19)-1)*_xlpm.Rows_Day,_xlpm.Dir_Cols,_xlpm.Rows_Day,1))/SUM(OFFSET(Data!$C$5,(Offsets!$G21-1)*(9 * _xlpm.Rows_Day + 3)+(weekdaycode(U$19)-1)*_xlpm.Rows_Day,_xlpm.Dir_Cols,_xlpm.Rows_Day,COLUMNS(Data!Vehicle_Classification)))))","v":""},{"$f":"_xlfn.LET(_xlpm.Rows_Day,24 * (60 / $B$8), _xlpm.Dir_Cols,0,IF(ISBLANK($F37),\"\",SUM(OFFSET(Data!$G$5,(Offsets!$G21-1)*(9 * _xlpm.Rows_Day + 3)+(weekdaycode(W$19)-1)*_xlpm.Rows_Day,_xlpm.Dir_Cols,_xlpm.Rows_Day,1))/SUM(OFFSET(Data!$C$5,(Offsets!$G21-1)*(9 * _xlpm.Rows_Day + 3)+(weekdaycode(W$19)-1)*_xlpm.Rows_Day,_xlpm.Dir_Cols,_xlpm.Rows_Day,COLUMNS(Data!Vehicle_Classification)))))","v":""},{"$f":"_xlfn.LET(_xlpm.Rows_Day,24 * (60 / $B$8), _xlpm.Dir_Cols,(COLUMNS(Data!Vehicle_Classification)+COLUMNS(Data!Vehicle_Speed_Bins)+COLUMNS(Data!Speed)+2),IF(ISBLANK($F37),\"\",SUM(OFFSET(Data!$G$5,(Offsets!$G21-1)*(9 * _xlpm.Rows_Day + 3)+(weekdaycode(W$19)-1)*_xlpm.Rows_Day,_xlpm.Dir_Cols,_xlpm.Rows_Day,1))/SUM(OFFSET(Data!$C$5,(Offsets!$G21-1)*(9 * _xlpm.Rows_Day + 3)+(weekdaycode(W$19)-1)*_xlpm.Rows_Day,_xlpm.Dir_Cols,_xlpm.Rows_Day,COLUMNS(Data!Vehicle_Classification)))))","v":""}]
[null,null,null,null,null,null,null,null,null,null,{"$f":"_xlfn.LET(_xlpm.Rows_Day,24 * (60 / $B$8), _xlpm.Dir_Cols,0,IF(ISBLANK($F38),\"\",SUM(OFFSET(Data!$G$5,(Offsets!$G22-1)*(9 * _xlpm.Rows_Day + 3)+(weekdaycode(K$19)-1)*_xlpm.Rows_Day,_xlpm.Dir_Cols,_xlpm.Rows_Day,1))/SUM(OFFSET(Data!$C$5,(Offsets!$G22-1)*(9 * _xlpm.Rows_Day + 3)+(weekdaycode(K$19)-1)*_xlpm.Rows_Day,_xlpm.Dir_Cols,_xlpm.Rows_Day,COLUMNS(Data!Vehicle_Classification)))))","v":""},{"$f":"_xlfn.LET(_xlpm.Rows_Day,24 * (60 / $B$8), _xlpm.Dir_Cols,(COLUMNS(Data!Vehicle_Classification)+COLUMNS(Data!Vehicle_Speed_Bins)+COLUMNS(Data!Speed)+2),IF(ISBLANK($F38),\"\",SUM(OFFSET(Data!$G$5,(Offsets!$G22-1)*(9 * _xlpm.Rows_Day + 3)+(weekdaycode(K$19)-1)*_xlpm.Rows_Day,_xlpm.Dir_Cols,_xlpm.Rows_Day,1))/SUM(OFFSET(Data!$C$5,(Offsets!$G22-1)*(9 * _xlpm.Rows_Day + 3)+(weekdaycode(K$19)-1)*_xlpm.Rows_Day,_xlpm.Dir_Cols,_xlpm.Rows_Day,COLUMNS(Data!Vehicle_Classification)))))","v":""},{"$f":"_xlfn.LET(_xlpm.Rows_Day,24 * (60 / $B$8), _xlpm.Dir_Cols,0,IF(ISBLANK($F38),\"\",SUM(OFFSET(Data!$G$5,(Offsets!$G22-1)*(9 * _xlpm.Rows_Day + 3)+(weekdaycode(M$19)-1)*_xlpm.Rows_Day,_xlpm.Dir_Cols,_xlpm.Rows_Day,1))/SUM(OFFSET(Data!$C$5,(Offsets!$G22-1)*(9 * _xlpm.Rows_Day + 3)+(weekdaycode(M$19)-1)*_xlpm.Rows_Day,_xlpm.Dir_Cols,_xlpm.Rows_Day,COLUMNS(Data!Vehicle_Classification)))))","v":""},{"$f":"_xlfn.LET(_xlpm.Rows_Day,24 * (60 / $B$8), _xlpm.Dir_Cols,(COLUMNS(Data!Vehicle_Classification)+COLUMNS(Data!Vehicle_Speed_Bins)+COLUMNS(Data!Speed)+2),IF(ISBLANK($F38),\"\",SUM(OFFSET(Data!$G$5,(Offsets!$G22-1)*(9 * _xlpm.Rows_Day + 3)+(weekdaycode(M$19)-1)*_xlpm.Rows_Day,_xlpm.Dir_Cols,_xlpm.Rows_Day,1))/SUM(OFFSET(Data!$C$5,(Offsets!$G22-1)*(9 * _xlpm.Rows_Day + 3)+(weekdaycode(M$19)-1)*_xlpm.Rows_Day,_xlpm.Dir_Cols,_xlpm.Rows_Day,COLUMNS(Data!Vehicle_Classification)))))","v":""},{"$f":"_xlfn.LET(_xlpm.Rows_Day,24 * (60 / $B$8), _xlpm.Dir_Cols,0,IF(ISBLANK($F38),\"\",SUM(OFFSET(Data!$G$5,(Offsets!$G22-1)*(9 * _xlpm.Rows_Day + 3)+(weekdaycode(O$19)-1)*_xlpm.Rows_Day,_xlpm.Dir_Cols,_xlpm.Rows_Day,1))/SUM(OFFSET(Data!$C$5,(Offsets!$G22-1)*(9 * _xlpm.Rows_Day + 3)+(weekdaycode(O$19)-1)*_xlpm.Rows_Day,_xlpm.Dir_Cols,_xlpm.Rows_Day,COLUMNS(Data!Vehicle_Classification)))))","v":""},{"$f":"_xlfn.LET(_xlpm.Rows_Day,24 * (60 / $B$8), _xlpm.Dir_Cols,(COLUMNS(Data!Vehicle_Classification)+COLUMNS(Data!Vehicle_Speed_Bins)+COLUMNS(Data!Speed)+2),IF(ISBLANK($F38),\"\",SUM(OFFSET(Data!$G$5,(Offsets!$G22-1)*(9 * _xlpm.Rows_Day + 3)+(weekdaycode(O$19)-1)*_xlpm.Rows_Day,_xlpm.Dir_Cols,_xlpm.Rows_Day,1))/SUM(OFFSET(Data!$C$5,(Offsets!$G22-1)*(9 * _xlpm.Rows_Day + 3)+(weekdaycode(O$19)-1)*_xlpm.Rows_Day,_xlpm.Dir_Cols,_xlpm.Rows_Day,COLUMNS(Data!Vehicle_Classification)))))","v":""},{"$f":"_xlfn.LET(_xlpm.Rows_Day,24 * (60 / $B$8), _xlpm.Dir_Cols,0,IF(ISBLANK($F38),\"\",SUM(OFFSET(Data!$G$5,(Offsets!$G22-1)*(9 * _xlpm.Rows_Day + 3)+(weekdaycode(Q$19)-1)*_xlpm.Rows_Day,_xlpm.Dir_Cols,_xlpm.Rows_Day,1))/SUM(OFFSET(Data!$C$5,(Offsets!$G22-1)*(9 * _xlpm.Rows_Day + 3)+(weekdaycode(Q$19)-1)*_xlpm.Rows_Day,_xlpm.Dir_Cols,_xlpm.Rows_Day,COLUMNS(Data!Vehicle_Classification)))))","v":""},{"$f":"_xlfn.LET(_xlpm.Rows_Day,24 * (60 / $B$8), _xlpm.Dir_Cols,(COLUMNS(Data!Vehicle_Classification)+COLUMNS(Data!Vehicle_Speed_Bins)+COLUMNS(Data!Speed)+2),IF(ISBLANK($F38),\"\",SUM(OFFSET(Data!$G$5,(Offsets!$G22-1)*(9 * _xlpm.Rows_Day + 3)+(weekdaycode(Q$19)-1)*_xlpm.Rows_Day,_xlpm.Dir_Cols,_xlpm.Rows_Day,1))/SUM(OFFSET(Data!$C$5,(Offsets!$G22-1)*(9 * _xlpm.Rows_Day + 3)+(weekdaycode(Q$19)-1)*_xlpm.Rows_Day,_xlpm.Dir_Cols,_xlpm.Rows_Day,COLUMNS(Data!Vehicle_Classification)))))","v":""},{"$f":"_xlfn.LET(_xlpm.Rows_Day,24 * (60 / $B$8), _xlpm.Dir_Cols,0,IF(ISBLANK($F38),\"\",SUM(OFFSET(Data!$G$5,(Offsets!$G22-1)*(9 * _xlpm.Rows_Day + 3)+(weekdaycode(S$19)-1)*_xlpm.Rows_Day,_xlpm.Dir_Cols,_xlpm.Rows_Day,1))/SUM(OFFSET(Data!$C$5,(Offsets!$G22-1)*(9 * _xlpm.Rows_Day + 3)+(weekdaycode(S$19)-1)*_xlpm.Rows_Day,_xlpm.Dir_Cols,_xlpm.Rows_Day,COLUMNS(Data!Vehicle_Classification)))))","v":""},{"$f":"_xlfn.LET(_xlpm.Rows_Day,24 * (60 / $B$8), _xlpm.Dir_Cols,(COLUMNS(Data!Vehicle_Classification)+COLUMNS(Data!Vehicle_Speed_Bins)+COLUMNS(Data!Speed)+2),IF(ISBLANK($F38),\"\",SUM(OFFSET(Data!$G$5,(Offsets!$G22-1)*(9 * _xlpm.Rows_Day + 3)+(weekdaycode(S$19)-1)*_xlpm.Rows_Day,_xlpm.Dir_Cols,_xlpm.Rows_Day,1))/SUM(OFFSET(Data!$C$5,(Offsets!$G22-1)*(9 * _xlpm.Rows_Day + 3)+(weekdaycode(S$19)-1)*_xlpm.Rows_Day,_xlpm.Dir_Cols,_xlpm.Rows_Day,COLUMNS(Data!Vehicle_Classification)))))","v":""},{"$f":"_xlfn.LET(_xlpm.Rows_Day,24 * (60 / $B$8), _xlpm.Dir_Cols,0,IF(ISBLANK($F38),\"\",SUM(OFFSET(Data!$G$5,(Offsets!$G22-1)*(9 * _xlpm.Rows_Day + 3)+(weekdaycode(U$19)-1)*_xlpm.Rows_Day,_xlpm.Dir_Cols,_xlpm.Rows_Day,1))/SUM(OFFSET(Data!$C$5,(Offsets!$G22-1)*(9 * _xlpm.Rows_Day + 3)+(weekdaycode(U$19)-1)*_xlpm.Rows_Day,_xlpm.Dir_Cols,_xlpm.Rows_Day,COLUMNS(Data!Vehicle_Classification)))))","v":""},{"$f":"_xlfn.LET(_xlpm.Rows_Day,24 * (60 / $B$8), _xlpm.Dir_Cols,(COLUMNS(Data!Vehicle_Classification)+COLUMNS(Data!Vehicle_Speed_Bins)+COLUMNS(Data!Speed)+2),IF(ISBLANK($F38),\"\",SUM(OFFSET(Data!$G$5,(Offsets!$G22-1)*(9 * _xlpm.Rows_Day + 3)+(weekdaycode(U$19)-1)*_xlpm.Rows_Day,_xlpm.Dir_Cols,_xlpm.Rows_Day,1))/SUM(OFFSET(Data!$C$5,(Offsets!$G22-1)*(9 * _xlpm.Rows_Day + 3)+(weekdaycode(U$19)-1)*_xlpm.Rows_Day,_xlpm.Dir_Cols,_xlpm.Rows_Day,COLUMNS(Data!Vehicle_Classification)))))","v":""},{"$f":"_xlfn.LET(_xlpm.Rows_Day,24 * (60 / $B$8), _xlpm.Dir_Cols,0,IF(ISBLANK($F38),\"\",SUM(OFFSET(Data!$G$5,(Offsets!$G22-1)*(9 * _xlpm.Rows_Day + 3)+(weekdaycode(W$19)-1)*_xlpm.Rows_Day,_xlpm.Dir_Cols,_xlpm.Rows_Day,1))/SUM(OFFSET(Data!$C$5,(Offsets!$G22-1)*(9 * _xlpm.Rows_Day + 3)+(weekdaycode(W$19)-1)*_xlpm.Rows_Day,_xlpm.Dir_Cols,_xlpm.Rows_Day,COLUMNS(Data!Vehicle_Classification)))))","v":""},{"$f":"_xlfn.LET(_xlpm.Rows_Day,24 * (60 / $B$8), _xlpm.Dir_Cols,(COLUMNS(Data!Vehicle_Classification)+COLUMNS(Data!Vehicle_Speed_Bins)+COLUMNS(Data!Speed)+2),IF(ISBLANK($F38),\"\",SUM(OFFSET(Data!$G$5,(Offsets!$G22-1)*(9 * _xlpm.Rows_Day + 3)+(weekdaycode(W$19)-1)*_xlpm.Rows_Day,_xlpm.Dir_Cols,_xlpm.Rows_Day,1))/SUM(OFFSET(Data!$C$5,(Offsets!$G22-1)*(9 * _xlpm.Rows_Day + 3)+(weekdaycode(W$19)-1)*_xlpm.Rows_Day,_xlpm.Dir_Cols,_xlpm.Rows_Day,COLUMNS(Data!Vehicle_Classification)))))","v":""}]
[null,null,null,null,null,null,null,null,null,null,{"$f":"_xlfn.LET(_xlpm.Rows_Day,24 * (60 / $B$8), _xlpm.Dir_Cols,0,IF(ISBLANK($F39),\"\",SUM(OFFSET(Data!$G$5,(Offsets!$G23-1)*(9 * _xlpm.Rows_Day + 3)+(weekdaycode(K$19)-1)*_xlpm.Rows_Day,_xlpm.Dir_Cols,_xlpm.Rows_Day,1))/SUM(OFFSET(Data!$C$5,(Offsets!$G23-1)*(9 * _xlpm.Rows_Day + 3)+(weekdaycode(K$19)-1)*_xlpm.Rows_Day,_xlpm.Dir_Cols,_xlpm.Rows_Day,COLUMNS(Data!Vehicle_Classification)))))","v":""},{"$f":"_xlfn.LET(_xlpm.Rows_Day,24 * (60 / $B$8), _xlpm.Dir_Cols,(COLUMNS(Data!Vehicle_Classification)+COLUMNS(Data!Vehicle_Speed_Bins)+COLUMNS(Data!Speed)+2),IF(ISBLANK($F39),\"\",SUM(OFFSET(Data!$G$5,(Offsets!$G23-1)*(9 * _xlpm.Rows_Day + 3)+(weekdaycode(K$19)-1)*_xlpm.Rows_Day,_xlpm.Dir_Cols,_xlpm.Rows_Day,1))/SUM(OFFSET(Data!$C$5,(Offsets!$G23-1)*(9 * _xlpm.Rows_Day + 3)+(weekdaycode(K$19)-1)*_xlpm.Rows_Day,_xlpm.Dir_Cols,_xlpm.Rows_Day,COLUMNS(Data!Vehicle_Classification)))))","v":""},{"$f":"_xlfn.LET(_xlpm.Rows_Day,24 * (60 / $B$8), _xlpm.Dir_Cols,0,IF(ISBLANK($F39),\"\",SUM(OFFSET(Data!$G$5,(Offsets!$G23-1)*(9 * _xlpm.Rows_Day + 3)+(weekdaycode(M$19)-1)*_xlpm.Rows_Day,_xlpm.Dir_Cols,_xlpm.Rows_Day,1))/SUM(OFFSET(Data!$C$5,(Offsets!$G23-1)*(9 * _xlpm.Rows_Day + 3)+(weekdaycode(M$19)-1)*_xlpm.Rows_Day,_xlpm.Dir_Cols,_xlpm.Rows_Day,COLUMNS(Data!Vehicle_Classification)))))","v":""},{"$f":"_xlfn.LET(_xlpm.Rows_Day,24 * (60 / $B$8), _xlpm.Dir_Cols,(COLUMNS(Data!Vehicle_Classification)+COLUMNS(Data!Vehicle_Speed_Bins)+COLUMNS(Data!Speed)+2),IF(ISBLANK($F39),\"\",SUM(OFFSET(Data!$G$5,(Offsets!$G23-1)*(9 * _xlpm.Rows_Day + 3)+(weekdaycode(M$19)-1)*_xlpm.Rows_Day,_xlpm.Dir_Cols,_xlpm.Rows_Day,1))/SUM(OFFSET(Data!$C$5,(Offsets!$G23-1)*(9 * _xlpm.Rows_Day + 3)+(weekdaycode(M$19)-1)*_xlpm.Rows_Day,_xlpm.Dir_Cols,_xlpm.Rows_Day,COLUMNS(Data!Vehicle_Classification)))))","v":""},{"$f":"_xlfn.LET(_xlpm.Rows_Day,24 * (60 / $B$8), _xlpm.Dir_Cols,0,IF(ISBLANK($F39),\"\",SUM(OFFSET(Data!$G$5,(Offsets!$G23-1)*(9 * _xlpm.Rows_Day + 3)+(weekdaycode(O$19)-1)*_xlpm.Rows_Day,_xlpm.Dir_Cols,_xlpm.Rows_Day,1))/SUM(OFFSET(Data!$C$5,(Offsets!$G23-1)*(9 * _xlpm.Rows_Day + 3)+(weekdaycode(O$19)-1)*_xlpm.Rows_Day,_xlpm.Dir_Cols,_xlpm.Rows_Day,COLUMNS(Data!Vehicle_Classification)))))","v":""},{"$f":"_xlfn.LET(_xlpm.Rows_Day,24 * (60 / $B$8), _xlpm.Dir_Cols,(COLUMNS(Data!Vehicle_Classification)+COLUMNS(Data!Vehicle_Speed_Bins)+COLUMNS(Data!Speed)+2),IF(ISBLANK($F39),\"\",SUM(OFFSET(Data!$G$5,(Offsets!$G23-1)*(9 * _xlpm.Rows_Day + 3)+(weekdaycode(O$19)-1)*_xlpm.Rows_Day,_xlpm.Dir_Cols,_xlpm.Rows_Day,1))/SUM(OFFSET(Data!$C$5,(Offsets!$G23-1)*(9 * _xlpm.Rows_Day + 3)+(weekdaycode(O$19)-1)*_xlpm.Rows_Day,_xlpm.Dir_Cols,_xlpm.Rows_Day,COLUMNS(Data!Vehicle_Classification)))))","v":""},{"$f":"_xlfn.LET(_xlpm.Rows_Day,24 * (60 / $B$8), _xlpm.Dir_Cols,0,IF(ISBLANK($F39),\"\",SUM(OFFSET(Data!$G$5,(Offsets!$G23-1)*(9 * _xlpm.Rows_Day + 3)+(weekdaycode(Q$19)-1)*_xlpm.Rows_Day,_xlpm.Dir_Cols,_xlpm.Rows_Day,1))/SUM(OFFSET(Data!$C$5,(Offsets!$G23-1)*(9 * _xlpm.Rows_Day + 3)+(weekdaycode(Q$19)-1)*_xlpm.Rows_Day,_xlpm.Dir_Cols,_xlpm.Rows_Day,COLUMNS(Data!Vehicle_Classification)))))","v":""},{"$f":"_xlfn.LET(_xlpm.Rows_Day,24 * (60 / $B$8), _xlpm.Dir_Cols,(COLUMNS(Data!Vehicle_Classification)+COLUMNS(Data!Vehicle_Speed_Bins)+COLUMNS(Data!Speed)+2),IF(ISBLANK($F39),\"\",SUM(OFFSET(Data!$G$5,(Offsets!$G23-1)*(9 * _xlpm.Rows_Day + 3)+(weekdaycode(Q$19)-1)*_xlpm.Rows_Day,_xlpm.Dir_Cols,_xlpm.Rows_Day,1))/SUM(OFFSET(Data!$C$5,(Offsets!$G23-1)*(9 * _xlpm.Rows_Day + 3)+(weekdaycode(Q$19)-1)*_xlpm.Rows_Day,_xlpm.Dir_Cols,_xlpm.Rows_Day,COLUMNS(Data!Vehicle_Classification)))))","v":""},{"$f":"_xlfn.LET(_xlpm.Rows_Day,24 * (60 / $B$8), _xlpm.Dir_Cols,0,IF(ISBLANK($F39),\"\",SUM(OFFSET(Data!$G$5,(Offsets!$G23-1)*(9 * _xlpm.Rows_Day + 3)+(weekdaycode(S$19)-1)*_xlpm.Rows_Day,_xlpm.Dir_Cols,_xlpm.Rows_Day,1))/SUM(OFFSET(Data!$C$5,(Offsets!$G23-1)*(9 * _xlpm.Rows_Day + 3)+(weekdaycode(S$19)-1)*_xlpm.Rows_Day,_xlpm.Dir_Cols,_xlpm.Rows_Day,COLUMNS(Data!Vehicle_Classification)))))","v":""},{"$f":"_xlfn.LET(_xlpm.Rows_Day,24 * (60 / $B$8), _xlpm.Dir_Cols,(COLUMNS(Data!Vehicle_Classification)+COLUMNS(Data!Vehicle_Speed_Bins)+COLUMNS(Data!Speed)+2),IF(ISBLANK($F39),\"\",SUM(OFFSET(Data!$G$5,(Offsets!$G23-1)*(9 * _xlpm.Rows_Day + 3)+(weekdaycode(S$19)-1)*_xlpm.Rows_Day,_xlpm.Dir_Cols,_xlpm.Rows_Day,1))/SUM(OFFSET(Data!$C$5,(Offsets!$G23-1)*(9 * _xlpm.Rows_Day + 3)+(weekdaycode(S$19)-1)*_xlpm.Rows_Day,_xlpm.Dir_Cols,_xlpm.Rows_Day,COLUMNS(Data!Vehicle_Classification)))))","v":""},{"$f":"_xlfn.LET(_xlpm.Rows_Day,24 * (60 / $B$8), _xlpm.Dir_Cols,0,IF(ISBLANK($F39),\"\",SUM(OFFSET(Data!$G$5,(Offsets!$G23-1)*(9 * _xlpm.Rows_Day + 3)+(weekdaycode(U$19)-1)*_xlpm.Rows_Day,_xlpm.Dir_Cols,_xlpm.Rows_Day,1))/SUM(OFFSET(Data!$C$5,(Offsets!$G23-1)*(9 * _xlpm.Rows_Day + 3)+(weekdaycode(U$19)-1)*_xlpm.Rows_Day,_xlpm.Dir_Cols,_xlpm.Rows_Day,COLUMNS(Data!Vehicle_Classification)))))","v":""},{"$f":"_xlfn.LET(_xlpm.Rows_Day,24 * (60 / $B$8), _xlpm.Dir_Cols,(COLUMNS(Data!Vehicle_Classification)+COLUMNS(Data!Vehicle_Speed_Bins)+COLUMNS(Data!Speed)+2),IF(ISBLANK($F39),\"\",SUM(OFFSET(Data!$G$5,(Offsets!$G23-1)*(9 * _xlpm.Rows_Day + 3)+(weekdaycode(U$19)-1)*_xlpm.Rows_Day,_xlpm.Dir_Cols,_xlpm.Rows_Day,1))/SUM(OFFSET(Data!$C$5,(Offsets!$G23-1)*(9 * _xlpm.Rows_Day + 3)+(weekdaycode(U$19)-1)*_xlpm.Rows_Day,_xlpm.Dir_Cols,_xlpm.Rows_Day,COLUMNS(Data!Vehicle_Classification)))))","v":""},{"$f":"_xlfn.LET(_xlpm.Rows_Day,24 * (60 / $B$8), _xlpm.Dir_Cols,0,IF(ISBLANK($F39),\"\",SUM(OFFSET(Data!$G$5,(Offsets!$G23-1)*(9 * _xlpm.Rows_Day + 3)+(weekdaycode(W$19)-1)*_xlpm.Rows_Day,_xlpm.Dir_Cols,_xlpm.Rows_Day,1))/SUM(OFFSET(Data!$C$5,(Offsets!$G23-1)*(9 * _xlpm.Rows_Day + 3)+(weekdaycode(W$19)-1)*_xlpm.Rows_Day,_xlpm.Dir_Cols,_xlpm.Rows_Day,COLUMNS(Data!Vehicle_Classification)))))","v":""},{"$f":"_xlfn.LET(_xlpm.Rows_Day,24 * (60 / $B$8), _xlpm.Dir_Cols,(COLUMNS(Data!Vehicle_Classification)+COLUMNS(Data!Vehicle_Speed_Bins)+COLUMNS(Data!Speed)+2),IF(ISBLANK($F39),\"\",SUM(OFFSET(Data!$G$5,(Offsets!$G23-1)*(9 * _xlpm.Rows_Day + 3)+(weekdaycode(W$19)-1)*_xlpm.Rows_Day,_xlpm.Dir_Cols,_xlpm.Rows_Day,1))/SUM(OFFSET(Data!$C$5,(Offsets!$G23-1)*(9 * _xlpm.Rows_Day + 3)+(weekdaycode(W$19)-1)*_xlpm.Rows_Day,_xlpm.Dir_Cols,_xlpm.Rows_Day,COLUMNS(Data!Vehicle_Classification)))))","v":""}]
[null,null,null,null,null,null,null,null,null,null,{"$f":"_xlfn.LET(_xlpm.Rows_Day,24 * (60 / $B$8), _xlpm.Dir_Cols,0,IF(ISBLANK($F40),\"\",SUM(OFFSET(Data!$G$5,(Offsets!$G24-1)*(9 * _xlpm.Rows_Day + 3)+(weekdaycode(K$19)-1)*_xlpm.Rows_Day,_xlpm.Dir_Cols,_xlpm.Rows_Day,1))/SUM(OFFSET(Data!$C$5,(Offsets!$G24-1)*(9 * _xlpm.Rows_Day + 3)+(weekdaycode(K$19)-1)*_xlpm.Rows_Day,_xlpm.Dir_Cols,_xlpm.Rows_Day,COLUMNS(Data!Vehicle_Classification)))))","v":""},{"$f":"_xlfn.LET(_xlpm.Rows_Day,24 * (60 / $B$8), _xlpm.Dir_Cols,(COLUMNS(Data!Vehicle_Classification)+COLUMNS(Data!Vehicle_Speed_Bins)+COLUMNS(Data!Speed)+2),IF(ISBLANK($F40),\"\",SUM(OFFSET(Data!$G$5,(Offsets!$G24-1)*(9 * _xlpm.Rows_Day + 3)+(weekdaycode(K$19)-1)*_xlpm.Rows_Day,_xlpm.Dir_Cols,_xlpm.Rows_Day,1))/SUM(OFFSET(Data!$C$5,(Offsets!$G24-1)*(9 * _xlpm.Rows_Day + 3)+(weekdaycode(K$19)-1)*_xlpm.Rows_Day,_xlpm.Dir_Cols,_xlpm.Rows_Day,COLUMNS(Data!Vehicle_Classification)))))","v":""},{"$f":"_xlfn.LET(_xlpm.Rows_Day,24 * (60 / $B$8), _xlpm.Dir_Cols,0,IF(ISBLANK($F40),\"\",SUM(OFFSET(Data!$G$5,(Offsets!$G24-1)*(9 * _xlpm.Rows_Day + 3)+(weekdaycode(M$19)-1)*_xlpm.Rows_Day,_xlpm.Dir_Cols,_xlpm.Rows_Day,1))/SUM(OFFSET(Data!$C$5,(Offsets!$G24-1)*(9 * _xlpm.Rows_Day + 3)+(weekdaycode(M$19)-1)*_xlpm.Rows_Day,_xlpm.Dir_Cols,_xlpm.Rows_Day,COLUMNS(Data!Vehicle_Classification)))))","v":""},{"$f":"_xlfn.LET(_xlpm.Rows_Day,24 * (60 / $B$8), _xlpm.Dir_Cols,(COLUMNS(Data!Vehicle_Classification)+COLUMNS(Data!Vehicle_Speed_Bins)+COLUMNS(Data!Speed)+2),IF(ISBLANK($F40),\"\",SUM(OFFSET(Data!$G$5,(Offsets!$G24-1)*(9 * _xlpm.Rows_Day + 3)+(weekdaycode(M$19)-1)*_xlpm.Rows_Day,_xlpm.Dir_Cols,_xlpm.Rows_Day,1))/SUM(OFFSET(Data!$C$5,(Offsets!$G24-1)*(9 * _xlpm.Rows_Day + 3)+(weekdaycode(M$19)-1)*_xlpm.Rows_Day,_xlpm.Dir_Cols,_xlpm.Rows_Day,COLUMNS(Data!Vehicle_Classification)))))","v":""},{"$f":"_xlfn.LET(_xlpm.Rows_Day,24 * (60 / $B$8), _xlpm.Dir_Cols,0,IF(ISBLANK($F40),\"\",SUM(OFFSET(Data!$G$5,(Offsets!$G24-1)*(9 * _xlpm.Rows_Day + 3)+(weekdaycode(O$19)-1)*_xlpm.Rows_Day,_xlpm.Dir_Cols,_xlpm.Rows_Day,1))/SUM(OFFSET(Data!$C$5,(Offsets!$G24-1)*(9 * _xlpm.Rows_Day + 3)+(weekdaycode(O$19)-1)*_xlpm.Rows_Day,_xlpm.Dir_Cols,_xlpm.Rows_Day,COLUMNS(Data!Vehicle_Classification)))))","v":""},{"$f":"_xlfn.LET(_xlpm.Rows_Day,24 * (60 / $B$8), _xlpm.Dir_Cols,(COLUMNS(Data!Vehicle_Classification)+COLUMNS(Data!Vehicle_Speed_Bins)+COLUMNS(Data!Speed)+2),IF(ISBLANK($F40),\"\",SUM(OFFSET(Data!$G$5,(Offsets!$G24-1)*(9 * _xlpm.Rows_Day + 3)+(weekdaycode(O$19)-1)*_xlpm.Rows_Day,_xlpm.Dir_Cols,_xlpm.Rows_Day,1))/SUM(OFFSET(Data!$C$5,(Offsets!$G24-1)*(9 * _xlpm.Rows_Day + 3)+(weekdaycode(O$19)-1)*_xlpm.Rows_Day,_xlpm.Dir_Cols,_xlpm.Rows_Day,COLUMNS(Data!Vehicle_Classification)))))","v":""},{"$f":"_xlfn.LET(_xlpm.Rows_Day,24 * (60 / $B$8), _xlpm.Dir_Cols,0,IF(ISBLANK($F40),\"\",SUM(OFFSET(Data!$G$5,(Offsets!$G24-1)*(9 * _xlpm.Rows_Day + 3)+(weekdaycode(Q$19)-1)*_xlpm.Rows_Day,_xlpm.Dir_Cols,_xlpm.Rows_Day,1))/SUM(OFFSET(Data!$C$5,(Offsets!$G24-1)*(9 * _xlpm.Rows_Day + 3)+(weekdaycode(Q$19)-1)*_xlpm.Rows_Day,_xlpm.Dir_Cols,_xlpm.Rows_Day,COLUMNS(Data!Vehicle_Classification)))))","v":""},{"$f":"_xlfn.LET(_xlpm.Rows_Day,24 * (60 / $B$8), _xlpm.Dir_Cols,(COLUMNS(Data!Vehicle_Classification)+COLUMNS(Data!Vehicle_Speed_Bins)+COLUMNS(Data!Speed)+2),IF(ISBLANK($F40),\"\",SUM(OFFSET(Data!$G$5,(Offsets!$G24-1)*(9 * _xlpm.Rows_Day + 3)+(weekdaycode(Q$19)-1)*_xlpm.Rows_Day,_xlpm.Dir_Cols,_xlpm.Rows_Day,1))/SUM(OFFSET(Data!$C$5,(Offsets!$G24-1)*(9 * _xlpm.Rows_Day + 3)+(weekdaycode(Q$19)-1)*_xlpm.Rows_Day,_xlpm.Dir_Cols,_xlpm.Rows_Day,COLUMNS(Data!Vehicle_Classification)))))","v":""},{"$f":"_xlfn.LET(_xlpm.Rows_Day,24 * (60 / $B$8), _xlpm.Dir_Cols,0,IF(ISBLANK($F40),\"\",SUM(OFFSET(Data!$G$5,(Offsets!$G24-1)*(9 * _xlpm.Rows_Day + 3)+(weekdaycode(S$19)-1)*_xlpm.Rows_Day,_xlpm.Dir_Cols,_xlpm.Rows_Day,1))/SUM(OFFSET(Data!$C$5,(Offsets!$G24-1)*(9 * _xlpm.Rows_Day + 3)+(weekdaycode(S$19)-1)*_xlpm.Rows_Day,_xlpm.Dir_Cols,_xlpm.Rows_Day,COLUMNS(Data!Vehicle_Classification)))))","v":""},{"$f":"_xlfn.LET(_xlpm.Rows_Day,24 * (60 / $B$8), _xlpm.Dir_Cols,(COLUMNS(Data!Vehicle_Classification)+COLUMNS(Data!Vehicle_Speed_Bins)+COLUMNS(Data!Speed)+2),IF(ISBLANK($F40),\"\",SUM(OFFSET(Data!$G$5,(Offsets!$G24-1)*(9 * _xlpm.Rows_Day + 3)+(weekdaycode(S$19)-1)*_xlpm.Rows_Day,_xlpm.Dir_Cols,_xlpm.Rows_Day,1))/SUM(OFFSET(Data!$C$5,(Offsets!$G24-1)*(9 * _xlpm.Rows_Day + 3)+(weekdaycode(S$19)-1)*_xlpm.Rows_Day,_xlpm.Dir_Cols,_xlpm.Rows_Day,COLUMNS(Data!Vehicle_Classification)))))","v":""},{"$f":"_xlfn.LET(_xlpm.Rows_Day,24 * (60 / $B$8), _xlpm.Dir_Cols,0,IF(ISBLANK($F40),\"\",SUM(OFFSET(Data!$G$5,(Offsets!$G24-1)*(9 * _xlpm.Rows_Day + 3)+(weekdaycode(U$19)-1)*_xlpm.Rows_Day,_xlpm.Dir_Cols,_xlpm.Rows_Day,1))/SUM(OFFSET(Data!$C$5,(Offsets!$G24-1)*(9 * _xlpm.Rows_Day + 3)+(weekdaycode(U$19)-1)*_xlpm.Rows_Day,_xlpm.Dir_Cols,_xlpm.Rows_Day,COLUMNS(Data!Vehicle_Classification)))))","v":""},{"$f":"_xlfn.LET(_xlpm.Rows_Day,24 * (60 / $B$8), _xlpm.Dir_Cols,(COLUMNS(Data!Vehicle_Classification)+COLUMNS(Data!Vehicle_Speed_Bins)+COLUMNS(Data!Speed)+2),IF(ISBLANK($F40),\"\",SUM(OFFSET(Data!$G$5,(Offsets!$G24-1)*(9 * _xlpm.Rows_Day + 3)+(weekdaycode(U$19)-1)*_xlpm.Rows_Day,_xlpm.Dir_Cols,_xlpm.Rows_Day,1))/SUM(OFFSET(Data!$C$5,(Offsets!$G24-1)*(9 * _xlpm.Rows_Day + 3)+(weekdaycode(U$19)-1)*_xlpm.Rows_Day,_xlpm.Dir_Cols,_xlpm.Rows_Day,COLUMNS(Data!Vehicle_Classification)))))","v":""},{"$f":"_xlfn.LET(_xlpm.Rows_Day,24 * (60 / $B$8), _xlpm.Dir_Cols,0,IF(ISBLANK($F40),\"\",SUM(OFFSET(Data!$G$5,(Offsets!$G24-1)*(9 * _xlpm.Rows_Day + 3)+(weekdaycode(W$19)-1)*_xlpm.Rows_Day,_xlpm.Dir_Cols,_xlpm.Rows_Day,1))/SUM(OFFSET(Data!$C$5,(Offsets!$G24-1)*(9 * _xlpm.Rows_Day + 3)+(weekdaycode(W$19)-1)*_xlpm.Rows_Day,_xlpm.Dir_Cols,_xlpm.Rows_Day,COLUMNS(Data!Vehicle_Classification)))))","v":""},{"$f":"_xlfn.LET(_xlpm.Rows_Day,24 * (60 / $B$8), _xlpm.Dir_Cols,(COLUMNS(Data!Vehicle_Classification)+COLUMNS(Data!Vehicle_Speed_Bins)+COLUMNS(Data!Speed)+2),IF(ISBLANK($F40),\"\",SUM(OFFSET(Data!$G$5,(Offsets!$G24-1)*(9 * _xlpm.Rows_Day + 3)+(weekdaycode(W$19)-1)*_xlpm.Rows_Day,_xlpm.Dir_Cols,_xlpm.Rows_Day,1))/SUM(OFFSET(Data!$C$5,(Offsets!$G24-1)*(9 * _xlpm.Rows_Day + 3)+(weekdaycode(W$19)-1)*_xlpm.Rows_Day,_xlpm.Dir_Cols,_xlpm.Rows_Day,COLUMNS(Data!Vehicle_Classification)))))","v":""}]
[null,null,null,null,null,null,null,null,null,null,{"$f":"_xlfn.LET(_xlpm.Rows_Day,24 * (60 / $B$8), _xlpm.Dir_Cols,0,IF(ISBLANK($F41),\"\",SUM(OFFSET(Data!$G$5,(Offsets!$G25-1)*(9 * _xlpm.Rows_Day + 3)+(weekdaycode(K$19)-1)*_xlpm.Rows_Day,_xlpm.Dir_Cols,_xlpm.Rows_Day,1))/SUM(OFFSET(Data!$C$5,(Offsets!$G25-1)*(9 * _xlpm.Rows_Day + 3)+(weekdaycode(K$19)-1)*_xlpm.Rows_Day,_xlpm.Dir_Cols,_xlpm.Rows_Day,COLUMNS(Data!Vehicle_Classification)))))","v":""},{"$f":"_xlfn.LET(_xlpm.Rows_Day,24 * (60 / $B$8), _xlpm.Dir_Cols,(COLUMNS(Data!Vehicle_Classification)+COLUMNS(Data!Vehicle_Speed_Bins)+COLUMNS(Data!Speed)+2),IF(ISBLANK($F41),\"\",SUM(OFFSET(Data!$G$5,(Offsets!$G25-1)*(9 * _xlpm.Rows_Day + 3)+(weekdaycode(K$19)-1)*_xlpm.Rows_Day,_xlpm.Dir_Cols,_xlpm.Rows_Day,1))/SUM(OFFSET(Data!$C$5,(Offsets!$G25-1)*(9 * _xlpm.Rows_Day + 3)+(weekdaycode(K$19)-1)*_xlpm.Rows_Day,_xlpm.Dir_Cols,_xlpm.Rows_Day,COLUMNS(Data!Vehicle_Classification)))))","v":""},{"$f":"_xlfn.LET(_xlpm.Rows_Day,24 * (60 / $B$8), _xlpm.Dir_Cols,0,IF(ISBLANK($F41),\"\",SUM(OFFSET(Data!$G$5,(Offsets!$G25-1)*(9 * _xlpm.Rows_Day + 3)+(weekdaycode(M$19)-1)*_xlpm.Rows_Day,_xlpm.Dir_Cols,_xlpm.Rows_Day,1))/SUM(OFFSET(Data!$C$5,(Offsets!$G25-1)*(9 * _xlpm.Rows_Day + 3)+(weekdaycode(M$19)-1)*_xlpm.Rows_Day,_xlpm.Dir_Cols,_xlpm.Rows_Day,COLUMNS(Data!Vehicle_Classification)))))","v":""},{"$f":"_xlfn.LET(_xlpm.Rows_Day,24 * (60 / $B$8), _xlpm.Dir_Cols,(COLUMNS(Data!Vehicle_Classification)+COLUMNS(Data!Vehicle_Speed_Bins)+COLUMNS(Data!Speed)+2),IF(ISBLANK($F41),\"\",SUM(OFFSET(Data!$G$5,(Offsets!$G25-1)*(9 * _xlpm.Rows_Day + 3)+(weekdaycode(M$19)-1)*_xlpm.Rows_Day,_xlpm.Dir_Cols,_xlpm.Rows_Day,1))/SUM(OFFSET(Data!$C$5,(Offsets!$G25-1)*(9 * _xlpm.Rows_Day + 3)+(weekdaycode(M$19)-1)*_xlpm.Rows_Day,_xlpm.Dir_Cols,_xlpm.Rows_Day,COLUMNS(Data!Vehicle_Classification)))))","v":""},{"$f":"_xlfn.LET(_xlpm.Rows_Day,24 * (60 / $B$8), _xlpm.Dir_Cols,0,IF(ISBLANK($F41),\"\",SUM(OFFSET(Data!$G$5,(Offsets!$G25-1)*(9 * _xlpm.Rows_Day + 3)+(weekdaycode(O$19)-1)*_xlpm.Rows_Day,_xlpm.Dir_Cols,_xlpm.Rows_Day,1))/SUM(OFFSET(Data!$C$5,(Offsets!$G25-1)*(9 * _xlpm.Rows_Day + 3)+(weekdaycode(O$19)-1)*_xlpm.Rows_Day,_xlpm.Dir_Cols,_xlpm.Rows_Day,COLUMNS(Data!Vehicle_Classification)))))","v":""},{"$f":"_xlfn.LET(_xlpm.Rows_Day,24 * (60 / $B$8), _xlpm.Dir_Cols,(COLUMNS(Data!Vehicle_Classification)+COLUMNS(Data!Vehicle_Speed_Bins)+COLUMNS(Data!Speed)+2),IF(ISBLANK($F41),\"\",SUM(OFFSET(Data!$G$5,(Offsets!$G25-1)*(9 * _xlpm.Rows_Day + 3)+(weekdaycode(O$19)-1)*_xlpm.Rows_Day,_xlpm.Dir_Cols,_xlpm.Rows_Day,1))/SUM(OFFSET(Data!$C$5,(Offsets!$G25-1)*(9 * _xlpm.Rows_Day + 3)+(weekdaycode(O$19)-1)*_xlpm.Rows_Day,_xlpm.Dir_Cols,_xlpm.Rows_Day,COLUMNS(Data!Vehicle_Classification)))))","v":""},{"$f":"_xlfn.LET(_xlpm.Rows_Day,24 * (60 / $B$8), _xlpm.Dir_Cols,0,IF(ISBLANK($F41),\"\",SUM(OFFSET(Data!$G$5,(Offsets!$G25-1)*(9 * _xlpm.Rows_Day + 3)+(weekdaycode(Q$19)-1)*_xlpm.Rows_Day,_xlpm.Dir_Cols,_xlpm.Rows_Day,1))/SUM(OFFSET(Data!$C$5,(Offsets!$G25-1)*(9 * _xlpm.Rows_Day + 3)+(weekdaycode(Q$19)-1)*_xlpm.Rows_Day,_xlpm.Dir_Cols,_xlpm.Rows_Day,COLUMNS(Data!Vehicle_Classification)))))","v":""},{"$f":"_xlfn.LET(_xlpm.Rows_Day,24 * (60 / $B$8), _xlpm.Dir_Cols,(COLUMNS(Data!Vehicle_Classification)+COLUMNS(Data!Vehicle_Speed_Bins)+COLUMNS(Data!Speed)+2),IF(ISBLANK($F41),\"\",SUM(OFFSET(Data!$G$5,(Offsets!$G25-1)*(9 * _xlpm.Rows_Day + 3)+(weekdaycode(Q$19)-1)*_xlpm.Rows_Day,_xlpm.Dir_Cols,_xlpm.Rows_Day,1))/SUM(OFFSET(Data!$C$5,(Offsets!$G25-1)*(9 * _xlpm.Rows_Day + 3)+(weekdaycode(Q$19)-1)*_xlpm.Rows_Day,_xlpm.Dir_Cols,_xlpm.Rows_Day,COLUMNS(Data!Vehicle_Classification)))))","v":""},{"$f":"_xlfn.LET(_xlpm.Rows_Day,24 * (60 / $B$8), _xlpm.Dir_Cols,0,IF(ISBLANK($F41),\"\",SUM(OFFSET(Data!$G$5,(Offsets!$G25-1)*(9 * _xlpm.Rows_Day + 3)+(weekdaycode(S$19)-1)*_xlpm.Rows_Day,_xlpm.Dir_Cols,_xlpm.Rows_Day,1))/SUM(OFFSET(Data!$C$5,(Offsets!$G25-1)*(9 * _xlpm.Rows_Day + 3)+(weekdaycode(S$19)-1)*_xlpm.Rows_Day,_xlpm.Dir_Cols,_xlpm.Rows_Day,COLUMNS(Data!Vehicle_Classification)))))","v":""},{"$f":"_xlfn.LET(_xlpm.Rows_Day,24 * (60 / $B$8), _xlpm.Dir_Cols,(COLUMNS(Data!Vehicle_Classification)+COLUMNS(Data!Vehicle_Speed_Bins)+COLUMNS(Data!Speed)+2),IF(ISBLANK($F41),\"\",SUM(OFFSET(Data!$G$5,(Offsets!$G25-1)*(9 * _xlpm.Rows_Day + 3)+(weekdaycode(S$19)-1)*_xlpm.Rows_Day,_xlpm.Dir_Cols,_xlpm.Rows_Day,1))/SUM(OFFSET(Data!$C$5,(Offsets!$G25-1)*(9 * _xlpm.Rows_Day + 3)+(weekdaycode(S$19)-1)*_xlpm.Rows_Day,_xlpm.Dir_Cols,_xlpm.Rows_Day,COLUMNS(Data!Vehicle_Classification)))))","v":""},{"$f":"_xlfn.LET(_xlpm.Rows_Day,24 * (60 / $B$8), _xlpm.Dir_Cols,0,IF(ISBLANK($F41),\"\",SUM(OFFSET(Data!$G$5,(Offsets!$G25-1)*(9 * _xlpm.Rows_Day + 3)+(weekdaycode(U$19)-1)*_xlpm.Rows_Day,_xlpm.Dir_Cols,_xlpm.Rows_Day,1))/SUM(OFFSET(Data!$C$5,(Offsets!$G25-1)*(9 * _xlpm.Rows_Day + 3)+(weekdaycode(U$19)-1)*_xlpm.Rows_Day,_xlpm.Dir_Cols,_xlpm.Rows_Day,COLUMNS(Data!Vehicle_Classification)))))","v":""},{"$f":"_xlfn.LET(_xlpm.Rows_Day,24 * (60 / $B$8), _xlpm.Dir_Cols,(COLUMNS(Data!Vehicle_Classification)+COLUMNS(Data!Vehicle_Speed_Bins)+COLUMNS(Data!Speed)+2),IF(ISBLANK($F41),\"\",SUM(OFFSET(Data!$G$5,(Offsets!$G25-1)*(9 * _xlpm.Rows_Day + 3)+(weekdaycode(U$19)-1)*_xlpm.Rows_Day,_xlpm.Dir_Cols,_xlpm.Rows_Day,1))/SUM(OFFSET(Data!$C$5,(Offsets!$G25-1)*(9 * _xlpm.Rows_Day + 3)+(weekdaycode(U$19)-1)*_xlpm.Rows_Day,_xlpm.Dir_Cols,_xlpm.Rows_Day,COLUMNS(Data!Vehicle_Classification)))))","v":""},{"$f":"_xlfn.LET(_xlpm.Rows_Day,24 * (60 / $B$8), _xlpm.Dir_Cols,0,IF(ISBLANK($F41),\"\",SUM(OFFSET(Data!$G$5,(Offsets!$G25-1)*(9 * _xlpm.Rows_Day + 3)+(weekdaycode(W$19)-1)*_xlpm.Rows_Day,_xlpm.Dir_Cols,_xlpm.Rows_Day,1))/SUM(OFFSET(Data!$C$5,(Offsets!$G25-1)*(9 * _xlpm.Rows_Day + 3)+(weekdaycode(W$19)-1)*_xlpm.Rows_Day,_xlpm.Dir_Cols,_xlpm.Rows_Day,COLUMNS(Data!Vehicle_Classification)))))","v":""},{"$f":"_xlfn.LET(_xlpm.Rows_Day,24 * (60 / $B$8), _xlpm.Dir_Cols,(COLUMNS(Data!Vehicle_Classification)+COLUMNS(Data!Vehicle_Speed_Bins)+COLUMNS(Data!Speed)+2),IF(ISBLANK($F41),\"\",SUM(OFFSET(Data!$G$5,(Offsets!$G25-1)*(9 * _xlpm.Rows_Day + 3)+(weekdaycode(W$19)-1)*_xlpm.Rows_Day,_xlpm.Dir_Cols,_xlpm.Rows_Day,1))/SUM(OFFSET(Data!$C$5,(Offsets!$G25-1)*(9 * _xlpm.Rows_Day + 3)+(weekdaycode(W$19)-1)*_xlpm.Rows_Day,_xlpm.Dir_Cols,_xlpm.Rows_Day,COLUMNS(Data!Vehicle_Classification)))))","v":""}]
[null,null,null,null,null,null,null,null,null,null,{"$f":"_xlfn.LET(_xlpm.Rows_Day,24 * (60 / $B$8), _xlpm.Dir_Cols,0,IF(ISBLANK($F42),\"\",SUM(OFFSET(Data!$G$5,(Offsets!$G26-1)*(9 * _xlpm.Rows_Day + 3)+(weekdaycode(K$19)-1)*_xlpm.Rows_Day,_xlpm.Dir_Cols,_xlpm.Rows_Day,1))/SUM(OFFSET(Data!$C$5,(Offsets!$G26-1)*(9 * _xlpm.Rows_Day + 3)+(weekdaycode(K$19)-1)*_xlpm.Rows_Day,_xlpm.Dir_Cols,_xlpm.Rows_Day,COLUMNS(Data!Vehicle_Classification)))))","v":""},{"$f":"_xlfn.LET(_xlpm.Rows_Day,24 * (60 / $B$8), _xlpm.Dir_Cols,(COLUMNS(Data!Vehicle_Classification)+COLUMNS(Data!Vehicle_Speed_Bins)+COLUMNS(Data!Speed)+2),IF(ISBLANK($F42),\"\",SUM(OFFSET(Data!$G$5,(Offsets!$G26-1)*(9 * _xlpm.Rows_Day + 3)+(weekdaycode(K$19)-1)*_xlpm.Rows_Day,_xlpm.Dir_Cols,_xlpm.Rows_Day,1))/SUM(OFFSET(Data!$C$5,(Offsets!$G26-1)*(9 * _xlpm.Rows_Day + 3)+(weekdaycode(K$19)-1)*_xlpm.Rows_Day,_xlpm.Dir_Cols,_xlpm.Rows_Day,COLUMNS(Data!Vehicle_Classification)))))","v":""},{"$f":"_xlfn.LET(_xlpm.Rows_Day,24 * (60 / $B$8), _xlpm.Dir_Cols,0,IF(ISBLANK($F42),\"\",SUM(OFFSET(Data!$G$5,(Offsets!$G26-1)*(9 * _xlpm.Rows_Day + 3)+(weekdaycode(M$19)-1)*_xlpm.Rows_Day,_xlpm.Dir_Cols,_xlpm.Rows_Day,1))/SUM(OFFSET(Data!$C$5,(Offsets!$G26-1)*(9 * _xlpm.Rows_Day + 3)+(weekdaycode(M$19)-1)*_xlpm.Rows_Day,_xlpm.Dir_Cols,_xlpm.Rows_Day,COLUMNS(Data!Vehicle_Classification)))))","v":""},{"$f":"_xlfn.LET(_xlpm.Rows_Day,24 * (60 / $B$8), _xlpm.Dir_Cols,(COLUMNS(Data!Vehicle_Classification)+COLUMNS(Data!Vehicle_Speed_Bins)+COLUMNS(Data!Speed)+2),IF(ISBLANK($F42),\"\",SUM(OFFSET(Data!$G$5,(Offsets!$G26-1)*(9 * _xlpm.Rows_Day + 3)+(weekdaycode(M$19)-1)*_xlpm.Rows_Day,_xlpm.Dir_Cols,_xlpm.Rows_Day,1))/SUM(OFFSET(Data!$C$5,(Offsets!$G26-1)*(9 * _xlpm.Rows_Day + 3)+(weekdaycode(M$19)-1)*_xlpm.Rows_Day,_xlpm.Dir_Cols,_xlpm.Rows_Day,COLUMNS(Data!Vehicle_Classification)))))","v":""},{"$f":"_xlfn.LET(_xlpm.Rows_Day,24 * (60 / $B$8), _xlpm.Dir_Cols,0,IF(ISBLANK($F42),\"\",SUM(OFFSET(Data!$G$5,(Offsets!$G26-1)*(9 * _xlpm.Rows_Day + 3)+(weekdaycode(O$19)-1)*_xlpm.Rows_Day,_xlpm.Dir_Cols,_xlpm.Rows_Day,1))/SUM(OFFSET(Data!$C$5,(Offsets!$G26-1)*(9 * _xlpm.Rows_Day + 3)+(weekdaycode(O$19)-1)*_xlpm.Rows_Day,_xlpm.Dir_Cols,_xlpm.Rows_Day,COLUMNS(Data!Vehicle_Classification)))))","v":""},{"$f":"_xlfn.LET(_xlpm.Rows_Day,24 * (60 / $B$8), _xlpm.Dir_Cols,(COLUMNS(Data!Vehicle_Classification)+COLUMNS(Data!Vehicle_Speed_Bins)+COLUMNS(Data!Speed)+2),IF(ISBLANK($F42),\"\",SUM(OFFSET(Data!$G$5,(Offsets!$G26-1)*(9 * _xlpm.Rows_Day + 3)+(weekdaycode(O$19)-1)*_xlpm.Rows_Day,_xlpm.Dir_Cols,_xlpm.Rows_Day,1))/SUM(OFFSET(Data!$C$5,(Offsets!$G26-1)*(9 * _xlpm.Rows_Day + 3)+(weekdaycode(O$19)-1)*_xlpm.Rows_Day,_xlpm.Dir_Cols,_xlpm.Rows_Day,COLUMNS(Data!Vehicle_Classification)))))","v":""},{"$f":"_xlfn.LET(_xlpm.Rows_Day,24 * (60 / $B$8), _xlpm.Dir_Cols,0,IF(ISBLANK($F42),\"\",SUM(OFFSET(Data!$G$5,(Offsets!$G26-1)*(9 * _xlpm.Rows_Day + 3)+(weekdaycode(Q$19)-1)*_xlpm.Rows_Day,_xlpm.Dir_Cols,_xlpm.Rows_Day,1))/SUM(OFFSET(Data!$C$5,(Offsets!$G26-1)*(9 * _xlpm.Rows_Day + 3)+(weekdaycode(Q$19)-1)*_xlpm.Rows_Day,_xlpm.Dir_Cols,_xlpm.Rows_Day,COLUMNS(Data!Vehicle_Classification)))))","v":""},{"$f":"_xlfn.LET(_xlpm.Rows_Day,24 * (60 / $B$8), _xlpm.Dir_Cols,(COLUMNS(Data!Vehicle_Classification)+COLUMNS(Data!Vehicle_Speed_Bins)+COLUMNS(Data!Speed)+2),IF(ISBLANK($F42),\"\",SUM(OFFSET(Data!$G$5,(Offsets!$G26-1)*(9 * _xlpm.Rows_Day + 3)+(weekdaycode(Q$19)-1)*_xlpm.Rows_Day,_xlpm.Dir_Cols,_xlpm.Rows_Day,1))/SUM(OFFSET(Data!$C$5,(Offsets!$G26-1)*(9 * _xlpm.Rows_Day + 3)+(weekdaycode(Q$19)-1)*_xlpm.Rows_Day,_xlpm.Dir_Cols,_xlpm.Rows_Day,COLUMNS(Data!Vehicle_Classification)))))","v":""},{"$f":"_xlfn.LET(_xlpm.Rows_Day,24 * (60 / $B$8), _xlpm.Dir_Cols,0,IF(ISBLANK($F42),\"\",SUM(OFFSET(Data!$G$5,(Offsets!$G26-1)*(9 * _xlpm.Rows_Day + 3)+(weekdaycode(S$19)-1)*_xlpm.Rows_Day,_xlpm.Dir_Cols,_xlpm.Rows_Day,1))/SUM(OFFSET(Data!$C$5,(Offsets!$G26-1)*(9 * _xlpm.Rows_Day + 3)+(weekdaycode(S$19)-1)*_xlpm.Rows_Day,_xlpm.Dir_Cols,_xlpm.Rows_Day,COLUMNS(Data!Vehicle_Classification)))))","v":""},{"$f":"_xlfn.LET(_xlpm.Rows_Day,24 * (60 / $B$8), _xlpm.Dir_Cols,(COLUMNS(Data!Vehicle_Classification)+COLUMNS(Data!Vehicle_Speed_Bins)+COLUMNS(Data!Speed)+2),IF(ISBLANK($F42),\"\",SUM(OFFSET(Data!$G$5,(Offsets!$G26-1)*(9 * _xlpm.Rows_Day + 3)+(weekdaycode(S$19)-1)*_xlpm.Rows_Day,_xlpm.Dir_Cols,_xlpm.Rows_Day,1))/SUM(OFFSET(Data!$C$5,(Offsets!$G26-1)*(9 * _xlpm.Rows_Day + 3)+(weekdaycode(S$19)-1)*_xlpm.Rows_Day,_xlpm.Dir_Cols,_xlpm.Rows_Day,COLUMNS(Data!Vehicle_Classification)))))","v":""},{"$f":"_xlfn.LET(_xlpm.Rows_Day,24 * (60 / $B$8), _xlpm.Dir_Cols,0,IF(ISBLANK($F42),\"\",SUM(OFFSET(Data!$G$5,(Offsets!$G26-1)*(9 * _xlpm.Rows_Day + 3)+(weekdaycode(U$19)-1)*_xlpm.Rows_Day,_xlpm.Dir_Cols,_xlpm.Rows_Day,1))/SUM(OFFSET(Data!$C$5,(Offsets!$G26-1)*(9 * _xlpm.Rows_Day + 3)+(weekdaycode(U$19)-1)*_xlpm.Rows_Day,_xlpm.Dir_Cols,_xlpm.Rows_Day,COLUMNS(Data!Vehicle_Classification)))))","v":""},{"$f":"_xlfn.LET(_xlpm.Rows_Day,24 * (60 / $B$8), _xlpm.Dir_Cols,(COLUMNS(Data!Vehicle_Classification)+COLUMNS(Data!Vehicle_Speed_Bins)+COLUMNS(Data!Speed)+2),IF(ISBLANK($F42),\"\",SUM(OFFSET(Data!$G$5,(Offsets!$G26-1)*(9 * _xlpm.Rows_Day + 3)+(weekdaycode(U$19)-1)*_xlpm.Rows_Day,_xlpm.Dir_Cols,_xlpm.Rows_Day,1))/SUM(OFFSET(Data!$C$5,(Offsets!$G26-1)*(9 * _xlpm.Rows_Day + 3)+(weekdaycode(U$19)-1)*_xlpm.Rows_Day,_xlpm.Dir_Cols,_xlpm.Rows_Day,COLUMNS(Data!Vehicle_Classification)))))","v":""},{"$f":"_xlfn.LET(_xlpm.Rows_Day,24 * (60 / $B$8), _xlpm.Dir_Cols,0,IF(ISBLANK($F42),\"\",SUM(OFFSET(Data!$G$5,(Offsets!$G26-1)*(9 * _xlpm.Rows_Day + 3)+(weekdaycode(W$19)-1)*_xlpm.Rows_Day,_xlpm.Dir_Cols,_xlpm.Rows_Day,1))/SUM(OFFSET(Data!$C$5,(Offsets!$G26-1)*(9 * _xlpm.Rows_Day + 3)+(weekdaycode(W$19)-1)*_xlpm.Rows_Day,_xlpm.Dir_Cols,_xlpm.Rows_Day,COLUMNS(Data!Vehicle_Classification)))))","v":""},{"$f":"_xlfn.LET(_xlpm.Rows_Day,24 * (60 / $B$8), _xlpm.Dir_Cols,(COLUMNS(Data!Vehicle_Classification)+COLUMNS(Data!Vehicle_Speed_Bins)+COLUMNS(Data!Speed)+2),IF(ISBLANK($F42),\"\",SUM(OFFSET(Data!$G$5,(Offsets!$G26-1)*(9 * _xlpm.Rows_Day + 3)+(weekdaycode(W$19)-1)*_xlpm.Rows_Day,_xlpm.Dir_Cols,_xlpm.Rows_Day,1))/SUM(OFFSET(Data!$C$5,(Offsets!$G26-1)*(9 * _xlpm.Rows_Day + 3)+(weekdaycode(W$19)-1)*_xlpm.Rows_Day,_xlpm.Dir_Cols,_xlpm.Rows_Day,COLUMNS(Data!Vehicle_Classification)))))","v":""}]
[null,null,null,null,null,null,null,null,null,null,{"$f":"_xlfn.LET(_xlpm.Rows_Day,24 * (60 / $B$8), _xlpm.Dir_Cols,0,IF(ISBLANK($F43),\"\",SUM(OFFSET(Data!$G$5,(Offsets!$G27-1)*(9 * _xlpm.Rows_Day + 3)+(weekdaycode(K$19)-1)*_xlpm.Rows_Day,_xlpm.Dir_Cols,_xlpm.Rows_Day,1))/SUM(OFFSET(Data!$C$5,(Offsets!$G27-1)*(9 * _xlpm.Rows_Day + 3)+(weekdaycode(K$19)-1)*_xlpm.Rows_Day,_xlpm.Dir_Cols,_xlpm.Rows_Day,COLUMNS(Data!Vehicle_Classification)))))","v":""},{"$f":"_xlfn.LET(_xlpm.Rows_Day,24 * (60 / $B$8), _xlpm.Dir_Cols,(COLUMNS(Data!Vehicle_Classification)+COLUMNS(Data!Vehicle_Speed_Bins)+COLUMNS(Data!Speed)+2),IF(ISBLANK($F43),\"\",SUM(OFFSET(Data!$G$5,(Offsets!$G27-1)*(9 * _xlpm.Rows_Day + 3)+(weekdaycode(K$19)-1)*_xlpm.Rows_Day,_xlpm.Dir_Cols,_xlpm.Rows_Day,1))/SUM(OFFSET(Data!$C$5,(Offsets!$G27-1)*(9 * _xlpm.Rows_Day + 3)+(weekdaycode(K$19)-1)*_xlpm.Rows_Day,_xlpm.Dir_Cols,_xlpm.Rows_Day,COLUMNS(Data!Vehicle_Classification)))))","v":""},{"$f":"_xlfn.LET(_xlpm.Rows_Day,24 * (60 / $B$8), _xlpm.Dir_Cols,0,IF(ISBLANK($F43),\"\",SUM(OFFSET(Data!$G$5,(Offsets!$G27-1)*(9 * _xlpm.Rows_Day + 3)+(weekdaycode(M$19)-1)*_xlpm.Rows_Day,_xlpm.Dir_Cols,_xlpm.Rows_Day,1))/SUM(OFFSET(Data!$C$5,(Offsets!$G27-1)*(9 * _xlpm.Rows_Day + 3)+(weekdaycode(M$19)-1)*_xlpm.Rows_Day,_xlpm.Dir_Cols,_xlpm.Rows_Day,COLUMNS(Data!Vehicle_Classification)))))","v":""},{"$f":"_xlfn.LET(_xlpm.Rows_Day,24 * (60 / $B$8), _xlpm.Dir_Cols,(COLUMNS(Data!Vehicle_Classification)+COLUMNS(Data!Vehicle_Speed_Bins)+COLUMNS(Data!Speed)+2),IF(ISBLANK($F43),\"\",SUM(OFFSET(Data!$G$5,(Offsets!$G27-1)*(9 * _xlpm.Rows_Day + 3)+(weekdaycode(M$19)-1)*_xlpm.Rows_Day,_xlpm.Dir_Cols,_xlpm.Rows_Day,1))/SUM(OFFSET(Data!$C$5,(Offsets!$G27-1)*(9 * _xlpm.Rows_Day + 3)+(weekdaycode(M$19)-1)*_xlpm.Rows_Day,_xlpm.Dir_Cols,_xlpm.Rows_Day,COLUMNS(Data!Vehicle_Classification)))))","v":""},{"$f":"_xlfn.LET(_xlpm.Rows_Day,24 * (60 / $B$8), _xlpm.Dir_Cols,0,IF(ISBLANK($F43),\"\",SUM(OFFSET(Data!$G$5,(Offsets!$G27-1)*(9 * _xlpm.Rows_Day + 3)+(weekdaycode(O$19)-1)*_xlpm.Rows_Day,_xlpm.Dir_Cols,_xlpm.Rows_Day,1))/SUM(OFFSET(Data!$C$5,(Offsets!$G27-1)*(9 * _xlpm.Rows_Day + 3)+(weekdaycode(O$19)-1)*_xlpm.Rows_Day,_xlpm.Dir_Cols,_xlpm.Rows_Day,COLUMNS(Data!Vehicle_Classification)))))","v":""},{"$f":"_xlfn.LET(_xlpm.Rows_Day,24 * (60 / $B$8), _xlpm.Dir_Cols,(COLUMNS(Data!Vehicle_Classification)+COLUMNS(Data!Vehicle_Speed_Bins)+COLUMNS(Data!Speed)+2),IF(ISBLANK($F43),\"\",SUM(OFFSET(Data!$G$5,(Offsets!$G27-1)*(9 * _xlpm.Rows_Day + 3)+(weekdaycode(O$19)-1)*_xlpm.Rows_Day,_xlpm.Dir_Cols,_xlpm.Rows_Day,1))/SUM(OFFSET(Data!$C$5,(Offsets!$G27-1)*(9 * _xlpm.Rows_Day + 3)+(weekdaycode(O$19)-1)*_xlpm.Rows_Day,_xlpm.Dir_Cols,_xlpm.Rows_Day,COLUMNS(Data!Vehicle_Classification)))))","v":""},{"$f":"_xlfn.LET(_xlpm.Rows_Day,24 * (60 / $B$8), _xlpm.Dir_Cols,0,IF(ISBLANK($F43),\"\",SUM(OFFSET(Data!$G$5,(Offsets!$G27-1)*(9 * _xlpm.Rows_Day + 3)+(weekdaycode(Q$19)-1)*_xlpm.Rows_Day,_xlpm.Dir_Cols,_xlpm.Rows_Day,1))/SUM(OFFSET(Data!$C$5,(Offsets!$G27-1)*(9 * _xlpm.Rows_Day + 3)+(weekdaycode(Q$19)-1)*_xlpm.Rows_Day,_xlpm.Dir_Cols,_xlpm.Rows_Day,COLUMNS(Data!Vehicle_Classification)))))","v":""},{"$f":"_xlfn.LET(_xlpm.Rows_Day,24 * (60 / $B$8), _xlpm.Dir_Cols,(COLUMNS(Data!Vehicle_Classification)+COLUMNS(Data!Vehicle_Speed_Bins)+COLUMNS(Data!Speed)+2),IF(ISBLANK($F43),\"\",SUM(OFFSET(Data!$G$5,(Offsets!$G27-1)*(9 * _xlpm.Rows_Day + 3)+(weekdaycode(Q$19)-1)*_xlpm.Rows_Day,_xlpm.Dir_Cols,_xlpm.Rows_Day,1))/SUM(OFFSET(Data!$C$5,(Offsets!$G27-1)*(9 * _xlpm.Rows_Day + 3)+(weekdaycode(Q$19)-1)*_xlpm.Rows_Day,_xlpm.Dir_Cols,_xlpm.Rows_Day,COLUMNS(Data!Vehicle_Classification)))))","v":""},{"$f":"_xlfn.LET(_xlpm.Rows_Day,24 * (60 / $B$8), _xlpm.Dir_Cols,0,IF(ISBLANK($F43),\"\",SUM(OFFSET(Data!$G$5,(Offsets!$G27-1)*(9 * _xlpm.Rows_Day + 3)+(weekdaycode(S$19)-1)*_xlpm.Rows_Day,_xlpm.Dir_Cols,_xlpm.Rows_Day,1))/SUM(OFFSET(Data!$C$5,(Offsets!$G27-1)*(9 * _xlpm.Rows_Day + 3)+(weekdaycode(S$19)-1)*_xlpm.Rows_Day,_xlpm.Dir_Cols,_xlpm.Rows_Day,COLUMNS(Data!Vehicle_Classification)))))","v":""},{"$f":"_xlfn.LET(_xlpm.Rows_Day,24 * (60 / $B$8), _xlpm.Dir_Cols,(COLUMNS(Data!Vehicle_Classification)+COLUMNS(Data!Vehicle_Speed_Bins)+COLUMNS(Data!Speed)+2),IF(ISBLANK($F43),\"\",SUM(OFFSET(Data!$G$5,(Offsets!$G27-1)*(9 * _xlpm.Rows_Day + 3)+(weekdaycode(S$19)-1)*_xlpm.Rows_Day,_xlpm.Dir_Cols,_xlpm.Rows_Day,1))/SUM(OFFSET(Data!$C$5,(Offsets!$G27-1)*(9 * _xlpm.Rows_Day + 3)+(weekdaycode(S$19)-1)*_xlpm.Rows_Day,_xlpm.Dir_Cols,_xlpm.Rows_Day,COLUMNS(Data!Vehicle_Classification)))))","v":""},{"$f":"_xlfn.LET(_xlpm.Rows_Day,24 * (60 / $B$8), _xlpm.Dir_Cols,0,IF(ISBLANK($F43),\"\",SUM(OFFSET(Data!$G$5,(Offsets!$G27-1)*(9 * _xlpm.Rows_Day + 3)+(weekdaycode(U$19)-1)*_xlpm.Rows_Day,_xlpm.Dir_Cols,_xlpm.Rows_Day,1))/SUM(OFFSET(Data!$C$5,(Offsets!$G27-1)*(9 * _xlpm.Rows_Day + 3)+(weekdaycode(U$19)-1)*_xlpm.Rows_Day,_xlpm.Dir_Cols,_xlpm.Rows_Day,COLUMNS(Data!Vehicle_Classification)))))","v":""},{"$f":"_xlfn.LET(_xlpm.Rows_Day,24 * (60 / $B$8), _xlpm.Dir_Cols,(COLUMNS(Data!Vehicle_Classification)+COLUMNS(Data!Vehicle_Speed_Bins)+COLUMNS(Data!Speed)+2),IF(ISBLANK($F43),\"\",SUM(OFFSET(Data!$G$5,(Offsets!$G27-1)*(9 * _xlpm.Rows_Day + 3)+(weekdaycode(U$19)-1)*_xlpm.Rows_Day,_xlpm.Dir_Cols,_xlpm.Rows_Day,1))/SUM(OFFSET(Data!$C$5,(Offsets!$G27-1)*(9 * _xlpm.Rows_Day + 3)+(weekdaycode(U$19)-1)*_xlpm.Rows_Day,_xlpm.Dir_Cols,_xlpm.Rows_Day,COLUMNS(Data!Vehicle_Classification)))))","v":""},{"$f":"_xlfn.LET(_xlpm.Rows_Day,24 * (60 / $B$8), _xlpm.Dir_Cols,0,IF(ISBLANK($F43),\"\",SUM(OFFSET(Data!$G$5,(Offsets!$G27-1)*(9 * _xlpm.Rows_Day + 3)+(weekdaycode(W$19)-1)*_xlpm.Rows_Day,_xlpm.Dir_Cols,_xlpm.Rows_Day,1))/SUM(OFFSET(Data!$C$5,(Offsets!$G27-1)*(9 * _xlpm.Rows_Day + 3)+(weekdaycode(W$19)-1)*_xlpm.Rows_Day,_xlpm.Dir_Cols,_xlpm.Rows_Day,COLUMNS(Data!Vehicle_Classification)))))","v":""},{"$f":"_xlfn.LET(_xlpm.Rows_Day,24 * (60 / $B$8), _xlpm.Dir_Cols,(COLUMNS(Data!Vehicle_Classification)+COLUMNS(Data!Vehicle_Speed_Bins)+COLUMNS(Data!Speed)+2),IF(ISBLANK($F43),\"\",SUM(OFFSET(Data!$G$5,(Offsets!$G27-1)*(9 * _xlpm.Rows_Day + 3)+(weekdaycode(W$19)-1)*_xlpm.Rows_Day,_xlpm.Dir_Cols,_xlpm.Rows_Day,1))/SUM(OFFSET(Data!$C$5,(Offsets!$G27-1)*(9 * _xlpm.Rows_Day + 3)+(weekdaycode(W$19)-1)*_xlpm.Rows_Day,_xlpm.Dir_Cols,_xlpm.Rows_Day,COLUMNS(Data!Vehicle_Classification)))))","v":""}]
[null,null,null,null,null,null,null,null,null,null,{"$f":"_xlfn.LET(_xlpm.Rows_Day,24 * (60 / $B$8), _xlpm.Dir_Cols,0,IF(ISBLANK($F44),\"\",SUM(OFFSET(Data!$G$5,(Offsets!$G28-1)*(9 * _xlpm.Rows_Day + 3)+(weekdaycode(K$19)-1)*_xlpm.Rows_Day,_xlpm.Dir_Cols,_xlpm.Rows_Day,1))/SUM(OFFSET(Data!$C$5,(Offsets!$G28-1)*(9 * _xlpm.Rows_Day + 3)+(weekdaycode(K$19)-1)*_xlpm.Rows_Day,_xlpm.Dir_Cols,_xlpm.Rows_Day,COLUMNS(Data!Vehicle_Classification)))))","v":""},{"$f":"_xlfn.LET(_xlpm.Rows_Day,24 * (60 / $B$8), _xlpm.Dir_Cols,(COLUMNS(Data!Vehicle_Classification)+COLUMNS(Data!Vehicle_Speed_Bins)+COLUMNS(Data!Speed)+2),IF(ISBLANK($F44),\"\",SUM(OFFSET(Data!$G$5,(Offsets!$G28-1)*(9 * _xlpm.Rows_Day + 3)+(weekdaycode(K$19)-1)*_xlpm.Rows_Day,_xlpm.Dir_Cols,_xlpm.Rows_Day,1))/SUM(OFFSET(Data!$C$5,(Offsets!$G28-1)*(9 * _xlpm.Rows_Day + 3)+(weekdaycode(K$19)-1)*_xlpm.Rows_Day,_xlpm.Dir_Cols,_xlpm.Rows_Day,COLUMNS(Data!Vehicle_Classification)))))","v":""},{"$f":"_xlfn.LET(_xlpm.Rows_Day,24 * (60 / $B$8), _xlpm.Dir_Cols,0,IF(ISBLANK($F44),\"\",SUM(OFFSET(Data!$G$5,(Offsets!$G28-1)*(9 * _xlpm.Rows_Day + 3)+(weekdaycode(M$19)-1)*_xlpm.Rows_Day,_xlpm.Dir_Cols,_xlpm.Rows_Day,1))/SUM(OFFSET(Data!$C$5,(Offsets!$G28-1)*(9 * _xlpm.Rows_Day + 3)+(weekdaycode(M$19)-1)*_xlpm.Rows_Day,_xlpm.Dir_Cols,_xlpm.Rows_Day,COLUMNS(Data!Vehicle_Classification)))))","v":""},{"$f":"_xlfn.LET(_xlpm.Rows_Day,24 * (60 / $B$8), _xlpm.Dir_Cols,(COLUMNS(Data!Vehicle_Classification)+COLUMNS(Data!Vehicle_Speed_Bins)+COLUMNS(Data!Speed)+2),IF(ISBLANK($F44),\"\",SUM(OFFSET(Data!$G$5,(Offsets!$G28-1)*(9 * _xlpm.Rows_Day + 3)+(weekdaycode(M$19)-1)*_xlpm.Rows_Day,_xlpm.Dir_Cols,_xlpm.Rows_Day,1))/SUM(OFFSET(Data!$C$5,(Offsets!$G28-1)*(9 * _xlpm.Rows_Day + 3)+(weekdaycode(M$19)-1)*_xlpm.Rows_Day,_xlpm.Dir_Cols,_xlpm.Rows_Day,COLUMNS(Data!Vehicle_Classification)))))","v":""},{"$f":"_xlfn.LET(_xlpm.Rows_Day,24 * (60 / $B$8), _xlpm.Dir_Cols,0,IF(ISBLANK($F44),\"\",SUM(OFFSET(Data!$G$5,(Offsets!$G28-1)*(9 * _xlpm.Rows_Day + 3)+(weekdaycode(O$19)-1)*_xlpm.Rows_Day,_xlpm.Dir_Cols,_xlpm.Rows_Day,1))/SUM(OFFSET(Data!$C$5,(Offsets!$G28-1)*(9 * _xlpm.Rows_Day + 3)+(weekdaycode(O$19)-1)*_xlpm.Rows_Day,_xlpm.Dir_Cols,_xlpm.Rows_Day,COLUMNS(Data!Vehicle_Classification)))))","v":""},{"$f":"_xlfn.LET(_xlpm.Rows_Day,24 * (60 / $B$8), _xlpm.Dir_Cols,(COLUMNS(Data!Vehicle_Classification)+COLUMNS(Data!Vehicle_Speed_Bins)+COLUMNS(Data!Speed)+2),IF(ISBLANK($F44),\"\",SUM(OFFSET(Data!$G$5,(Offsets!$G28-1)*(9 * _xlpm.Rows_Day + 3)+(weekdaycode(O$19)-1)*_xlpm.Rows_Day,_xlpm.Dir_Cols,_xlpm.Rows_Day,1))/SUM(OFFSET(Data!$C$5,(Offsets!$G28-1)*(9 * _xlpm.Rows_Day + 3)+(weekdaycode(O$19)-1)*_xlpm.Rows_Day,_xlpm.Dir_Cols,_xlpm.Rows_Day,COLUMNS(Data!Vehicle_Classification)))))","v":""},{"$f":"_xlfn.LET(_xlpm.Rows_Day,24 * (60 / $B$8), _xlpm.Dir_Cols,0,IF(ISBLANK($F44),\"\",SUM(OFFSET(Data!$G$5,(Offsets!$G28-1)*(9 * _xlpm.Rows_Day + 3)+(weekdaycode(Q$19)-1)*_xlpm.Rows_Day,_xlpm.Dir_Cols,_xlpm.Rows_Day,1))/SUM(OFFSET(Data!$C$5,(Offsets!$G28-1)*(9 * _xlpm.Rows_Day + 3)+(weekdaycode(Q$19)-1)*_xlpm.Rows_Day,_xlpm.Dir_Cols,_xlpm.Rows_Day,COLUMNS(Data!Vehicle_Classification)))))","v":""},{"$f":"_xlfn.LET(_xlpm.Rows_Day,24 * (60 / $B$8), _xlpm.Dir_Cols,(COLUMNS(Data!Vehicle_Classification)+COLUMNS(Data!Vehicle_Speed_Bins)+COLUMNS(Data!Speed)+2),IF(ISBLANK($F44),\"\",SUM(OFFSET(Data!$G$5,(Offsets!$G28-1)*(9 * _xlpm.Rows_Day + 3)+(weekdaycode(Q$19)-1)*_xlpm.Rows_Day,_xlpm.Dir_Cols,_xlpm.Rows_Day,1))/SUM(OFFSET(Data!$C$5,(Offsets!$G28-1)*(9 * _xlpm.Rows_Day + 3)+(weekdaycode(Q$19)-1)*_xlpm.Rows_Day,_xlpm.Dir_Cols,_xlpm.Rows_Day,COLUMNS(Data!Vehicle_Classification)))))","v":""},{"$f":"_xlfn.LET(_xlpm.Rows_Day,24 * (60 / $B$8), _xlpm.Dir_Cols,0,IF(ISBLANK($F44),\"\",SUM(OFFSET(Data!$G$5,(Offsets!$G28-1)*(9 * _xlpm.Rows_Day + 3)+(weekdaycode(S$19)-1)*_xlpm.Rows_Day,_xlpm.Dir_Cols,_xlpm.Rows_Day,1))/SUM(OFFSET(Data!$C$5,(Offsets!$G28-1)*(9 * _xlpm.Rows_Day + 3)+(weekdaycode(S$19)-1)*_xlpm.Rows_Day,_xlpm.Dir_Cols,_xlpm.Rows_Day,COLUMNS(Data!Vehicle_Classification)))))","v":""},{"$f":"_xlfn.LET(_xlpm.Rows_Day,24 * (60 / $B$8), _xlpm.Dir_Cols,(COLUMNS(Data!Vehicle_Classification)+COLUMNS(Data!Vehicle_Speed_Bins)+COLUMNS(Data!Speed)+2),IF(ISBLANK($F44),\"\",SUM(OFFSET(Data!$G$5,(Offsets!$G28-1)*(9 * _xlpm.Rows_Day + 3)+(weekdaycode(S$19)-1)*_xlpm.Rows_Day,_xlpm.Dir_Cols,_xlpm.Rows_Day,1))/SUM(OFFSET(Data!$C$5,(Offsets!$G28-1)*(9 * _xlpm.Rows_Day + 3)+(weekdaycode(S$19)-1)*_xlpm.Rows_Day,_xlpm.Dir_Cols,_xlpm.Rows_Day,COLUMNS(Data!Vehicle_Classification)))))","v":""},{"$f":"_xlfn.LET(_xlpm.Rows_Day,24 * (60 / $B$8), _xlpm.Dir_Cols,0,IF(ISBLANK($F44),\"\",SUM(OFFSET(Data!$G$5,(Offsets!$G28-1)*(9 * _xlpm.Rows_Day + 3)+(weekdaycode(U$19)-1)*_xlpm.Rows_Day,_xlpm.Dir_Cols,_xlpm.Rows_Day,1))/SUM(OFFSET(Data!$C$5,(Offsets!$G28-1)*(9 * _xlpm.Rows_Day + 3)+(weekdaycode(U$19)-1)*_xlpm.Rows_Day,_xlpm.Dir_Cols,_xlpm.Rows_Day,COLUMNS(Data!Vehicle_Classification)))))","v":""},{"$f":"_xlfn.LET(_xlpm.Rows_Day,24 * (60 / $B$8), _xlpm.Dir_Cols,(COLUMNS(Data!Vehicle_Classification)+COLUMNS(Data!Vehicle_Speed_Bins)+COLUMNS(Data!Speed)+2),IF(ISBLANK($F44),\"\",SUM(OFFSET(Data!$G$5,(Offsets!$G28-1)*(9 * _xlpm.Rows_Day + 3)+(weekdaycode(U$19)-1)*_xlpm.Rows_Day,_xlpm.Dir_Cols,_xlpm.Rows_Day,1))/SUM(OFFSET(Data!$C$5,(Offsets!$G28-1)*(9 * _xlpm.Rows_Day + 3)+(weekdaycode(U$19)-1)*_xlpm.Rows_Day,_xlpm.Dir_Cols,_xlpm.Rows_Day,COLUMNS(Data!Vehicle_Classification)))))","v":""},{"$f":"_xlfn.LET(_xlpm.Rows_Day,24 * (60 / $B$8), _xlpm.Dir_Cols,0,IF(ISBLANK($F44),\"\",SUM(OFFSET(Data!$G$5,(Offsets!$G28-1)*(9 * _xlpm.Rows_Day + 3)+(weekdaycode(W$19)-1)*_xlpm.Rows_Day,_xlpm.Dir_Cols,_xlpm.Rows_Day,1))/SUM(OFFSET(Data!$C$5,(Offsets!$G28-1)*(9 * _xlpm.Rows_Day + 3)+(weekdaycode(W$19)-1)*_xlpm.Rows_Day,_xlpm.Dir_Cols,_xlpm.Rows_Day,COLUMNS(Data!Vehicle_Classification)))))","v":""},{"$f":"_xlfn.LET(_xlpm.Rows_Day,24 * (60 / $B$8), _xlpm.Dir_Cols,(COLUMNS(Data!Vehicle_Classification)+COLUMNS(Data!Vehicle_Speed_Bins)+COLUMNS(Data!Speed)+2),IF(ISBLANK($F44),\"\",SUM(OFFSET(Data!$G$5,(Offsets!$G28-1)*(9 * _xlpm.Rows_Day + 3)+(weekdaycode(W$19)-1)*_xlpm.Rows_Day,_xlpm.Dir_Cols,_xlpm.Rows_Day,1))/SUM(OFFSET(Data!$C$5,(Offsets!$G28-1)*(9 * _xlpm.Rows_Day + 3)+(weekdaycode(W$19)-1)*_xlpm.Rows_Day,_xlpm.Dir_Cols,_xlpm.Rows_Day,COLUMNS(Data!Vehicle_Classification)))))","v":""}]
[null,null,null,null,null,null,null,null,null,null,{"$f":"_xlfn.LET(_xlpm.Rows_Day,24 * (60 / $B$8), _xlpm.Dir_Cols,0,IF(ISBLANK($F45),\"\",SUM(OFFSET(Data!$G$5,(Offsets!$G29-1)*(9 * _xlpm.Rows_Day + 3)+(weekdaycode(K$19)-1)*_xlpm.Rows_Day,_xlpm.Dir_Cols,_xlpm.Rows_Day,1))/SUM(OFFSET(Data!$C$5,(Offsets!$G29-1)*(9 * _xlpm.Rows_Day + 3)+(weekdaycode(K$19)-1)*_xlpm.Rows_Day,_xlpm.Dir_Cols,_xlpm.Rows_Day,COLUMNS(Data!Vehicle_Classification)))))","v":""},{"$f":"_xlfn.LET(_xlpm.Rows_Day,24 * (60 / $B$8), _xlpm.Dir_Cols,(COLUMNS(Data!Vehicle_Classification)+COLUMNS(Data!Vehicle_Speed_Bins)+COLUMNS(Data!Speed)+2),IF(ISBLANK($F45),\"\",SUM(OFFSET(Data!$G$5,(Offsets!$G29-1)*(9 * _xlpm.Rows_Day + 3)+(weekdaycode(K$19)-1)*_xlpm.Rows_Day,_xlpm.Dir_Cols,_xlpm.Rows_Day,1))/SUM(OFFSET(Data!$C$5,(Offsets!$G29-1)*(9 * _xlpm.Rows_Day + 3)+(weekdaycode(K$19)-1)*_xlpm.Rows_Day,_xlpm.Dir_Cols,_xlpm.Rows_Day,COLUMNS(Data!Vehicle_Classification)))))","v":""},{"$f":"_xlfn.LET(_xlpm.Rows_Day,24 * (60 / $B$8), _xlpm.Dir_Cols,0,IF(ISBLANK($F45),\"\",SUM(OFFSET(Data!$G$5,(Offsets!$G29-1)*(9 * _xlpm.Rows_Day + 3)+(weekdaycode(M$19)-1)*_xlpm.Rows_Day,_xlpm.Dir_Cols,_xlpm.Rows_Day,1))/SUM(OFFSET(Data!$C$5,(Offsets!$G29-1)*(9 * _xlpm.Rows_Day + 3)+(weekdaycode(M$19)-1)*_xlpm.Rows_Day,_xlpm.Dir_Cols,_xlpm.Rows_Day,COLUMNS(Data!Vehicle_Classification)))))","v":""},{"$f":"_xlfn.LET(_xlpm.Rows_Day,24 * (60 / $B$8), _xlpm.Dir_Cols,(COLUMNS(Data!Vehicle_Classification)+COLUMNS(Data!Vehicle_Speed_Bins)+COLUMNS(Data!Speed)+2),IF(ISBLANK($F45),\"\",SUM(OFFSET(Data!$G$5,(Offsets!$G29-1)*(9 * _xlpm.Rows_Day + 3)+(weekdaycode(M$19)-1)*_xlpm.Rows_Day,_xlpm.Dir_Cols,_xlpm.Rows_Day,1))/SUM(OFFSET(Data!$C$5,(Offsets!$G29-1)*(9 * _xlpm.Rows_Day + 3)+(weekdaycode(M$19)-1)*_xlpm.Rows_Day,_xlpm.Dir_Cols,_xlpm.Rows_Day,COLUMNS(Data!Vehicle_Classification)))))","v":""},{"$f":"_xlfn.LET(_xlpm.Rows_Day,24 * (60 / $B$8), _xlpm.Dir_Cols,0,IF(ISBLANK($F45),\"\",SUM(OFFSET(Data!$G$5,(Offsets!$G29-1)*(9 * _xlpm.Rows_Day + 3)+(weekdaycode(O$19)-1)*_xlpm.Rows_Day,_xlpm.Dir_Cols,_xlpm.Rows_Day,1))/SUM(OFFSET(Data!$C$5,(Offsets!$G29-1)*(9 * _xlpm.Rows_Day + 3)+(weekdaycode(O$19)-1)*_xlpm.Rows_Day,_xlpm.Dir_Cols,_xlpm.Rows_Day,COLUMNS(Data!Vehicle_Classification)))))","v":""},{"$f":"_xlfn.LET(_xlpm.Rows_Day,24 * (60 / $B$8), _xlpm.Dir_Cols,(COLUMNS(Data!Vehicle_Classification)+COLUMNS(Data!Vehicle_Speed_Bins)+COLUMNS(Data!Speed)+2),IF(ISBLANK($F45),\"\",SUM(OFFSET(Data!$G$5,(Offsets!$G29-1)*(9 * _xlpm.Rows_Day + 3)+(weekdaycode(O$19)-1)*_xlpm.Rows_Day,_xlpm.Dir_Cols,_xlpm.Rows_Day,1))/SUM(OFFSET(Data!$C$5,(Offsets!$G29-1)*(9 * _xlpm.Rows_Day + 3)+(weekdaycode(O$19)-1)*_xlpm.Rows_Day,_xlpm.Dir_Cols,_xlpm.Rows_Day,COLUMNS(Data!Vehicle_Classification)))))","v":""},{"$f":"_xlfn.LET(_xlpm.Rows_Day,24 * (60 / $B$8), _xlpm.Dir_Cols,0,IF(ISBLANK($F45),\"\",SUM(OFFSET(Data!$G$5,(Offsets!$G29-1)*(9 * _xlpm.Rows_Day + 3)+(weekdaycode(Q$19)-1)*_xlpm.Rows_Day,_xlpm.Dir_Cols,_xlpm.Rows_Day,1))/SUM(OFFSET(Data!$C$5,(Offsets!$G29-1)*(9 * _xlpm.Rows_Day + 3)+(weekdaycode(Q$19)-1)*_xlpm.Rows_Day,_xlpm.Dir_Cols,_xlpm.Rows_Day,COLUMNS(Data!Vehicle_Classification)))))","v":""},{"$f":"_xlfn.LET(_xlpm.Rows_Day,24 * (60 / $B$8), _xlpm.Dir_Cols,(COLUMNS(Data!Vehicle_Classification)+COLUMNS(Data!Vehicle_Speed_Bins)+COLUMNS(Data!Speed)+2),IF(ISBLANK($F45),\"\",SUM(OFFSET(Data!$G$5,(Offsets!$G29-1)*(9 * _xlpm.Rows_Day + 3)+(weekdaycode(Q$19)-1)*_xlpm.Rows_Day,_xlpm.Dir_Cols,_xlpm.Rows_Day,1))/SUM(OFFSET(Data!$C$5,(Offsets!$G29-1)*(9 * _xlpm.Rows_Day + 3)+(weekdaycode(Q$19)-1)*_xlpm.Rows_Day,_xlpm.Dir_Cols,_xlpm.Rows_Day,COLUMNS(Data!Vehicle_Classification)))))","v":""},{"$f":"_xlfn.LET(_xlpm.Rows_Day,24 * (60 / $B$8), _xlpm.Dir_Cols,0,IF(ISBLANK($F45),\"\",SUM(OFFSET(Data!$G$5,(Offsets!$G29-1)*(9 * _xlpm.Rows_Day + 3)+(weekdaycode(S$19)-1)*_xlpm.Rows_Day,_xlpm.Dir_Cols,_xlpm.Rows_Day,1))/SUM(OFFSET(Data!$C$5,(Offsets!$G29-1)*(9 * _xlpm.Rows_Day + 3)+(weekdaycode(S$19)-1)*_xlpm.Rows_Day,_xlpm.Dir_Cols,_xlpm.Rows_Day,COLUMNS(Data!Vehicle_Classification)))))","v":""},{"$f":"_xlfn.LET(_xlpm.Rows_Day,24 * (60 / $B$8), _xlpm.Dir_Cols,(COLUMNS(Data!Vehicle_Classification)+COLUMNS(Data!Vehicle_Speed_Bins)+COLUMNS(Data!Speed)+2),IF(ISBLANK($F45),\"\",SUM(OFFSET(Data!$G$5,(Offsets!$G29-1)*(9 * _xlpm.Rows_Day + 3)+(weekdaycode(S$19)-1)*_xlpm.Rows_Day,_xlpm.Dir_Cols,_xlpm.Rows_Day,1))/SUM(OFFSET(Data!$C$5,(Offsets!$G29-1)*(9 * _xlpm.Rows_Day + 3)+(weekdaycode(S$19)-1)*_xlpm.Rows_Day,_xlpm.Dir_Cols,_xlpm.Rows_Day,COLUMNS(Data!Vehicle_Classification)))))","v":""},{"$f":"_xlfn.LET(_xlpm.Rows_Day,24 * (60 / $B$8), _xlpm.Dir_Cols,0,IF(ISBLANK($F45),\"\",SUM(OFFSET(Data!$G$5,(Offsets!$G29-1)*(9 * _xlpm.Rows_Day + 3)+(weekdaycode(U$19)-1)*_xlpm.Rows_Day,_xlpm.Dir_Cols,_xlpm.Rows_Day,1))/SUM(OFFSET(Data!$C$5,(Offsets!$G29-1)*(9 * _xlpm.Rows_Day + 3)+(weekdaycode(U$19)-1)*_xlpm.Rows_Day,_xlpm.Dir_Cols,_xlpm.Rows_Day,COLUMNS(Data!Vehicle_Classification)))))","v":""},{"$f":"_xlfn.LET(_xlpm.Rows_Day,24 * (60 / $B$8), _xlpm.Dir_Cols,(COLUMNS(Data!Vehicle_Classification)+COLUMNS(Data!Vehicle_Speed_Bins)+COLUMNS(Data!Speed)+2),IF(ISBLANK($F45),\"\",SUM(OFFSET(Data!$G$5,(Offsets!$G29-1)*(9 * _xlpm.Rows_Day + 3)+(weekdaycode(U$19)-1)*_xlpm.Rows_Day,_xlpm.Dir_Cols,_xlpm.Rows_Day,1))/SUM(OFFSET(Data!$C$5,(Offsets!$G29-1)*(9 * _xlpm.Rows_Day + 3)+(weekdaycode(U$19)-1)*_xlpm.Rows_Day,_xlpm.Dir_Cols,_xlpm.Rows_Day,COLUMNS(Data!Vehicle_Classification)))))","v":""},{"$f":"_xlfn.LET(_xlpm.Rows_Day,24 * (60 / $B$8), _xlpm.Dir_Cols,0,IF(ISBLANK($F45),\"\",SUM(OFFSET(Data!$G$5,(Offsets!$G29-1)*(9 * _xlpm.Rows_Day + 3)+(weekdaycode(W$19)-1)*_xlpm.Rows_Day,_xlpm.Dir_Cols,_xlpm.Rows_Day,1))/SUM(OFFSET(Data!$C$5,(Offsets!$G29-1)*(9 * _xlpm.Rows_Day + 3)+(weekdaycode(W$19)-1)*_xlpm.Rows_Day,_xlpm.Dir_Cols,_xlpm.Rows_Day,COLUMNS(Data!Vehicle_Classification)))))","v":""},{"$f":"_xlfn.LET(_xlpm.Rows_Day,24 * (60 / $B$8), _xlpm.Dir_Cols,(COLUMNS(Data!Vehicle_Classification)+COLUMNS(Data!Vehicle_Speed_Bins)+COLUMNS(Data!Speed)+2),IF(ISBLANK($F45),\"\",SUM(OFFSET(Data!$G$5,(Offsets!$G29-1)*(9 * _xlpm.Rows_Day + 3)+(weekdaycode(W$19)-1)*_xlpm.Rows_Day,_xlpm.Dir_Cols,_xlpm.Rows_Day,1))/SUM(OFFSET(Data!$C$5,(Offsets!$G29-1)*(9 * _xlpm.Rows_Day + 3)+(weekdaycode(W$19)-1)*_xlpm.Rows_Day,_xlpm.Dir_Cols,_xlpm.Rows_Day,COLUMNS(Data!Vehicle_Classification)))))","v":""}]
[null,null,null,null,null,null,null,null,null,null,{"$f":"_xlfn.LET(_xlpm.Rows_Day,24 * (60 / $B$8), _xlpm.Dir_Cols,0,IF(ISBLANK($F46),\"\",SUM(OFFSET(Data!$G$5,(Offsets!$G30-1)*(9 * _xlpm.Rows_Day + 3)+(weekdaycode(K$19)-1)*_xlpm.Rows_Day,_xlpm.Dir_Cols,_xlpm.Rows_Day,1))/SUM(OFFSET(Data!$C$5,(Offsets!$G30-1)*(9 * _xlpm.Rows_Day + 3)+(weekdaycode(K$19)-1)*_xlpm.Rows_Day,_xlpm.Dir_Cols,_xlpm.Rows_Day,COLUMNS(Data!Vehicle_Classification)))))","v":""},{"$f":"_xlfn.LET(_xlpm.Rows_Day,24 * (60 / $B$8), _xlpm.Dir_Cols,(COLUMNS(Data!Vehicle_Classification)+COLUMNS(Data!Vehicle_Speed_Bins)+COLUMNS(Data!Speed)+2),IF(ISBLANK($F46),\"\",SUM(OFFSET(Data!$G$5,(Offsets!$G30-1)*(9 * _xlpm.Rows_Day + 3)+(weekdaycode(K$19)-1)*_xlpm.Rows_Day,_xlpm.Dir_Cols,_xlpm.Rows_Day,1))/SUM(OFFSET(Data!$C$5,(Offsets!$G30-1)*(9 * _xlpm.Rows_Day + 3)+(weekdaycode(K$19)-1)*_xlpm.Rows_Day,_xlpm.Dir_Cols,_xlpm.Rows_Day,COLUMNS(Data!Vehicle_Classification)))))","v":""},{"$f":"_xlfn.LET(_xlpm.Rows_Day,24 * (60 / $B$8), _xlpm.Dir_Cols,0,IF(ISBLANK($F46),\"\",SUM(OFFSET(Data!$G$5,(Offsets!$G30-1)*(9 * _xlpm.Rows_Day + 3)+(weekdaycode(M$19)-1)*_xlpm.Rows_Day,_xlpm.Dir_Cols,_xlpm.Rows_Day,1))/SUM(OFFSET(Data!$C$5,(Offsets!$G30-1)*(9 * _xlpm.Rows_Day + 3)+(weekdaycode(M$19)-1)*_xlpm.Rows_Day,_xlpm.Dir_Cols,_xlpm.Rows_Day,COLUMNS(Data!Vehicle_Classification)))))","v":""},{"$f":"_xlfn.LET(_xlpm.Rows_Day,24 * (60 / $B$8), _xlpm.Dir_Cols,(COLUMNS(Data!Vehicle_Classification)+COLUMNS(Data!Vehicle_Speed_Bins)+COLUMNS(Data!Speed)+2),IF(ISBLANK($F46),\"\",SUM(OFFSET(Data!$G$5,(Offsets!$G30-1)*(9 * _xlpm.Rows_Day + 3)+(weekdaycode(M$19)-1)*_xlpm.Rows_Day,_xlpm.Dir_Cols,_xlpm.Rows_Day,1))/SUM(OFFSET(Data!$C$5,(Offsets!$G30-1)*(9 * _xlpm.Rows_Day + 3)+(weekdaycode(M$19)-1)*_xlpm.Rows_Day,_xlpm.Dir_Cols,_xlpm.Rows_Day,COLUMNS(Data!Vehicle_Classification)))))","v":""},{"$f":"_xlfn.LET(_xlpm.Rows_Day,24 * (60 / $B$8), _xlpm.Dir_Cols,0,IF(ISBLANK($F46),\"\",SUM(OFFSET(Data!$G$5,(Offsets!$G30-1)*(9 * _xlpm.Rows_Day + 3)+(weekdaycode(O$19)-1)*_xlpm.Rows_Day,_xlpm.Dir_Cols,_xlpm.Rows_Day,1))/SUM(OFFSET(Data!$C$5,(Offsets!$G30-1)*(9 * _xlpm.Rows_Day + 3)+(weekdaycode(O$19)-1)*_xlpm.Rows_Day,_xlpm.Dir_Cols,_xlpm.Rows_Day,COLUMNS(Data!Vehicle_Classification)))))","v":""},{"$f":"_xlfn.LET(_xlpm.Rows_Day,24 * (60 / $B$8), _xlpm.Dir_Cols,(COLUMNS(Data!Vehicle_Classification)+COLUMNS(Data!Vehicle_Speed_Bins)+COLUMNS(Data!Speed)+2),IF(ISBLANK($F46),\"\",SUM(OFFSET(Data!$G$5,(Offsets!$G30-1)*(9 * _xlpm.Rows_Day + 3)+(weekdaycode(O$19)-1)*_xlpm.Rows_Day,_xlpm.Dir_Cols,_xlpm.Rows_Day,1))/SUM(OFFSET(Data!$C$5,(Offsets!$G30-1)*(9 * _xlpm.Rows_Day + 3)+(weekdaycode(O$19)-1)*_xlpm.Rows_Day,_xlpm.Dir_Cols,_xlpm.Rows_Day,COLUMNS(Data!Vehicle_Classification)))))","v":""},{"$f":"_xlfn.LET(_xlpm.Rows_Day,24 * (60 / $B$8), _xlpm.Dir_Cols,0,IF(ISBLANK($F46),\"\",SUM(OFFSET(Data!$G$5,(Offsets!$G30-1)*(9 * _xlpm.Rows_Day + 3)+(weekdaycode(Q$19)-1)*_xlpm.Rows_Day,_xlpm.Dir_Cols,_xlpm.Rows_Day,1))/SUM(OFFSET(Data!$C$5,(Offsets!$G30-1)*(9 * _xlpm.Rows_Day + 3)+(weekdaycode(Q$19)-1)*_xlpm.Rows_Day,_xlpm.Dir_Cols,_xlpm.Rows_Day,COLUMNS(Data!Vehicle_Classification)))))","v":""},{"$f":"_xlfn.LET(_xlpm.Rows_Day,24 * (60 / $B$8), _xlpm.Dir_Cols,(COLUMNS(Data!Vehicle_Classification)+COLUMNS(Data!Vehicle_Speed_Bins)+COLUMNS(Data!Speed)+2),IF(ISBLANK($F46),\"\",SUM(OFFSET(Data!$G$5,(Offsets!$G30-1)*(9 * _xlpm.Rows_Day + 3)+(weekdaycode(Q$19)-1)*_xlpm.Rows_Day,_xlpm.Dir_Cols,_xlpm.Rows_Day,1))/SUM(OFFSET(Data!$C$5,(Offsets!$G30-1)*(9 * _xlpm.Rows_Day + 3)+(weekdaycode(Q$19)-1)*_xlpm.Rows_Day,_xlpm.Dir_Cols,_xlpm.Rows_Day,COLUMNS(Data!Vehicle_Classification)))))","v":""},{"$f":"_xlfn.LET(_xlpm.Rows_Day,24 * (60 / $B$8), _xlpm.Dir_Cols,0,IF(ISBLANK($F46),\"\",SUM(OFFSET(Data!$G$5,(Offsets!$G30-1)*(9 * _xlpm.Rows_Day + 3)+(weekdaycode(S$19)-1)*_xlpm.Rows_Day,_xlpm.Dir_Cols,_xlpm.Rows_Day,1))/SUM(OFFSET(Data!$C$5,(Offsets!$G30-1)*(9 * _xlpm.Rows_Day + 3)+(weekdaycode(S$19)-1)*_xlpm.Rows_Day,_xlpm.Dir_Cols,_xlpm.Rows_Day,COLUMNS(Data!Vehicle_Classification)))))","v":""},{"$f":"_xlfn.LET(_xlpm.Rows_Day,24 * (60 / $B$8), _xlpm.Dir_Cols,(COLUMNS(Data!Vehicle_Classification)+COLUMNS(Data!Vehicle_Speed_Bins)+COLUMNS(Data!Speed)+2),IF(ISBLANK($F46),\"\",SUM(OFFSET(Data!$G$5,(Offsets!$G30-1)*(9 * _xlpm.Rows_Day + 3)+(weekdaycode(S$19)-1)*_xlpm.Rows_Day,_xlpm.Dir_Cols,_xlpm.Rows_Day,1))/SUM(OFFSET(Data!$C$5,(Offsets!$G30-1)*(9 * _xlpm.Rows_Day + 3)+(weekdaycode(S$19)-1)*_xlpm.Rows_Day,_xlpm.Dir_Cols,_xlpm.Rows_Day,COLUMNS(Data!Vehicle_Classification)))))","v":""},{"$f":"_xlfn.LET(_xlpm.Rows_Day,24 * (60 / $B$8), _xlpm.Dir_Cols,0,IF(ISBLANK($F46),\"\",SUM(OFFSET(Data!$G$5,(Offsets!$G30-1)*(9 * _xlpm.Rows_Day + 3)+(weekdaycode(U$19)-1)*_xlpm.Rows_Day,_xlpm.Dir_Cols,_xlpm.Rows_Day,1))/SUM(OFFSET(Data!$C$5,(Offsets!$G30-1)*(9 * _xlpm.Rows_Day + 3)+(weekdaycode(U$19)-1)*_xlpm.Rows_Day,_xlpm.Dir_Cols,_xlpm.Rows_Day,COLUMNS(Data!Vehicle_Classification)))))","v":""},{"$f":"_xlfn.LET(_xlpm.Rows_Day,24 * (60 / $B$8), _xlpm.Dir_Cols,(COLUMNS(Data!Vehicle_Classification)+COLUMNS(Data!Vehicle_Speed_Bins)+COLUMNS(Data!Speed)+2),IF(ISBLANK($F46),\"\",SUM(OFFSET(Data!$G$5,(Offsets!$G30-1)*(9 * _xlpm.Rows_Day + 3)+(weekdaycode(U$19)-1)*_xlpm.Rows_Day,_xlpm.Dir_Cols,_xlpm.Rows_Day,1))/SUM(OFFSET(Data!$C$5,(Offsets!$G30-1)*(9 * _xlpm.Rows_Day + 3)+(weekdaycode(U$19)-1)*_xlpm.Rows_Day,_xlpm.Dir_Cols,_xlpm.Rows_Day,COLUMNS(Data!Vehicle_Classification)))))","v":""},{"$f":"_xlfn.LET(_xlpm.Rows_Day,24 * (60 / $B$8), _xlpm.Dir_Cols,0,IF(ISBLANK($F46),\"\",SUM(OFFSET(Data!$G$5,(Offsets!$G30-1)*(9 * _xlpm.Rows_Day + 3)+(weekdaycode(W$19)-1)*_xlpm.Rows_Day,_xlpm.Dir_Cols,_xlpm.Rows_Day,1))/SUM(OFFSET(Data!$C$5,(Offsets!$G30-1)*(9 * _xlpm.Rows_Day + 3)+(weekdaycode(W$19)-1)*_xlpm.Rows_Day,_xlpm.Dir_Cols,_xlpm.Rows_Day,COLUMNS(Data!Vehicle_Classification)))))","v":""},{"$f":"_xlfn.LET(_xlpm.Rows_Day,24 * (60 / $B$8), _xlpm.Dir_Cols,(COLUMNS(Data!Vehicle_Classification)+COLUMNS(Data!Vehicle_Speed_Bins)+COLUMNS(Data!Speed)+2),IF(ISBLANK($F46),\"\",SUM(OFFSET(Data!$G$5,(Offsets!$G30-1)*(9 * _xlpm.Rows_Day + 3)+(weekdaycode(W$19)-1)*_xlpm.Rows_Day,_xlpm.Dir_Cols,_xlpm.Rows_Day,1))/SUM(OFFSET(Data!$C$5,(Offsets!$G30-1)*(9 * _xlpm.Rows_Day + 3)+(weekdaycode(W$19)-1)*_xlpm.Rows_Day,_xlpm.Dir_Cols,_xlpm.Rows_Day,COLUMNS(Data!Vehicle_Classification)))))","v":""}]
[null,null,null,null,null,null,null,null,null,null,{"$f":"_xlfn.LET(_xlpm.Rows_Day,24 * (60 / $B$8), _xlpm.Dir_Cols,0,IF(ISBLANK($F47),\"\",SUM(OFFSET(Data!$G$5,(Offsets!$G31-1)*(9 * _xlpm.Rows_Day + 3)+(weekdaycode(K$19)-1)*_xlpm.Rows_Day,_xlpm.Dir_Cols,_xlpm.Rows_Day,1))/SUM(OFFSET(Data!$C$5,(Offsets!$G31-1)*(9 * _xlpm.Rows_Day + 3)+(weekdaycode(K$19)-1)*_xlpm.Rows_Day,_xlpm.Dir_Cols,_xlpm.Rows_Day,COLUMNS(Data!Vehicle_Classification)))))","v":""},{"$f":"_xlfn.LET(_xlpm.Rows_Day,24 * (60 / $B$8), _xlpm.Dir_Cols,(COLUMNS(Data!Vehicle_Classification)+COLUMNS(Data!Vehicle_Speed_Bins)+COLUMNS(Data!Speed)+2),IF(ISBLANK($F47),\"\",SUM(OFFSET(Data!$G$5,(Offsets!$G31-1)*(9 * _xlpm.Rows_Day + 3)+(weekdaycode(K$19)-1)*_xlpm.Rows_Day,_xlpm.Dir_Cols,_xlpm.Rows_Day,1))/SUM(OFFSET(Data!$C$5,(Offsets!$G31-1)*(9 * _xlpm.Rows_Day + 3)+(weekdaycode(K$19)-1)*_xlpm.Rows_Day,_xlpm.Dir_Cols,_xlpm.Rows_Day,COLUMNS(Data!Vehicle_Classification)))))","v":""},{"$f":"_xlfn.LET(_xlpm.Rows_Day,24 * (60 / $B$8), _xlpm.Dir_Cols,0,IF(ISBLANK($F47),\"\",SUM(OFFSET(Data!$G$5,(Offsets!$G31-1)*(9 * _xlpm.Rows_Day + 3)+(weekdaycode(M$19)-1)*_xlpm.Rows_Day,_xlpm.Dir_Cols,_xlpm.Rows_Day,1))/SUM(OFFSET(Data!$C$5,(Offsets!$G31-1)*(9 * _xlpm.Rows_Day + 3)+(weekdaycode(M$19)-1)*_xlpm.Rows_Day,_xlpm.Dir_Cols,_xlpm.Rows_Day,COLUMNS(Data!Vehicle_Classification)))))","v":""},{"$f":"_xlfn.LET(_xlpm.Rows_Day,24 * (60 / $B$8), _xlpm.Dir_Cols,(COLUMNS(Data!Vehicle_Classification)+COLUMNS(Data!Vehicle_Speed_Bins)+COLUMNS(Data!Speed)+2),IF(ISBLANK($F47),\"\",SUM(OFFSET(Data!$G$5,(Offsets!$G31-1)*(9 * _xlpm.Rows_Day + 3)+(weekdaycode(M$19)-1)*_xlpm.Rows_Day,_xlpm.Dir_Cols,_xlpm.Rows_Day,1))/SUM(OFFSET(Data!$C$5,(Offsets!$G31-1)*(9 * _xlpm.Rows_Day + 3)+(weekdaycode(M$19)-1)*_xlpm.Rows_Day,_xlpm.Dir_Cols,_xlpm.Rows_Day,COLUMNS(Data!Vehicle_Classification)))))","v":""},{"$f":"_xlfn.LET(_xlpm.Rows_Day,24 * (60 / $B$8), _xlpm.Dir_Cols,0,IF(ISBLANK($F47),\"\",SUM(OFFSET(Data!$G$5,(Offsets!$G31-1)*(9 * _xlpm.Rows_Day + 3)+(weekdaycode(O$19)-1)*_xlpm.Rows_Day,_xlpm.Dir_Cols,_xlpm.Rows_Day,1))/SUM(OFFSET(Data!$C$5,(Offsets!$G31-1)*(9 * _xlpm.Rows_Day + 3)+(weekdaycode(O$19)-1)*_xlpm.Rows_Day,_xlpm.Dir_Cols,_xlpm.Rows_Day,COLUMNS(Data!Vehicle_Classification)))))","v":""},{"$f":"_xlfn.LET(_xlpm.Rows_Day,24 * (60 / $B$8), _xlpm.Dir_Cols,(COLUMNS(Data!Vehicle_Classification)+COLUMNS(Data!Vehicle_Speed_Bins)+COLUMNS(Data!Speed)+2),IF(ISBLANK($F47),\"\",SUM(OFFSET(Data!$G$5,(Offsets!$G31-1)*(9 * _xlpm.Rows_Day + 3)+(weekdaycode(O$19)-1)*_xlpm.Rows_Day,_xlpm.Dir_Cols,_xlpm.Rows_Day,1))/SUM(OFFSET(Data!$C$5,(Offsets!$G31-1)*(9 * _xlpm.Rows_Day + 3)+(weekdaycode(O$19)-1)*_xlpm.Rows_Day,_xlpm.Dir_Cols,_xlpm.Rows_Day,COLUMNS(Data!Vehicle_Classification)))))","v":""},{"$f":"_xlfn.LET(_xlpm.Rows_Day,24 * (60 / $B$8), _xlpm.Dir_Cols,0,IF(ISBLANK($F47),\"\",SUM(OFFSET(Data!$G$5,(Offsets!$G31-1)*(9 * _xlpm.Rows_Day + 3)+(weekdaycode(Q$19)-1)*_xlpm.Rows_Day,_xlpm.Dir_Cols,_xlpm.Rows_Day,1))/SUM(OFFSET(Data!$C$5,(Offsets!$G31-1)*(9 * _xlpm.Rows_Day + 3)+(weekdaycode(Q$19)-1)*_xlpm.Rows_Day,_xlpm.Dir_Cols,_xlpm.Rows_Day,COLUMNS(Data!Vehicle_Classification)))))","v":""},{"$f":"_xlfn.LET(_xlpm.Rows_Day,24 * (60 / $B$8), _xlpm.Dir_Cols,(COLUMNS(Data!Vehicle_Classification)+COLUMNS(Data!Vehicle_Speed_Bins)+COLUMNS(Data!Speed)+2),IF(ISBLANK($F47),\"\",SUM(OFFSET(Data!$G$5,(Offsets!$G31-1)*(9 * _xlpm.Rows_Day + 3)+(weekdaycode(Q$19)-1)*_xlpm.Rows_Day,_xlpm.Dir_Cols,_xlpm.Rows_Day,1))/SUM(OFFSET(Data!$C$5,(Offsets!$G31-1)*(9 * _xlpm.Rows_Day + 3)+(weekdaycode(Q$19)-1)*_xlpm.Rows_Day,_xlpm.Dir_Cols,_xlpm.Rows_Day,COLUMNS(Data!Vehicle_Classification)))))","v":""},{"$f":"_xlfn.LET(_xlpm.Rows_Day,24 * (60 / $B$8), _xlpm.Dir_Cols,0,IF(ISBLANK($F47),\"\",SUM(OFFSET(Data!$G$5,(Offsets!$G31-1)*(9 * _xlpm.Rows_Day + 3)+(weekdaycode(S$19)-1)*_xlpm.Rows_Day,_xlpm.Dir_Cols,_xlpm.Rows_Day,1))/SUM(OFFSET(Data!$C$5,(Offsets!$G31-1)*(9 * _xlpm.Rows_Day + 3)+(weekdaycode(S$19)-1)*_xlpm.Rows_Day,_xlpm.Dir_Cols,_xlpm.Rows_Day,COLUMNS(Data!Vehicle_Classification)))))","v":""},{"$f":"_xlfn.LET(_xlpm.Rows_Day,24 * (60 / $B$8), _xlpm.Dir_Cols,(COLUMNS(Data!Vehicle_Classification)+COLUMNS(Data!Vehicle_Speed_Bins)+COLUMNS(Data!Speed)+2),IF(ISBLANK($F47),\"\",SUM(OFFSET(Data!$G$5,(Offsets!$G31-1)*(9 * _xlpm.Rows_Day + 3)+(weekdaycode(S$19)-1)*_xlpm.Rows_Day,_xlpm.Dir_Cols,_xlpm.Rows_Day,1))/SUM(OFFSET(Data!$C$5,(Offsets!$G31-1)*(9 * _xlpm.Rows_Day + 3)+(weekdaycode(S$19)-1)*_xlpm.Rows_Day,_xlpm.Dir_Cols,_xlpm.Rows_Day,COLUMNS(Data!Vehicle_Classification)))))","v":""},{"$f":"_xlfn.LET(_xlpm.Rows_Day,24 * (60 / $B$8), _xlpm.Dir_Cols,0,IF(ISBLANK($F47),\"\",SUM(OFFSET(Data!$G$5,(Offsets!$G31-1)*(9 * _xlpm.Rows_Day + 3)+(weekdaycode(U$19)-1)*_xlpm.Rows_Day,_xlpm.Dir_Cols,_xlpm.Rows_Day,1))/SUM(OFFSET(Data!$C$5,(Offsets!$G31-1)*(9 * _xlpm.Rows_Day + 3)+(weekdaycode(U$19)-1)*_xlpm.Rows_Day,_xlpm.Dir_Cols,_xlpm.Rows_Day,COLUMNS(Data!Vehicle_Classification)))))","v":""},{"$f":"_xlfn.LET(_xlpm.Rows_Day,24 * (60 / $B$8), _xlpm.Dir_Cols,(COLUMNS(Data!Vehicle_Classification)+COLUMNS(Data!Vehicle_Speed_Bins)+COLUMNS(Data!Speed)+2),IF(ISBLANK($F47),\"\",SUM(OFFSET(Data!$G$5,(Offsets!$G31-1)*(9 * _xlpm.Rows_Day + 3)+(weekdaycode(U$19)-1)*_xlpm.Rows_Day,_xlpm.Dir_Cols,_xlpm.Rows_Day,1))/SUM(OFFSET(Data!$C$5,(Offsets!$G31-1)*(9 * _xlpm.Rows_Day + 3)+(weekdaycode(U$19)-1)*_xlpm.Rows_Day,_xlpm.Dir_Cols,_xlpm.Rows_Day,COLUMNS(Data!Vehicle_Classification)))))","v":""},{"$f":"_xlfn.LET(_xlpm.Rows_Day,24 * (60 / $B$8), _xlpm.Dir_Cols,0,IF(ISBLANK($F47),\"\",SUM(OFFSET(Data!$G$5,(Offsets!$G31-1)*(9 * _xlpm.Rows_Day + 3)+(weekdaycode(W$19)-1)*_xlpm.Rows_Day,_xlpm.Dir_Cols,_xlpm.Rows_Day,1))/SUM(OFFSET(Data!$C$5,(Offsets!$G31-1)*(9 * _xlpm.Rows_Day + 3)+(weekdaycode(W$19)-1)*_xlpm.Rows_Day,_xlpm.Dir_Cols,_xlpm.Rows_Day,COLUMNS(Data!Vehicle_Classification)))))","v":""},{"$f":"_xlfn.LET(_xlpm.Rows_Day,24 * (60 / $B$8), _xlpm.Dir_Cols,(COLUMNS(Data!Vehicle_Classification)+COLUMNS(Data!Vehicle_Speed_Bins)+COLUMNS(Data!Speed)+2),IF(ISBLANK($F47),\"\",SUM(OFFSET(Data!$G$5,(Offsets!$G31-1)*(9 * _xlpm.Rows_Day + 3)+(weekdaycode(W$19)-1)*_xlpm.Rows_Day,_xlpm.Dir_Cols,_xlpm.Rows_Day,1))/SUM(OFFSET(Data!$C$5,(Offsets!$G31-1)*(9 * _xlpm.Rows_Day + 3)+(weekdaycode(W$19)-1)*_xlpm.Rows_Day,_xlpm.Dir_Cols,_xlpm.Rows_Day,COLUMNS(Data!Vehicle_Classification)))))","v":""}]
[null,null,null,null,null,null,null,null,null,null,{"$f":"_xlfn.LET(_xlpm.Rows_Day,24 * (60 / $B$8), _xlpm.Dir_Cols,0,IF(ISBLANK($F48),\"\",SUM(OFFSET(Data!$G$5,(Offsets!$G32-1)*(9 * _xlpm.Rows_Day + 3)+(weekdaycode(K$19)-1)*_xlpm.Rows_Day,_xlpm.Dir_Cols,_xlpm.Rows_Day,1))/SUM(OFFSET(Data!$C$5,(Offsets!$G32-1)*(9 * _xlpm.Rows_Day + 3)+(weekdaycode(K$19)-1)*_xlpm.Rows_Day,_xlpm.Dir_Cols,_xlpm.Rows_Day,COLUMNS(Data!Vehicle_Classification)))))","v":""},{"$f":"_xlfn.LET(_xlpm.Rows_Day,24 * (60 / $B$8), _xlpm.Dir_Cols,(COLUMNS(Data!Vehicle_Classification)+COLUMNS(Data!Vehicle_Speed_Bins)+COLUMNS(Data!Speed)+2),IF(ISBLANK($F48),\"\",SUM(OFFSET(Data!$G$5,(Offsets!$G32-1)*(9 * _xlpm.Rows_Day + 3)+(weekdaycode(K$19)-1)*_xlpm.Rows_Day,_xlpm.Dir_Cols,_xlpm.Rows_Day,1))/SUM(OFFSET(Data!$C$5,(Offsets!$G32-1)*(9 * _xlpm.Rows_Day + 3)+(weekdaycode(K$19)-1)*_xlpm.Rows_Day,_xlpm.Dir_Cols,_xlpm.Rows_Day,COLUMNS(Data!Vehicle_Classification)))))","v":""},{"$f":"_xlfn.LET(_xlpm.Rows_Day,24 * (60 / $B$8), _xlpm.Dir_Cols,0,IF(ISBLANK($F48),\"\",SUM(OFFSET(Data!$G$5,(Offsets!$G32-1)*(9 * _xlpm.Rows_Day + 3)+(weekdaycode(M$19)-1)*_xlpm.Rows_Day,_xlpm.Dir_Cols,_xlpm.Rows_Day,1))/SUM(OFFSET(Data!$C$5,(Offsets!$G32-1)*(9 * _xlpm.Rows_Day + 3)+(weekdaycode(M$19)-1)*_xlpm.Rows_Day,_xlpm.Dir_Cols,_xlpm.Rows_Day,COLUMNS(Data!Vehicle_Classification)))))","v":""},{"$f":"_xlfn.LET(_xlpm.Rows_Day,24 * (60 / $B$8), _xlpm.Dir_Cols,(COLUMNS(Data!Vehicle_Classification)+COLUMNS(Data!Vehicle_Speed_Bins)+COLUMNS(Data!Speed)+2),IF(ISBLANK($F48),\"\",SUM(OFFSET(Data!$G$5,(Offsets!$G32-1)*(9 * _xlpm.Rows_Day + 3)+(weekdaycode(M$19)-1)*_xlpm.Rows_Day,_xlpm.Dir_Cols,_xlpm.Rows_Day,1))/SUM(OFFSET(Data!$C$5,(Offsets!$G32-1)*(9 * _xlpm.Rows_Day + 3)+(weekdaycode(M$19)-1)*_xlpm.Rows_Day,_xlpm.Dir_Cols,_xlpm.Rows_Day,COLUMNS(Data!Vehicle_Classification)))))","v":""},{"$f":"_xlfn.LET(_xlpm.Rows_Day,24 * (60 / $B$8), _xlpm.Dir_Cols,0,IF(ISBLANK($F48),\"\",SUM(OFFSET(Data!$G$5,(Offsets!$G32-1)*(9 * _xlpm.Rows_Day + 3)+(weekdaycode(O$19)-1)*_xlpm.Rows_Day,_xlpm.Dir_Cols,_xlpm.Rows_Day,1))/SUM(OFFSET(Data!$C$5,(Offsets!$G32-1)*(9 * _xlpm.Rows_Day + 3)+(weekdaycode(O$19)-1)*_xlpm.Rows_Day,_xlpm.Dir_Cols,_xlpm.Rows_Day,COLUMNS(Data!Vehicle_Classification)))))","v":""},{"$f":"_xlfn.LET(_xlpm.Rows_Day,24 * (60 / $B$8), _xlpm.Dir_Cols,(COLUMNS(Data!Vehicle_Classification)+COLUMNS(Data!Vehicle_Speed_Bins)+COLUMNS(Data!Speed)+2),IF(ISBLANK($F48),\"\",SUM(OFFSET(Data!$G$5,(Offsets!$G32-1)*(9 * _xlpm.Rows_Day + 3)+(weekdaycode(O$19)-1)*_xlpm.Rows_Day,_xlpm.Dir_Cols,_xlpm.Rows_Day,1))/SUM(OFFSET(Data!$C$5,(Offsets!$G32-1)*(9 * _xlpm.Rows_Day + 3)+(weekdaycode(O$19)-1)*_xlpm.Rows_Day,_xlpm.Dir_Cols,_xlpm.Rows_Day,COLUMNS(Data!Vehicle_Classification)))))","v":""},{"$f":"_xlfn.LET(_xlpm.Rows_Day,24 * (60 / $B$8), _xlpm.Dir_Cols,0,IF(ISBLANK($F48),\"\",SUM(OFFSET(Data!$G$5,(Offsets!$G32-1)*(9 * _xlpm.Rows_Day + 3)+(weekdaycode(Q$19)-1)*_xlpm.Rows_Day,_xlpm.Dir_Cols,_xlpm.Rows_Day,1))/SUM(OFFSET(Data!$C$5,(Offsets!$G32-1)*(9 * _xlpm.Rows_Day + 3)+(weekdaycode(Q$19)-1)*_xlpm.Rows_Day,_xlpm.Dir_Cols,_xlpm.Rows_Day,COLUMNS(Data!Vehicle_Classification)))))","v":""},{"$f":"_xlfn.LET(_xlpm.Rows_Day,24 * (60 / $B$8), _xlpm.Dir_Cols,(COLUMNS(Data!Vehicle_Classification)+COLUMNS(Data!Vehicle_Speed_Bins)+COLUMNS(Data!Speed)+2),IF(ISBLANK($F48),\"\",SUM(OFFSET(Data!$G$5,(Offsets!$G32-1)*(9 * _xlpm.Rows_Day + 3)+(weekdaycode(Q$19)-1)*_xlpm.Rows_Day,_xlpm.Dir_Cols,_xlpm.Rows_Day,1))/SUM(OFFSET(Data!$C$5,(Offsets!$G32-1)*(9 * _xlpm.Rows_Day + 3)+(weekdaycode(Q$19)-1)*_xlpm.Rows_Day,_xlpm.Dir_Cols,_xlpm.Rows_Day,COLUMNS(Data!Vehicle_Classification)))))","v":""},{"$f":"_xlfn.LET(_xlpm.Rows_Day,24 * (60 / $B$8), _xlpm.Dir_Cols,0,IF(ISBLANK($F48),\"\",SUM(OFFSET(Data!$G$5,(Offsets!$G32-1)*(9 * _xlpm.Rows_Day + 3)+(weekdaycode(S$19)-1)*_xlpm.Rows_Day,_xlpm.Dir_Cols,_xlpm.Rows_Day,1))/SUM(OFFSET(Data!$C$5,(Offsets!$G32-1)*(9 * _xlpm.Rows_Day + 3)+(weekdaycode(S$19)-1)*_xlpm.Rows_Day,_xlpm.Dir_Cols,_xlpm.Rows_Day,COLUMNS(Data!Vehicle_Classification)))))","v":""},{"$f":"_xlfn.LET(_xlpm.Rows_Day,24 * (60 / $B$8), _xlpm.Dir_Cols,(COLUMNS(Data!Vehicle_Classification)+COLUMNS(Data!Vehicle_Speed_Bins)+COLUMNS(Data!Speed)+2),IF(ISBLANK($F48),\"\",SUM(OFFSET(Data!$G$5,(Offsets!$G32-1)*(9 * _xlpm.Rows_Day + 3)+(weekdaycode(S$19)-1)*_xlpm.Rows_Day,_xlpm.Dir_Cols,_xlpm.Rows_Day,1))/SUM(OFFSET(Data!$C$5,(Offsets!$G32-1)*(9 * _xlpm.Rows_Day + 3)+(weekdaycode(S$19)-1)*_xlpm.Rows_Day,_xlpm.Dir_Cols,_xlpm.Rows_Day,COLUMNS(Data!Vehicle_Classification)))))","v":""},{"$f":"_xlfn.LET(_xlpm.Rows_Day,24 * (60 / $B$8), _xlpm.Dir_Cols,0,IF(ISBLANK($F48),\"\",SUM(OFFSET(Data!$G$5,(Offsets!$G32-1)*(9 * _xlpm.Rows_Day + 3)+(weekdaycode(U$19)-1)*_xlpm.Rows_Day,_xlpm.Dir_Cols,_xlpm.Rows_Day,1))/SUM(OFFSET(Data!$C$5,(Offsets!$G32-1)*(9 * _xlpm.Rows_Day + 3)+(weekdaycode(U$19)-1)*_xlpm.Rows_Day,_xlpm.Dir_Cols,_xlpm.Rows_Day,COLUMNS(Data!Vehicle_Classification)))))","v":""},{"$f":"_xlfn.LET(_xlpm.Rows_Day,24 * (60 / $B$8), _xlpm.Dir_Cols,(COLUMNS(Data!Vehicle_Classification)+COLUMNS(Data!Vehicle_Speed_Bins)+COLUMNS(Data!Speed)+2),IF(ISBLANK($F48),\"\",SUM(OFFSET(Data!$G$5,(Offsets!$G32-1)*(9 * _xlpm.Rows_Day + 3)+(weekdaycode(U$19)-1)*_xlpm.Rows_Day,_xlpm.Dir_Cols,_xlpm.Rows_Day,1))/SUM(OFFSET(Data!$C$5,(Offsets!$G32-1)*(9 * _xlpm.Rows_Day + 3)+(weekdaycode(U$19)-1)*_xlpm.Rows_Day,_xlpm.Dir_Cols,_xlpm.Rows_Day,COLUMNS(Data!Vehicle_Classification)))))","v":""},{"$f":"_xlfn.LET(_xlpm.Rows_Day,24 * (60 / $B$8), _xlpm.Dir_Cols,0,IF(ISBLANK($F48),\"\",SUM(OFFSET(Data!$G$5,(Offsets!$G32-1)*(9 * _xlpm.Rows_Day + 3)+(weekdaycode(W$19)-1)*_xlpm.Rows_Day,_xlpm.Dir_Cols,_xlpm.Rows_Day,1))/SUM(OFFSET(Data!$C$5,(Offsets!$G32-1)*(9 * _xlpm.Rows_Day + 3)+(weekdaycode(W$19)-1)*_xlpm.Rows_Day,_xlpm.Dir_Cols,_xlpm.Rows_Day,COLUMNS(Data!Vehicle_Classification)))))","v":""},{"$f":"_xlfn.LET(_xlpm.Rows_Day,24 * (60 / $B$8), _xlpm.Dir_Cols,(COLUMNS(Data!Vehicle_Classification)+COLUMNS(Data!Vehicle_Speed_Bins)+COLUMNS(Data!Speed)+2),IF(ISBLANK($F48),\"\",SUM(OFFSET(Data!$G$5,(Offsets!$G32-1)*(9 * _xlpm.Rows_Day + 3)+(weekdaycode(W$19)-1)*_xlpm.Rows_Day,_xlpm.Dir_Cols,_xlpm.Rows_Day,1))/SUM(OFFSET(Data!$C$5,(Offsets!$G32-1)*(9 * _xlpm.Rows_Day + 3)+(weekdaycode(W$19)-1)*_xlpm.Rows_Day,_xlpm.Dir_Cols,_xlpm.Rows_Day,COLUMNS(Data!Vehicle_Classification)))))","v":""}]
[null,null,null,null,null,null,null,null,null,null,{"$f":"_xlfn.LET(_xlpm.Rows_Day,24 * (60 / $B$8), _xlpm.Dir_Cols,0,IF(ISBLANK($F49),\"\",SUM(OFFSET(Data!$G$5,(Offsets!$G33-1)*(9 * _xlpm.Rows_Day + 3)+(weekdaycode(K$19)-1)*_xlpm.Rows_Day,_xlpm.Dir_Cols,_xlpm.Rows_Day,1))/SUM(OFFSET(Data!$C$5,(Offsets!$G33-1)*(9 * _xlpm.Rows_Day + 3)+(weekdaycode(K$19)-1)*_xlpm.Rows_Day,_xlpm.Dir_Cols,_xlpm.Rows_Day,COLUMNS(Data!Vehicle_Classification)))))","v":""},{"$f":"_xlfn.LET(_xlpm.Rows_Day,24 * (60 / $B$8), _xlpm.Dir_Cols,(COLUMNS(Data!Vehicle_Classification)+COLUMNS(Data!Vehicle_Speed_Bins)+COLUMNS(Data!Speed)+2),IF(ISBLANK($F49),\"\",SUM(OFFSET(Data!$G$5,(Offsets!$G33-1)*(9 * _xlpm.Rows_Day + 3)+(weekdaycode(K$19)-1)*_xlpm.Rows_Day,_xlpm.Dir_Cols,_xlpm.Rows_Day,1))/SUM(OFFSET(Data!$C$5,(Offsets!$G33-1)*(9 * _xlpm.Rows_Day + 3)+(weekdaycode(K$19)-1)*_xlpm.Rows_Day,_xlpm.Dir_Cols,_xlpm.Rows_Day,COLUMNS(Data!Vehicle_Classification)))))","v":""},{"$f":"_xlfn.LET(_xlpm.Rows_Day,24 * (60 / $B$8), _xlpm.Dir_Cols,0,IF(ISBLANK($F49),\"\",SUM(OFFSET(Data!$G$5,(Offsets!$G33-1)*(9 * _xlpm.Rows_Day + 3)+(weekdaycode(M$19)-1)*_xlpm.Rows_Day,_xlpm.Dir_Cols,_xlpm.Rows_Day,1))/SUM(OFFSET(Data!$C$5,(Offsets!$G33-1)*(9 * _xlpm.Rows_Day + 3)+(weekdaycode(M$19)-1)*_xlpm.Rows_Day,_xlpm.Dir_Cols,_xlpm.Rows_Day,COLUMNS(Data!Vehicle_Classification)))))","v":""},{"$f":"_xlfn.LET(_xlpm.Rows_Day,24 * (60 / $B$8), _xlpm.Dir_Cols,(COLUMNS(Data!Vehicle_Classification)+COLUMNS(Data!Vehicle_Speed_Bins)+COLUMNS(Data!Speed)+2),IF(ISBLANK($F49),\"\",SUM(OFFSET(Data!$G$5,(Offsets!$G33-1)*(9 * _xlpm.Rows_Day + 3)+(weekdaycode(M$19)-1)*_xlpm.Rows_Day,_xlpm.Dir_Cols,_xlpm.Rows_Day,1))/SUM(OFFSET(Data!$C$5,(Offsets!$G33-1)*(9 * _xlpm.Rows_Day + 3)+(weekdaycode(M$19)-1)*_xlpm.Rows_Day,_xlpm.Dir_Cols,_xlpm.Rows_Day,COLUMNS(Data!Vehicle_Classification)))))","v":""},{"$f":"_xlfn.LET(_xlpm.Rows_Day,24 * (60 / $B$8), _xlpm.Dir_Cols,0,IF(ISBLANK($F49),\"\",SUM(OFFSET(Data!$G$5,(Offsets!$G33-1)*(9 * _xlpm.Rows_Day + 3)+(weekdaycode(O$19)-1)*_xlpm.Rows_Day,_xlpm.Dir_Cols,_xlpm.Rows_Day,1))/SUM(OFFSET(Data!$C$5,(Offsets!$G33-1)*(9 * _xlpm.Rows_Day + 3)+(weekdaycode(O$19)-1)*_xlpm.Rows_Day,_xlpm.Dir_Cols,_xlpm.Rows_Day,COLUMNS(Data!Vehicle_Classification)))))","v":""},{"$f":"_xlfn.LET(_xlpm.Rows_Day,24 * (60 / $B$8), _xlpm.Dir_Cols,(COLUMNS(Data!Vehicle_Classification)+COLUMNS(Data!Vehicle_Speed_Bins)+COLUMNS(Data!Speed)+2),IF(ISBLANK($F49),\"\",SUM(OFFSET(Data!$G$5,(Offsets!$G33-1)*(9 * _xlpm.Rows_Day + 3)+(weekdaycode(O$19)-1)*_xlpm.Rows_Day,_xlpm.Dir_Cols,_xlpm.Rows_Day,1))/SUM(OFFSET(Data!$C$5,(Offsets!$G33-1)*(9 * _xlpm.Rows_Day + 3)+(weekdaycode(O$19)-1)*_xlpm.Rows_Day,_xlpm.Dir_Cols,_xlpm.Rows_Day,COLUMNS(Data!Vehicle_Classification)))))","v":""},{"$f":"_xlfn.LET(_xlpm.Rows_Day,24 * (60 / $B$8), _xlpm.Dir_Cols,0,IF(ISBLANK($F49),\"\",SUM(OFFSET(Data!$G$5,(Offsets!$G33-1)*(9 * _xlpm.Rows_Day + 3)+(weekdaycode(Q$19)-1)*_xlpm.Rows_Day,_xlpm.Dir_Cols,_xlpm.Rows_Day,1))/SUM(OFFSET(Data!$C$5,(Offsets!$G33-1)*(9 * _xlpm.Rows_Day + 3)+(weekdaycode(Q$19)-1)*_xlpm.Rows_Day,_xlpm.Dir_Cols,_xlpm.Rows_Day,COLUMNS(Data!Vehicle_Classification)))))","v":""},{"$f":"_xlfn.LET(_xlpm.Rows_Day,24 * (60 / $B$8), _xlpm.Dir_Cols,(COLUMNS(Data!Vehicle_Classification)+COLUMNS(Data!Vehicle_Speed_Bins)+COLUMNS(Data!Speed)+2),IF(ISBLANK($F49),\"\",SUM(OFFSET(Data!$G$5,(Offsets!$G33-1)*(9 * _xlpm.Rows_Day + 3)+(weekdaycode(Q$19)-1)*_xlpm.Rows_Day,_xlpm.Dir_Cols,_xlpm.Rows_Day,1))/SUM(OFFSET(Data!$C$5,(Offsets!$G33-1)*(9 * _xlpm.Rows_Day + 3)+(weekdaycode(Q$19)-1)*_xlpm.Rows_Day,_xlpm.Dir_Cols,_xlpm.Rows_Day,COLUMNS(Data!Vehicle_Classification)))))","v":""},{"$f":"_xlfn.LET(_xlpm.Rows_Day,24 * (60 / $B$8), _xlpm.Dir_Cols,0,IF(ISBLANK($F49),\"\",SUM(OFFSET(Data!$G$5,(Offsets!$G33-1)*(9 * _xlpm.Rows_Day + 3)+(weekdaycode(S$19)-1)*_xlpm.Rows_Day,_xlpm.Dir_Cols,_xlpm.Rows_Day,1))/SUM(OFFSET(Data!$C$5,(Offsets!$G33-1)*(9 * _xlpm.Rows_Day + 3)+(weekdaycode(S$19)-1)*_xlpm.Rows_Day,_xlpm.Dir_Cols,_xlpm.Rows_Day,COLUMNS(Data!Vehicle_Classification)))))","v":""},{"$f":"_xlfn.LET(_xlpm.Rows_Day,24 * (60 / $B$8), _xlpm.Dir_Cols,(COLUMNS(Data!Vehicle_Classification)+COLUMNS(Data!Vehicle_Speed_Bins)+COLUMNS(Data!Speed)+2),IF(ISBLANK($F49),\"\",SUM(OFFSET(Data!$G$5,(Offsets!$G33-1)*(9 * _xlpm.Rows_Day + 3)+(weekdaycode(S$19)-1)*_xlpm.Rows_Day,_xlpm.Dir_Cols,_xlpm.Rows_Day,1))/SUM(OFFSET(Data!$C$5,(Offsets!$G33-1)*(9 * _xlpm.Rows_Day + 3)+(weekdaycode(S$19)-1)*_xlpm.Rows_Day,_xlpm.Dir_Cols,_xlpm.Rows_Day,COLUMNS(Data!Vehicle_Classification)))))","v":""},{"$f":"_xlfn.LET(_xlpm.Rows_Day,24 * (60 / $B$8), _xlpm.Dir_Cols,0,IF(ISBLANK($F49),\"\",SUM(OFFSET(Data!$G$5,(Offsets!$G33-1)*(9 * _xlpm.Rows_Day + 3)+(weekdaycode(U$19)-1)*_xlpm.Rows_Day,_xlpm.Dir_Cols,_xlpm.Rows_Day,1))/SUM(OFFSET(Data!$C$5,(Offsets!$G33-1)*(9 * _xlpm.Rows_Day + 3)+(weekdaycode(U$19)-1)*_xlpm.Rows_Day,_xlpm.Dir_Cols,_xlpm.Rows_Day,COLUMNS(Data!Vehicle_Classification)))))","v":""},{"$f":"_xlfn.LET(_xlpm.Rows_Day,24 * (60 / $B$8), _xlpm.Dir_Cols,(COLUMNS(Data!Vehicle_Classification)+COLUMNS(Data!Vehicle_Speed_Bins)+COLUMNS(Data!Speed)+2),IF(ISBLANK($F49),\"\",SUM(OFFSET(Data!$G$5,(Offsets!$G33-1)*(9 * _xlpm.Rows_Day + 3)+(weekdaycode(U$19)-1)*_xlpm.Rows_Day,_xlpm.Dir_Cols,_xlpm.Rows_Day,1))/SUM(OFFSET(Data!$C$5,(Offsets!$G33-1)*(9 * _xlpm.Rows_Day + 3)+(weekdaycode(U$19)-1)*_xlpm.Rows_Day,_xlpm.Dir_Cols,_xlpm.Rows_Day,COLUMNS(Data!Vehicle_Classification)))))","v":""},{"$f":"_xlfn.LET(_xlpm.Rows_Day,24 * (60 / $B$8), _xlpm.Dir_Cols,0,IF(ISBLANK($F49),\"\",SUM(OFFSET(Data!$G$5,(Offsets!$G33-1)*(9 * _xlpm.Rows_Day + 3)+(weekdaycode(W$19)-1)*_xlpm.Rows_Day,_xlpm.Dir_Cols,_xlpm.Rows_Day,1))/SUM(OFFSET(Data!$C$5,(Offsets!$G33-1)*(9 * _xlpm.Rows_Day + 3)+(weekdaycode(W$19)-1)*_xlpm.Rows_Day,_xlpm.Dir_Cols,_xlpm.Rows_Day,COLUMNS(Data!Vehicle_Classification)))))","v":""},{"$f":"_xlfn.LET(_xlpm.Rows_Day,24 * (60 / $B$8), _xlpm.Dir_Cols,(COLUMNS(Data!Vehicle_Classification)+COLUMNS(Data!Vehicle_Speed_Bins)+COLUMNS(Data!Speed)+2),IF(ISBLANK($F49),\"\",SUM(OFFSET(Data!$G$5,(Offsets!$G33-1)*(9 * _xlpm.Rows_Day + 3)+(weekdaycode(W$19)-1)*_xlpm.Rows_Day,_xlpm.Dir_Cols,_xlpm.Rows_Day,1))/SUM(OFFSET(Data!$C$5,(Offsets!$G33-1)*(9 * _xlpm.Rows_Day + 3)+(weekdaycode(W$19)-1)*_xlpm.Rows_Day,_xlpm.Dir_Cols,_xlpm.Rows_Day,COLUMNS(Data!Vehicle_Classification)))))","v":""}]
[null,null,null,null,null,null,null,null,null,null,{"$f":"_xlfn.LET(_xlpm.Rows_Day,24 * (60 / $B$8), _xlpm.Dir_Cols,0,IF(ISBLANK($F50),\"\",SUM(OFFSET(Data!$G$5,(Offsets!$G34-1)*(9 * _xlpm.Rows_Day + 3)+(weekdaycode(K$19)-1)*_xlpm.Rows_Day,_xlpm.Dir_Cols,_xlpm.Rows_Day,1))/SUM(OFFSET(Data!$C$5,(Offsets!$G34-1)*(9 * _xlpm.Rows_Day + 3)+(weekdaycode(K$19)-1)*_xlpm.Rows_Day,_xlpm.Dir_Cols,_xlpm.Rows_Day,COLUMNS(Data!Vehicle_Classification)))))","v":""},{"$f":"_xlfn.LET(_xlpm.Rows_Day,24 * (60 / $B$8), _xlpm.Dir_Cols,(COLUMNS(Data!Vehicle_Classification)+COLUMNS(Data!Vehicle_Speed_Bins)+COLUMNS(Data!Speed)+2),IF(ISBLANK($F50),\"\",SUM(OFFSET(Data!$G$5,(Offsets!$G34-1)*(9 * _xlpm.Rows_Day + 3)+(weekdaycode(K$19)-1)*_xlpm.Rows_Day,_xlpm.Dir_Cols,_xlpm.Rows_Day,1))/SUM(OFFSET(Data!$C$5,(Offsets!$G34-1)*(9 * _xlpm.Rows_Day + 3)+(weekdaycode(K$19)-1)*_xlpm.Rows_Day,_xlpm.Dir_Cols,_xlpm.Rows_Day,COLUMNS(Data!Vehicle_Classification)))))","v":""},{"$f":"_xlfn.LET(_xlpm.Rows_Day,24 * (60 / $B$8), _xlpm.Dir_Cols,0,IF(ISBLANK($F50),\"\",SUM(OFFSET(Data!$G$5,(Offsets!$G34-1)*(9 * _xlpm.Rows_Day + 3)+(weekdaycode(M$19)-1)*_xlpm.Rows_Day,_xlpm.Dir_Cols,_xlpm.Rows_Day,1))/SUM(OFFSET(Data!$C$5,(Offsets!$G34-1)*(9 * _xlpm.Rows_Day + 3)+(weekdaycode(M$19)-1)*_xlpm.Rows_Day,_xlpm.Dir_Cols,_xlpm.Rows_Day,COLUMNS(Data!Vehicle_Classification)))))","v":""},{"$f":"_xlfn.LET(_xlpm.Rows_Day,24 * (60 / $B$8), _xlpm.Dir_Cols,(COLUMNS(Data!Vehicle_Classification)+COLUMNS(Data!Vehicle_Speed_Bins)+COLUMNS(Data!Speed)+2),IF(ISBLANK($F50),\"\",SUM(OFFSET(Data!$G$5,(Offsets!$G34-1)*(9 * _xlpm.Rows_Day + 3)+(weekdaycode(M$19)-1)*_xlpm.Rows_Day,_xlpm.Dir_Cols,_xlpm.Rows_Day,1))/SUM(OFFSET(Data!$C$5,(Offsets!$G34-1)*(9 * _xlpm.Rows_Day + 3)+(weekdaycode(M$19)-1)*_xlpm.Rows_Day,_xlpm.Dir_Cols,_xlpm.Rows_Day,COLUMNS(Data!Vehicle_Classification)))))","v":""},{"$f":"_xlfn.LET(_xlpm.Rows_Day,24 * (60 / $B$8), _xlpm.Dir_Cols,0,IF(ISBLANK($F50),\"\",SUM(OFFSET(Data!$G$5,(Offsets!$G34-1)*(9 * _xlpm.Rows_Day + 3)+(weekdaycode(O$19)-1)*_xlpm.Rows_Day,_xlpm.Dir_Cols,_xlpm.Rows_Day,1))/SUM(OFFSET(Data!$C$5,(Offsets!$G34-1)*(9 * _xlpm.Rows_Day + 3)+(weekdaycode(O$19)-1)*_xlpm.Rows_Day,_xlpm.Dir_Cols,_xlpm.Rows_Day,COLUMNS(Data!Vehicle_Classification)))))","v":""},{"$f":"_xlfn.LET(_xlpm.Rows_Day,24 * (60 / $B$8), _xlpm.Dir_Cols,(COLUMNS(Data!Vehicle_Classification)+COLUMNS(Data!Vehicle_Speed_Bins)+COLUMNS(Data!Speed)+2),IF(ISBLANK($F50),\"\",SUM(OFFSET(Data!$G$5,(Offsets!$G34-1)*(9 * _xlpm.Rows_Day + 3)+(weekdaycode(O$19)-1)*_xlpm.Rows_Day,_xlpm.Dir_Cols,_xlpm.Rows_Day,1))/SUM(OFFSET(Data!$C$5,(Offsets!$G34-1)*(9 * _xlpm.Rows_Day + 3)+(weekdaycode(O$19)-1)*_xlpm.Rows_Day,_xlpm.Dir_Cols,_xlpm.Rows_Day,COLUMNS(Data!Vehicle_Classification)))))","v":""},{"$f":"_xlfn.LET(_xlpm.Rows_Day,24 * (60 / $B$8), _xlpm.Dir_Cols,0,IF(ISBLANK($F50),\"\",SUM(OFFSET(Data!$G$5,(Offsets!$G34-1)*(9 * _xlpm.Rows_Day + 3)+(weekdaycode(Q$19)-1)*_xlpm.Rows_Day,_xlpm.Dir_Cols,_xlpm.Rows_Day,1))/SUM(OFFSET(Data!$C$5,(Offsets!$G34-1)*(9 * _xlpm.Rows_Day + 3)+(weekdaycode(Q$19)-1)*_xlpm.Rows_Day,_xlpm.Dir_Cols,_xlpm.Rows_Day,COLUMNS(Data!Vehicle_Classification)))))","v":""},{"$f":"_xlfn.LET(_xlpm.Rows_Day,24 * (60 / $B$8), _xlpm.Dir_Cols,(COLUMNS(Data!Vehicle_Classification)+COLUMNS(Data!Vehicle_Speed_Bins)+COLUMNS(Data!Speed)+2),IF(ISBLANK($F50),\"\",SUM(OFFSET(Data!$G$5,(Offsets!$G34-1)*(9 * _xlpm.Rows_Day + 3)+(weekdaycode(Q$19)-1)*_xlpm.Rows_Day,_xlpm.Dir_Cols,_xlpm.Rows_Day,1))/SUM(OFFSET(Data!$C$5,(Offsets!$G34-1)*(9 * _xlpm.Rows_Day + 3)+(weekdaycode(Q$19)-1)*_xlpm.Rows_Day,_xlpm.Dir_Cols,_xlpm.Rows_Day,COLUMNS(Data!Vehicle_Classification)))))","v":""},{"$f":"_xlfn.LET(_xlpm.Rows_Day,24 * (60 / $B$8), _xlpm.Dir_Cols,0,IF(ISBLANK($F50),\"\",SUM(OFFSET(Data!$G$5,(Offsets!$G34-1)*(9 * _xlpm.Rows_Day + 3)+(weekdaycode(S$19)-1)*_xlpm.Rows_Day,_xlpm.Dir_Cols,_xlpm.Rows_Day,1))/SUM(OFFSET(Data!$C$5,(Offsets!$G34-1)*(9 * _xlpm.Rows_Day + 3)+(weekdaycode(S$19)-1)*_xlpm.Rows_Day,_xlpm.Dir_Cols,_xlpm.Rows_Day,COLUMNS(Data!Vehicle_Classification)))))","v":""},{"$f":"_xlfn.LET(_xlpm.Rows_Day,24 * (60 / $B$8), _xlpm.Dir_Cols,(COLUMNS(Data!Vehicle_Classification)+COLUMNS(Data!Vehicle_Speed_Bins)+COLUMNS(Data!Speed)+2),IF(ISBLANK($F50),\"\",SUM(OFFSET(Data!$G$5,(Offsets!$G34-1)*(9 * _xlpm.Rows_Day + 3)+(weekdaycode(S$19)-1)*_xlpm.Rows_Day,_xlpm.Dir_Cols,_xlpm.Rows_Day,1))/SUM(OFFSET(Data!$C$5,(Offsets!$G34-1)*(9 * _xlpm.Rows_Day + 3)+(weekdaycode(S$19)-1)*_xlpm.Rows_Day,_xlpm.Dir_Cols,_xlpm.Rows_Day,COLUMNS(Data!Vehicle_Classification)))))","v":""},{"$f":"_xlfn.LET(_xlpm.Rows_Day,24 * (60 / $B$8), _xlpm.Dir_Cols,0,IF(ISBLANK($F50),\"\",SUM(OFFSET(Data!$G$5,(Offsets!$G34-1)*(9 * _xlpm.Rows_Day + 3)+(weekdaycode(U$19)-1)*_xlpm.Rows_Day,_xlpm.Dir_Cols,_xlpm.Rows_Day,1))/SUM(OFFSET(Data!$C$5,(Offsets!$G34-1)*(9 * _xlpm.Rows_Day + 3)+(weekdaycode(U$19)-1)*_xlpm.Rows_Day,_xlpm.Dir_Cols,_xlpm.Rows_Day,COLUMNS(Data!Vehicle_Classification)))))","v":""},{"$f":"_xlfn.LET(_xlpm.Rows_Day,24 * (60 / $B$8), _xlpm.Dir_Cols,(COLUMNS(Data!Vehicle_Classification)+COLUMNS(Data!Vehicle_Speed_Bins)+COLUMNS(Data!Speed)+2),IF(ISBLANK($F50),\"\",SUM(OFFSET(Data!$G$5,(Offsets!$G34-1)*(9 * _xlpm.Rows_Day + 3)+(weekdaycode(U$19)-1)*_xlpm.Rows_Day,_xlpm.Dir_Cols,_xlpm.Rows_Day,1))/SUM(OFFSET(Data!$C$5,(Offsets!$G34-1)*(9 * _xlpm.Rows_Day + 3)+(weekdaycode(U$19)-1)*_xlpm.Rows_Day,_xlpm.Dir_Cols,_xlpm.Rows_Day,COLUMNS(Data!Vehicle_Classification)))))","v":""},{"$f":"_xlfn.LET(_xlpm.Rows_Day,24 * (60 / $B$8), _xlpm.Dir_Cols,0,IF(ISBLANK($F50),\"\",SUM(OFFSET(Data!$G$5,(Offsets!$G34-1)*(9 * _xlpm.Rows_Day + 3)+(weekdaycode(W$19)-1)*_xlpm.Rows_Day,_xlpm.Dir_Cols,_xlpm.Rows_Day,1))/SUM(OFFSET(Data!$C$5,(Offsets!$G34-1)*(9 * _xlpm.Rows_Day + 3)+(weekdaycode(W$19)-1)*_xlpm.Rows_Day,_xlpm.Dir_Cols,_xlpm.Rows_Day,COLUMNS(Data!Vehicle_Classification)))))","v":""},{"$f":"_xlfn.LET(_xlpm.Rows_Day,24 * (60 / $B$8), _xlpm.Dir_Cols,(COLUMNS(Data!Vehicle_Classification)+COLUMNS(Data!Vehicle_Speed_Bins)+COLUMNS(Data!Speed)+2),IF(ISBLANK($F50),\"\",SUM(OFFSET(Data!$G$5,(Offsets!$G34-1)*(9 * _xlpm.Rows_Day + 3)+(weekdaycode(W$19)-1)*_xlpm.Rows_Day,_xlpm.Dir_Cols,_xlpm.Rows_Day,1))/SUM(OFFSET(Data!$C$5,(Offsets!$G34-1)*(9 * _xlpm.Rows_Day + 3)+(weekdaycode(W$19)-1)*_xlpm.Rows_Day,_xlpm.Dir_Cols,_xlpm.Rows_Day,COLUMNS(Data!Vehicle_Classification)))))","v":""}]
[null,null,null,null,null,null,null,null,null,null,{"$f":"_xlfn.LET(_xlpm.Rows_Day,24 * (60 / $B$8), _xlpm.Dir_Cols,0,IF(ISBLANK($F51),\"\",SUM(OFFSET(Data!$G$5,(Offsets!$G35-1)*(9 * _xlpm.Rows_Day + 3)+(weekdaycode(K$19)-1)*_xlpm.Rows_Day,_xlpm.Dir_Cols,_xlpm.Rows_Day,1))/SUM(OFFSET(Data!$C$5,(Offsets!$G35-1)*(9 * _xlpm.Rows_Day + 3)+(weekdaycode(K$19)-1)*_xlpm.Rows_Day,_xlpm.Dir_Cols,_xlpm.Rows_Day,COLUMNS(Data!Vehicle_Classification)))))","v":""},{"$f":"_xlfn.LET(_xlpm.Rows_Day,24 * (60 / $B$8), _xlpm.Dir_Cols,(COLUMNS(Data!Vehicle_Classification)+COLUMNS(Data!Vehicle_Speed_Bins)+COLUMNS(Data!Speed)+2),IF(ISBLANK($F51),\"\",SUM(OFFSET(Data!$G$5,(Offsets!$G35-1)*(9 * _xlpm.Rows_Day + 3)+(weekdaycode(K$19)-1)*_xlpm.Rows_Day,_xlpm.Dir_Cols,_xlpm.Rows_Day,1))/SUM(OFFSET(Data!$C$5,(Offsets!$G35-1)*(9 * _xlpm.Rows_Day + 3)+(weekdaycode(K$19)-1)*_xlpm.Rows_Day,_xlpm.Dir_Cols,_xlpm.Rows_Day,COLUMNS(Data!Vehicle_Classification)))))","v":""},{"$f":"_xlfn.LET(_xlpm.Rows_Day,24 * (60 / $B$8), _xlpm.Dir_Cols,0,IF(ISBLANK($F51),\"\",SUM(OFFSET(Data!$G$5,(Offsets!$G35-1)*(9 * _xlpm.Rows_Day + 3)+(weekdaycode(M$19)-1)*_xlpm.Rows_Day,_xlpm.Dir_Cols,_xlpm.Rows_Day,1))/SUM(OFFSET(Data!$C$5,(Offsets!$G35-1)*(9 * _xlpm.Rows_Day + 3)+(weekdaycode(M$19)-1)*_xlpm.Rows_Day,_xlpm.Dir_Cols,_xlpm.Rows_Day,COLUMNS(Data!Vehicle_Classification)))))","v":""},{"$f":"_xlfn.LET(_xlpm.Rows_Day,24 * (60 / $B$8), _xlpm.Dir_Cols,(COLUMNS(Data!Vehicle_Classification)+COLUMNS(Data!Vehicle_Speed_Bins)+COLUMNS(Data!Speed)+2),IF(ISBLANK($F51),\"\",SUM(OFFSET(Data!$G$5,(Offsets!$G35-1)*(9 * _xlpm.Rows_Day + 3)+(weekdaycode(M$19)-1)*_xlpm.Rows_Day,_xlpm.Dir_Cols,_xlpm.Rows_Day,1))/SUM(OFFSET(Data!$C$5,(Offsets!$G35-1)*(9 * _xlpm.Rows_Day + 3)+(weekdaycode(M$19)-1)*_xlpm.Rows_Day,_xlpm.Dir_Cols,_xlpm.Rows_Day,COLUMNS(Data!Vehicle_Classification)))))","v":""},{"$f":"_xlfn.LET(_xlpm.Rows_Day,24 * (60 / $B$8), _xlpm.Dir_Cols,0,IF(ISBLANK($F51),\"\",SUM(OFFSET(Data!$G$5,(Offsets!$G35-1)*(9 * _xlpm.Rows_Day + 3)+(weekdaycode(O$19)-1)*_xlpm.Rows_Day,_xlpm.Dir_Cols,_xlpm.Rows_Day,1))/SUM(OFFSET(Data!$C$5,(Offsets!$G35-1)*(9 * _xlpm.Rows_Day + 3)+(weekdaycode(O$19)-1)*_xlpm.Rows_Day,_xlpm.Dir_Cols,_xlpm.Rows_Day,COLUMNS(Data!Vehicle_Classification)))))","v":""},{"$f":"_xlfn.LET(_xlpm.Rows_Day,24 * (60 / $B$8), _xlpm.Dir_Cols,(COLUMNS(Data!Vehicle_Classification)+COLUMNS(Data!Vehicle_Speed_Bins)+COLUMNS(Data!Speed)+2),IF(ISBLANK($F51),\"\",SUM(OFFSET(Data!$G$5,(Offsets!$G35-1)*(9 * _xlpm.Rows_Day + 3)+(weekdaycode(O$19)-1)*_xlpm.Rows_Day,_xlpm.Dir_Cols,_xlpm.Rows_Day,1))/SUM(OFFSET(Data!$C$5,(Offsets!$G35-1)*(9 * _xlpm.Rows_Day + 3)+(weekdaycode(O$19)-1)*_xlpm.Rows_Day,_xlpm.Dir_Cols,_xlpm.Rows_Day,COLUMNS(Data!Vehicle_Classification)))))","v":""},{"$f":"_xlfn.LET(_xlpm.Rows_Day,24 * (60 / $B$8), _xlpm.Dir_Cols,0,IF(ISBLANK($F51),\"\",SUM(OFFSET(Data!$G$5,(Offsets!$G35-1)*(9 * _xlpm.Rows_Day + 3)+(weekdaycode(Q$19)-1)*_xlpm.Rows_Day,_xlpm.Dir_Cols,_xlpm.Rows_Day,1))/SUM(OFFSET(Data!$C$5,(Offsets!$G35-1)*(9 * _xlpm.Rows_Day + 3)+(weekdaycode(Q$19)-1)*_xlpm.Rows_Day,_xlpm.Dir_Cols,_xlpm.Rows_Day,COLUMNS(Data!Vehicle_Classification)))))","v":""},{"$f":"_xlfn.LET(_xlpm.Rows_Day,24 * (60 / $B$8), _xlpm.Dir_Cols,(COLUMNS(Data!Vehicle_Classification)+COLUMNS(Data!Vehicle_Speed_Bins)+COLUMNS(Data!Speed)+2),IF(ISBLANK($F51),\"\",SUM(OFFSET(Data!$G$5,(Offsets!$G35-1)*(9 * _xlpm.Rows_Day + 3)+(weekdaycode(Q$19)-1)*_xlpm.Rows_Day,_xlpm.Dir_Cols,_xlpm.Rows_Day,1))/SUM(OFFSET(Data!$C$5,(Offsets!$G35-1)*(9 * _xlpm.Rows_Day + 3)+(weekdaycode(Q$19)-1)*_xlpm.Rows_Day,_xlpm.Dir_Cols,_xlpm.Rows_Day,COLUMNS(Data!Vehicle_Classification)))))","v":""},{"$f":"_xlfn.LET(_xlpm.Rows_Day,24 * (60 / $B$8), _xlpm.Dir_Cols,0,IF(ISBLANK($F51),\"\",SUM(OFFSET(Data!$G$5,(Offsets!$G35-1)*(9 * _xlpm.Rows_Day + 3)+(weekdaycode(S$19)-1)*_xlpm.Rows_Day,_xlpm.Dir_Cols,_xlpm.Rows_Day,1))/SUM(OFFSET(Data!$C$5,(Offsets!$G35-1)*(9 * _xlpm.Rows_Day + 3)+(weekdaycode(S$19)-1)*_xlpm.Rows_Day,_xlpm.Dir_Cols,_xlpm.Rows_Day,COLUMNS(Data!Vehicle_Classification)))))","v":""},{"$f":"_xlfn.LET(_xlpm.Rows_Day,24 * (60 / $B$8), _xlpm.Dir_Cols,(COLUMNS(Data!Vehicle_Classification)+COLUMNS(Data!Vehicle_Speed_Bins)+COLUMNS(Data!Speed)+2),IF(ISBLANK($F51),\"\",SUM(OFFSET(Data!$G$5,(Offsets!$G35-1)*(9 * _xlpm.Rows_Day + 3)+(weekdaycode(S$19)-1)*_xlpm.Rows_Day,_xlpm.Dir_Cols,_xlpm.Rows_Day,1))/SUM(OFFSET(Data!$C$5,(Offsets!$G35-1)*(9 * _xlpm.Rows_Day + 3)+(weekdaycode(S$19)-1)*_xlpm.Rows_Day,_xlpm.Dir_Cols,_xlpm.Rows_Day,COLUMNS(Data!Vehicle_Classification)))))","v":""},{"$f":"_xlfn.LET(_xlpm.Rows_Day,24 * (60 / $B$8), _xlpm.Dir_Cols,0,IF(ISBLANK($F51),\"\",SUM(OFFSET(Data!$G$5,(Offsets!$G35-1)*(9 * _xlpm.Rows_Day + 3)+(weekdaycode(U$19)-1)*_xlpm.Rows_Day,_xlpm.Dir_Cols,_xlpm.Rows_Day,1))/SUM(OFFSET(Data!$C$5,(Offsets!$G35-1)*(9 * _xlpm.Rows_Day + 3)+(weekdaycode(U$19)-1)*_xlpm.Rows_Day,_xlpm.Dir_Cols,_xlpm.Rows_Day,COLUMNS(Data!Vehicle_Classification)))))","v":""},{"$f":"_xlfn.LET(_xlpm.Rows_Day,24 * (60 / $B$8), _xlpm.Dir_Cols,(COLUMNS(Data!Vehicle_Classification)+COLUMNS(Data!Vehicle_Speed_Bins)+COLUMNS(Data!Speed)+2),IF(ISBLANK($F51),\"\",SUM(OFFSET(Data!$G$5,(Offsets!$G35-1)*(9 * _xlpm.Rows_Day + 3)+(weekdaycode(U$19)-1)*_xlpm.Rows_Day,_xlpm.Dir_Cols,_xlpm.Rows_Day,1))/SUM(OFFSET(Data!$C$5,(Offsets!$G35-1)*(9 * _xlpm.Rows_Day + 3)+(weekdaycode(U$19)-1)*_xlpm.Rows_Day,_xlpm.Dir_Cols,_xlpm.Rows_Day,COLUMNS(Data!Vehicle_Classification)))))","v":""},{"$f":"_xlfn.LET(_xlpm.Rows_Day,24 * (60 / $B$8), _xlpm.Dir_Cols,0,IF(ISBLANK($F51),\"\",SUM(OFFSET(Data!$G$5,(Offsets!$G35-1)*(9 * _xlpm.Rows_Day + 3)+(weekdaycode(W$19)-1)*_xlpm.Rows_Day,_xlpm.Dir_Cols,_xlpm.Rows_Day,1))/SUM(OFFSET(Data!$C$5,(Offsets!$G35-1)*(9 * _xlpm.Rows_Day + 3)+(weekdaycode(W$19)-1)*_xlpm.Rows_Day,_xlpm.Dir_Cols,_xlpm.Rows_Day,COLUMNS(Data!Vehicle_Classification)))))","v":""},{"$f":"_xlfn.LET(_xlpm.Rows_Day,24 * (60 / $B$8), _xlpm.Dir_Cols,(COLUMNS(Data!Vehicle_Classification)+COLUMNS(Data!Vehicle_Speed_Bins)+COLUMNS(Data!Speed)+2),IF(ISBLANK($F51),\"\",SUM(OFFSET(Data!$G$5,(Offsets!$G35-1)*(9 * _xlpm.Rows_Day + 3)+(weekdaycode(W$19)-1)*_xlpm.Rows_Day,_xlpm.Dir_Cols,_xlpm.Rows_Day,1))/SUM(OFFSET(Data!$C$5,(Offsets!$G35-1)*(9 * _xlpm.Rows_Day + 3)+(weekdaycode(W$19)-1)*_xlpm.Rows_Day,_xlpm.Dir_Cols,_xlpm.Rows_Day,COLUMNS(Data!Vehicle_Classification)))))","v":""}]
[null,null,null,null,null,null,null,null,null,null,{"$f":"_xlfn.LET(_xlpm.Rows_Day,24 * (60 / $B$8), _xlpm.Dir_Cols,0,IF(ISBLANK($F52),\"\",SUM(OFFSET(Data!$G$5,(Offsets!$G36-1)*(9 * _xlpm.Rows_Day + 3)+(weekdaycode(K$19)-1)*_xlpm.Rows_Day,_xlpm.Dir_Cols,_xlpm.Rows_Day,1))/SUM(OFFSET(Data!$C$5,(Offsets!$G36-1)*(9 * _xlpm.Rows_Day + 3)+(weekdaycode(K$19)-1)*_xlpm.Rows_Day,_xlpm.Dir_Cols,_xlpm.Rows_Day,COLUMNS(Data!Vehicle_Classification)))))","v":""},{"$f":"_xlfn.LET(_xlpm.Rows_Day,24 * (60 / $B$8), _xlpm.Dir_Cols,(COLUMNS(Data!Vehicle_Classification)+COLUMNS(Data!Vehicle_Speed_Bins)+COLUMNS(Data!Speed)+2),IF(ISBLANK($F52),\"\",SUM(OFFSET(Data!$G$5,(Offsets!$G36-1)*(9 * _xlpm.Rows_Day + 3)+(weekdaycode(K$19)-1)*_xlpm.Rows_Day,_xlpm.Dir_Cols,_xlpm.Rows_Day,1))/SUM(OFFSET(Data!$C$5,(Offsets!$G36-1)*(9 * _xlpm.Rows_Day + 3)+(weekdaycode(K$19)-1)*_xlpm.Rows_Day,_xlpm.Dir_Cols,_xlpm.Rows_Day,COLUMNS(Data!Vehicle_Classification)))))","v":""},{"$f":"_xlfn.LET(_xlpm.Rows_Day,24 * (60 / $B$8), _xlpm.Dir_Cols,0,IF(ISBLANK($F52),\"\",SUM(OFFSET(Data!$G$5,(Offsets!$G36-1)*(9 * _xlpm.Rows_Day + 3)+(weekdaycode(M$19)-1)*_xlpm.Rows_Day,_xlpm.Dir_Cols,_xlpm.Rows_Day,1))/SUM(OFFSET(Data!$C$5,(Offsets!$G36-1)*(9 * _xlpm.Rows_Day + 3)+(weekdaycode(M$19)-1)*_xlpm.Rows_Day,_xlpm.Dir_Cols,_xlpm.Rows_Day,COLUMNS(Data!Vehicle_Classification)))))","v":""},{"$f":"_xlfn.LET(_xlpm.Rows_Day,24 * (60 / $B$8), _xlpm.Dir_Cols,(COLUMNS(Data!Vehicle_Classification)+COLUMNS(Data!Vehicle_Speed_Bins)+COLUMNS(Data!Speed)+2),IF(ISBLANK($F52),\"\",SUM(OFFSET(Data!$G$5,(Offsets!$G36-1)*(9 * _xlpm.Rows_Day + 3)+(weekdaycode(M$19)-1)*_xlpm.Rows_Day,_xlpm.Dir_Cols,_xlpm.Rows_Day,1))/SUM(OFFSET(Data!$C$5,(Offsets!$G36-1)*(9 * _xlpm.Rows_Day + 3)+(weekdaycode(M$19)-1)*_xlpm.Rows_Day,_xlpm.Dir_Cols,_xlpm.Rows_Day,COLUMNS(Data!Vehicle_Classification)))))","v":""},{"$f":"_xlfn.LET(_xlpm.Rows_Day,24 * (60 / $B$8), _xlpm.Dir_Cols,0,IF(ISBLANK($F52),\"\",SUM(OFFSET(Data!$G$5,(Offsets!$G36-1)*(9 * _xlpm.Rows_Day + 3)+(weekdaycode(O$19)-1)*_xlpm.Rows_Day,_xlpm.Dir_Cols,_xlpm.Rows_Day,1))/SUM(OFFSET(Data!$C$5,(Offsets!$G36-1)*(9 * _xlpm.Rows_Day + 3)+(weekdaycode(O$19)-1)*_xlpm.Rows_Day,_xlpm.Dir_Cols,_xlpm.Rows_Day,COLUMNS(Data!Vehicle_Classification)))))","v":""},{"$f":"_xlfn.LET(_xlpm.Rows_Day,24 * (60 / $B$8), _xlpm.Dir_Cols,(COLUMNS(Data!Vehicle_Classification)+COLUMNS(Data!Vehicle_Speed_Bins)+COLUMNS(Data!Speed)+2),IF(ISBLANK($F52),\"\",SUM(OFFSET(Data!$G$5,(Offsets!$G36-1)*(9 * _xlpm.Rows_Day + 3)+(weekdaycode(O$19)-1)*_xlpm.Rows_Day,_xlpm.Dir_Cols,_xlpm.Rows_Day,1))/SUM(OFFSET(Data!$C$5,(Offsets!$G36-1)*(9 * _xlpm.Rows_Day + 3)+(weekdaycode(O$19)-1)*_xlpm.Rows_Day,_xlpm.Dir_Cols,_xlpm.Rows_Day,COLUMNS(Data!Vehicle_Classification)))))","v":""},{"$f":"_xlfn.LET(_xlpm.Rows_Day,24 * (60 / $B$8), _xlpm.Dir_Cols,0,IF(ISBLANK($F52),\"\",SUM(OFFSET(Data!$G$5,(Offsets!$G36-1)*(9 * _xlpm.Rows_Day + 3)+(weekdaycode(Q$19)-1)*_xlpm.Rows_Day,_xlpm.Dir_Cols,_xlpm.Rows_Day,1))/SUM(OFFSET(Data!$C$5,(Offsets!$G36-1)*(9 * _xlpm.Rows_Day + 3)+(weekdaycode(Q$19)-1)*_xlpm.Rows_Day,_xlpm.Dir_Cols,_xlpm.Rows_Day,COLUMNS(Data!Vehicle_Classification)))))","v":""},{"$f":"_xlfn.LET(_xlpm.Rows_Day,24 * (60 / $B$8), _xlpm.Dir_Cols,(COLUMNS(Data!Vehicle_Classification)+COLUMNS(Data!Vehicle_Speed_Bins)+COLUMNS(Data!Speed)+2),IF(ISBLANK($F52),\"\",SUM(OFFSET(Data!$G$5,(Offsets!$G36-1)*(9 * _xlpm.Rows_Day + 3)+(weekdaycode(Q$19)-1)*_xlpm.Rows_Day,_xlpm.Dir_Cols,_xlpm.Rows_Day,1))/SUM(OFFSET(Data!$C$5,(Offsets!$G36-1)*(9 * _xlpm.Rows_Day + 3)+(weekdaycode(Q$19)-1)*_xlpm.Rows_Day,_xlpm.Dir_Cols,_xlpm.Rows_Day,COLUMNS(Data!Vehicle_Classification)))))","v":""},{"$f":"_xlfn.LET(_xlpm.Rows_Day,24 * (60 / $B$8), _xlpm.Dir_Cols,0,IF(ISBLANK($F52),\"\",SUM(OFFSET(Data!$G$5,(Offsets!$G36-1)*(9 * _xlpm.Rows_Day + 3)+(weekdaycode(S$19)-1)*_xlpm.Rows_Day,_xlpm.Dir_Cols,_xlpm.Rows_Day,1))/SUM(OFFSET(Data!$C$5,(Offsets!$G36-1)*(9 * _xlpm.Rows_Day + 3)+(weekdaycode(S$19)-1)*_xlpm.Rows_Day,_xlpm.Dir_Cols,_xlpm.Rows_Day,COLUMNS(Data!Vehicle_Classification)))))","v":""},{"$f":"_xlfn.LET(_xlpm.Rows_Day,24 * (60 / $B$8), _xlpm.Dir_Cols,(COLUMNS(Data!Vehicle_Classification)+COLUMNS(Data!Vehicle_Speed_Bins)+COLUMNS(Data!Speed)+2),IF(ISBLANK($F52),\"\",SUM(OFFSET(Data!$G$5,(Offsets!$G36-1)*(9 * _xlpm.Rows_Day + 3)+(weekdaycode(S$19)-1)*_xlpm.Rows_Day,_xlpm.Dir_Cols,_xlpm.Rows_Day,1))/SUM(OFFSET(Data!$C$5,(Offsets!$G36-1)*(9 * _xlpm.Rows_Day + 3)+(weekdaycode(S$19)-1)*_xlpm.Rows_Day,_xlpm.Dir_Cols,_xlpm.Rows_Day,COLUMNS(Data!Vehicle_Classification)))))","v":""},{"$f":"_xlfn.LET(_xlpm.Rows_Day,24 * (60 / $B$8), _xlpm.Dir_Cols,0,IF(ISBLANK($F52),\"\",SUM(OFFSET(Data!$G$5,(Offsets!$G36-1)*(9 * _xlpm.Rows_Day + 3)+(weekdaycode(U$19)-1)*_xlpm.Rows_Day,_xlpm.Dir_Cols,_xlpm.Rows_Day,1))/SUM(OFFSET(Data!$C$5,(Offsets!$G36-1)*(9 * _xlpm.Rows_Day + 3)+(weekdaycode(U$19)-1)*_xlpm.Rows_Day,_xlpm.Dir_Cols,_xlpm.Rows_Day,COLUMNS(Data!Vehicle_Classification)))))","v":""},{"$f":"_xlfn.LET(_xlpm.Rows_Day,24 * (60 / $B$8), _xlpm.Dir_Cols,(COLUMNS(Data!Vehicle_Classification)+COLUMNS(Data!Vehicle_Speed_Bins)+COLUMNS(Data!Speed)+2),IF(ISBLANK($F52),\"\",SUM(OFFSET(Data!$G$5,(Offsets!$G36-1)*(9 * _xlpm.Rows_Day + 3)+(weekdaycode(U$19)-1)*_xlpm.Rows_Day,_xlpm.Dir_Cols,_xlpm.Rows_Day,1))/SUM(OFFSET(Data!$C$5,(Offsets!$G36-1)*(9 * _xlpm.Rows_Day + 3)+(weekdaycode(U$19)-1)*_xlpm.Rows_Day,_xlpm.Dir_Cols,_xlpm.Rows_Day,COLUMNS(Data!Vehicle_Classification)))))","v":""},{"$f":"_xlfn.LET(_xlpm.Rows_Day,24 * (60 / $B$8), _xlpm.Dir_Cols,0,IF(ISBLANK($F52),\"\",SUM(OFFSET(Data!$G$5,(Offsets!$G36-1)*(9 * _xlpm.Rows_Day + 3)+(weekdaycode(W$19)-1)*_xlpm.Rows_Day,_xlpm.Dir_Cols,_xlpm.Rows_Day,1))/SUM(OFFSET(Data!$C$5,(Offsets!$G36-1)*(9 * _xlpm.Rows_Day + 3)+(weekdaycode(W$19)-1)*_xlpm.Rows_Day,_xlpm.Dir_Cols,_xlpm.Rows_Day,COLUMNS(Data!Vehicle_Classification)))))","v":""},{"$f":"_xlfn.LET(_xlpm.Rows_Day,24 * (60 / $B$8), _xlpm.Dir_Cols,(COLUMNS(Data!Vehicle_Classification)+COLUMNS(Data!Vehicle_Speed_Bins)+COLUMNS(Data!Speed)+2),IF(ISBLANK($F52),\"\",SUM(OFFSET(Data!$G$5,(Offsets!$G36-1)*(9 * _xlpm.Rows_Day + 3)+(weekdaycode(W$19)-1)*_xlpm.Rows_Day,_xlpm.Dir_Cols,_xlpm.Rows_Day,1))/SUM(OFFSET(Data!$C$5,(Offsets!$G36-1)*(9 * _xlpm.Rows_Day + 3)+(weekdaycode(W$19)-1)*_xlpm.Rows_Day,_xlpm.Dir_Cols,_xlpm.Rows_Day,COLUMNS(Data!Vehicle_Classification)))))","v":""}]
[null,null,null,null,null,null,null,null,null,null,{"$f":"_xlfn.LET(_xlpm.Rows_Day,24 * (60 / $B$8), _xlpm.Dir_Cols,0,IF(ISBLANK($F53),\"\",SUM(OFFSET(Data!$G$5,(Offsets!$G37-1)*(9 * _xlpm.Rows_Day + 3)+(weekdaycode(K$19)-1)*_xlpm.Rows_Day,_xlpm.Dir_Cols,_xlpm.Rows_Day,1))/SUM(OFFSET(Data!$C$5,(Offsets!$G37-1)*(9 * _xlpm.Rows_Day + 3)+(weekdaycode(K$19)-1)*_xlpm.Rows_Day,_xlpm.Dir_Cols,_xlpm.Rows_Day,COLUMNS(Data!Vehicle_Classification)))))","v":""},{"$f":"_xlfn.LET(_xlpm.Rows_Day,24 * (60 / $B$8), _xlpm.Dir_Cols,(COLUMNS(Data!Vehicle_Classification)+COLUMNS(Data!Vehicle_Speed_Bins)+COLUMNS(Data!Speed)+2),IF(ISBLANK($F53),\"\",SUM(OFFSET(Data!$G$5,(Offsets!$G37-1)*(9 * _xlpm.Rows_Day + 3)+(weekdaycode(K$19)-1)*_xlpm.Rows_Day,_xlpm.Dir_Cols,_xlpm.Rows_Day,1))/SUM(OFFSET(Data!$C$5,(Offsets!$G37-1)*(9 * _xlpm.Rows_Day + 3)+(weekdaycode(K$19)-1)*_xlpm.Rows_Day,_xlpm.Dir_Cols,_xlpm.Rows_Day,COLUMNS(Data!Vehicle_Classification)))))","v":""},{"$f":"_xlfn.LET(_xlpm.Rows_Day,24 * (60 / $B$8), _xlpm.Dir_Cols,0,IF(ISBLANK($F53),\"\",SUM(OFFSET(Data!$G$5,(Offsets!$G37-1)*(9 * _xlpm.Rows_Day + 3)+(weekdaycode(M$19)-1)*_xlpm.Rows_Day,_xlpm.Dir_Cols,_xlpm.Rows_Day,1))/SUM(OFFSET(Data!$C$5,(Offsets!$G37-1)*(9 * _xlpm.Rows_Day + 3)+(weekdaycode(M$19)-1)*_xlpm.Rows_Day,_xlpm.Dir_Cols,_xlpm.Rows_Day,COLUMNS(Data!Vehicle_Classification)))))","v":""},{"$f":"_xlfn.LET(_xlpm.Rows_Day,24 * (60 / $B$8), _xlpm.Dir_Cols,(COLUMNS(Data!Vehicle_Classification)+COLUMNS(Data!Vehicle_Speed_Bins)+COLUMNS(Data!Speed)+2),IF(ISBLANK($F53),\"\",SUM(OFFSET(Data!$G$5,(Offsets!$G37-1)*(9 * _xlpm.Rows_Day + 3)+(weekdaycode(M$19)-1)*_xlpm.Rows_Day,_xlpm.Dir_Cols,_xlpm.Rows_Day,1))/SUM(OFFSET(Data!$C$5,(Offsets!$G37-1)*(9 * _xlpm.Rows_Day + 3)+(weekdaycode(M$19)-1)*_xlpm.Rows_Day,_xlpm.Dir_Cols,_xlpm.Rows_Day,COLUMNS(Data!Vehicle_Classification)))))","v":""},{"$f":"_xlfn.LET(_xlpm.Rows_Day,24 * (60 / $B$8), _xlpm.Dir_Cols,0,IF(ISBLANK($F53),\"\",SUM(OFFSET(Data!$G$5,(Offsets!$G37-1)*(9 * _xlpm.Rows_Day + 3)+(weekdaycode(O$19)-1)*_xlpm.Rows_Day,_xlpm.Dir_Cols,_xlpm.Rows_Day,1))/SUM(OFFSET(Data!$C$5,(Offsets!$G37-1)*(9 * _xlpm.Rows_Day + 3)+(weekdaycode(O$19)-1)*_xlpm.Rows_Day,_xlpm.Dir_Cols,_xlpm.Rows_Day,COLUMNS(Data!Vehicle_Classification)))))","v":""},{"$f":"_xlfn.LET(_xlpm.Rows_Day,24 * (60 / $B$8), _xlpm.Dir_Cols,(COLUMNS(Data!Vehicle_Classification)+COLUMNS(Data!Vehicle_Speed_Bins)+COLUMNS(Data!Speed)+2),IF(ISBLANK($F53),\"\",SUM(OFFSET(Data!$G$5,(Offsets!$G37-1)*(9 * _xlpm.Rows_Day + 3)+(weekdaycode(O$19)-1)*_xlpm.Rows_Day,_xlpm.Dir_Cols,_xlpm.Rows_Day,1))/SUM(OFFSET(Data!$C$5,(Offsets!$G37-1)*(9 * _xlpm.Rows_Day + 3)+(weekdaycode(O$19)-1)*_xlpm.Rows_Day,_xlpm.Dir_Cols,_xlpm.Rows_Day,COLUMNS(Data!Vehicle_Classification)))))","v":""},{"$f":"_xlfn.LET(_xlpm.Rows_Day,24 * (60 / $B$8), _xlpm.Dir_Cols,0,IF(ISBLANK($F53),\"\",SUM(OFFSET(Data!$G$5,(Offsets!$G37-1)*(9 * _xlpm.Rows_Day + 3)+(weekdaycode(Q$19)-1)*_xlpm.Rows_Day,_xlpm.Dir_Cols,_xlpm.Rows_Day,1))/SUM(OFFSET(Data!$C$5,(Offsets!$G37-1)*(9 * _xlpm.Rows_Day + 3)+(weekdaycode(Q$19)-1)*_xlpm.Rows_Day,_xlpm.Dir_Cols,_xlpm.Rows_Day,COLUMNS(Data!Vehicle_Classification)))))","v":""},{"$f":"_xlfn.LET(_xlpm.Rows_Day,24 * (60 / $B$8), _xlpm.Dir_Cols,(COLUMNS(Data!Vehicle_Classification)+COLUMNS(Data!Vehicle_Speed_Bins)+COLUMNS(Data!Speed)+2),IF(ISBLANK($F53),\"\",SUM(OFFSET(Data!$G$5,(Offsets!$G37-1)*(9 * _xlpm.Rows_Day + 3)+(weekdaycode(Q$19)-1)*_xlpm.Rows_Day,_xlpm.Dir_Cols,_xlpm.Rows_Day,1))/SUM(OFFSET(Data!$C$5,(Offsets!$G37-1)*(9 * _xlpm.Rows_Day + 3)+(weekdaycode(Q$19)-1)*_xlpm.Rows_Day,_xlpm.Dir_Cols,_xlpm.Rows_Day,COLUMNS(Data!Vehicle_Classification)))))","v":""},{"$f":"_xlfn.LET(_xlpm.Rows_Day,24 * (60 / $B$8), _xlpm.Dir_Cols,0,IF(ISBLANK($F53),\"\",SUM(OFFSET(Data!$G$5,(Offsets!$G37-1)*(9 * _xlpm.Rows_Day + 3)+(weekdaycode(S$19)-1)*_xlpm.Rows_Day,_xlpm.Dir_Cols,_xlpm.Rows_Day,1))/SUM(OFFSET(Data!$C$5,(Offsets!$G37-1)*(9 * _xlpm.Rows_Day + 3)+(weekdaycode(S$19)-1)*_xlpm.Rows_Day,_xlpm.Dir_Cols,_xlpm.Rows_Day,COLUMNS(Data!Vehicle_Classification)))))","v":""},{"$f":"_xlfn.LET(_xlpm.Rows_Day,24 * (60 / $B$8), _xlpm.Dir_Cols,(COLUMNS(Data!Vehicle_Classification)+COLUMNS(Data!Vehicle_Speed_Bins)+COLUMNS(Data!Speed)+2),IF(ISBLANK($F53),\"\",SUM(OFFSET(Data!$G$5,(Offsets!$G37-1)*(9 * _xlpm.Rows_Day + 3)+(weekdaycode(S$19)-1)*_xlpm.Rows_Day,_xlpm.Dir_Cols,_xlpm.Rows_Day,1))/SUM(OFFSET(Data!$C$5,(Offsets!$G37-1)*(9 * _xlpm.Rows_Day + 3)+(weekdaycode(S$19)-1)*_xlpm.Rows_Day,_xlpm.Dir_Cols,_xlpm.Rows_Day,COLUMNS(Data!Vehicle_Classification)))))","v":""},{"$f":"_xlfn.LET(_xlpm.Rows_Day,24 * (60 / $B$8), _xlpm.Dir_Cols,0,IF(ISBLANK($F53),\"\",SUM(OFFSET(Data!$G$5,(Offsets!$G37-1)*(9 * _xlpm.Rows_Day + 3)+(weekdaycode(U$19)-1)*_xlpm.Rows_Day,_xlpm.Dir_Cols,_xlpm.Rows_Day,1))/SUM(OFFSET(Data!$C$5,(Offsets!$G37-1)*(9 * _xlpm.Rows_Day + 3)+(weekdaycode(U$19)-1)*_xlpm.Rows_Day,_xlpm.Dir_Cols,_xlpm.Rows_Day,COLUMNS(Data!Vehicle_Classification)))))","v":""},{"$f":"_xlfn.LET(_xlpm.Rows_Day,24 * (60 / $B$8), _xlpm.Dir_Cols,(COLUMNS(Data!Vehicle_Classification)+COLUMNS(Data!Vehicle_Speed_Bins)+COLUMNS(Data!Speed)+2),IF(ISBLANK($F53),\"\",SUM(OFFSET(Data!$G$5,(Offsets!$G37-1)*(9 * _xlpm.Rows_Day + 3)+(weekdaycode(U$19)-1)*_xlpm.Rows_Day,_xlpm.Dir_Cols,_xlpm.Rows_Day,1))/SUM(OFFSET(Data!$C$5,(Offsets!$G37-1)*(9 * _xlpm.Rows_Day + 3)+(weekdaycode(U$19)-1)*_xlpm.Rows_Day,_xlpm.Dir_Cols,_xlpm.Rows_Day,COLUMNS(Data!Vehicle_Classification)))))","v":""},{"$f":"_xlfn.LET(_xlpm.Rows_Day,24 * (60 / $B$8), _xlpm.Dir_Cols,0,IF(ISBLANK($F53),\"\",SUM(OFFSET(Data!$G$5,(Offsets!$G37-1)*(9 * _xlpm.Rows_Day + 3)+(weekdaycode(W$19)-1)*_xlpm.Rows_Day,_xlpm.Dir_Cols,_xlpm.Rows_Day,1))/SUM(OFFSET(Data!$C$5,(Offsets!$G37-1)*(9 * _xlpm.Rows_Day + 3)+(weekdaycode(W$19)-1)*_xlpm.Rows_Day,_xlpm.Dir_Cols,_xlpm.Rows_Day,COLUMNS(Data!Vehicle_Classification)))))","v":""},{"$f":"_xlfn.LET(_xlpm.Rows_Day,24 * (60 / $B$8), _xlpm.Dir_Cols,(COLUMNS(Data!Vehicle_Classification)+COLUMNS(Data!Vehicle_Speed_Bins)+COLUMNS(Data!Speed)+2),IF(ISBLANK($F53),\"\",SUM(OFFSET(Data!$G$5,(Offsets!$G37-1)*(9 * _xlpm.Rows_Day + 3)+(weekdaycode(W$19)-1)*_xlpm.Rows_Day,_xlpm.Dir_Cols,_xlpm.Rows_Day,1))/SUM(OFFSET(Data!$C$5,(Offsets!$G37-1)*(9 * _xlpm.Rows_Day + 3)+(weekdaycode(W$19)-1)*_xlpm.Rows_Day,_xlpm.Dir_Cols,_xlpm.Rows_Day,COLUMNS(Data!Vehicle_Classification)))))","v":""}]
[null,null,null,null,null,null,null,null,null,null,{"$f":"_xlfn.LET(_xlpm.Rows_Day,24 * (60 / $B$8), _xlpm.Dir_Cols,0,IF(ISBLANK($F54),\"\",SUM(OFFSET(Data!$G$5,(Offsets!$G38-1)*(9 * _xlpm.Rows_Day + 3)+(weekdaycode(K$19)-1)*_xlpm.Rows_Day,_xlpm.Dir_Cols,_xlpm.Rows_Day,1))/SUM(OFFSET(Data!$C$5,(Offsets!$G38-1)*(9 * _xlpm.Rows_Day + 3)+(weekdaycode(K$19)-1)*_xlpm.Rows_Day,_xlpm.Dir_Cols,_xlpm.Rows_Day,COLUMNS(Data!Vehicle_Classification)))))","v":""},{"$f":"_xlfn.LET(_xlpm.Rows_Day,24 * (60 / $B$8), _xlpm.Dir_Cols,(COLUMNS(Data!Vehicle_Classification)+COLUMNS(Data!Vehicle_Speed_Bins)+COLUMNS(Data!Speed)+2),IF(ISBLANK($F54),\"\",SUM(OFFSET(Data!$G$5,(Offsets!$G38-1)*(9 * _xlpm.Rows_Day + 3)+(weekdaycode(K$19)-1)*_xlpm.Rows_Day,_xlpm.Dir_Cols,_xlpm.Rows_Day,1))/SUM(OFFSET(Data!$C$5,(Offsets!$G38-1)*(9 * _xlpm.Rows_Day + 3)+(weekdaycode(K$19)-1)*_xlpm.Rows_Day,_xlpm.Dir_Cols,_xlpm.Rows_Day,COLUMNS(Data!Vehicle_Classification)))))","v":""},{"$f":"_xlfn.LET(_xlpm.Rows_Day,24 * (60 / $B$8), _xlpm.Dir_Cols,0,IF(ISBLANK($F54),\"\",SUM(OFFSET(Data!$G$5,(Offsets!$G38-1)*(9 * _xlpm.Rows_Day + 3)+(weekdaycode(M$19)-1)*_xlpm.Rows_Day,_xlpm.Dir_Cols,_xlpm.Rows_Day,1))/SUM(OFFSET(Data!$C$5,(Offsets!$G38-1)*(9 * _xlpm.Rows_Day + 3)+(weekdaycode(M$19)-1)*_xlpm.Rows_Day,_xlpm.Dir_Cols,_xlpm.Rows_Day,COLUMNS(Data!Vehicle_Classification)))))","v":""},{"$f":"_xlfn.LET(_xlpm.Rows_Day,24 * (60 / $B$8), _xlpm.Dir_Cols,(COLUMNS(Data!Vehicle_Classification)+COLUMNS(Data!Vehicle_Speed_Bins)+COLUMNS(Data!Speed)+2),IF(ISBLANK($F54),\"\",SUM(OFFSET(Data!$G$5,(Offsets!$G38-1)*(9 * _xlpm.Rows_Day + 3)+(weekdaycode(M$19)-1)*_xlpm.Rows_Day,_xlpm.Dir_Cols,_xlpm.Rows_Day,1))/SUM(OFFSET(Data!$C$5,(Offsets!$G38-1)*(9 * _xlpm.Rows_Day + 3)+(weekdaycode(M$19)-1)*_xlpm.Rows_Day,_xlpm.Dir_Cols,_xlpm.Rows_Day,COLUMNS(Data!Vehicle_Classification)))))","v":""},{"$f":"_xlfn.LET(_xlpm.Rows_Day,24 * (60 / $B$8), _xlpm.Dir_Cols,0,IF(ISBLANK($F54),\"\",SUM(OFFSET(Data!$G$5,(Offsets!$G38-1)*(9 * _xlpm.Rows_Day + 3)+(weekdaycode(O$19)-1)*_xlpm.Rows_Day,_xlpm.Dir_Cols,_xlpm.Rows_Day,1))/SUM(OFFSET(Data!$C$5,(Offsets!$G38-1)*(9 * _xlpm.Rows_Day + 3)+(weekdaycode(O$19)-1)*_xlpm.Rows_Day,_xlpm.Dir_Cols,_xlpm.Rows_Day,COLUMNS(Data!Vehicle_Classification)))))","v":""},{"$f":"_xlfn.LET(_xlpm.Rows_Day,24 * (60 / $B$8), _xlpm.Dir_Cols,(COLUMNS(Data!Vehicle_Classification)+COLUMNS(Data!Vehicle_Speed_Bins)+COLUMNS(Data!Speed)+2),IF(ISBLANK($F54),\"\",SUM(OFFSET(Data!$G$5,(Offsets!$G38-1)*(9 * _xlpm.Rows_Day + 3)+(weekdaycode(O$19)-1)*_xlpm.Rows_Day,_xlpm.Dir_Cols,_xlpm.Rows_Day,1))/SUM(OFFSET(Data!$C$5,(Offsets!$G38-1)*(9 * _xlpm.Rows_Day + 3)+(weekdaycode(O$19)-1)*_xlpm.Rows_Day,_xlpm.Dir_Cols,_xlpm.Rows_Day,COLUMNS(Data!Vehicle_Classification)))))","v":""},{"$f":"_xlfn.LET(_xlpm.Rows_Day,24 * (60 / $B$8), _xlpm.Dir_Cols,0,IF(ISBLANK($F54),\"\",SUM(OFFSET(Data!$G$5,(Offsets!$G38-1)*(9 * _xlpm.Rows_Day + 3)+(weekdaycode(Q$19)-1)*_xlpm.Rows_Day,_xlpm.Dir_Cols,_xlpm.Rows_Day,1))/SUM(OFFSET(Data!$C$5,(Offsets!$G38-1)*(9 * _xlpm.Rows_Day + 3)+(weekdaycode(Q$19)-1)*_xlpm.Rows_Day,_xlpm.Dir_Cols,_xlpm.Rows_Day,COLUMNS(Data!Vehicle_Classification)))))","v":""},{"$f":"_xlfn.LET(_xlpm.Rows_Day,24 * (60 / $B$8), _xlpm.Dir_Cols,(COLUMNS(Data!Vehicle_Classification)+COLUMNS(Data!Vehicle_Speed_Bins)+COLUMNS(Data!Speed)+2),IF(ISBLANK($F54),\"\",SUM(OFFSET(Data!$G$5,(Offsets!$G38-1)*(9 * _xlpm.Rows_Day + 3)+(weekdaycode(Q$19)-1)*_xlpm.Rows_Day,_xlpm.Dir_Cols,_xlpm.Rows_Day,1))/SUM(OFFSET(Data!$C$5,(Offsets!$G38-1)*(9 * _xlpm.Rows_Day + 3)+(weekdaycode(Q$19)-1)*_xlpm.Rows_Day,_xlpm.Dir_Cols,_xlpm.Rows_Day,COLUMNS(Data!Vehicle_Classification)))))","v":""},{"$f":"_xlfn.LET(_xlpm.Rows_Day,24 * (60 / $B$8), _xlpm.Dir_Cols,0,IF(ISBLANK($F54),\"\",SUM(OFFSET(Data!$G$5,(Offsets!$G38-1)*(9 * _xlpm.Rows_Day + 3)+(weekdaycode(S$19)-1)*_xlpm.Rows_Day,_xlpm.Dir_Cols,_xlpm.Rows_Day,1))/SUM(OFFSET(Data!$C$5,(Offsets!$G38-1)*(9 * _xlpm.Rows_Day + 3)+(weekdaycode(S$19)-1)*_xlpm.Rows_Day,_xlpm.Dir_Cols,_xlpm.Rows_Day,COLUMNS(Data!Vehicle_Classification)))))","v":""},{"$f":"_xlfn.LET(_xlpm.Rows_Day,24 * (60 / $B$8), _xlpm.Dir_Cols,(COLUMNS(Data!Vehicle_Classification)+COLUMNS(Data!Vehicle_Speed_Bins)+COLUMNS(Data!Speed)+2),IF(ISBLANK($F54),\"\",SUM(OFFSET(Data!$G$5,(Offsets!$G38-1)*(9 * _xlpm.Rows_Day + 3)+(weekdaycode(S$19)-1)*_xlpm.Rows_Day,_xlpm.Dir_Cols,_xlpm.Rows_Day,1))/SUM(OFFSET(Data!$C$5,(Offsets!$G38-1)*(9 * _xlpm.Rows_Day + 3)+(weekdaycode(S$19)-1)*_xlpm.Rows_Day,_xlpm.Dir_Cols,_xlpm.Rows_Day,COLUMNS(Data!Vehicle_Classification)))))","v":""},{"$f":"_xlfn.LET(_xlpm.Rows_Day,24 * (60 / $B$8), _xlpm.Dir_Cols,0,IF(ISBLANK($F54),\"\",SUM(OFFSET(Data!$G$5,(Offsets!$G38-1)*(9 * _xlpm.Rows_Day + 3)+(weekdaycode(U$19)-1)*_xlpm.Rows_Day,_xlpm.Dir_Cols,_xlpm.Rows_Day,1))/SUM(OFFSET(Data!$C$5,(Offsets!$G38-1)*(9 * _xlpm.Rows_Day + 3)+(weekdaycode(U$19)-1)*_xlpm.Rows_Day,_xlpm.Dir_Cols,_xlpm.Rows_Day,COLUMNS(Data!Vehicle_Classification)))))","v":""},{"$f":"_xlfn.LET(_xlpm.Rows_Day,24 * (60 / $B$8), _xlpm.Dir_Cols,(COLUMNS(Data!Vehicle_Classification)+COLUMNS(Data!Vehicle_Speed_Bins)+COLUMNS(Data!Speed)+2),IF(ISBLANK($F54),\"\",SUM(OFFSET(Data!$G$5,(Offsets!$G38-1)*(9 * _xlpm.Rows_Day + 3)+(weekdaycode(U$19)-1)*_xlpm.Rows_Day,_xlpm.Dir_Cols,_xlpm.Rows_Day,1))/SUM(OFFSET(Data!$C$5,(Offsets!$G38-1)*(9 * _xlpm.Rows_Day + 3)+(weekdaycode(U$19)-1)*_xlpm.Rows_Day,_xlpm.Dir_Cols,_xlpm.Rows_Day,COLUMNS(Data!Vehicle_Classification)))))","v":""},{"$f":"_xlfn.LET(_xlpm.Rows_Day,24 * (60 / $B$8), _xlpm.Dir_Cols,0,IF(ISBLANK($F54),\"\",SUM(OFFSET(Data!$G$5,(Offsets!$G38-1)*(9 * _xlpm.Rows_Day + 3)+(weekdaycode(W$19)-1)*_xlpm.Rows_Day,_xlpm.Dir_Cols,_xlpm.Rows_Day,1))/SUM(OFFSET(Data!$C$5,(Offsets!$G38-1)*(9 * _xlpm.Rows_Day + 3)+(weekdaycode(W$19)-1)*_xlpm.Rows_Day,_xlpm.Dir_Cols,_xlpm.Rows_Day,COLUMNS(Data!Vehicle_Classification)))))","v":""},{"$f":"_xlfn.LET(_xlpm.Rows_Day,24 * (60 / $B$8), _xlpm.Dir_Cols,(COLUMNS(Data!Vehicle_Classification)+COLUMNS(Data!Vehicle_Speed_Bins)+COLUMNS(Data!Speed)+2),IF(ISBLANK($F54),\"\",SUM(OFFSET(Data!$G$5,(Offsets!$G38-1)*(9 * _xlpm.Rows_Day + 3)+(weekdaycode(W$19)-1)*_xlpm.Rows_Day,_xlpm.Dir_Cols,_xlpm.Rows_Day,1))/SUM(OFFSET(Data!$C$5,(Offsets!$G38-1)*(9 * _xlpm.Rows_Day + 3)+(weekdaycode(W$19)-1)*_xlpm.Rows_Day,_xlpm.Dir_Cols,_xlpm.Rows_Day,COLUMNS(Data!Vehicle_Classification)))))","v":""}]
[null,null,null,null,null,null,null,null,null,null,{"$f":"_xlfn.LET(_xlpm.Rows_Day,24 * (60 / $B$8), _xlpm.Dir_Cols,0,IF(ISBLANK($F55),\"\",SUM(OFFSET(Data!$G$5,(Offsets!$G39-1)*(9 * _xlpm.Rows_Day + 3)+(weekdaycode(K$19)-1)*_xlpm.Rows_Day,_xlpm.Dir_Cols,_xlpm.Rows_Day,1))/SUM(OFFSET(Data!$C$5,(Offsets!$G39-1)*(9 * _xlpm.Rows_Day + 3)+(weekdaycode(K$19)-1)*_xlpm.Rows_Day,_xlpm.Dir_Cols,_xlpm.Rows_Day,COLUMNS(Data!Vehicle_Classification)))))","v":""},{"$f":"_xlfn.LET(_xlpm.Rows_Day,24 * (60 / $B$8), _xlpm.Dir_Cols,(COLUMNS(Data!Vehicle_Classification)+COLUMNS(Data!Vehicle_Speed_Bins)+COLUMNS(Data!Speed)+2),IF(ISBLANK($F55),\"\",SUM(OFFSET(Data!$G$5,(Offsets!$G39-1)*(9 * _xlpm.Rows_Day + 3)+(weekdaycode(K$19)-1)*_xlpm.Rows_Day,_xlpm.Dir_Cols,_xlpm.Rows_Day,1))/SUM(OFFSET(Data!$C$5,(Offsets!$G39-1)*(9 * _xlpm.Rows_Day + 3)+(weekdaycode(K$19)-1)*_xlpm.Rows_Day,_xlpm.Dir_Cols,_xlpm.Rows_Day,COLUMNS(Data!Vehicle_Classification)))))","v":""},{"$f":"_xlfn.LET(_xlpm.Rows_Day,24 * (60 / $B$8), _xlpm.Dir_Cols,0,IF(ISBLANK($F55),\"\",SUM(OFFSET(Data!$G$5,(Offsets!$G39-1)*(9 * _xlpm.Rows_Day + 3)+(weekdaycode(M$19)-1)*_xlpm.Rows_Day,_xlpm.Dir_Cols,_xlpm.Rows_Day,1))/SUM(OFFSET(Data!$C$5,(Offsets!$G39-1)*(9 * _xlpm.Rows_Day + 3)+(weekdaycode(M$19)-1)*_xlpm.Rows_Day,_xlpm.Dir_Cols,_xlpm.Rows_Day,COLUMNS(Data!Vehicle_Classification)))))","v":""},{"$f":"_xlfn.LET(_xlpm.Rows_Day,24 * (60 / $B$8), _xlpm.Dir_Cols,(COLUMNS(Data!Vehicle_Classification)+COLUMNS(Data!Vehicle_Speed_Bins)+COLUMNS(Data!Speed)+2),IF(ISBLANK($F55),\"\",SUM(OFFSET(Data!$G$5,(Offsets!$G39-1)*(9 * _xlpm.Rows_Day + 3)+(weekdaycode(M$19)-1)*_xlpm.Rows_Day,_xlpm.Dir_Cols,_xlpm.Rows_Day,1))/SUM(OFFSET(Data!$C$5,(Offsets!$G39-1)*(9 * _xlpm.Rows_Day + 3)+(weekdaycode(M$19)-1)*_xlpm.Rows_Day,_xlpm.Dir_Cols,_xlpm.Rows_Day,COLUMNS(Data!Vehicle_Classification)))))","v":""},{"$f":"_xlfn.LET(_xlpm.Rows_Day,24 * (60 / $B$8), _xlpm.Dir_Cols,0,IF(ISBLANK($F55),\"\",SUM(OFFSET(Data!$G$5,(Offsets!$G39-1)*(9 * _xlpm.Rows_Day + 3)+(weekdaycode(O$19)-1)*_xlpm.Rows_Day,_xlpm.Dir_Cols,_xlpm.Rows_Day,1))/SUM(OFFSET(Data!$C$5,(Offsets!$G39-1)*(9 * _xlpm.Rows_Day + 3)+(weekdaycode(O$19)-1)*_xlpm.Rows_Day,_xlpm.Dir_Cols,_xlpm.Rows_Day,COLUMNS(Data!Vehicle_Classification)))))","v":""},{"$f":"_xlfn.LET(_xlpm.Rows_Day,24 * (60 / $B$8), _xlpm.Dir_Cols,(COLUMNS(Data!Vehicle_Classification)+COLUMNS(Data!Vehicle_Speed_Bins)+COLUMNS(Data!Speed)+2),IF(ISBLANK($F55),\"\",SUM(OFFSET(Data!$G$5,(Offsets!$G39-1)*(9 * _xlpm.Rows_Day + 3)+(weekdaycode(O$19)-1)*_xlpm.Rows_Day,_xlpm.Dir_Cols,_xlpm.Rows_Day,1))/SUM(OFFSET(Data!$C$5,(Offsets!$G39-1)*(9 * _xlpm.Rows_Day + 3)+(weekdaycode(O$19)-1)*_xlpm.Rows_Day,_xlpm.Dir_Cols,_xlpm.Rows_Day,COLUMNS(Data!Vehicle_Classification)))))","v":""},{"$f":"_xlfn.LET(_xlpm.Rows_Day,24 * (60 / $B$8), _xlpm.Dir_Cols,0,IF(ISBLANK($F55),\"\",SUM(OFFSET(Data!$G$5,(Offsets!$G39-1)*(9 * _xlpm.Rows_Day + 3)+(weekdaycode(Q$19)-1)*_xlpm.Rows_Day,_xlpm.Dir_Cols,_xlpm.Rows_Day,1))/SUM(OFFSET(Data!$C$5,(Offsets!$G39-1)*(9 * _xlpm.Rows_Day + 3)+(weekdaycode(Q$19)-1)*_xlpm.Rows_Day,_xlpm.Dir_Cols,_xlpm.Rows_Day,COLUMNS(Data!Vehicle_Classification)))))","v":""},{"$f":"_xlfn.LET(_xlpm.Rows_Day,24 * (60 / $B$8), _xlpm.Dir_Cols,(COLUMNS(Data!Vehicle_Classification)+COLUMNS(Data!Vehicle_Speed_Bins)+COLUMNS(Data!Speed)+2),IF(ISBLANK($F55),\"\",SUM(OFFSET(Data!$G$5,(Offsets!$G39-1)*(9 * _xlpm.Rows_Day + 3)+(weekdaycode(Q$19)-1)*_xlpm.Rows_Day,_xlpm.Dir_Cols,_xlpm.Rows_Day,1))/SUM(OFFSET(Data!$C$5,(Offsets!$G39-1)*(9 * _xlpm.Rows_Day + 3)+(weekdaycode(Q$19)-1)*_xlpm.Rows_Day,_xlpm.Dir_Cols,_xlpm.Rows_Day,COLUMNS(Data!Vehicle_Classification)))))","v":""},{"$f":"_xlfn.LET(_xlpm.Rows_Day,24 * (60 / $B$8), _xlpm.Dir_Cols,0,IF(ISBLANK($F55),\"\",SUM(OFFSET(Data!$G$5,(Offsets!$G39-1)*(9 * _xlpm.Rows_Day + 3)+(weekdaycode(S$19)-1)*_xlpm.Rows_Day,_xlpm.Dir_Cols,_xlpm.Rows_Day,1))/SUM(OFFSET(Data!$C$5,(Offsets!$G39-1)*(9 * _xlpm.Rows_Day + 3)+(weekdaycode(S$19)-1)*_xlpm.Rows_Day,_xlpm.Dir_Cols,_xlpm.Rows_Day,COLUMNS(Data!Vehicle_Classification)))))","v":""},{"$f":"_xlfn.LET(_xlpm.Rows_Day,24 * (60 / $B$8), _xlpm.Dir_Cols,(COLUMNS(Data!Vehicle_Classification)+COLUMNS(Data!Vehicle_Speed_Bins)+COLUMNS(Data!Speed)+2),IF(ISBLANK($F55),\"\",SUM(OFFSET(Data!$G$5,(Offsets!$G39-1)*(9 * _xlpm.Rows_Day + 3)+(weekdaycode(S$19)-1)*_xlpm.Rows_Day,_xlpm.Dir_Cols,_xlpm.Rows_Day,1))/SUM(OFFSET(Data!$C$5,(Offsets!$G39-1)*(9 * _xlpm.Rows_Day + 3)+(weekdaycode(S$19)-1)*_xlpm.Rows_Day,_xlpm.Dir_Cols,_xlpm.Rows_Day,COLUMNS(Data!Vehicle_Classification)))))","v":""},{"$f":"_xlfn.LET(_xlpm.Rows_Day,24 * (60 / $B$8), _xlpm.Dir_Cols,0,IF(ISBLANK($F55),\"\",SUM(OFFSET(Data!$G$5,(Offsets!$G39-1)*(9 * _xlpm.Rows_Day + 3)+(weekdaycode(U$19)-1)*_xlpm.Rows_Day,_xlpm.Dir_Cols,_xlpm.Rows_Day,1))/SUM(OFFSET(Data!$C$5,(Offsets!$G39-1)*(9 * _xlpm.Rows_Day + 3)+(weekdaycode(U$19)-1)*_xlpm.Rows_Day,_xlpm.Dir_Cols,_xlpm.Rows_Day,COLUMNS(Data!Vehicle_Classification)))))","v":""},{"$f":"_xlfn.LET(_xlpm.Rows_Day,24 * (60 / $B$8), _xlpm.Dir_Cols,(COLUMNS(Data!Vehicle_Classification)+COLUMNS(Data!Vehicle_Speed_Bins)+COLUMNS(Data!Speed)+2),IF(ISBLANK($F55),\"\",SUM(OFFSET(Data!$G$5,(Offsets!$G39-1)*(9 * _xlpm.Rows_Day + 3)+(weekdaycode(U$19)-1)*_xlpm.Rows_Day,_xlpm.Dir_Cols,_xlpm.Rows_Day,1))/SUM(OFFSET(Data!$C$5,(Offsets!$G39-1)*(9 * _xlpm.Rows_Day + 3)+(weekdaycode(U$19)-1)*_xlpm.Rows_Day,_xlpm.Dir_Cols,_xlpm.Rows_Day,COLUMNS(Data!Vehicle_Classification)))))","v":""},{"$f":"_xlfn.LET(_xlpm.Rows_Day,24 * (60 / $B$8), _xlpm.Dir_Cols,0,IF(ISBLANK($F55),\"\",SUM(OFFSET(Data!$G$5,(Offsets!$G39-1)*(9 * _xlpm.Rows_Day + 3)+(weekdaycode(W$19)-1)*_xlpm.Rows_Day,_xlpm.Dir_Cols,_xlpm.Rows_Day,1))/SUM(OFFSET(Data!$C$5,(Offsets!$G39-1)*(9 * _xlpm.Rows_Day + 3)+(weekdaycode(W$19)-1)*_xlpm.Rows_Day,_xlpm.Dir_Cols,_xlpm.Rows_Day,COLUMNS(Data!Vehicle_Classification)))))","v":""},{"$f":"_xlfn.LET(_xlpm.Rows_Day,24 * (60 / $B$8), _xlpm.Dir_Cols,(COLUMNS(Data!Vehicle_Classification)+COLUMNS(Data!Vehicle_Speed_Bins)+COLUMNS(Data!Speed)+2),IF(ISBLANK($F55),\"\",SUM(OFFSET(Data!$G$5,(Offsets!$G39-1)*(9 * _xlpm.Rows_Day + 3)+(weekdaycode(W$19)-1)*_xlpm.Rows_Day,_xlpm.Dir_Cols,_xlpm.Rows_Day,1))/SUM(OFFSET(Data!$C$5,(Offsets!$G39-1)*(9 * _xlpm.Rows_Day + 3)+(weekdaycode(W$19)-1)*_xlpm.Rows_Day,_xlpm.Dir_Cols,_xlpm.Rows_Day,COLUMNS(Data!Vehicle_Classification)))))","v":""}]
[null,null,null,null,null,null,null,null,null,null,{"$f":"_xlfn.LET(_xlpm.Rows_Day,24 * (60 / $B$8), _xlpm.Dir_Cols,0,IF(ISBLANK($F56),\"\",SUM(OFFSET(Data!$G$5,(Offsets!$G40-1)*(9 * _xlpm.Rows_Day + 3)+(weekdaycode(K$19)-1)*_xlpm.Rows_Day,_xlpm.Dir_Cols,_xlpm.Rows_Day,1))/SUM(OFFSET(Data!$C$5,(Offsets!$G40-1)*(9 * _xlpm.Rows_Day + 3)+(weekdaycode(K$19)-1)*_xlpm.Rows_Day,_xlpm.Dir_Cols,_xlpm.Rows_Day,COLUMNS(Data!Vehicle_Classification)))))","v":""},{"$f":"_xlfn.LET(_xlpm.Rows_Day,24 * (60 / $B$8), _xlpm.Dir_Cols,(COLUMNS(Data!Vehicle_Classification)+COLUMNS(Data!Vehicle_Speed_Bins)+COLUMNS(Data!Speed)+2),IF(ISBLANK($F56),\"\",SUM(OFFSET(Data!$G$5,(Offsets!$G40-1)*(9 * _xlpm.Rows_Day + 3)+(weekdaycode(K$19)-1)*_xlpm.Rows_Day,_xlpm.Dir_Cols,_xlpm.Rows_Day,1))/SUM(OFFSET(Data!$C$5,(Offsets!$G40-1)*(9 * _xlpm.Rows_Day + 3)+(weekdaycode(K$19)-1)*_xlpm.Rows_Day,_xlpm.Dir_Cols,_xlpm.Rows_Day,COLUMNS(Data!Vehicle_Classification)))))","v":""},{"$f":"_xlfn.LET(_xlpm.Rows_Day,24 * (60 / $B$8), _xlpm.Dir_Cols,0,IF(ISBLANK($F56),\"\",SUM(OFFSET(Data!$G$5,(Offsets!$G40-1)*(9 * _xlpm.Rows_Day + 3)+(weekdaycode(M$19)-1)*_xlpm.Rows_Day,_xlpm.Dir_Cols,_xlpm.Rows_Day,1))/SUM(OFFSET(Data!$C$5,(Offsets!$G40-1)*(9 * _xlpm.Rows_Day + 3)+(weekdaycode(M$19)-1)*_xlpm.Rows_Day,_xlpm.Dir_Cols,_xlpm.Rows_Day,COLUMNS(Data!Vehicle_Classification)))))","v":""},{"$f":"_xlfn.LET(_xlpm.Rows_Day,24 * (60 / $B$8), _xlpm.Dir_Cols,(COLUMNS(Data!Vehicle_Classification)+COLUMNS(Data!Vehicle_Speed_Bins)+COLUMNS(Data!Speed)+2),IF(ISBLANK($F56),\"\",SUM(OFFSET(Data!$G$5,(Offsets!$G40-1)*(9 * _xlpm.Rows_Day + 3)+(weekdaycode(M$19)-1)*_xlpm.Rows_Day,_xlpm.Dir_Cols,_xlpm.Rows_Day,1))/SUM(OFFSET(Data!$C$5,(Offsets!$G40-1)*(9 * _xlpm.Rows_Day + 3)+(weekdaycode(M$19)-1)*_xlpm.Rows_Day,_xlpm.Dir_Cols,_xlpm.Rows_Day,COLUMNS(Data!Vehicle_Classification)))))","v":""},{"$f":"_xlfn.LET(_xlpm.Rows_Day,24 * (60 / $B$8), _xlpm.Dir_Cols,0,IF(ISBLANK($F56),\"\",SUM(OFFSET(Data!$G$5,(Offsets!$G40-1)*(9 * _xlpm.Rows_Day + 3)+(weekdaycode(O$19)-1)*_xlpm.Rows_Day,_xlpm.Dir_Cols,_xlpm.Rows_Day,1))/SUM(OFFSET(Data!$C$5,(Offsets!$G40-1)*(9 * _xlpm.Rows_Day + 3)+(weekdaycode(O$19)-1)*_xlpm.Rows_Day,_xlpm.Dir_Cols,_xlpm.Rows_Day,COLUMNS(Data!Vehicle_Classification)))))","v":""},{"$f":"_xlfn.LET(_xlpm.Rows_Day,24 * (60 / $B$8), _xlpm.Dir_Cols,(COLUMNS(Data!Vehicle_Classification)+COLUMNS(Data!Vehicle_Speed_Bins)+COLUMNS(Data!Speed)+2),IF(ISBLANK($F56),\"\",SUM(OFFSET(Data!$G$5,(Offsets!$G40-1)*(9 * _xlpm.Rows_Day + 3)+(weekdaycode(O$19)-1)*_xlpm.Rows_Day,_xlpm.Dir_Cols,_xlpm.Rows_Day,1))/SUM(OFFSET(Data!$C$5,(Offsets!$G40-1)*(9 * _xlpm.Rows_Day + 3)+(weekdaycode(O$19)-1)*_xlpm.Rows_Day,_xlpm.Dir_Cols,_xlpm.Rows_Day,COLUMNS(Data!Vehicle_Classification)))))","v":""},{"$f":"_xlfn.LET(_xlpm.Rows_Day,24 * (60 / $B$8), _xlpm.Dir_Cols,0,IF(ISBLANK($F56),\"\",SUM(OFFSET(Data!$G$5,(Offsets!$G40-1)*(9 * _xlpm.Rows_Day + 3)+(weekdaycode(Q$19)-1)*_xlpm.Rows_Day,_xlpm.Dir_Cols,_xlpm.Rows_Day,1))/SUM(OFFSET(Data!$C$5,(Offsets!$G40-1)*(9 * _xlpm.Rows_Day + 3)+(weekdaycode(Q$19)-1)*_xlpm.Rows_Day,_xlpm.Dir_Cols,_xlpm.Rows_Day,COLUMNS(Data!Vehicle_Classification)))))","v":""},{"$f":"_xlfn.LET(_xlpm.Rows_Day,24 * (60 / $B$8), _xlpm.Dir_Cols,(COLUMNS(Data!Vehicle_Classification)+COLUMNS(Data!Vehicle_Speed_Bins)+COLUMNS(Data!Speed)+2),IF(ISBLANK($F56),\"\",SUM(OFFSET(Data!$G$5,(Offsets!$G40-1)*(9 * _xlpm.Rows_Day + 3)+(weekdaycode(Q$19)-1)*_xlpm.Rows_Day,_xlpm.Dir_Cols,_xlpm.Rows_Day,1))/SUM(OFFSET(Data!$C$5,(Offsets!$G40-1)*(9 * _xlpm.Rows_Day + 3)+(weekdaycode(Q$19)-1)*_xlpm.Rows_Day,_xlpm.Dir_Cols,_xlpm.Rows_Day,COLUMNS(Data!Vehicle_Classification)))))","v":""},{"$f":"_xlfn.LET(_xlpm.Rows_Day,24 * (60 / $B$8), _xlpm.Dir_Cols,0,IF(ISBLANK($F56),\"\",SUM(OFFSET(Data!$G$5,(Offsets!$G40-1)*(9 * _xlpm.Rows_Day + 3)+(weekdaycode(S$19)-1)*_xlpm.Rows_Day,_xlpm.Dir_Cols,_xlpm.Rows_Day,1))/SUM(OFFSET(Data!$C$5,(Offsets!$G40-1)*(9 * _xlpm.Rows_Day + 3)+(weekdaycode(S$19)-1)*_xlpm.Rows_Day,_xlpm.Dir_Cols,_xlpm.Rows_Day,COLUMNS(Data!Vehicle_Classification)))))","v":""},{"$f":"_xlfn.LET(_xlpm.Rows_Day,24 * (60 / $B$8), _xlpm.Dir_Cols,(COLUMNS(Data!Vehicle_Classification)+COLUMNS(Data!Vehicle_Speed_Bins)+COLUMNS(Data!Speed)+2),IF(ISBLANK($F56),\"\",SUM(OFFSET(Data!$G$5,(Offsets!$G40-1)*(9 * _xlpm.Rows_Day + 3)+(weekdaycode(S$19)-1)*_xlpm.Rows_Day,_xlpm.Dir_Cols,_xlpm.Rows_Day,1))/SUM(OFFSET(Data!$C$5,(Offsets!$G40-1)*(9 * _xlpm.Rows_Day + 3)+(weekdaycode(S$19)-1)*_xlpm.Rows_Day,_xlpm.Dir_Cols,_xlpm.Rows_Day,COLUMNS(Data!Vehicle_Classification)))))","v":""},{"$f":"_xlfn.LET(_xlpm.Rows_Day,24 * (60 / $B$8), _xlpm.Dir_Cols,0,IF(ISBLANK($F56),\"\",SUM(OFFSET(Data!$G$5,(Offsets!$G40-1)*(9 * _xlpm.Rows_Day + 3)+(weekdaycode(U$19)-1)*_xlpm.Rows_Day,_xlpm.Dir_Cols,_xlpm.Rows_Day,1))/SUM(OFFSET(Data!$C$5,(Offsets!$G40-1)*(9 * _xlpm.Rows_Day + 3)+(weekdaycode(U$19)-1)*_xlpm.Rows_Day,_xlpm.Dir_Cols,_xlpm.Rows_Day,COLUMNS(Data!Vehicle_Classification)))))","v":""},{"$f":"_xlfn.LET(_xlpm.Rows_Day,24 * (60 / $B$8), _xlpm.Dir_Cols,(COLUMNS(Data!Vehicle_Classification)+COLUMNS(Data!Vehicle_Speed_Bins)+COLUMNS(Data!Speed)+2),IF(ISBLANK($F56),\"\",SUM(OFFSET(Data!$G$5,(Offsets!$G40-1)*(9 * _xlpm.Rows_Day + 3)+(weekdaycode(U$19)-1)*_xlpm.Rows_Day,_xlpm.Dir_Cols,_xlpm.Rows_Day,1))/SUM(OFFSET(Data!$C$5,(Offsets!$G40-1)*(9 * _xlpm.Rows_Day + 3)+(weekdaycode(U$19)-1)*_xlpm.Rows_Day,_xlpm.Dir_Cols,_xlpm.Rows_Day,COLUMNS(Data!Vehicle_Classification)))))","v":""},{"$f":"_xlfn.LET(_xlpm.Rows_Day,24 * (60 / $B$8), _xlpm.Dir_Cols,0,IF(ISBLANK($F56),\"\",SUM(OFFSET(Data!$G$5,(Offsets!$G40-1)*(9 * _xlpm.Rows_Day + 3)+(weekdaycode(W$19)-1)*_xlpm.Rows_Day,_xlpm.Dir_Cols,_xlpm.Rows_Day,1))/SUM(OFFSET(Data!$C$5,(Offsets!$G40-1)*(9 * _xlpm.Rows_Day + 3)+(weekdaycode(W$19)-1)*_xlpm.Rows_Day,_xlpm.Dir_Cols,_xlpm.Rows_Day,COLUMNS(Data!Vehicle_Classification)))))","v":""},{"$f":"_xlfn.LET(_xlpm.Rows_Day,24 * (60 / $B$8), _xlpm.Dir_Cols,(COLUMNS(Data!Vehicle_Classification)+COLUMNS(Data!Vehicle_Speed_Bins)+COLUMNS(Data!Speed)+2),IF(ISBLANK($F56),\"\",SUM(OFFSET(Data!$G$5,(Offsets!$G40-1)*(9 * _xlpm.Rows_Day + 3)+(weekdaycode(W$19)-1)*_xlpm.Rows_Day,_xlpm.Dir_Cols,_xlpm.Rows_Day,1))/SUM(OFFSET(Data!$C$5,(Offsets!$G40-1)*(9 * _xlpm.Rows_Day + 3)+(weekdaycode(W$19)-1)*_xlpm.Rows_Day,_xlpm.Dir_Cols,_xlpm.Rows_Day,COLUMNS(Data!Vehicle_Classification)))))","v":""}]

{"sheet":"RawData_HeadingInfo","index":9,"n_rows":0,"n_cols":0,"rows_kept":0,"cut":false,"hidden":true,"merged":[]}

{"sheet":"RawData","index":10,"n_rows":1,"n_cols":15,"rows_kept":1,"cut":false,"hidden":true,"merged":[]}
["Time","Dir","Speed","WB","Headway","Gap","Ax","Gp","Rho","Class","Nm","Vehicle","Weekday","Direction","Period"]

{"sheet":"Dir1","index":11,"n_rows":219,"n_cols":54,"rows_kept":219,"cut":false,"hidden":true,"merged":[[1,40,2,40],[1,1,2,1],[1,2,1,13],[1,14,1,37],[1,38,2,38],[1,39,2,39]]}
[]
[null,"Time","Vehicle Class",null,null,null,null,null,null,null,null,null,null,null,"Speed Bin",null,null,null,null,null,null,null,null,null,null,null,null,null,null,null,null,null,null,null,null,null,null,null,"Average",0.85]
[null,null,1,2,3,4,5,6,7,8,9,10,11,12,0,5,10,15,20,25,30,35,40,45,50,55,60,65,70,75,80,85,90,95,100,105,110,115,null,null,null,null,null,"Headway >=0","Min","Median","Average",0.85,0.95,"Max","StDev","15Kph Pace Lower Bound","Pace Count","Count > PSL "]
[0,{"$f":"ImportData!$B$10+MOD(1-ImportData!$E$10,7)","v":"2023-10-02"},{"$f":"COUNTIFS(Data_Table[Direction],ImportData!Direction_1,Data_Table[Class],C$3:N$3,Data_Table[Period], $B4:$B171)","v":0},0,0,0,0,0,0,0,0,0,0,0,{"$f":"COUNTIFS(Data_Table[Direction],ImportData!Direction_1,Data_Table[Speed],\">\" & O$3:AK$3,Data_Table[Speed],\"<=\" & P$3:AL$3,Data_Table[Period], $B4:$B171)","v":0},0,0,0,0,0,0,0,0,0,0,0,0,0,0,0,0,0,0,0,0,0,0,{"$f":"COUNTIFS(Data_Table[Direction],ImportData!Direction_1,Data_Table[Speed],\">\" & AL$3,Data_Table[Period], $B4:$B171)","v":0},{"$f":"IFERROR(ROUND(AVERAGEIFS(Data_Table[Speed],Data_Table[Direction],ImportData!Direction_1,Data_Table[Period], $B4:$B171),2),\"-\")","v":"-"},{"$f":"IFERROR(ROUND(PERCENTILE(_xlfn._xlws.FILTER(Data_Table[Speed],(Data_Table[Direction]=ImportData!Direction_1)*(Data_Table[Period]=$B4)*(SUM(C4:N4)>=10)),0.85),2),\"-\")","v":"-"},null,null,0,{"$f":"OFFSET($B$4,AQ4*24,0)","v":"2023-10-02"},null,{"$f":"IFERROR(ROUND(PERCENTILE(_xlfn._xlws.FILTER(Data_Table[Speed],(Data_Table[Direction]=ImportData!Direction_1)*(Data_Table[Weekday]=$AQ4+1)),0.5),2),\"-\")","v":"-"},{"$f":"IFERROR(ROUND(AVERAGEIFS(Data_Table[Speed],Data_Table[Direction],ImportData!Direction_1,Data_Table[Weekday], $AQ4:$AQ10+1),2),\"-\")","v":"-"},{"$f":"IFERROR(ROUND(PERCENTILE(_xlfn._xlws.FILTER(Data_Table[Speed],(Data_Table[Direction]=ImportData!Direction_1)*(Data_Table[Weekday]=$AQ4+1)),0.85),2),\"-\")","v":"-"}]
[1,{"$f":"ImportData!$B$10+7*QUOTIENT(A5,24*60*7/ImportData!$B$8)+MOD(1+QUOTIENT(A5,24*60/ImportData!$B$8)-ImportData!$E$10,7)+TIME(0,ImportData!$B$8*A5,0)","v":"2023-10-02T01:00:00"},0,0,0,0,0,0,0,0,0,0,0,0,0,0,0,0,0,0,0,0,0,0,0,0,0,0,0,0,0,0,0,0,0,0,0,0,"-",{"$f":"IFERROR(ROUND(PERCENTILE(_xlfn._xlws.FILTER(Data_Table[Speed],(Data_Table[Direction]=ImportData!Direction_1)*(Data_Table[Period]=$B5)*(SUM(C5:N5)>=10)),0.85),2),\"-\")","v":"-"},null,null,1,{"$f":"OFFSET($B$4,AQ5*24,0)","v":"2023-10-03"},null,{"$f":"IFERROR(ROUND(PERCENTILE(_xlfn._xlws.FILTER(Data_Table[Speed],(Data_Table[Direction]=ImportData!Direction_1)*(Data_Table[Weekday]=$AQ5+1)),0.5),2),\"-\")","v":"-"},"-",{"$f":"IFERROR(ROUND(PERCENTILE(_xlfn._xlws.FILTER(Data_Table[Speed],(Data_Table[Direction]=ImportData!Direction_1)*(Data_Table[Weekday]=$AQ5+1)),0.85),2),\"-\")","v":"-"}]
[2,{"$f":"ImportData!$B$10+7*QUOTIENT(A6,24*60*7/ImportData!$B$8)+MOD(1+QUOTIENT(A6,24*60/ImportData!$B$8)-ImportData!$E$10,7)+TIME(0,ImportData!$B$8*A6,0)","v":"2023-10-02T02:00:00"},0,0,0,0,0,0,0,0,0,0,0,0,0,0,0,0,0,0,0,0,0,0,0,0,0,0,0,0,0,0,0,0,0,0,0,0,"-",{"$f":"IFERROR(ROUND(PERCENTILE(_xlfn._xlws.FILTER(Data_Table[Speed],(Data_Table[Direction]=ImportData!Direction_1)*(Data_Table[Period]=$B6)*(SUM(C6:N6)>=10)),0.85),2),\"-\")","v":"-"},null,null,2,"2023-10-04",null,{"$f":"IFERROR(ROUND(PERCENTILE(_xlfn._xlws.FILTER(Data_Table[Speed],(Data_Table[Direction]=ImportData!Direction_1)*(Data_Table[Weekday]=$AQ6+1)),0.5),2),\"-\")","v":"-"},"-",{"$f":"IFERROR(ROUND(PERCENTILE(_xlfn._xlws.FILTER(Data_Table[Speed],(Data_Table[Direction]=ImportData!Direction_1)*(Data_Table[Weekday]=$AQ6+1)),0.85),2),\"-\")","v":"-"}]
[3,{"$f":"ImportData!$B$10+7*QUOTIENT(A7,24*60*7/ImportData!$B$8)+MOD(1+QUOTIENT(A7,24*60/ImportData!$B$8)-ImportData!$E$10,7)+TIME(0,ImportData!$B$8*A7,0)","v":"2023-10-02T03:00:00"},0,0,0,0,0,0,0,0,0,0,0,0,0,0,0,0,0,0,0,0,0,0,0,0,0,0,0,0,0,0,0,0,0,0,0,0,"-",{"$f":"IFERROR(ROUND(PERCENTILE(_xlfn._xlws.FILTER(Data_Table[Speed],(Data_Table[Direction]=ImportData!Direction_1)*(Data_Table[Period]=$B7)*(SUM(C7:N7)>=10)),0.85),2),\"-\")","v":"-"},null,null,3,"2023-09-28",null,{"$f":"IFERROR(ROUND(PERCENTILE(_xlfn._xlws.FILTER(Data_Table[Speed],(Data_Table[Direction]=ImportData!Direction_1)*(Data_Table[Weekday]=$AQ7+1)),0.5),2),\"-\")","v":"-"},"-",{"$f":"IFERROR(ROUND(PERCENTILE(_xlfn._xlws.FILTER(Data_Table[Speed],(Data_Table[Direction]=ImportData!Direction_1)*(Data_Table[Weekday]=$AQ7+1)),0.85),2),\"-\")","v":"-"}]
[4,{"$f":"ImportData!$B$10+7*QUOTIENT(A8,24*60*7/ImportData!$B$8)+MOD(1+QUOTIENT(A8,24*60/ImportData!$B$8)-ImportData!$E$10,7)+TIME(0,ImportData!$B$8*A8,0)","v":"2023-10-02T04:00:00"},0,0,0,0,0,0,0,0,0,0,0,0,0,0,0,0,0,0,0,0,0,0,0,0,0,0,0,0,0,0,0,0,0,0,0,0,"-",{"$f":"IFERROR(ROUND(PERCENTILE(_xlfn._xlws.FILTER(Data_Table[Speed],(Data_Table[Direction]=ImportData!Direction_1)*(Data_Table[Period]=$B8)*(SUM(C8:N8)>=10)),0.85),2),\"-\")","v":"-"},null,null,4,"2023-09-29",null,{"$f":"IFERROR(ROUND(PERCENTILE(_xlfn._xlws.FILTER(Data_Table[Speed],(Data_Table[Direction]=ImportData!Direction_1)*(Data_Table[Weekday]=$AQ8+1)),0.5),2),\"-\")","v":"-"},"-",{"$f":"IFERROR(ROUND(PERCENTILE(_xlfn._xlws.FILTER(Data_Table[Speed],(Data_Table[Direction]=ImportData!Direction_1)*(Data_Table[Weekday]=$AQ8+1)),0.85),2),\"-\")","v":"-"}]
[5,{"$f":"ImportData!$B$10+7*QUOTIENT(A9,24*60*7/ImportData!$B$8)+MOD(1+QUOTIENT(A9,24*60/ImportData!$B$8)-ImportData!$E$10,7)+TIME(0,ImportData!$B$8*A9,0)","v":"2023-10-02T05:00:00"},0,0,0,0,0,0,0,0,0,0,0,0,0,0,0,0,0,0,0,0,0,0,0,0,0,0,0,0,0,0,0,0,0,0,0,0,"-",{"$f":"IFERROR(ROUND(PERCENTILE(_xlfn._xlws.FILTER(Data_Table[Speed],(Data_Table[Direction]=ImportData!Direction_1)*(Data_Table[Period]=$B9)*(SUM(C9:N9)>=10)),0.85),2),\"-\")","v":"-"},null,null,5,"2023-09-30",null,{"$f":"IFERROR(ROUND(PERCENTILE(_xlfn._xlws.FILTER(Data_Table[Speed],(Data_Table[Direction]=ImportData!Direction_1)*(Data_Table[Weekday]=$AQ9+1)),0.5),2),\"-\")","v":"-"},"-",{"$f":"IFERROR(ROUND(PERCENTILE(_xlfn._xlws.FILTER(Data_Table[Speed],(Data_Table[Direction]=ImportData!Direction_1)*(Data_Table[Weekday]=$AQ9+1)),0.85),2),\"-\")","v":"-"}]
[6,{"$f":"ImportData!$B$10+7*QUOTIENT(A10,24*60*7/ImportData!$B$8)+MOD(1+QUOTIENT(A10,24*60/ImportData!$B$8)-ImportData!$E$10,7)+TIME(0,ImportData!$B$8*A10,0)","v":"2023-10-02T06:00:00"},0,0,0,0,0,0,0,0,0,0,0,0,0,0,0,0,0,0,0,0,0,0,0,0,0,0,0,0,0,0,0,0,0,0,0,0,"-",{"$f":"IFERROR(ROUND(PERCENTILE(_xlfn._xlws.FILTER(Data_Table[Speed],(Data_Table[Direction]=ImportData!Direction_1)*(Data_Table[Period]=$B10)*(SUM(C10:N10)>=10)),0.85),2),\"-\")","v":"-"},null,null,6,"2023-10-01",null,{"$f":"IFERROR(ROUND(PERCENTILE(_xlfn._xlws.FILTER(Data_Table[Speed],(Data_Table[Direction]=ImportData!Direction_1)*(Data_Table[Weekday]=$AQ10+1)),0.5),2),\"-\")","v":"-"},"-",{"$f":"IFERROR(ROUND(PERCENTILE(_xlfn._xlws.FILTER(Data_Table[Speed],(Data_Table[Direction]=ImportData!Direction_1)*(Data_Table[Weekday]=$AQ10+1)),0.85),2),\"-\")","v":"-"}]
[7,{"$f":"ImportData!$B$10+7*QUOTIENT(A11,24*60*7/ImportData!$B$8)+MOD(1+QUOTIENT(A11,24*60/ImportData!$B$8)-ImportData!$E$10,7)+TIME(0,ImportData!$B$8*A11,0)","v":"2023-10-02T07:00:00"},0,0,0,0,0,0,0,0,0,0,0,0,0,0,0,0,0,0,0,0,0,0,0,0,0,0,0,0,0,0,0,0,0,0,0,0,"-",{"$f":"IFERROR(ROUND(PERCENTILE(_xlfn._xlws.FILTER(Data_Table[Speed],(Data_Table[Direction]=ImportData!Direction_1)*(Data_Table[Period]=$B11)*(SUM(C11:N11)>=10)),0.85),2),\"-\")","v":"-"},null,null,null,"Weekdays",null,{"$f":"IFERROR(ROUND(PERCENTILE(_xlfn._xlws.FILTER(Data_Table[Speed],(Data_Table[Direction]=ImportData!Direction_1)*(Data_Table[Weekday]< 6)),0.5),2),\"-\")","v":"-"},{"$f":"IFERROR(ROUND(AVERAGEIFS(Data_Table[Speed],Data_Table[Direction],ImportData!Direction_1,Data_Table[Weekday],\"<\" & 6),2),\"-\")","v":"-"},{"$f":"IFERROR(ROUND(PERCENTILE(_xlfn._xlws.FILTER(Data_Table[Speed],(Data_Table[Direction]=ImportData!Direction_1)*(Data_Table[Weekday]< 6)),0.85),2),\"-\")","v":"-"}]
[8,{"$f":"ImportData!$B$10+7*QUOTIENT(A12,24*60*7/ImportData!$B$8)+MOD(1+QUOTIENT(A12,24*60/ImportData!$B$8)-ImportData!$E$10,7)+TIME(0,ImportData!$B$8*A12,0)","v":"2023-10-02T08:00:00"},0,0,0,0,0,0,0,0,0,0,0,0,0,0,0,0,0,0,0,0,0,0,0,0,0,0,0,0,0,0,0,0,0,0,0,0,"-",{"$f":"IFERROR(ROUND(PERCENTILE(_xlfn._xlws.FILTER(Data_Table[Speed],(Data_Table[Direction]=ImportData!Direction_1)*(Data_Table[Period]=$B12)*(SUM(C12:N12)>=10)),0.85),2),\"-\")","v":"-"},null,null,null,"7 days",null,{"$f":"IFERROR(ROUND(PERCENTILE(_xlfn._xlws.FILTER(Data_Table[Speed],(Data_Table[Direction]=ImportData!Direction_1)),0.5),2),\"-\")","v":"-"},{"$f":"IFERROR(ROUND(AVERAGEIFS(Data_Table[Speed],Data_Table[Direction],ImportData!Direction_1),2),\"-\")","v":"-"},{"$f":"IFERROR(ROUND(PERCENTILE(_xlfn._xlws.FILTER(Data_Table[Speed],(Data_Table[Direction]=ImportData!Direction_1)),0.85),2),\"-\")","v":"-"}]
[9,{"$f":"ImportData!$B$10+7*QUOTIENT(A13,24*60*7/ImportData!$B$8)+MOD(1+QUOTIENT(A13,24*60/ImportData!$B$8)-ImportData!$E$10,7)+TIME(0,ImportData!$B$8*A13,0)","v":"2023-10-02T09:00:00"},0,0,0,0,0,0,0,0,0,0,0,0,0,0,0,0,0,0,0,0,0,0,0,0,0,0,0,0,0,0,0,0,0,0,0,0,"-",{"$f":"IFERROR(ROUND(PERCENTILE(_xlfn._xlws.FILTER(Data_Table[Speed],(Data_Table[Direction]=ImportData!Direction_1)*(Data_Table[Period]=$B13)*(SUM(C13:N13)>=10)),0.85),2),\"-\")","v":"-"}]
[10,{"$f":"ImportData!$B$10+7*QUOTIENT(A14,24*60*7/ImportData!$B$8)+MOD(1+QUOTIENT(A14,24*60/ImportData!$B$8)-ImportData!$E$10,7)+TIME(0,ImportData!$B$8*A14,0)","v":"2023-10-02T10:00:00"},0,0,0,0,0,0,0,0,0,0,0,0,0,0,0,0,0,0,0,0,0,0,0,0,0,0,0,0,0,0,0,0,0,0,0,0,"-",{"$f":"IFERROR(ROUND(PERCENTILE(_xlfn._xlws.FILTER(Data_Table[Speed],(Data_Table[Direction]=ImportData!Direction_1)*(Data_Table[Period]=$B14)*(SUM(C14:N14)>=10)),0.85),2),\"-\")","v":"-"}]
[11,{"$f":"ImportData!$B$10+7*QUOTIENT(A15,24*60*7/ImportData!$B$8)+MOD(1+QUOTIENT(A15,24*60/ImportData!$B$8)-ImportData!$E$10,7)+TIME(0,ImportData!$B$8*A15,0)","v":"2023-10-02T11:00:00"},0,0,0,0,0,0,0,0,0,0,0,0,0,0,0,0,0,0,0,0,0,0,0,0,0,0,0,0,0,0,0,0,0,0,0,0,"-",{"$f":"IFERROR(ROUND(PERCENTILE(_xlfn._xlws.FILTER(Data_Table[Speed],(Data_Table[Direction]=ImportData!Direction_1)*(Data_Table[Period]=$B15)*(SUM(C15:N15)>=10)),0.85),2),\"-\")","v":"-"},null,null,null,"Headway >=4","Min","Median","Average",0.85,0.95,"Max","StDev","15Kph Pace Lower Bound","Pace Count","Count > PSL "]
[12,{"$f":"ImportData!$B$10+7*QUOTIENT(A16,24*60*7/ImportData!$B$8)+MOD(1+QUOTIENT(A16,24*60/ImportData!$B$8)-ImportData!$E$10,7)+TIME(0,ImportData!$B$8*A16,0)","v":"2023-10-02T12:00:00"},0,0,0,0,0,0,0,0,0,0,0,0,0,0,0,0,0,0,0,0,0,0,0,0,0,0,0,0,0,0,0,0,0,0,0,0,"-",{"$f":"IFERROR(ROUND(PERCENTILE(_xlfn._xlws.FILTER(Data_Table[Speed],(Data_Table[Direction]=ImportData!Direction_1)*(Data_Table[Period]=$B16)*(SUM(C16:N16)>=10)),0.85),2),\"-\")","v":"-"},null,null,0,{"$f":"OFFSET($B$4,AQ16*24,0)","v":"2023-10-02"},null,{"$f":"IFERROR(ROUND(PERCENTILE(_xlfn._xlws.FILTER(Data_Table[Speed],(Data_Table[Headway]>= 4)*(Data_Table[Direction]=ImportData!Direction_1)*(Data_Table[Weekday]=$AQ16+1)),0.5),2),\"-\")","v":"-"},{"$f":"IFERROR(ROUND(AVERAGEIFS(Data_Table[Speed],Data_Table[Headway],\">=\" & 4,Data_Table[Direction],ImportData!Direction_1,Data_Table[Weekday],$AQ16:$AQ22+1),2),\"-\")","v":"-"},{"$f":"IFERROR(ROUND(PERCENTILE(_xlfn._xlws.FILTER(Data_Table[Speed],(Data_Table[Headway]>= 4)*(Data_Table[Direction]=ImportData!Direction_1)*(Data_Table[Weekday]=$AQ16+1)),0.85),2),\"-\")","v":"-"}]
[13,{"$f":"ImportData!$B$10+7*QUOTIENT(A17,24*60*7/ImportData!$B$8)+MOD(1+QUOTIENT(A17,24*60/ImportData!$B$8)-ImportData!$E$10,7)+TIME(0,ImportData!$B$8*A17,0)","v":"2023-10-02T13:00:00"},0,0,0,0,0,0,0,0,0,0,0,0,0,0,0,0,0,0,0,0,0,0,0,0,0,0,0,0,0,0,0,0,0,0,0,0,"-",{"$f":"IFERROR(ROUND(PERCENTILE(_xlfn._xlws.FILTER(Data_Table[Speed],(Data_Table[Direction]=ImportData!Direction_1)*(Data_Table[Period]=$B17)*(SUM(C17:N17)>=10)),0.85),2),\"-\")","v":"-"},null,null,1,{"$f":"OFFSET($B$4,AQ17*24,0)","v":"2023-10-03"},null,{"$f":"IFERROR(ROUND(PERCENTILE(_xlfn._xlws.FILTER(Data_Table[Speed],(Data_Table[Headway]>= 4)*(Data_Table[Direction]=ImportData!Direction_1)*(Data_Table[Weekday]=$AQ17+1)),0.5),2),\"-\")","v":"-"},"-",{"$f":"IFERROR(ROUND(PERCENTILE(_xlfn._xlws.FILTER(Data_Table[Speed],(Data_Table[Headway]>= 4)*(Data_Table[Direction]=ImportData!Direction_1)*(Data_Table[Weekday]=$AQ17+1)),0.85),2),\"-\")","v":"-"}]
[14,{"$f":"ImportData!$B$10+7*QUOTIENT(A18,24*60*7/ImportData!$B$8)+MOD(1+QUOTIENT(A18,24*60/ImportData!$B$8)-ImportData!$E$10,7)+TIME(0,ImportData!$B$8*A18,0)","v":"2023-10-02T14:00:00"},0,0,0,0,0,0,0,0,0,0,0,0,0,0,0,0,0,0,0,0,0,0,0,0,0,0,0,0,0,0,0,0,0,0,0,0,"-",{"$f":"IFERROR(ROUND(PERCENTILE(_xlfn._xlws.FILTER(Data_Table[Speed],(Data_Table[Direction]=ImportData!Direction_1)*(Data_Table[Period]=$B18)*(SUM(C18:N18)>=10)),0.85),2),\"-\")","v":"-"},null,null,2,"2023-10-04",null,{"$f":"IFERROR(ROUND(PERCENTILE(_xlfn._xlws.FILTER(Data_Table[Speed],(Data_Table[Headway]>= 4)*(Data_Table[Direction]=ImportData!Direction_1)*(Data_Table[Weekday]=$AQ18+1)),0.5),2),\"-\")","v":"-"},"-",{"$f":"IFERROR(ROUND(PERCENTILE(_xlfn._xlws.FILTER(Data_Table[Speed],(Data_Table[Headway]>= 4)*(Data_Table[Direction]=ImportData!Direction_1)*(Data_Table[Weekday]=$AQ18+1)),0.85),2),\"-\")","v":"-"}]
[15,{"$f":"ImportData!$B$10+7*QUOTIENT(A19,24*60*7/ImportData!$B$8)+MOD(1+QUOTIENT(A19,24*60/ImportData!$B$8)-ImportData!$E$10,7)+TIME(0,ImportData!$B$8*A19,0)","v":"2023-10-02T15:00:00"},0,0,0,0,0,0,0,0,0,0,0,0,0,0,0,0,0,0,0,0,0,0,0,0,0,0,0,0,0,0,0,0,0,0,0,0,"-",{"$f":"IFERROR(ROUND(PERCENTILE(_xlfn._xlws.FILTER(Data_Table[Speed],(Data_Table[Direction]=ImportData!Direction_1)*(Data_Table[Period]=$B19)*(SUM(C19:N19)>=10)),0.85),2),\"-\")","v":"-"},null,null,3,"2023-09-28",null,{"$f":"IFERROR(ROUND(PERCENTILE(_xlfn._xlws.FILTER(Data_Table[Speed],(Data_Table[Headway]>= 4)*(Data_Table[Direction]=ImportData!Direction_1)*(Data_Table[Weekday]=$AQ19+1)),0.5),2),\"-\")","v":"-"},"-",{"$f":"IFERROR(ROUND(PERCENTILE(_xlfn._xlws.FILTER(Data_Table[Speed],(Data_Table[Headway]>= 4)*(Data_Table[Direction]=ImportData!Direction_1)*(Data_Table[Weekday]=$AQ19+1)),0.85),2),\"-\")","v":"-"}]
[16,{"$f":"ImportData!$B$10+7*QUOTIENT(A20,24*60*7/ImportData!$B$8)+MOD(1+QUOTIENT(A20,24*60/ImportData!$B$8)-ImportData!$E$10,7)+TIME(0,ImportData!$B$8*A20,0)","v":"2023-10-02T16:00:00"},0,0,0,0,0,0,0,0,0,0,0,0,0,0,0,0,0,0,0,0,0,0,0,0,0,0,0,0,0,0,0,0,0,0,0,0,"-",{"$f":"IFERROR(ROUND(PERCENTILE(_xlfn._xlws.FILTER(Data_Table[Speed],(Data_Table[Direction]=ImportData!Direction_1)*(Data_Table[Period]=$B20)*(SUM(C20:N20)>=10)),0.85),2),\"-\")","v":"-"},null,null,4,"2023-09-29",null,{"$f":"IFERROR(ROUND(PERCENTILE(_xlfn._xlws.FILTER(Data_Table[Speed],(Data_Table[Headway]>= 4)*(Data_Table[Direction]=ImportData!Direction_1)*(Data_Table[Weekday]=$AQ20+1)),0.5),2),\"-\")","v":"-"},"-",{"$f":"IFERROR(ROUND(PERCENTILE(_xlfn._xlws.FILTER(Data_Table[Speed],(Data_Table[Headway]>= 4)*(Data_Table[Direction]=ImportData!Direction_1)*(Data_Table[Weekday]=$AQ20+1)),0.85),2),\"-\")","v":"-"}]
[17,{"$f":"ImportData!$B$10+7*QUOTIENT(A21,24*60*7/ImportData!$B$8)+MOD(1+QUOTIENT(A21,24*60/ImportData!$B$8)-ImportData!$E$10,7)+TIME(0,ImportData!$B$8*A21,0)","v":"2023-10-02T17:00:00"},0,0,0,0,0,0,0,0,0,0,0,0,0,0,0,0,0,0,0,0,0,0,0,0,0,0,0,0,0,0,0,0,0,0,0,0,"-",{"$f":"IFERROR(ROUND(PERCENTILE(_xlfn._xlws.FILTER(Data_Table[Speed],(Data_Table[Direction]=ImportData!Direction_1)*(Data_Table[Period]=$B21)*(SUM(C21:N21)>=10)),0.85),2),\"-\")","v":"-"},null,null,5,"2023-09-30",null,{"$f":"IFERROR(ROUND(PERCENTILE(_xlfn._xlws.FILTER(Data_Table[Speed],(Data_Table[Headway]>= 4)*(Data_Table[Direction]=ImportData!Direction_1)*(Data_Table[Weekday]=$AQ21+1)),0.5),2),\"-\")","v":"-"},"-",{"$f":"IFERROR(ROUND(PERCENTILE(_xlfn._xlws.FILTER(Data_Table[Speed],(Data_Table[Headway]>= 4)*(Data_Table[Direction]=ImportData!Direction_1)*(Data_Table[Weekday]=$AQ21+1)),0.85),2),\"-\")","v":"-"}]
[18,{"$f":"ImportData!$B$10+7*QUOTIENT(A22,24*60*7/ImportData!$B$8)+MOD(1+QUOTIENT(A22,24*60/ImportData!$B$8)-ImportData!$E$10,7)+TIME(0,ImportData!$B$8*A22,0)","v":"2023-10-02T18:00:00"},0,0,0,0,0,0,0,0,0,0,0,0,0,0,0,0,0,0,0,0,0,0,0,0,0,0,0,0,0,0,0,0,0,0,0,0,"-",{"$f":"IFERROR(ROUND(PERCENTILE(_xlfn._xlws.FILTER(Data_Table[Speed],(Data_Table[Direction]=ImportData!Direction_1)*(Data_Table[Period]=$B22)*(SUM(C22:N22)>=10)),0.85),2),\"-\")","v":"-"},null,null,6,"2023-10-01",null,{"$f":"IFERROR(ROUND(PERCENTILE(_xlfn._xlws.FILTER(Data_Table[Speed],(Data_Table[Headway]>= 4)*(Data_Table[Direction]=ImportData!Direction_1)*(Data_Table[Weekday]=$AQ22+1)),0.5),2),\"-\")","v":"-"},"-",{"$f":"IFERROR(ROUND(PERCENTILE(_xlfn._xlws.FILTER(Data_Table[Speed],(Data_Table[Headway]>= 4)*(Data_Table[Direction]=ImportData!Direction_1)*(Data_Table[Weekday]=$AQ22+1)),0.85),2),\"-\")","v":"-"}]
[19,{"$f":"ImportData!$B$10+7*QUOTIENT(A23,24*60*7/ImportData!$B$8)+MOD(1+QUOTIENT(A23,24*60/ImportData!$B$8)-ImportData!$E$10,7)+TIME(0,ImportData!$B$8*A23,0)","v":"2023-10-02T19:00:00"},0,0,0,0,0,0,0,0,0,0,0,0,0,0,0,0,0,0,0,0,0,0,0,0,0,0,0,0,0,0,0,0,0,0,0,0,"-",{"$f":"IFERROR(ROUND(PERCENTILE(_xlfn._xlws.FILTER(Data_Table[Speed],(Data_Table[Direction]=ImportData!Direction_1)*(Data_Table[Period]=$B23)*(SUM(C23:N23)>=10)),0.85),2),\"-\")","v":"-"},null,null,null,"Weekdays",null,{"$f":"IFERROR(ROUND(PERCENTILE(_xlfn._xlws.FILTER(Data_Table[Speed],(Data_Table[Headway]>= 4)*(Data_Table[Direction]=ImportData!Direction_1)*(Data_Table[Weekday]< 6)),0.5),2),\"-\")","v":"-"},{"$f":"IFERROR(ROUND(AVERAGEIFS(Data_Table[Speed],Data_Table[Headway],\">=\" & 4,Data_Table[Direction],ImportData!Direction_1,Data_Table[Weekday],\"<\" & 6),2),\"-\")","v":"-"},{"$f":"IFERROR(ROUND(PERCENTILE(_xlfn._xlws.FILTER(Data_Table[Speed],(Data_Table[Headway]>= 4)*(Data_Table[Direction]=ImportData!Direction_1)*(Data_Table[Weekday]< 6)),0.85),2),\"-\")","v":"-"}]
[20,{"$f":"ImportData!$B$10+7*QUOTIENT(A24,24*60*7/ImportData!$B$8)+MOD(1+QUOTIENT(A24,24*60/ImportData!$B$8)-ImportData!$E$10,7)+TIME(0,ImportData!$B$8*A24,0)","v":"2023-10-02T20:00:00"},0,0,0,0,0,0,0,0,0,0,0,0,0,0,0,0,0,0,0,0,0,0,0,0,0,0,0,0,0,0,0,0,0,0,0,0,"-",{"$f":"IFERROR(ROUND(PERCENTILE(_xlfn._xlws.FILTER(Data_Table[Speed],(Data_Table[Direction]=ImportData!Direction_1)*(Data_Table[Period]=$B24)*(SUM(C24:N24)>=10)),0.85),2),\"-\")","v":"-"},null,null,null,"7 days",null,{"$f":"IFERROR(ROUND(PERCENTILE(_xlfn._xlws.FILTER(Data_Table[Speed],(Data_Table[Headway]>= 4)*(Data_Table[Direction]=ImportData!Direction_1)),0.5),2),\"-\")","v":"-"},{"$f":"IFERROR(ROUND(AVERAGEIFS(Data_Table[Speed],Data_Table[Headway],\">=\" & 4,Data_Table[Direction],ImportData!Direction_1),2),\"-\")","v":"-"},{"$f":"IFERROR(ROUND(PERCENTILE(_xlfn._xlws.FILTER(Data_Table[Speed],(Data_Table[Headway]>= 4)*(Data_Table[Direction]=ImportData!Direction_1)),0.85),2),\"-\")","v":"-"}]
[21,{"$f":"ImportData!$B$10+7*QUOTIENT(A25,24*60*7/ImportData!$B$8)+MOD(1+QUOTIENT(A25,24*60/ImportData!$B$8)-ImportData!$E$10,7)+TIME(0,ImportData!$B$8*A25,0)","v":"2023-10-02T21:00:00"},0,0,0,0,0,0,0,0,0,0,0,0,0,0,0,0,0,0,0,0,0,0,0,0,0,0,0,0,0,0,0,0,0,0,0,0,"-",{"$f":"IFERROR(ROUND(PERCENTILE(_xlfn._xlws.FILTER(Data_Table[Speed],(Data_Table[Direction]=ImportData!Direction_1)*(Data_Table[Period]=$B25)*(SUM(C25:N25)>=10)),0.85),2),\"-\")","v":"-"}]
[22,{"$f":"ImportData!$B$10+7*QUOTIENT(A26,24*60*7/ImportData!$B$8)+MOD(1+QUOTIENT(A26,24*60/ImportData!$B$8)-ImportData!$E$10,7)+TIME(0,ImportData!$B$8*A26,0)","v":"2023-10-02T22:00:00"},0,0,0,0,0,0,0,0,0,0,0,0,0,0,0,0,0,0,0,0,0,0,0,0,0,0,0,0,0,0,0,0,0,0,0,0,"-",{"$f":"IFERROR(ROUND(PERCENTILE(_xlfn._xlws.FILTER(Data_Table[Speed],(Data_Table[Direction]=ImportData!Direction_1)*(Data_Table[Period]=$B26)*(SUM(C26:N26)>=10)),0.85),2),\"-\")","v":"-"}]
[23,{"$f":"ImportData!$B$10+7*QUOTIENT(A27,24*60*7/ImportData!$B$8)+MOD(1+QUOTIENT(A27,24*60/ImportData!$B$8)-ImportData!$E$10,7)+TIME(0,ImportData!$B$8*A27,0)","v":"2023-10-02T23:00:00"},0,0,0,0,0,0,0,0,0,0,0,0,0,0,0,0,0,0,0,0,0,0,0,0,0,0,0,0,0,0,0,0,0,0,0,0,"-",{"$f":"IFERROR(ROUND(PERCENTILE(_xlfn._xlws.FILTER(Data_Table[Speed],(Data_Table[Direction]=ImportData!Direction_1)*(Data_Table[Period]=$B27)*(SUM(C27:N27)>=10)),0.85),2),\"-\")","v":"-"}]
[24,{"$f":"ImportData!$B$10+7*QUOTIENT(A28,24*60*7/ImportData!$B$8)+MOD(1+QUOTIENT(A28,24*60/ImportData!$B$8)-ImportData!$E$10,7)+TIME(0,ImportData!$B$8*A28,0)","v":"2023-10-03"},0,0,0,0,0,0,0,0,0,0,0,0,0,0,0,0,0,0,0,0,0,0,0,0,0,0,0,0,0,0,0,0,0,0,0,0,"-",{"$f":"IFERROR(ROUND(PERCENTILE(_xlfn._xlws.FILTER(Data_Table[Speed],(Data_Table[Direction]=ImportData!Direction_1)*(Data_Table[Period]=$B28)*(SUM(C28:N28)>=10)),0.85),2),\"-\")","v":"-"}]
[25,{"$f":"ImportData!$B$10+7*QUOTIENT(A29,24*60*7/ImportData!$B$8)+MOD(1+QUOTIENT(A29,24*60/ImportData!$B$8)-ImportData!$E$10,7)+TIME(0,ImportData!$B$8*A29,0)","v":"2023-10-03T01:00:00"},0,0,0,0,0,0,0,0,0,0,0,0,0,0,0,0,0,0,0,0,0,0,0,0,0,0,0,0,0,0,0,0,0,0,0,0,"-",{"$f":"IFERROR(ROUND(PERCENTILE(_xlfn._xlws.FILTER(Data_Table[Speed],(Data_Table[Direction]=ImportData!Direction_1)*(Data_Table[Period]=$B29)*(SUM(C29:N29)>=10)),0.85),2),\"-\")","v":"-"}]
[26,{"$f":"ImportData!$B$10+7*QUOTIENT(A30,24*60*7/ImportData!$B$8)+MOD(1+QUOTIENT(A30,24*60/ImportData!$B$8)-ImportData!$E$10,7)+TIME(0,ImportData!$B$8*A30,0)","v":"2023-10-03T02:00:00"},0,0,0,0,0,0,0,0,0,0,0,0,0,0,0,0,0,0,0,0,0,0,0,0,0,0,0,0,0,0,0,0,0,0,0,0,"-",{"$f":"IFERROR(ROUND(PERCENTILE(_xlfn._xlws.FILTER(Data_Table[Speed],(Data_Table[Direction]=ImportData!Direction_1)*(Data_Table[Period]=$B30)*(SUM(C30:N30)>=10)),0.85),2),\"-\")","v":"-"}]
[27,{"$f":"ImportData!$B$10+7*QUOTIENT(A31,24*60*7/ImportData!$B$8)+MOD(1+QUOTIENT(A31,24*60/ImportData!$B$8)-ImportData!$E$10,7)+TIME(0,ImportData!$B$8*A31,0)","v":"2023-10-03T03:00:00"},0,0,0,0,0,0,0,0,0,0,0,0,0,0,0,0,0,0,0,0,0,0,0,0,0,0,0,0,0,0,0,0,0,0,0,0,"-",{"$f":"IFERROR(ROUND(PERCENTILE(_xlfn._xlws.FILTER(Data_Table[Speed],(Data_Table[Direction]=ImportData!Direction_1)*(Data_Table[Period]=$B31)*(SUM(C31:N31)>=10)),0.85),2),\"-\")","v":"-"}]
[28,{"$f":"ImportData!$B$10+7*QUOTIENT(A32,24*60*7/ImportData!$B$8)+MOD(1+QUOTIENT(A32,24*60/ImportData!$B$8)-ImportData!$E$10,7)+TIME(0,ImportData!$B$8*A32,0)","v":"2023-10-03T04:00:00"},0,0,0,0,0,0,0,0,0,0,0,0,0,0,0,0,0,0,0,0,0,0,0,0,0,0,0,0,0,0,0,0,0,0,0,0,"-",{"$f":"IFERROR(ROUND(PERCENTILE(_xlfn._xlws.FILTER(Data_Table[Speed],(Data_Table[Direction]=ImportData!Direction_1)*(Data_Table[Period]=$B32)*(SUM(C32:N32)>=10)),0.85),2),\"-\")","v":"-"}]
[29,{"$f":"ImportData!$B$10+7*QUOTIENT(A33,24*60*7/ImportData!$B$8)+MOD(1+QUOTIENT(A33,24*60/ImportData!$B$8)-ImportData!$E$10,7)+TIME(0,ImportData!$B$8*A33,0)","v":"2023-10-03T05:00:00"},0,0,0,0,0,0,0,0,0,0,0,0,0,0,0,0,0,0,0,0,0,0,0,0,0,0,0,0,0,0,0,0,0,0,0,0,"-",{"$f":"IFERROR(ROUND(PERCENTILE(_xlfn._xlws.FILTER(Data_Table[Speed],(Data_Table[Direction]=ImportData!Direction_1)*(Data_Table[Period]=$B33)*(SUM(C33:N33)>=10)),0.85),2),\"-\")","v":"-"}]
[30,{"$f":"ImportData!$B$10+7*QUOTIENT(A34,24*60*7/ImportData!$B$8)+MOD(1+QUOTIENT(A34,24*60/ImportData!$B$8)-ImportData!$E$10,7)+TIME(0,ImportData!$B$8*A34,0)","v":"2023-10-03T06:00:00"},0,0,0,0,0,0,0,0,0,0,0,0,0,0,0,0,0,0,0,0,0,0,0,0,0,0,0,0,0,0,0,0,0,0,0,0,"-",{"$f":"IFERROR(ROUND(PERCENTILE(_xlfn._xlws.FILTER(Data_Table[Speed],(Data_Table[Direction]=ImportData!Direction_1)*(Data_Table[Period]=$B34)*(SUM(C34:N34)>=10)),0.85),2),\"-\")","v":"-"}]
[31,{"$f":"ImportData!$B$10+7*QUOTIENT(A35,24*60*7/ImportData!$B$8)+MOD(1+QUOTIENT(A35,24*60/ImportData!$B$8)-ImportData!$E$10,7)+TIME(0,ImportData!$B$8*A35,0)","v":"2023-10-03T07:00:00"},0,0,0,0,0,0,0,0,0,0,0,0,0,0,0,0,0,0,0,0,0,0,0,0,0,0,0,0,0,0,0,0,0,0,0,0,"-",{"$f":"IFERROR(ROUND(PERCENTILE(_xlfn._xlws.FILTER(Data_Table[Speed],(Data_Table[Direction]=ImportData!Direction_1)*(Data_Table[Period]=$B35)*(SUM(C35:N35)>=10)),0.85),2),\"-\")","v":"-"}]
[32,{"$f":"ImportData!$B$10+7*QUOTIENT(A36,24*60*7/ImportData!$B$8)+MOD(1+QUOTIENT(A36,24*60/ImportData!$B$8)-ImportData!$E$10,7)+TIME(0,ImportData!$B$8*A36,0)","v":"2023-10-03T08:00:00"},0,0,0,0,0,0,0,0,0,0,0,0,0,0,0,0,0,0,0,0,0,0,0,0,0,0,0,0,0,0,0,0,0,0,0,0,"-",{"$f":"IFERROR(ROUND(PERCENTILE(_xlfn._xlws.FILTER(Data_Table[Speed],(Data_Table[Direction]=ImportData!Direction_1)*(Data_Table[Period]=$B36)*(SUM(C36:N36)>=10)),0.85),2),\"-\")","v":"-"}]
[33,{"$f":"ImportData!$B$10+7*QUOTIENT(A37,24*60*7/ImportData!$B$8)+MOD(1+QUOTIENT(A37,24*60/ImportData!$B$8)-ImportData!$E$10,7)+TIME(0,ImportData!$B$8*A37,0)","v":"2023-10-03T09:00:00"},0,0,0,0,0,0,0,0,0,0,0,0,0,0,0,0,0,0,0,0,0,0,0,0,0,0,0,0,0,0,0,0,0,0,0,0,"-",{"$f":"IFERROR(ROUND(PERCENTILE(_xlfn._xlws.FILTER(Data_Table[Speed],(Data_Table[Direction]=ImportData!Direction_1)*(Data_Table[Period]=$B37)*(SUM(C37:N37)>=10)),0.85),2),\"-\")","v":"-"}]
[34,{"$f":"ImportData!$B$10+7*QUOTIENT(A38,24*60*7/ImportData!$B$8)+MOD(1+QUOTIENT(A38,24*60/ImportData!$B$8)-ImportData!$E$10,7)+TIME(0,ImportData!$B$8*A38,0)","v":"2023-10-03T10:00:00"},0,0,0,0,0,0,0,0,0,0,0,0,0,0,0,0,0,0,0,0,0,0,0,0,0,0,0,0,0,0,0,0,0,0,0,0,"-",{"$f":"IFERROR(ROUND(PERCENTILE(_xlfn._xlws.FILTER(Data_Table[Speed],(Data_Table[Direction]=ImportData!Direction_1)*(Data_Table[Period]=$B38)*(SUM(C38:N38)>=10)),0.85),2),\"-\")","v":"-"}]
[35,{"$f":"ImportData!$B$10+7*QUOTIENT(A39,24*60*7/ImportData!$B$8)+MOD(1+QUOTIENT(A39,24*60/ImportData!$B$8)-ImportData!$E$10,7)+TIME(0,ImportData!$B$8*A39,0)","v":"2023-10-03T11:00:00"},0,0,0,0,0,0,0,0,0,0,0,0,0,0,0,0,0,0,0,0,0,0,0,0,0,0,0,0,0,0,0,0,0,0,0,0,"-",{"$f":"IFERROR(ROUND(PERCENTILE(_xlfn._xlws.FILTER(Data_Table[Speed],(Data_Table[Direction]=ImportData!Direction_1)*(Data_Table[Period]=$B39)*(SUM(C39:N39)>=10)),0.85),2),\"-\")","v":"-"}]
[36,{"$f":"ImportData!$B$10+7*QUOTIENT(A40,24*60*7/ImportData!$B$8)+MOD(1+QUOTIENT(A40,24*60/ImportData!$B$8)-ImportData!$E$10,7)+TIME(0,ImportData!$B$8*A40,0)","v":"2023-10-03T12:00:00"},0,0,0,0,0,0,0,0,0,0,0,0,0,0,0,0,0,0,0,0,0,0,0,0,0,0,0,0,0,0,0,0,0,0,0,0,"-",{"$f":"IFERROR(ROUND(PERCENTILE(_xlfn._xlws.FILTER(Data_Table[Speed],(Data_Table[Direction]=ImportData!Direction_1)*(Data_Table[Period]=$B40)*(SUM(C40:N40)>=10)),0.85),2),\"-\")","v":"-"}]
[37,{"$f":"ImportData!$B$10+7*QUOTIENT(A41,24*60*7/ImportData!$B$8)+MOD(1+QUOTIENT(A41,24*60/ImportData!$B$8)-ImportData!$E$10,7)+TIME(0,ImportData!$B$8*A41,0)","v":"2023-10-03T13:00:00"},0,0,0,0,0,0,0,0,0,0,0,0,0,0,0,0,0,0,0,0,0,0,0,0,0,0,0,0,0,0,0,0,0,0,0,0,"-",{"$f":"IFERROR(ROUND(PERCENTILE(_xlfn._xlws.FILTER(Data_Table[Speed],(Data_Table[Direction]=ImportData!Direction_1)*(Data_Table[Period]=$B41)*(SUM(C41:N41)>=10)),0.85),2),\"-\")","v":"-"}]
[38,{"$f":"ImportData!$B$10+7*QUOTIENT(A42,24*60*7/ImportData!$B$8)+MOD(1+QUOTIENT(A42,24*60/ImportData!$B$8)-ImportData!$E$10,7)+TIME(0,ImportData!$B$8*A42,0)","v":"2023-10-03T14:00:00"},0,0,0,0,0,0,0,0,0,0,0,0,0,0,0,0,0,0,0,0,0,0,0,0,0,0,0,0,0,0,0,0,0,0,0,0,"-",{"$f":"IFERROR(ROUND(PERCENTILE(_xlfn._xlws.FILTER(Data_Table[Speed],(Data_Table[Direction]=ImportData!Direction_1)*(Data_Table[Period]=$B42)*(SUM(C42:N42)>=10)),0.85),2),\"-\")","v":"-"}]
[39,{"$f":"ImportData!$B$10+7*QUOTIENT(A43,24*60*7/ImportData!$B$8)+MOD(1+QUOTIENT(A43,24*60/ImportData!$B$8)-ImportData!$E$10,7)+TIME(0,ImportData!$B$8*A43,0)","v":"2023-10-03T15:00:00"},0,0,0,0,0,0,0,0,0,0,0,0,0,0,0,0,0,0,0,0,0,0,0,0,0,0,0,0,0,0,0,0,0,0,0,0,"-",{"$f":"IFERROR(ROUND(PERCENTILE(_xlfn._xlws.FILTER(Data_Table[Speed],(Data_Table[Direction]=ImportData!Direction_1)*(Data_Table[Period]=$B43)*(SUM(C43:N43)>=10)),0.85),2),\"-\")","v":"-"}]
[40,{"$f":"ImportData!$B$10+7*QUOTIENT(A44,24*60*7/ImportData!$B$8)+MOD(1+QUOTIENT(A44,24*60/ImportData!$B$8)-ImportData!$E$10,7)+TIME(0,ImportData!$B$8*A44,0)","v":"2023-10-03T16:00:00"},0,0,0,0,0,0,0,0,0,0,0,0,0,0,0,0,0,0,0,0,0,0,0,0,0,0,0,0,0,0,0,0,0,0,0,0,"-",{"$f":"IFERROR(ROUND(PERCENTILE(_xlfn._xlws.FILTER(Data_Table[Speed],(Data_Table[Direction]=ImportData!Direction_1)*(Data_Table[Period]=$B44)*(SUM(C44:N44)>=10)),0.85),2),\"-\")","v":"-"}]
[41,{"$f":"ImportData!$B$10+7*QUOTIENT(A45,24*60*7/ImportData!$B$8)+MOD(1+QUOTIENT(A45,24*60/ImportData!$B$8)-ImportData!$E$10,7)+TIME(0,ImportData!$B$8*A45,0)","v":"2023-10-03T17:00:00"},0,0,0,0,0,0,0,0,0,0,0,0,0,0,0,0,0,0,0,0,0,0,0,0,0,0,0,0,0,0,0,0,0,0,0,0,"-",{"$f":"IFERROR(ROUND(PERCENTILE(_xlfn._xlws.FILTER(Data_Table[Speed],(Data_Table[Direction]=ImportData!Direction_1)*(Data_Table[Period]=$B45)*(SUM(C45:N45)>=10)),0.85),2),\"-\")","v":"-"}]
[42,{"$f":"ImportData!$B$10+7*QUOTIENT(A46,24*60*7/ImportData!$B$8)+MOD(1+QUOTIENT(A46,24*60/ImportData!$B$8)-ImportData!$E$10,7)+TIME(0,ImportData!$B$8*A46,0)","v":"2023-10-03T18:00:00"},0,0,0,0,0,0,0,0,0,0,0,0,0,0,0,0,0,0,0,0,0,0,0,0,0,0,0,0,0,0,0,0,0,0,0,0,"-",{"$f":"IFERROR(ROUND(PERCENTILE(_xlfn._xlws.FILTER(Data_Table[Speed],(Data_Table[Direction]=ImportData!Direction_1)*(Data_Table[Period]=$B46)*(SUM(C46:N46)>=10)),0.85),2),\"-\")","v":"-"}]
[43,{"$f":"ImportData!$B$10+7*QUOTIENT(A47,24*60*7/ImportData!$B$8)+MOD(1+QUOTIENT(A47,24*60/ImportData!$B$8)-ImportData!$E$10,7)+TIME(0,ImportData!$B$8*A47,0)","v":"2023-10-03T19:00:00"},0,0,0,0,0,0,0,0,0,0,0,0,0,0,0,0,0,0,0,0,0,0,0,0,0,0,0,0,0,0,0,0,0,0,0,0,"-",{"$f":"IFERROR(ROUND(PERCENTILE(_xlfn._xlws.FILTER(Data_Table[Speed],(Data_Table[Direction]=ImportData!Direction_1)*(Data_Table[Period]=$B47)*(SUM(C47:N47)>=10)),0.85),2),\"-\")","v":"-"}]
[44,{"$f":"ImportData!$B$10+7*QUOTIENT(A48,24*60*7/ImportData!$B$8)+MOD(1+QUOTIENT(A48,24*60/ImportData!$B$8)-ImportData!$E$10,7)+TIME(0,ImportData!$B$8*A48,0)","v":"2023-10-03T20:00:00"},0,0,0,0,0,0,0,0,0,0,0,0,0,0,0,0,0,0,0,0,0,0,0,0,0,0,0,0,0,0,0,0,0,0,0,0,"-",{"$f":"IFERROR(ROUND(PERCENTILE(_xlfn._xlws.FILTER(Data_Table[Speed],(Data_Table[Direction]=ImportData!Direction_1)*(Data_Table[Period]=$B48)*(SUM(C48:N48)>=10)),0.85),2),\"-\")","v":"-"}]
[45,{"$f":"ImportData!$B$10+7*QUOTIENT(A49,24*60*7/ImportData!$B$8)+MOD(1+QUOTIENT(A49,24*60/ImportData!$B$8)-ImportData!$E$10,7)+TIME(0,ImportData!$B$8*A49,0)","v":"2023-10-03T21:00:00"},0,0,0,0,0,0,0,0,0,0,0,0,0,0,0,0,0,0,0,0,0,0,0,0,0,0,0,0,0,0,0,0,0,0,0,0,"-",{"$f":"IFERROR(ROUND(PERCENTILE(_xlfn._xlws.FILTER(Data_Table[Speed],(Data_Table[Direction]=ImportData!Direction_1)*(Data_Table[Period]=$B49)*(SUM(C49:N49)>=10)),0.85),2),\"-\")","v":"-"}]
[46,{"$f":"ImportData!$B$10+7*QUOTIENT(A50,24*60*7/ImportData!$B$8)+MOD(1+QUOTIENT(A50,24*60/ImportData!$B$8)-ImportData!$E$10,7)+TIME(0,ImportData!$B$8*A50,0)","v":"2023-10-03T22:00:00"},0,0,0,0,0,0,0,0,0,0,0,0,0,0,0,0,0,0,0,0,0,0,0,0,0,0,0,0,0,0,0,0,0,0,0,0,"-",{"$f":"IFERROR(ROUND(PERCENTILE(_xlfn._xlws.FILTER(Data_Table[Speed],(Data_Table[Direction]=ImportData!Direction_1)*(Data_Table[Period]=$B50)*(SUM(C50:N50)>=10)),0.85),2),\"-\")","v":"-"}]
[47,{"$f":"ImportData!$B$10+7*QUOTIENT(A51,24*60*7/ImportData!$B$8)+MOD(1+QUOTIENT(A51,24*60/ImportData!$B$8)-ImportData!$E$10,7)+TIME(0,ImportData!$B$8*A51,0)","v":"2023-10-03T23:00:00"},0,0,0,0,0,0,0,0,0,0,0,0,0,0,0,0,0,0,0,0,0,0,0,0,0,0,0,0,0,0,0,0,0,0,0,0,"-",{"$f":"IFERROR(ROUND(PERCENTILE(_xlfn._xlws.FILTER(Data_Table[Speed],(Data_Table[Direction]=ImportData!Direction_1)*(Data_Table[Period]=$B51)*(SUM(C51:N51)>=10)),0.85),2),\"-\")","v":"-"}]
[48,{"$f":"ImportData!$B$10+7*QUOTIENT(A52,24*60*7/ImportData!$B$8)+MOD(1+QUOTIENT(A52,24*60/ImportData!$B$8)-ImportData!$E$10,7)+TIME(0,ImportData!$B$8*A52,0)","v":"2023-10-04"},0,0,0,0,0,0,0,0,0,0,0,0,0,0,0,0,0,0,0,0,0,0,0,0,0,0,0,0,0,0,0,0,0,0,0,0,"-",{"$f":"IFERROR(ROUND(PERCENTILE(_xlfn._xlws.FILTER(Data_Table[Speed],(Data_Table[Direction]=ImportData!Direction_1)*(Data_Table[Period]=$B52)*(SUM(C52:N52)>=10)),0.85),2),\"-\")","v":"-"}]
[49,{"$f":"ImportData!$B$10+7*QUOTIENT(A53,24*60*7/ImportData!$B$8)+MOD(1+QUOTIENT(A53,24*60/ImportData!$B$8)-ImportData!$E$10,7)+TIME(0,ImportData!$B$8*A53,0)","v":"2023-10-04T01:00:00"},0,0,0,0,0,0,0,0,0,0,0,0,0,0,0,0,0,0,0,0,0,0,0,0,0,0,0,0,0,0,0,0,0,0,0,0,"-",{"$f":"IFERROR(ROUND(PERCENTILE(_xlfn._xlws.FILTER(Data_Table[Speed],(Data_Table[Direction]=ImportData!Direction_1)*(Data_Table[Period]=$B53)*(SUM(C53:N53)>=10)),0.85),2),\"-\")","v":"-"}]
[50,{"$f":"ImportData!$B$10+7*QUOTIENT(A54,24*60*7/ImportData!$B$8)+MOD(1+QUOTIENT(A54,24*60/ImportData!$B$8)-ImportData!$E$10,7)+TIME(0,ImportData!$B$8*A54,0)","v":"2023-10-04T02:00:00"},0,0,0,0,0,0,0,0,0,0,0,0,0,0,0,0,0,0,0,0,0,0,0,0,0,0,0,0,0,0,0,0,0,0,0,0,"-",{"$f":"IFERROR(ROUND(PERCENTILE(_xlfn._xlws.FILTER(Data_Table[Speed],(Data_Table[Direction]=ImportData!Direction_1)*(Data_Table[Period]=$B54)*(SUM(C54:N54)>=10)),0.85),2),\"-\")","v":"-"}]
[51,{"$f":"ImportData!$B$10+7*QUOTIENT(A55,24*60*7/ImportData!$B$8)+MOD(1+QUOTIENT(A55,24*60/ImportData!$B$8)-ImportData!$E$10,7)+TIME(0,ImportData!$B$8*A55,0)","v":"2023-10-04T03:00:00"},0,0,0,0,0,0,0,0,0,0,0,0,0,0,0,0,0,0,0,0,0,0,0,0,0,0,0,0,0,0,0,0,0,0,0,0,"-",{"$f":"IFERROR(ROUND(PERCENTILE(_xlfn._xlws.FILTER(Data_Table[Speed],(Data_Table[Direction]=ImportData!Direction_1)*(Data_Table[Period]=$B55)*(SUM(C55:N55)>=10)),0.85),2),\"-\")","v":"-"}]
[52,{"$f":"ImportData!$B$10+7*QUOTIENT(A56,24*60*7/ImportData!$B$8)+MOD(1+QUOTIENT(A56,24*60/ImportData!$B$8)-ImportData!$E$10,7)+TIME(0,ImportData!$B$8*A56,0)","v":"2023-10-04T04:00:00"},0,0,0,0,0,0,0,0,0,0,0,0,0,0,0,0,0,0,0,0,0,0,0,0,0,0,0,0,0,0,0,0,0,0,0,0,"-",{"$f":"IFERROR(ROUND(PERCENTILE(_xlfn._xlws.FILTER(Data_Table[Speed],(Data_Table[Direction]=ImportData!Direction_1)*(Data_Table[Period]=$B56)*(SUM(C56:N56)>=10)),0.85),2),\"-\")","v":"-"}]
[53,{"$f":"ImportData!$B$10+7*QUOTIENT(A57,24*60*7/ImportData!$B$8)+MOD(1+QUOTIENT(A57,24*60/ImportData!$B$8)-ImportData!$E$10,7)+TIME(0,ImportData!$B$8*A57,0)","v":"2023-10-04T05:00:00"},0,0,0,0,0,0,0,0,0,0,0,0,0,0,0,0,0,0,0,0,0,0,0,0,0,0,0,0,0,0,0,0,0,0,0,0,"-",{"$f":"IFERROR(ROUND(PERCENTILE(_xlfn._xlws.FILTER(Data_Table[Speed],(Data_Table[Direction]=ImportData!Direction_1)*(Data_Table[Period]=$B57)*(SUM(C57:N57)>=10)),0.85),2),\"-\")","v":"-"}]
[54,{"$f":"ImportData!$B$10+7*QUOTIENT(A58,24*60*7/ImportData!$B$8)+MOD(1+QUOTIENT(A58,24*60/ImportData!$B$8)-ImportData!$E$10,7)+TIME(0,ImportData!$B$8*A58,0)","v":"2023-10-04T06:00:00"},0,0,0,0,0,0,0,0,0,0,0,0,0,0,0,0,0,0,0,0,0,0,0,0,0,0,0,0,0,0,0,0,0,0,0,0,"-",{"$f":"IFERROR(ROUND(PERCENTILE(_xlfn._xlws.FILTER(Data_Table[Speed],(Data_Table[Direction]=ImportData!Direction_1)*(Data_Table[Period]=$B58)*(SUM(C58:N58)>=10)),0.85),2),\"-\")","v":"-"}]
[55,{"$f":"ImportData!$B$10+7*QUOTIENT(A59,24*60*7/ImportData!$B$8)+MOD(1+QUOTIENT(A59,24*60/ImportData!$B$8)-ImportData!$E$10,7)+TIME(0,ImportData!$B$8*A59,0)","v":"2023-10-04T07:00:00"},0,0,0,0,0,0,0,0,0,0,0,0,0,0,0,0,0,0,0,0,0,0,0,0,0,0,0,0,0,0,0,0,0,0,0,0,"-",{"$f":"IFERROR(ROUND(PERCENTILE(_xlfn._xlws.FILTER(Data_Table[Speed],(Data_Table[Direction]=ImportData!Direction_1)*(Data_Table[Period]=$B59)*(SUM(C59:N59)>=10)),0.85),2),\"-\")","v":"-"}]
[56,{"$f":"ImportData!$B$10+7*QUOTIENT(A60,24*60*7/ImportData!$B$8)+MOD(1+QUOTIENT(A60,24*60/ImportData!$B$8)-ImportData!$E$10,7)+TIME(0,ImportData!$B$8*A60,0)","v":"2023-10-04T08:00:00"},0,0,0,0,0,0,0,0,0,0,0,0,0,0,0,0,0,0,0,0,0,0,0,0,0,0,0,0,0,0,0,0,0,0,0,0,"-",{"$f":"IFERROR(ROUND(PERCENTILE(_xlfn._xlws.FILTER(Data_Table[Speed],(Data_Table[Direction]=ImportData!Direction_1)*(Data_Table[Period]=$B60)*(SUM(C60:N60)>=10)),0.85),2),\"-\")","v":"-"}]
[57,{"$f":"ImportData!$B$10+7*QUOTIENT(A61,24*60*7/ImportData!$B$8)+MOD(1+QUOTIENT(A61,24*60/ImportData!$B$8)-ImportData!$E$10,7)+TIME(0,ImportData!$B$8*A61,0)","v":"2023-10-04T09:00:00"},0,0,0,0,0,0,0,0,0,0,0,0,0,0,0,0,0,0,0,0,0,0,0,0,0,0,0,0,0,0,0,0,0,0,0,0,"-",{"$f":"IFERROR(ROUND(PERCENTILE(_xlfn._xlws.FILTER(Data_Table[Speed],(Data_Table[Direction]=ImportData!Direction_1)*(Data_Table[Period]=$B61)*(SUM(C61:N61)>=10)),0.85),2),\"-\")","v":"-"}]
[58,{"$f":"ImportData!$B$10+7*QUOTIENT(A62,24*60*7/ImportData!$B$8)+MOD(1+QUOTIENT(A62,24*60/ImportData!$B$8)-ImportData!$E$10,7)+TIME(0,ImportData!$B$8*A62,0)","v":"2023-10-04T10:00:00"},0,0,0,0,0,0,0,0,0,0,0,0,0,0,0,0,0,0,0,0,0,0,0,0,0,0,0,0,0,0,0,0,0,0,0,0,"-",{"$f":"IFERROR(ROUND(PERCENTILE(_xlfn._xlws.FILTER(Data_Table[Speed],(Data_Table[Direction]=ImportData!Direction_1)*(Data_Table[Period]=$B62)*(SUM(C62:N62)>=10)),0.85),2),\"-\")","v":"-"}]
[59,{"$f":"ImportData!$B$10+7*QUOTIENT(A63,24*60*7/ImportData!$B$8)+MOD(1+QUOTIENT(A63,24*60/ImportData!$B$8)-ImportData!$E$10,7)+TIME(0,ImportData!$B$8*A63,0)","v":"2023-10-04T11:00:00"},0,0,0,0,0,0,0,0,0,0,0,0,0,0,0,0,0,0,0,0,0,0,0,0,0,0,0,0,0,0,0,0,0,0,0,0,"-",{"$f":"IFERROR(ROUND(PERCENTILE(_xlfn._xlws.FILTER(Data_Table[Speed],(Data_Table[Direction]=ImportData!Direction_1)*(Data_Table[Period]=$B63)*(SUM(C63:N63)>=10)),0.85),2),\"-\")","v":"-"}]
[60,{"$f":"ImportData!$B$10+7*QUOTIENT(A64,24*60*7/ImportData!$B$8)+MOD(1+QUOTIENT(A64,24*60/ImportData!$B$8)-ImportData!$E$10,7)+TIME(0,ImportData!$B$8*A64,0)","v":"2023-10-04T12:00:00"},0,0,0,0,0,0,0,0,0,0,0,0,0,0,0,0,0,0,0,0,0,0,0,0,0,0,0,0,0,0,0,0,0,0,0,0,"-",{"$f":"IFERROR(ROUND(PERCENTILE(_xlfn._xlws.FILTER(Data_Table[Speed],(Data_Table[Direction]=ImportData!Direction_1)*(Data_Table[Period]=$B64)*(SUM(C64:N64)>=10)),0.85),2),\"-\")","v":"-"}]
[61,{"$f":"ImportData!$B$10+7*QUOTIENT(A65,24*60*7/ImportData!$B$8)+MOD(1+QUOTIENT(A65,24*60/ImportData!$B$8)-ImportData!$E$10,7)+TIME(0,ImportData!$B$8*A65,0)","v":"2023-10-04T13:00:00"},0,0,0,0,0,0,0,0,0,0,0,0,0,0,0,0,0,0,0,0,0,0,0,0,0,0,0,0,0,0,0,0,0,0,0,0,"-",{"$f":"IFERROR(ROUND(PERCENTILE(_xlfn._xlws.FILTER(Data_Table[Speed],(Data_Table[Direction]=ImportData!Direction_1)*(Data_Table[Period]=$B65)*(SUM(C65:N65)>=10)),0.85),2),\"-\")","v":"-"}]
[62,{"$f":"ImportData!$B$10+7*QUOTIENT(A66,24*60*7/ImportData!$B$8)+MOD(1+QUOTIENT(A66,24*60/ImportData!$B$8)-ImportData!$E$10,7)+TIME(0,ImportData!$B$8*A66,0)","v":"2023-10-04T14:00:00"},0,0,0,0,0,0,0,0,0,0,0,0,0,0,0,0,0,0,0,0,0,0,0,0,0,0,0,0,0,0,0,0,0,0,0,0,"-",{"$f":"IFERROR(ROUND(PERCENTILE(_xlfn._xlws.FILTER(Data_Table[Speed],(Data_Table[Direction]=ImportData!Direction_1)*(Data_Table[Period]=$B66)*(SUM(C66:N66)>=10)),0.85),2),\"-\")","v":"-"}]
[63,{"$f":"ImportData!$B$10+7*QUOTIENT(A67,24*60*7/ImportData!$B$8)+MOD(1+QUOTIENT(A67,24*60/ImportData!$B$8)-ImportData!$E$10,7)+TIME(0,ImportData!$B$8*A67,0)","v":"2023-10-04T15:00:00"},0,0,0,0,0,0,0,0,0,0,0,0,0,0,0,0,0,0,0,0,0,0,0,0,0,0,0,0,0,0,0,0,0,0,0,0,"-",{"$f":"IFERROR(ROUND(PERCENTILE(_xlfn._xlws.FILTER(Data_Table[Speed],(Data_Table[Direction]=ImportData!Direction_1)*(Data_Table[Period]=$B67)*(SUM(C67:N67)>=10)),0.85),2),\"-\")","v":"-"}]
[64,{"$f":"ImportData!$B$10+7*QUOTIENT(A68,24*60*7/ImportData!$B$8)+MOD(1+QUOTIENT(A68,24*60/ImportData!$B$8)-ImportData!$E$10,7)+TIME(0,ImportData!$B$8*A68,0)","v":"2023-10-04T16:00:00"},0,0,0,0,0,0,0,0,0,0,0,0,0,0,0,0,0,0,0,0,0,0,0,0,0,0,0,0,0,0,0,0,0,0,0,0,"-",{"$f":"IFERROR(ROUND(PERCENTILE(_xlfn._xlws.FILTER(Data_Table[Speed],(Data_Table[Direction]=ImportData!Direction_1)*(Data_Table[Period]=$B68)*(SUM(C68:N68)>=10)),0.85),2),\"-\")","v":"-"}]
[65,{"$f":"ImportData!$B$10+7*QUOTIENT(A69,24*60*7/ImportData!$B$8)+MOD(1+QUOTIENT(A69,24*60/ImportData!$B$8)-ImportData!$E$10,7)+TIME(0,ImportData!$B$8*A69,0)","v":"2023-10-04T17:00:00"},0,0,0,0,0,0,0,0,0,0,0,0,0,0,0,0,0,0,0,0,0,0,0,0,0,0,0,0,0,0,0,0,0,0,0,0,"-",{"$f":"IFERROR(ROUND(PERCENTILE(_xlfn._xlws.FILTER(Data_Table[Speed],(Data_Table[Direction]=ImportData!Direction_1)*(Data_Table[Period]=$B69)*(SUM(C69:N69)>=10)),0.85),2),\"-\")","v":"-"}]
[66,{"$f":"ImportData!$B$10+7*QUOTIENT(A70,24*60*7/ImportData!$B$8)+MOD(1+QUOTIENT(A70,24*60/ImportData!$B$8)-ImportData!$E$10,7)+TIME(0,ImportData!$B$8*A70,0)","v":"2023-10-04T18:00:00"},0,0,0,0,0,0,0,0,0,0,0,0,0,0,0,0,0,0,0,0,0,0,0,0,0,0,0,0,0,0,0,0,0,0,0,0,"-",{"$f":"IFERROR(ROUND(PERCENTILE(_xlfn._xlws.FILTER(Data_Table[Speed],(Data_Table[Direction]=ImportData!Direction_1)*(Data_Table[Period]=$B70)*(SUM(C70:N70)>=10)),0.85),2),\"-\")","v":"-"}]
[67,{"$f":"ImportData!$B$10+7*QUOTIENT(A71,24*60*7/ImportData!$B$8)+MOD(1+QUOTIENT(A71,24*60/ImportData!$B$8)-ImportData!$E$10,7)+TIME(0,ImportData!$B$8*A71,0)","v":"2023-10-04T19:00:00"},0,0,0,0,0,0,0,0,0,0,0,0,0,0,0,0,0,0,0,0,0,0,0,0,0,0,0,0,0,0,0,0,0,0,0,0,"-",{"$f":"IFERROR(ROUND(PERCENTILE(_xlfn._xlws.FILTER(Data_Table[Speed],(Data_Table[Direction]=ImportData!Direction_1)*(Data_Table[Period]=$B71)*(SUM(C71:N71)>=10)),0.85),2),\"-\")","v":"-"}]
[68,{"$f":"ImportData!$B$10+7*QUOTIENT(A72,24*60*7/ImportData!$B$8)+MOD(1+QUOTIENT(A72,24*60/ImportData!$B$8)-ImportData!$E$10,7)+TIME(0,ImportData!$B$8*A72,0)","v":"2023-10-04T20:00:00"},0,0,0,0,0,0,0,0,0,0,0,0,0,0,0,0,0,0,0,0,0,0,0,0,0,0,0,0,0,0,0,0,0,0,0,0,"-",{"$f":"IFERROR(ROUND(PERCENTILE(_xlfn._xlws.FILTER(Data_Table[Speed],(Data_Table[Direction]=ImportData!Direction_1)*(Data_Table[Period]=$B72)*(SUM(C72:N72)>=10)),0.85),2),\"-\")","v":"-"}]
[69,{"$f":"ImportData!$B$10+7*QUOTIENT(A73,24*60*7/ImportData!$B$8)+MOD(1+QUOTIENT(A73,24*60/ImportData!$B$8)-ImportData!$E$10,7)+TIME(0,ImportData!$B$8*A73,0)","v":"2023-10-04T21:00:00"},0,0,0,0,0,0,0,0,0,0,0,0,0,0,0,0,0,0,0,0,0,0,0,0,0,0,0,0,0,0,0,0,0,0,0,0,"-",{"$f":"IFERROR(ROUND(PERCENTILE(_xlfn._xlws.FILTER(Data_Table[Speed],(Data_Table[Direction]=ImportData!Direction_1)*(Data_Table[Period]=$B73)*(SUM(C73:N73)>=10)),0.85),2),\"-\")","v":"-"}]
[70,{"$f":"ImportData!$B$10+7*QUOTIENT(A74,24*60*7/ImportData!$B$8)+MOD(1+QUOTIENT(A74,24*60/ImportData!$B$8)-ImportData!$E$10,7)+TIME(0,ImportData!$B$8*A74,0)","v":"2023-10-04T22:00:00"},0,0,0,0,0,0,0,0,0,0,0,0,0,0,0,0,0,0,0,0,0,0,0,0,0,0,0,0,0,0,0,0,0,0,0,0,"-",{"$f":"IFERROR(ROUND(PERCENTILE(_xlfn._xlws.FILTER(Data_Table[Speed],(Data_Table[Direction]=ImportData!Direction_1)*(Data_Table[Period]=$B74)*(SUM(C74:N74)>=10)),0.85),2),\"-\")","v":"-"}]
[71,{"$f":"ImportData!$B$10+7*QUOTIENT(A75,24*60*7/ImportData!$B$8)+MOD(1+QUOTIENT(A75,24*60/ImportData!$B$8)-ImportData!$E$10,7)+TIME(0,ImportData!$B$8*A75,0)","v":"2023-10-04T23:00:00"},0,0,0,0,0,0,0,0,0,0,0,0,0,0,0,0,0,0,0,0,0,0,0,0,0,0,0,0,0,0,0,0,0,0,0,0,"-",{"$f":"IFERROR(ROUND(PERCENTILE(_xlfn._xlws.FILTER(Data_Table[Speed],(Data_Table[Direction]=ImportData!Direction_1)*(Data_Table[Period]=$B75)*(SUM(C75:N75)>=10)),0.85),2),\"-\")","v":"-"}]
[72,{"$f":"ImportData!$B$10+7*QUOTIENT(A76,24*60*7/ImportData!$B$8)+MOD(1+QUOTIENT(A76,24*60/ImportData!$B$8)-ImportData!$E$10,7)+TIME(0,ImportData!$B$8*A76,0)","v":"2023-09-28"},0,0,0,0,0,0,0,0,0,0,0,0,0,0,0,0,0,0,0,0,0,0,0,0,0,0,0,0,0,0,0,0,0,0,0,0,"-",{"$f":"IFERROR(ROUND(PERCENTILE(_xlfn._xlws.FILTER(Data_Table[Speed],(Data_Table[Direction]=ImportData!Direction_1)*(Data_Table[Period]=$B76)*(SUM(C76:N76)>=10)),0.85),2),\"-\")","v":"-"}]
[73,{"$f":"ImportData!$B$10+7*QUOTIENT(A77,24*60*7/ImportData!$B$8)+MOD(1+QUOTIENT(A77,24*60/ImportData!$B$8)-ImportData!$E$10,7)+TIME(0,ImportData!$B$8*A77,0)","v":"2023-09-28T01:00:00"},0,0,0,0,0,0,0,0,0,0,0,0,0,0,0,0,0,0,0,0,0,0,0,0,0,0,0,0,0,0,0,0,0,0,0,0,"-",{"$f":"IFERROR(ROUND(PERCENTILE(_xlfn._xlws.FILTER(Data_Table[Speed],(Data_Table[Direction]=ImportData!Direction_1)*(Data_Table[Period]=$B77)*(SUM(C77:N77)>=10)),0.85),2),\"-\")","v":"-"}]
[74,{"$f":"ImportData!$B$10+7*QUOTIENT(A78,24*60*7/ImportData!$B$8)+MOD(1+QUOTIENT(A78,24*60/ImportData!$B$8)-ImportData!$E$10,7)+TIME(0,ImportData!$B$8*A78,0)","v":"2023-09-28T02:00:00"},0,0,0,0,0,0,0,0,0,0,0,0,0,0,0,0,0,0,0,0,0,0,0,0,0,0,0,0,0,0,0,0,0,0,0,0,"-",{"$f":"IFERROR(ROUND(PERCENTILE(_xlfn._xlws.FILTER(Data_Table[Speed],(Data_Table[Direction]=ImportData!Direction_1)*(Data_Table[Period]=$B78)*(SUM(C78:N78)>=10)),0.85),2),\"-\")","v":"-"}]
[75,{"$f":"ImportData!$B$10+7*QUOTIENT(A79,24*60*7/ImportData!$B$8)+MOD(1+QUOTIENT(A79,24*60/ImportData!$B$8)-ImportData!$E$10,7)+TIME(0,ImportData!$B$8*A79,0)","v":"2023-09-28T03:00:00"},0,0,0,0,0,0,0,0,0,0,0,0,0,0,0,0,0,0,0,0,0,0,0,0,0,0,0,0,0,0,0,0,0,0,0,0,"-",{"$f":"IFERROR(ROUND(PERCENTILE(_xlfn._xlws.FILTER(Data_Table[Speed],(Data_Table[Direction]=ImportData!Direction_1)*(Data_Table[Period]=$B79)*(SUM(C79:N79)>=10)),0.85),2),\"-\")","v":"-"}]
[76,{"$f":"ImportData!$B$10+7*QUOTIENT(A80,24*60*7/ImportData!$B$8)+MOD(1+QUOTIENT(A80,24*60/ImportData!$B$8)-ImportData!$E$10,7)+TIME(0,ImportData!$B$8*A80,0)","v":"2023-09-28T04:00:00"},0,0,0,0,0,0,0,0,0,0,0,0,0,0,0,0,0,0,0,0,0,0,0,0,0,0,0,0,0,0,0,0,0,0,0,0,"-",{"$f":"IFERROR(ROUND(PERCENTILE(_xlfn._xlws.FILTER(Data_Table[Speed],(Data_Table[Direction]=ImportData!Direction_1)*(Data_Table[Period]=$B80)*(SUM(C80:N80)>=10)),0.85),2),\"-\")","v":"-"}]
[77,{"$f":"ImportData!$B$10+7*QUOTIENT(A81,24*60*7/ImportData!$B$8)+MOD(1+QUOTIENT(A81,24*60/ImportData!$B$8)-ImportData!$E$10,7)+TIME(0,ImportData!$B$8*A81,0)","v":"2023-09-28T05:00:00"},0,0,0,0,0,0,0,0,0,0,0,0,0,0,0,0,0,0,0,0,0,0,0,0,0,0,0,0,0,0,0,0,0,0,0,0,"-",{"$f":"IFERROR(ROUND(PERCENTILE(_xlfn._xlws.FILTER(Data_Table[Speed],(Data_Table[Direction]=ImportData!Direction_1)*(Data_Table[Period]=$B81)*(SUM(C81:N81)>=10)),0.85),2),\"-\")","v":"-"}]
[78,{"$f":"ImportData!$B$10+7*QUOTIENT(A82,24*60*7/ImportData!$B$8)+MOD(1+QUOTIENT(A82,24*60/ImportData!$B$8)-ImportData!$E$10,7)+TIME(0,ImportData!$B$8*A82,0)","v":"2023-09-28T06:00:00"},0,0,0,0,0,0,0,0,0,0,0,0,0,0,0,0,0,0,0,0,0,0,0,0,0,0,0,0,0,0,0,0,0,0,0,0,"-",{"$f":"IFERROR(ROUND(PERCENTILE(_xlfn._xlws.FILTER(Data_Table[Speed],(Data_Table[Direction]=ImportData!Direction_1)*(Data_Table[Period]=$B82)*(SUM(C82:N82)>=10)),0.85),2),\"-\")","v":"-"}]
[79,{"$f":"ImportData!$B$10+7*QUOTIENT(A83,24*60*7/ImportData!$B$8)+MOD(1+QUOTIENT(A83,24*60/ImportData!$B$8)-ImportData!$E$10,7)+TIME(0,ImportData!$B$8*A83,0)","v":"2023-09-28T07:00:00"},0,0,0,0,0,0,0,0,0,0,0,0,0,0,0,0,0,0,0,0,0,0,0,0,0,0,0,0,0,0,0,0,0,0,0,0,"-",{"$f":"IFERROR(ROUND(PERCENTILE(_xlfn._xlws.FILTER(Data_Table[Speed],(Data_Table[Direction]=ImportData!Direction_1)*(Data_Table[Period]=$B83)*(SUM(C83:N83)>=10)),0.85),2),\"-\")","v":"-"}]
[80,{"$f":"ImportData!$B$10+7*QUOTIENT(A84,24*60*7/ImportData!$B$8)+MOD(1+QUOTIENT(A84,24*60/ImportData!$B$8)-ImportData!$E$10,7)+TIME(0,ImportData!$B$8*A84,0)","v":"2023-09-28T08:00:00"},0,0,0,0,0,0,0,0,0,0,0,0,0,0,0,0,0,0,0,0,0,0,0,0,0,0,0,0,0,0,0,0,0,0,0,0,"-",{"$f":"IFERROR(ROUND(PERCENTILE(_xlfn._xlws.FILTER(Data_Table[Speed],(Data_Table[Direction]=ImportData!Direction_1)*(Data_Table[Period]=$B84)*(SUM(C84:N84)>=10)),0.85),2),\"-\")","v":"-"}]
[81,{"$f":"ImportData!$B$10+7*QUOTIENT(A85,24*60*7/ImportData!$B$8)+MOD(1+QUOTIENT(A85,24*60/ImportData!$B$8)-ImportData!$E$10,7)+TIME(0,ImportData!$B$8*A85,0)","v":"2023-09-28T09:00:00"},0,0,0,0,0,0,0,0,0,0,0,0,0,0,0,0,0,0,0,0,0,0,0,0,0,0,0,0,0,0,0,0,0,0,0,0,"-",{"$f":"IFERROR(ROUND(PERCENTILE(_xlfn._xlws.FILTER(Data_Table[Speed],(Data_Table[Direction]=ImportData!Direction_1)*(Data_Table[Period]=$B85)*(SUM(C85:N85)>=10)),0.85),2),\"-\")","v":"-"}]
[82,{"$f":"ImportData!$B$10+7*QUOTIENT(A86,24*60*7/ImportData!$B$8)+MOD(1+QUOTIENT(A86,24*60/ImportData!$B$8)-ImportData!$E$10,7)+TIME(0,ImportData!$B$8*A86,0)","v":"2023-09-28T10:00:00"},0,0,0,0,0,0,0,0,0,0,0,0,0,0,0,0,0,0,0,0,0,0,0,0,0,0,0,0,0,0,0,0,0,0,0,0,"-",{"$f":"IFERROR(ROUND(PERCENTILE(_xlfn._xlws.FILTER(Data_Table[Speed],(Data_Table[Direction]=ImportData!Direction_1)*(Data_Table[Period]=$B86)*(SUM(C86:N86)>=10)),0.85),2),\"-\")","v":"-"}]
[83,{"$f":"ImportData!$B$10+7*QUOTIENT(A87,24*60*7/ImportData!$B$8)+MOD(1+QUOTIENT(A87,24*60/ImportData!$B$8)-ImportData!$E$10,7)+TIME(0,ImportData!$B$8*A87,0)","v":"2023-09-28T11:00:00"},0,0,0,0,0,0,0,0,0,0,0,0,0,0,0,0,0,0,0,0,0,0,0,0,0,0,0,0,0,0,0,0,0,0,0,0,"-",{"$f":"IFERROR(ROUND(PERCENTILE(_xlfn._xlws.FILTER(Data_Table[Speed],(Data_Table[Direction]=ImportData!Direction_1)*(Data_Table[Period]=$B87)*(SUM(C87:N87)>=10)),0.85),2),\"-\")","v":"-"}]
[84,{"$f":"ImportData!$B$10+7*QUOTIENT(A88,24*60*7/ImportData!$B$8)+MOD(1+QUOTIENT(A88,24*60/ImportData!$B$8)-ImportData!$E$10,7)+TIME(0,ImportData!$B$8*A88,0)","v":"2023-09-28T12:00:00"},0,0,0,0,0,0,0,0,0,0,0,0,0,0,0,0,0,0,0,0,0,0,0,0,0,0,0,0,0,0,0,0,0,0,0,0,"-",{"$f":"IFERROR(ROUND(PERCENTILE(_xlfn._xlws.FILTER(Data_Table[Speed],(Data_Table[Direction]=ImportData!Direction_1)*(Data_Table[Period]=$B88)*(SUM(C88:N88)>=10)),0.85),2),\"-\")","v":"-"}]
[85,{"$f":"ImportData!$B$10+7*QUOTIENT(A89,24*60*7/ImportData!$B$8)+MOD(1+QUOTIENT(A89,24*60/ImportData!$B$8)-ImportData!$E$10,7)+TIME(0,ImportData!$B$8*A89,0)","v":"2023-09-28T13:00:00"},0,0,0,0,0,0,0,0,0,0,0,0,0,0,0,0,0,0,0,0,0,0,0,0,0,0,0,0,0,0,0,0,0,0,0,0,"-",{"$f":"IFERROR(ROUND(PERCENTILE(_xlfn._xlws.FILTER(Data_Table[Speed],(Data_Table[Direction]=ImportData!Direction_1)*(Data_Table[Period]=$B89)*(SUM(C89:N89)>=10)),0.85),2),\"-\")","v":"-"}]
[86,{"$f":"ImportData!$B$10+7*QUOTIENT(A90,24*60*7/ImportData!$B$8)+MOD(1+QUOTIENT(A90,24*60/ImportData!$B$8)-ImportData!$E$10,7)+TIME(0,ImportData!$B$8*A90,0)","v":"2023-09-28T14:00:00"},0,0,0,0,0,0,0,0,0,0,0,0,0,0,0,0,0,0,0,0,0,0,0,0,0,0,0,0,0,0,0,0,0,0,0,0,"-",{"$f":"IFERROR(ROUND(PERCENTILE(_xlfn._xlws.FILTER(Data_Table[Speed],(Data_Table[Direction]=ImportData!Direction_1)*(Data_Table[Period]=$B90)*(SUM(C90:N90)>=10)),0.85),2),\"-\")","v":"-"}]
[87,{"$f":"ImportData!$B$10+7*QUOTIENT(A91,24*60*7/ImportData!$B$8)+MOD(1+QUOTIENT(A91,24*60/ImportData!$B$8)-ImportData!$E$10,7)+TIME(0,ImportData!$B$8*A91,0)","v":"2023-09-28T15:00:00"},0,0,0,0,0,0,0,0,0,0,0,0,0,0,0,0,0,0,0,0,0,0,0,0,0,0,0,0,0,0,0,0,0,0,0,0,"-",{"$f":"IFERROR(ROUND(PERCENTILE(_xlfn._xlws.FILTER(Data_Table[Speed],(Data_Table[Direction]=ImportData!Direction_1)*(Data_Table[Period]=$B91)*(SUM(C91:N91)>=10)),0.85),2),\"-\")","v":"-"}]
[88,{"$f":"ImportData!$B$10+7*QUOTIENT(A92,24*60*7/ImportData!$B$8)+MOD(1+QUOTIENT(A92,24*60/ImportData!$B$8)-ImportData!$E$10,7)+TIME(0,ImportData!$B$8*A92,0)","v":"2023-09-28T16:00:00"},0,0,0,0,0,0,0,0,0,0,0,0,0,0,0,0,0,0,0,0,0,0,0,0,0,0,0,0,0,0,0,0,0,0,0,0,"-",{"$f":"IFERROR(ROUND(PERCENTILE(_xlfn._xlws.FILTER(Data_Table[Speed],(Data_Table[Direction]=ImportData!Direction_1)*(Data_Table[Period]=$B92)*(SUM(C92:N92)>=10)),0.85),2),\"-\")","v":"-"}]
[89,{"$f":"ImportData!$B$10+7*QUOTIENT(A93,24*60*7/ImportData!$B$8)+MOD(1+QUOTIENT(A93,24*60/ImportData!$B$8)-ImportData!$E$10,7)+TIME(0,ImportData!$B$8*A93,0)","v":"2023-09-28T17:00:00"},0,0,0,0,0,0,0,0,0,0,0,0,0,0,0,0,0,0,0,0,0,0,0,0,0,0,0,0,0,0,0,0,0,0,0,0,"-",{"$f":"IFERROR(ROUND(PERCENTILE(_xlfn._xlws.FILTER(Data_Table[Speed],(Data_Table[Direction]=ImportData!Direction_1)*(Data_Table[Period]=$B93)*(SUM(C93:N93)>=10)),0.85),2),\"-\")","v":"-"}]
[90,{"$f":"ImportData!$B$10+7*QUOTIENT(A94,24*60*7/ImportData!$B$8)+MOD(1+QUOTIENT(A94,24*60/ImportData!$B$8)-ImportData!$E$10,7)+TIME(0,ImportData!$B$8*A94,0)","v":"2023-09-28T18:00:00"},0,0,0,0,0,0,0,0,0,0,0,0,0,0,0,0,0,0,0,0,0,0,0,0,0,0,0,0,0,0,0,0,0,0,0,0,"-",{"$f":"IFERROR(ROUND(PERCENTILE(_xlfn._xlws.FILTER(Data_Table[Speed],(Data_Table[Direction]=ImportData!Direction_1)*(Data_Table[Period]=$B94)*(SUM(C94:N94)>=10)),0.85),2),\"-\")","v":"-"}]
[91,{"$f":"ImportData!$B$10+7*QUOTIENT(A95,24*60*7/ImportData!$B$8)+MOD(1+QUOTIENT(A95,24*60/ImportData!$B$8)-ImportData!$E$10,7)+TIME(0,ImportData!$B$8*A95,0)","v":"2023-09-28T19:00:00"},0,0,0,0,0,0,0,0,0,0,0,0,0,0,0,0,0,0,0,0,0,0,0,0,0,0,0,0,0,0,0,0,0,0,0,0,"-",{"$f":"IFERROR(ROUND(PERCENTILE(_xlfn._xlws.FILTER(Data_Table[Speed],(Data_Table[Direction]=ImportData!Direction_1)*(Data_Table[Period]=$B95)*(SUM(C95:N95)>=10)),0.85),2),\"-\")","v":"-"}]
[92,{"$f":"ImportData!$B$10+7*QUOTIENT(A96,24*60*7/ImportData!$B$8)+MOD(1+QUOTIENT(A96,24*60/ImportData!$B$8)-ImportData!$E$10,7)+TIME(0,ImportData!$B$8*A96,0)","v":"2023-09-28T20:00:00"},0,0,0,0,0,0,0,0,0,0,0,0,0,0,0,0,0,0,0,0,0,0,0,0,0,0,0,0,0,0,0,0,0,0,0,0,"-",{"$f":"IFERROR(ROUND(PERCENTILE(_xlfn._xlws.FILTER(Data_Table[Speed],(Data_Table[Direction]=ImportData!Direction_1)*(Data_Table[Period]=$B96)*(SUM(C96:N96)>=10)),0.85),2),\"-\")","v":"-"}]
[93,{"$f":"ImportData!$B$10+7*QUOTIENT(A97,24*60*7/ImportData!$B$8)+MOD(1+QUOTIENT(A97,24*60/ImportData!$B$8)-ImportData!$E$10,7)+TIME(0,ImportData!$B$8*A97,0)","v":"2023-09-28T21:00:00"},0,0,0,0,0,0,0,0,0,0,0,0,0,0,0,0,0,0,0,0,0,0,0,0,0,0,0,0,0,0,0,0,0,0,0,0,"-",{"$f":"IFERROR(ROUND(PERCENTILE(_xlfn._xlws.FILTER(Data_Table[Speed],(Data_Table[Direction]=ImportData!Direction_1)*(Data_Table[Period]=$B97)*(SUM(C97:N97)>=10)),0.85),2),\"-\")","v":"-"}]
[94,{"$f":"ImportData!$B$10+7*QUOTIENT(A98,24*60*7/ImportData!$B$8)+MOD(1+QUOTIENT(A98,24*60/ImportData!$B$8)-ImportData!$E$10,7)+TIME(0,ImportData!$B$8*A98,0)","v":"2023-09-28T22:00:00"},0,0,0,0,0,0,0,0,0,0,0,0,0,0,0,0,0,0,0,0,0,0,0,0,0,0,0,0,0,0,0,0,0,0,0,0,"-",{"$f":"IFERROR(ROUND(PERCENTILE(_xlfn._xlws.FILTER(Data_Table[Speed],(Data_Table[Direction]=ImportData!Direction_1)*(Data_Table[Period]=$B98)*(SUM(C98:N98)>=10)),0.85),2),\"-\")","v":"-"}]
[95,{"$f":"ImportData!$B$10+7*QUOTIENT(A99,24*60*7/ImportData!$B$8)+MOD(1+QUOTIENT(A99,24*60/ImportData!$B$8)-ImportData!$E$10,7)+TIME(0,ImportData!$B$8*A99,0)","v":"2023-09-28T23:00:00"},0,0,0,0,0,0,0,0,0,0,0,0,0,0,0,0,0,0,0,0,0,0,0,0,0,0,0,0,0,0,0,0,0,0,0,0,"-",{"$f":"IFERROR(ROUND(PERCENTILE(_xlfn._xlws.FILTER(Data_Table[Speed],(Data_Table[Direction]=ImportData!Direction_1)*(Data_Table[Period]=$B99)*(SUM(C99:N99)>=10)),0.85),2),\"-\")","v":"-"}]
[96,{"$f":"ImportData!$B$10+7*QUOTIENT(A100,24*60*7/ImportData!$B$8)+MOD(1+QUOTIENT(A100,24*60/ImportData!$B$8)-ImportData!$E$10,7)+TIME(0,ImportData!$B$8*A100,0)","v":"2023-09-29"},0,0,0,0,0,0,0,0,0,0,0,0,0,0,0,0,0,0,0,0,0,0,0,0,0,0,0,0,0,0,0,0,0,0,0,0,"-",{"$f":"IFERROR(ROUND(PERCENTILE(_xlfn._xlws.FILTER(Data_Table[Speed],(Data_Table[Direction]=ImportData!Direction_1)*(Data_Table[Period]=$B100)*(SUM(C100:N100)>=10)),0.85),2),\"-\")","v":"-"}]
[97,{"$f":"ImportData!$B$10+7*QUOTIENT(A101,24*60*7/ImportData!$B$8)+MOD(1+QUOTIENT(A101,24*60/ImportData!$B$8)-ImportData!$E$10,7)+TIME(0,ImportData!$B$8*A101,0)","v":"2023-09-29T01:00:00"},0,0,0,0,0,0,0,0,0,0,0,0,0,0,0,0,0,0,0,0,0,0,0,0,0,0,0,0,0,0,0,0,0,0,0,0,"-",{"$f":"IFERROR(ROUND(PERCENTILE(_xlfn._xlws.FILTER(Data_Table[Speed],(Data_Table[Direction]=ImportData!Direction_1)*(Data_Table[Period]=$B101)*(SUM(C101:N101)>=10)),0.85),2),\"-\")","v":"-"}]
[98,{"$f":"ImportData!$B$10+7*QUOTIENT(A102,24*60*7/ImportData!$B$8)+MOD(1+QUOTIENT(A102,24*60/ImportData!$B$8)-ImportData!$E$10,7)+TIME(0,ImportData!$B$8*A102,0)","v":"2023-09-29T02:00:00"},0,0,0,0,0,0,0,0,0,0,0,0,0,0,0,0,0,0,0,0,0,0,0,0,0,0,0,0,0,0,0,0,0,0,0,0,"-",{"$f":"IFERROR(ROUND(PERCENTILE(_xlfn._xlws.FILTER(Data_Table[Speed],(Data_Table[Direction]=ImportData!Direction_1)*(Data_Table[Period]=$B102)*(SUM(C102:N102)>=10)),0.85),2),\"-\")","v":"-"}]
[99,{"$f":"ImportData!$B$10+7*QUOTIENT(A103,24*60*7/ImportData!$B$8)+MOD(1+QUOTIENT(A103,24*60/ImportData!$B$8)-ImportData!$E$10,7)+TIME(0,ImportData!$B$8*A103,0)","v":"2023-09-29T03:00:00"},0,0,0,0,0,0,0,0,0,0,0,0,0,0,0,0,0,0,0,0,0,0,0,0,0,0,0,0,0,0,0,0,0,0,0,0,"-",{"$f":"IFERROR(ROUND(PERCENTILE(_xlfn._xlws.FILTER(Data_Table[Speed],(Data_Table[Direction]=ImportData!Direction_1)*(Data_Table[Period]=$B103)*(SUM(C103:N103)>=10)),0.85),2),\"-\")","v":"-"}]
[100,{"$f":"ImportData!$B$10+7*QUOTIENT(A104,24*60*7/ImportData!$B$8)+MOD(1+QUOTIENT(A104,24*60/ImportData!$B$8)-ImportData!$E$10,7)+TIME(0,ImportData!$B$8*A104,0)","v":"2023-09-29T04:00:00"},0,0,0,0,0,0,0,0,0,0,0,0,0,0,0,0,0,0,0,0,0,0,0,0,0,0,0,0,0,0,0,0,0,0,0,0,"-",{"$f":"IFERROR(ROUND(PERCENTILE(_xlfn._xlws.FILTER(Data_Table[Speed],(Data_Table[Direction]=ImportData!Direction_1)*(Data_Table[Period]=$B104)*(SUM(C104:N104)>=10)),0.85),2),\"-\")","v":"-"}]
[101,{"$f":"ImportData!$B$10+7*QUOTIENT(A105,24*60*7/ImportData!$B$8)+MOD(1+QUOTIENT(A105,24*60/ImportData!$B$8)-ImportData!$E$10,7)+TIME(0,ImportData!$B$8*A105,0)","v":"2023-09-29T05:00:00"},0,0,0,0,0,0,0,0,0,0,0,0,0,0,0,0,0,0,0,0,0,0,0,0,0,0,0,0,0,0,0,0,0,0,0,0,"-",{"$f":"IFERROR(ROUND(PERCENTILE(_xlfn._xlws.FILTER(Data_Table[Speed],(Data_Table[Direction]=ImportData!Direction_1)*(Data_Table[Period]=$B105)*(SUM(C105:N105)>=10)),0.85),2),\"-\")","v":"-"}]
[102,{"$f":"ImportData!$B$10+7*QUOTIENT(A106,24*60*7/ImportData!$B$8)+MOD(1+QUOTIENT(A106,24*60/ImportData!$B$8)-ImportData!$E$10,7)+TIME(0,ImportData!$B$8*A106,0)","v":"2023-09-29T06:00:00"},0,0,0,0,0,0,0,0,0,0,0,0,0,0,0,0,0,0,0,0,0,0,0,0,0,0,0,0,0,0,0,0,0,0,0,0,"-",{"$f":"IFERROR(ROUND(PERCENTILE(_xlfn._xlws.FILTER(Data_Table[Speed],(Data_Table[Direction]=ImportData!Direction_1)*(Data_Table[Period]=$B106)*(SUM(C106:N106)>=10)),0.85),2),\"-\")","v":"-"}]
[103,{"$f":"ImportData!$B$10+7*QUOTIENT(A107,24*60*7/ImportData!$B$8)+MOD(1+QUOTIENT(A107,24*60/ImportData!$B$8)-ImportData!$E$10,7)+TIME(0,ImportData!$B$8*A107,0)","v":"2023-09-29T07:00:00"},0,0,0,0,0,0,0,0,0,0,0,0,0,0,0,0,0,0,0,0,0,0,0,0,0,0,0,0,0,0,0,0,0,0,0,0,"-",{"$f":"IFERROR(ROUND(PERCENTILE(_xlfn._xlws.FILTER(Data_Table[Speed],(Data_Table[Direction]=ImportData!Direction_1)*(Data_Table[Period]=$B107)*(SUM(C107:N107)>=10)),0.85),2),\"-\")","v":"-"}]
[104,{"$f":"ImportData!$B$10+7*QUOTIENT(A108,24*60*7/ImportData!$B$8)+MOD(1+QUOTIENT(A108,24*60/ImportData!$B$8)-ImportData!$E$10,7)+TIME(0,ImportData!$B$8*A108,0)","v":"2023-09-29T08:00:00"},0,0,0,0,0,0,0,0,0,0,0,0,0,0,0,0,0,0,0,0,0,0,0,0,0,0,0,0,0,0,0,0,0,0,0,0,"-",{"$f":"IFERROR(ROUND(PERCENTILE(_xlfn._xlws.FILTER(Data_Table[Speed],(Data_Table[Direction]=ImportData!Direction_1)*(Data_Table[Period]=$B108)*(SUM(C108:N108)>=10)),0.85),2),\"-\")","v":"-"}]
[105,{"$f":"ImportData!$B$10+7*QUOTIENT(A109,24*60*7/ImportData!$B$8)+MOD(1+QUOTIENT(A109,24*60/ImportData!$B$8)-ImportData!$E$10,7)+TIME(0,ImportData!$B$8*A109,0)","v":"2023-09-29T09:00:00"},0,0,0,0,0,0,0,0,0,0,0,0,0,0,0,0,0,0,0,0,0,0,0,0,0,0,0,0,0,0,0,0,0,0,0,0,"-",{"$f":"IFERROR(ROUND(PERCENTILE(_xlfn._xlws.FILTER(Data_Table[Speed],(Data_Table[Direction]=ImportData!Direction_1)*(Data_Table[Period]=$B109)*(SUM(C109:N109)>=10)),0.85),2),\"-\")","v":"-"}]
[106,{"$f":"ImportData!$B$10+7*QUOTIENT(A110,24*60*7/ImportData!$B$8)+MOD(1+QUOTIENT(A110,24*60/ImportData!$B$8)-ImportData!$E$10,7)+TIME(0,ImportData!$B$8*A110,0)","v":"2023-09-29T10:00:00"},0,0,0,0,0,0,0,0,0,0,0,0,0,0,0,0,0,0,0,0,0,0,0,0,0,0,0,0,0,0,0,0,0,0,0,0,"-",{"$f":"IFERROR(ROUND(PERCENTILE(_xlfn._xlws.FILTER(Data_Table[Speed],(Data_Table[Direction]=ImportData!Direction_1)*(Data_Table[Period]=$B110)*(SUM(C110:N110)>=10)),0.85),2),\"-\")","v":"-"}]
[107,{"$f":"ImportData!$B$10+7*QUOTIENT(A111,24*60*7/ImportData!$B$8)+MOD(1+QUOTIENT(A111,24*60/ImportData!$B$8)-ImportData!$E$10,7)+TIME(0,ImportData!$B$8*A111,0)","v":"2023-09-29T11:00:00"},0,0,0,0,0,0,0,0,0,0,0,0,0,0,0,0,0,0,0,0,0,0,0,0,0,0,0,0,0,0,0,0,0,0,0,0,"-",{"$f":"IFERROR(ROUND(PERCENTILE(_xlfn._xlws.FILTER(Data_Table[Speed],(Data_Table[Direction]=ImportData!Direction_1)*(Data_Table[Period]=$B111)*(SUM(C111:N111)>=10)),0.85),2),\"-\")","v":"-"}]
[108,{"$f":"ImportData!$B$10+7*QUOTIENT(A112,24*60*7/ImportData!$B$8)+MOD(1+QUOTIENT(A112,24*60/ImportData!$B$8)-ImportData!$E$10,7)+TIME(0,ImportData!$B$8*A112,0)","v":"2023-09-29T12:00:00"},0,0,0,0,0,0,0,0,0,0,0,0,0,0,0,0,0,0,0,0,0,0,0,0,0,0,0,0,0,0,0,0,0,0,0,0,"-",{"$f":"IFERROR(ROUND(PERCENTILE(_xlfn._xlws.FILTER(Data_Table[Speed],(Data_Table[Direction]=ImportData!Direction_1)*(Data_Table[Period]=$B112)*(SUM(C112:N112)>=10)),0.85),2),\"-\")","v":"-"}]
[109,{"$f":"ImportData!$B$10+7*QUOTIENT(A113,24*60*7/ImportData!$B$8)+MOD(1+QUOTIENT(A113,24*60/ImportData!$B$8)-ImportData!$E$10,7)+TIME(0,ImportData!$B$8*A113,0)","v":"2023-09-29T13:00:00"},0,0,0,0,0,0,0,0,0,0,0,0,0,0,0,0,0,0,0,0,0,0,0,0,0,0,0,0,0,0,0,0,0,0,0,0,"-",{"$f":"IFERROR(ROUND(PERCENTILE(_xlfn._xlws.FILTER(Data_Table[Speed],(Data_Table[Direction]=ImportData!Direction_1)*(Data_Table[Period]=$B113)*(SUM(C113:N113)>=10)),0.85),2),\"-\")","v":"-"}]
[110,{"$f":"ImportData!$B$10+7*QUOTIENT(A114,24*60*7/ImportData!$B$8)+MOD(1+QUOTIENT(A114,24*60/ImportData!$B$8)-ImportData!$E$10,7)+TIME(0,ImportData!$B$8*A114,0)","v":"2023-09-29T14:00:00"},0,0,0,0,0,0,0,0,0,0,0,0,0,0,0,0,0,0,0,0,0,0,0,0,0,0,0,0,0,0,0,0,0,0,0,0,"-",{"$f":"IFERROR(ROUND(PERCENTILE(_xlfn._xlws.FILTER(Data_Table[Speed],(Data_Table[Direction]=ImportData!Direction_1)*(Data_Table[Period]=$B114)*(SUM(C114:N114)>=10)),0.85),2),\"-\")","v":"-"}]
[111,{"$f":"ImportData!$B$10+7*QUOTIENT(A115,24*60*7/ImportData!$B$8)+MOD(1+QUOTIENT(A115,24*60/ImportData!$B$8)-ImportData!$E$10,7)+TIME(0,ImportData!$B$8*A115,0)","v":"2023-09-29T15:00:00"},0,0,0,0,0,0,0,0,0,0,0,0,0,0,0,0,0,0,0,0,0,0,0,0,0,0,0,0,0,0,0,0,0,0,0,0,"-",{"$f":"IFERROR(ROUND(PERCENTILE(_xlfn._xlws.FILTER(Data_Table[Speed],(Data_Table[Direction]=ImportData!Direction_1)*(Data_Table[Period]=$B115)*(SUM(C115:N115)>=10)),0.85),2),\"-\")","v":"-"}]
[112,{"$f":"ImportData!$B$10+7*QUOTIENT(A116,24*60*7/ImportData!$B$8)+MOD(1+QUOTIENT(A116,24*60/ImportData!$B$8)-ImportData!$E$10,7)+TIME(0,ImportData!$B$8*A116,0)","v":"2023-09-29T16:00:00"},0,0,0,0,0,0,0,0,0,0,0,0,0,0,0,0,0,0,0,0,0,0,0,0,0,0,0,0,0,0,0,0,0,0,0,0,"-",{"$f":"IFERROR(ROUND(PERCENTILE(_xlfn._xlws.FILTER(Data_Table[Speed],(Data_Table[Direction]=ImportData!Direction_1)*(Data_Table[Period]=$B116)*(SUM(C116:N116)>=10)),0.85),2),\"-\")","v":"-"}]
[113,{"$f":"ImportData!$B$10+7*QUOTIENT(A117,24*60*7/ImportData!$B$8)+MOD(1+QUOTIENT(A117,24*60/ImportData!$B$8)-ImportData!$E$10,7)+TIME(0,ImportData!$B$8*A117,0)","v":"2023-09-29T17:00:00"},0,0,0,0,0,0,0,0,0,0,0,0,0,0,0,0,0,0,0,0,0,0,0,0,0,0,0,0,0,0,0,0,0,0,0,0,"-",{"$f":"IFERROR(ROUND(PERCENTILE(_xlfn._xlws.FILTER(Data_Table[Speed],(Data_Table[Direction]=ImportData!Direction_1)*(Data_Table[Period]=$B117)*(SUM(C117:N117)>=10)),0.85),2),\"-\")","v":"-"}]
[114,{"$f":"ImportData!$B$10+7*QUOTIENT(A118,24*60*7/ImportData!$B$8)+MOD(1+QUOTIENT(A118,24*60/ImportData!$B$8)-ImportData!$E$10,7)+TIME(0,ImportData!$B$8*A118,0)","v":"2023-09-29T18:00:00"},0,0,0,0,0,0,0,0,0,0,0,0,0,0,0,0,0,0,0,0,0,0,0,0,0,0,0,0,0,0,0,0,0,0,0,0,"-",{"$f":"IFERROR(ROUND(PERCENTILE(_xlfn._xlws.FILTER(Data_Table[Speed],(Data_Table[Direction]=ImportData!Direction_1)*(Data_Table[Period]=$B118)*(SUM(C118:N118)>=10)),0.85),2),\"-\")","v":"-"}]
[115,{"$f":"ImportData!$B$10+7*QUOTIENT(A119,24*60*7/ImportData!$B$8)+MOD(1+QUOTIENT(A119,24*60/ImportData!$B$8)-ImportData!$E$10,7)+TIME(0,ImportData!$B$8*A119,0)","v":"2023-09-29T19:00:00"},0,0,0,0,0,0,0,0,0,0,0,0,0,0,0,0,0,0,0,0,0,0,0,0,0,0,0,0,0,0,0,0,0,0,0,0,"-",{"$f":"IFERROR(ROUND(PERCENTILE(_xlfn._xlws.FILTER(Data_Table[Speed],(Data_Table[Direction]=ImportData!Direction_1)*(Data_Table[Period]=$B119)*(SUM(C119:N119)>=10)),0.85),2),\"-\")","v":"-"}]
[116,{"$f":"ImportData!$B$10+7*QUOTIENT(A120,24*60*7/ImportData!$B$8)+MOD(1+QUOTIENT(A120,24*60/ImportData!$B$8)-ImportData!$E$10,7)+TIME(0,ImportData!$B$8*A120,0)","v":"2023-09-29T20:00:00"},0,0,0,0,0,0,0,0,0,0,0,0,0,0,0,0,0,0,0,0,0,0,0,0,0,0,0,0,0,0,0,0,0,0,0,0,"-",{"$f":"IFERROR(ROUND(PERCENTILE(_xlfn._xlws.FILTER(Data_Table[Speed],(Data_Table[Direction]=ImportData!Direction_1)*(Data_Table[Period]=$B120)*(SUM(C120:N120)>=10)),0.85),2),\"-\")","v":"-"}]
[117,{"$f":"ImportData!$B$10+7*QUOTIENT(A121,24*60*7/ImportData!$B$8)+MOD(1+QUOTIENT(A121,24*60/ImportData!$B$8)-ImportData!$E$10,7)+TIME(0,ImportData!$B$8*A121,0)","v":"2023-09-29T21:00:00"},0,0,0,0,0,0,0,0,0,0,0,0,0,0,0,0,0,0,0,0,0,0,0,0,0,0,0,0,0,0,0,0,0,0,0,0,"-",{"$f":"IFERROR(ROUND(PERCENTILE(_xlfn._xlws.FILTER(Data_Table[Speed],(Data_Table[Direction]=ImportData!Direction_1)*(Data_Table[Period]=$B121)*(SUM(C121:N121)>=10)),0.85),2),\"-\")","v":"-"}]
[118,{"$f":"ImportData!$B$10+7*QUOTIENT(A122,24*60*7/ImportData!$B$8)+MOD(1+QUOTIENT(A122,24*60/ImportData!$B$8)-ImportData!$E$10,7)+TIME(0,ImportData!$B$8*A122,0)","v":"2023-09-29T22:00:00"},0,0,0,0,0,0,0,0,0,0,0,0,0,0,0,0,0,0,0,0,0,0,0,0,0,0,0,0,0,0,0,0,0,0,0,0,"-",{"$f":"IFERROR(ROUND(PERCENTILE(_xlfn._xlws.FILTER(Data_Table[Speed],(Data_Table[Direction]=ImportData!Direction_1)*(Data_Table[Period]=$B122)*(SUM(C122:N122)>=10)),0.85),2),\"-\")","v":"-"}]
[119,{"$f":"ImportData!$B$10+7*QUOTIENT(A123,24*60*7/ImportData!$B$8)+MOD(1+QUOTIENT(A123,24*60/ImportData!$B$8)-ImportData!$E$10,7)+TIME(0,ImportData!$B$8*A123,0)","v":"2023-09-29T23:00:00"},0,0,0,0,0,0,0,0,0,0,0,0,0,0,0,0,0,0,0,0,0,0,0,0,0,0,0,0,0,0,0,0,0,0,0,0,"-",{"$f":"IFERROR(ROUND(PERCENTILE(_xlfn._xlws.FILTER(Data_Table[Speed],(Data_Table[Direction]=ImportData!Direction_1)*(Data_Table[Period]=$B123)*(SUM(C123:N123)>=10)),0.85),2),\"-\")","v":"-"}]
[120,{"$f":"ImportData!$B$10+7*QUOTIENT(A124,24*60*7/ImportData!$B$8)+MOD(1+QUOTIENT(A124,24*60/ImportData!$B$8)-ImportData!$E$10,7)+TIME(0,ImportData!$B$8*A124,0)","v":"2023-09-30"},0,0,0,0,0,0,0,0,0,0,0,0,0,0,0,0,0,0,0,0,0,0,0,0,0,0,0,0,0,0,0,0,0,0,0,0,"-",{"$f":"IFERROR(ROUND(PERCENTILE(_xlfn._xlws.FILTER(Data_Table[Speed],(Data_Table[Direction]=ImportData!Direction_1)*(Data_Table[Period]=$B124)*(SUM(C124:N124)>=10)),0.85),2),\"-\")","v":"-"}]
[121,{"$f":"ImportData!$B$10+7*QUOTIENT(A125,24*60*7/ImportData!$B$8)+MOD(1+QUOTIENT(A125,24*60/ImportData!$B$8)-ImportData!$E$10,7)+TIME(0,ImportData!$B$8*A125,0)","v":"2023-09-30T01:00:00"},0,0,0,0,0,0,0,0,0,0,0,0,0,0,0,0,0,0,0,0,0,0,0,0,0,0,0,0,0,0,0,0,0,0,0,0,"-",{"$f":"IFERROR(ROUND(PERCENTILE(_xlfn._xlws.FILTER(Data_Table[Speed],(Data_Table[Direction]=ImportData!Direction_1)*(Data_Table[Period]=$B125)*(SUM(C125:N125)>=10)),0.85),2),\"-\")","v":"-"}]
[122,{"$f":"ImportData!$B$10+7*QUOTIENT(A126,24*60*7/ImportData!$B$8)+MOD(1+QUOTIENT(A126,24*60/ImportData!$B$8)-ImportData!$E$10,7)+TIME(0,ImportData!$B$8*A126,0)","v":"2023-09-30T02:00:00"},0,0,0,0,0,0,0,0,0,0,0,0,0,0,0,0,0,0,0,0,0,0,0,0,0,0,0,0,0,0,0,0,0,0,0,0,"-",{"$f":"IFERROR(ROUND(PERCENTILE(_xlfn._xlws.FILTER(Data_Table[Speed],(Data_Table[Direction]=ImportData!Direction_1)*(Data_Table[Period]=$B126)*(SUM(C126:N126)>=10)),0.85),2),\"-\")","v":"-"}]
[123,{"$f":"ImportData!$B$10+7*QUOTIENT(A127,24*60*7/ImportData!$B$8)+MOD(1+QUOTIENT(A127,24*60/ImportData!$B$8)-ImportData!$E$10,7)+TIME(0,ImportData!$B$8*A127,0)","v":"2023-09-30T03:00:00"},0,0,0,0,0,0,0,0,0,0,0,0,0,0,0,0,0,0,0,0,0,0,0,0,0,0,0,0,0,0,0,0,0,0,0,0,"-",{"$f":"IFERROR(ROUND(PERCENTILE(_xlfn._xlws.FILTER(Data_Table[Speed],(Data_Table[Direction]=ImportData!Direction_1)*(Data_Table[Period]=$B127)*(SUM(C127:N127)>=10)),0.85),2),\"-\")","v":"-"}]
[124,{"$f":"ImportData!$B$10+7*QUOTIENT(A128,24*60*7/ImportData!$B$8)+MOD(1+QUOTIENT(A128,24*60/ImportData!$B$8)-ImportData!$E$10,7)+TIME(0,ImportData!$B$8*A128,0)","v":"2023-09-30T04:00:00"},0,0,0,0,0,0,0,0,0,0,0,0,0,0,0,0,0,0,0,0,0,0,0,0,0,0,0,0,0,0,0,0,0,0,0,0,"-",{"$f":"IFERROR(ROUND(PERCENTILE(_xlfn._xlws.FILTER(Data_Table[Speed],(Data_Table[Direction]=ImportData!Direction_1)*(Data_Table[Period]=$B128)*(SUM(C128:N128)>=10)),0.85),2),\"-\")","v":"-"}]
[125,{"$f":"ImportData!$B$10+7*QUOTIENT(A129,24*60*7/ImportData!$B$8)+MOD(1+QUOTIENT(A129,24*60/ImportData!$B$8)-ImportData!$E$10,7)+TIME(0,ImportData!$B$8*A129,0)","v":"2023-09-30T05:00:00"},0,0,0,0,0,0,0,0,0,0,0,0,0,0,0,0,0,0,0,0,0,0,0,0,0,0,0,0,0,0,0,0,0,0,0,0,"-",{"$f":"IFERROR(ROUND(PERCENTILE(_xlfn._xlws.FILTER(Data_Table[Speed],(Data_Table[Direction]=ImportData!Direction_1)*(Data_Table[Period]=$B129)*(SUM(C129:N129)>=10)),0.85),2),\"-\")","v":"-"}]
[126,{"$f":"ImportData!$B$10+7*QUOTIENT(A130,24*60*7/ImportData!$B$8)+MOD(1+QUOTIENT(A130,24*60/ImportData!$B$8)-ImportData!$E$10,7)+TIME(0,ImportData!$B$8*A130,0)","v":"2023-09-30T06:00:00"},0,0,0,0,0,0,0,0,0,0,0,0,0,0,0,0,0,0,0,0,0,0,0,0,0,0,0,0,0,0,0,0,0,0,0,0,"-",{"$f":"IFERROR(ROUND(PERCENTILE(_xlfn._xlws.FILTER(Data_Table[Speed],(Data_Table[Direction]=ImportData!Direction_1)*(Data_Table[Period]=$B130)*(SUM(C130:N130)>=10)),0.85),2),\"-\")","v":"-"}]
[127,{"$f":"ImportData!$B$10+7*QUOTIENT(A131,24*60*7/ImportData!$B$8)+MOD(1+QUOTIENT(A131,24*60/ImportData!$B$8)-ImportData!$E$10,7)+TIME(0,ImportData!$B$8*A131,0)","v":"2023-09-30T07:00:00"},0,0,0,0,0,0,0,0,0,0,0,0,0,0,0,0,0,0,0,0,0,0,0,0,0,0,0,0,0,0,0,0,0,0,0,0,"-",{"$f":"IFERROR(ROUND(PERCENTILE(_xlfn._xlws.FILTER(Data_Table[Speed],(Data_Table[Direction]=ImportData!Direction_1)*(Data_Table[Period]=$B131)*(SUM(C131:N131)>=10)),0.85),2),\"-\")","v":"-"}]
[128,{"$f":"ImportData!$B$10+7*QUOTIENT(A132,24*60*7/ImportData!$B$8)+MOD(1+QUOTIENT(A132,24*60/ImportData!$B$8)-ImportData!$E$10,7)+TIME(0,ImportData!$B$8*A132,0)","v":"2023-09-30T08:00:00"},0,0,0,0,0,0,0,0,0,0,0,0,0,0,0,0,0,0,0,0,0,0,0,0,0,0,0,0,0,0,0,0,0,0,0,0,"-",{"$f":"IFERROR(ROUND(PERCENTILE(_xlfn._xlws.FILTER(Data_Table[Speed],(Data_Table[Direction]=ImportData!Direction_1)*(Data_Table[Period]=$B132)*(SUM(C132:N132)>=10)),0.85),2),\"-\")","v":"-"}]
[129,{"$f":"ImportData!$B$10+7*QUOTIENT(A133,24*60*7/ImportData!$B$8)+MOD(1+QUOTIENT(A133,24*60/ImportData!$B$8)-ImportData!$E$10,7)+TIME(0,ImportData!$B$8*A133,0)","v":"2023-09-30T09:00:00"},0,0,0,0,0,0,0,0,0,0,0,0,0,0,0,0,0,0,0,0,0,0,0,0,0,0,0,0,0,0,0,0,0,0,0,0,"-",{"$f":"IFERROR(ROUND(PERCENTILE(_xlfn._xlws.FILTER(Data_Table[Speed],(Data_Table[Direction]=ImportData!Direction_1)*(Data_Table[Period]=$B133)*(SUM(C133:N133)>=10)),0.85),2),\"-\")","v":"-"}]
[130,{"$f":"ImportData!$B$10+7*QUOTIENT(A134,24*60*7/ImportData!$B$8)+MOD(1+QUOTIENT(A134,24*60/ImportData!$B$8)-ImportData!$E$10,7)+TIME(0,ImportData!$B$8*A134,0)","v":"2023-09-30T10:00:00"},0,0,0,0,0,0,0,0,0,0,0,0,0,0,0,0,0,0,0,0,0,0,0,0,0,0,0,0,0,0,0,0,0,0,0,0,"-",{"$f":"IFERROR(ROUND(PERCENTILE(_xlfn._xlws.FILTER(Data_Table[Speed],(Data_Table[Direction]=ImportData!Direction_1)*(Data_Table[Period]=$B134)*(SUM(C134:N134)>=10)),0.85),2),\"-\")","v":"-"}]
[131,{"$f":"ImportData!$B$10+7*QUOTIENT(A135,24*60*7/ImportData!$B$8)+MOD(1+QUOTIENT(A135,24*60/ImportData!$B$8)-ImportData!$E$10,7)+TIME(0,ImportData!$B$8*A135,0)","v":"2023-09-30T11:00:00"},0,0,0,0,0,0,0,0,0,0,0,0,0,0,0,0,0,0,0,0,0,0,0,0,0,0,0,0,0,0,0,0,0,0,0,0,"-",{"$f":"IFERROR(ROUND(PERCENTILE(_xlfn._xlws.FILTER(Data_Table[Speed],(Data_Table[Direction]=ImportData!Direction_1)*(Data_Table[Period]=$B135)*(SUM(C135:N135)>=10)),0.85),2),\"-\")","v":"-"}]
[132,{"$f":"ImportData!$B$10+7*QUOTIENT(A136,24*60*7/ImportData!$B$8)+MOD(1+QUOTIENT(A136,24*60/ImportData!$B$8)-ImportData!$E$10,7)+TIME(0,ImportData!$B$8*A136,0)","v":"2023-09-30T12:00:00"},0,0,0,0,0,0,0,0,0,0,0,0,0,0,0,0,0,0,0,0,0,0,0,0,0,0,0,0,0,0,0,0,0,0,0,0,"-",{"$f":"IFERROR(ROUND(PERCENTILE(_xlfn._xlws.FILTER(Data_Table[Speed],(Data_Table[Direction]=ImportData!Direction_1)*(Data_Table[Period]=$B136)*(SUM(C136:N136)>=10)),0.85),2),\"-\")","v":"-"}]
[133,{"$f":"ImportData!$B$10+7*QUOTIENT(A137,24*60*7/ImportData!$B$8)+MOD(1+QUOTIENT(A137,24*60/ImportData!$B$8)-ImportData!$E$10,7)+TIME(0,ImportData!$B$8*A137,0)","v":"2023-09-30T13:00:00"},0,0,0,0,0,0,0,0,0,0,0,0,0,0,0,0,0,0,0,0,0,0,0,0,0,0,0,0,0,0,0,0,0,0,0,0,"-",{"$f":"IFERROR(ROUND(PERCENTILE(_xlfn._xlws.FILTER(Data_Table[Speed],(Data_Table[Direction]=ImportData!Direction_1)*(Data_Table[Period]=$B137)*(SUM(C137:N137)>=10)),0.85),2),\"-\")","v":"-"}]
[134,{"$f":"ImportData!$B$10+7*QUOTIENT(A138,24*60*7/ImportData!$B$8)+MOD(1+QUOTIENT(A138,24*60/ImportData!$B$8)-ImportData!$E$10,7)+TIME(0,ImportData!$B$8*A138,0)","v":"2023-09-30T14:00:00"},0,0,0,0,0,0,0,0,0,0,0,0,0,0,0,0,0,0,0,0,0,0,0,0,0,0,0,0,0,0,0,0,0,0,0,0,"-",{"$f":"IFERROR(ROUND(PERCENTILE(_xlfn._xlws.FILTER(Data_Table[Speed],(Data_Table[Direction]=ImportData!Direction_1)*(Data_Table[Period]=$B138)*(SUM(C138:N138)>=10)),0.85),2),\"-\")","v":"-"}]
[135,{"$f":"ImportData!$B$10+7*QUOTIENT(A139,24*60*7/ImportData!$B$8)+MOD(1+QUOTIENT(A139,24*60/ImportData!$B$8)-ImportData!$E$10,7)+TIME(0,ImportData!$B$8*A139,0)","v":"2023-09-30T15:00:00"},0,0,0,0,0,0,0,0,0,0,0,0,0,0,0,0,0,0,0,0,0,0,0,0,0,0,0,0,0,0,0,0,0,0,0,0,"-",{"$f":"IFERROR(ROUND(PERCENTILE(_xlfn._xlws.FILTER(Data_Table[Speed],(Data_Table[Direction]=ImportData!Direction_1)*(Data_Table[Period]=$B139)*(SUM(C139:N139)>=10)),0.85),2),\"-\")","v":"-"}]
[136,{"$f":"ImportData!$B$10+7*QUOTIENT(A140,24*60*7/ImportData!$B$8)+MOD(1+QUOTIENT(A140,24*60/ImportData!$B$8)-ImportData!$E$10,7)+TIME(0,ImportData!$B$8*A140,0)","v":"2023-09-30T16:00:00"},0,0,0,0,0,0,0,0,0,0,0,0,0,0,0,0,0,0,0,0,0,0,0,0,0,0,0,0,0,0,0,0,0,0,0,0,"-",{"$f":"IFERROR(ROUND(PERCENTILE(_xlfn._xlws.FILTER(Data_Table[Speed],(Data_Table[Direction]=ImportData!Direction_1)*(Data_Table[Period]=$B140)*(SUM(C140:N140)>=10)),0.85),2),\"-\")","v":"-"}]
[137,{"$f":"ImportData!$B$10+7*QUOTIENT(A141,24*60*7/ImportData!$B$8)+MOD(1+QUOTIENT(A141,24*60/ImportData!$B$8)-ImportData!$E$10,7)+TIME(0,ImportData!$B$8*A141,0)","v":"2023-09-30T17:00:00"},0,0,0,0,0,0,0,0,0,0,0,0,0,0,0,0,0,0,0,0,0,0,0,0,0,0,0,0,0,0,0,0,0,0,0,0,"-",{"$f":"IFERROR(ROUND(PERCENTILE(_xlfn._xlws.FILTER(Data_Table[Speed],(Data_Table[Direction]=ImportData!Direction_1)*(Data_Table[Period]=$B141)*(SUM(C141:N141)>=10)),0.85),2),\"-\")","v":"-"}]
[138,{"$f":"ImportData!$B$10+7*QUOTIENT(A142,24*60*7/ImportData!$B$8)+MOD(1+QUOTIENT(A142,24*60/ImportData!$B$8)-ImportData!$E$10,7)+TIME(0,ImportData!$B$8*A142,0)","v":"2023-09-30T18:00:00"},0,0,0,0,0,0,0,0,0,0,0,0,0,0,0,0,0,0,0,0,0,0,0,0,0,0,0,0,0,0,0,0,0,0,0,0,"-",{"$f":"IFERROR(ROUND(PERCENTILE(_xlfn._xlws.FILTER(Data_Table[Speed],(Data_Table[Direction]=ImportData!Direction_1)*(Data_Table[Period]=$B142)*(SUM(C142:N142)>=10)),0.85),2),\"-\")","v":"-"}]
[139,{"$f":"ImportData!$B$10+7*QUOTIENT(A143,24*60*7/ImportData!$B$8)+MOD(1+QUOTIENT(A143,24*60/ImportData!$B$8)-ImportData!$E$10,7)+TIME(0,ImportData!$B$8*A143,0)","v":"2023-09-30T19:00:00"},0,0,0,0,0,0,0,0,0,0,0,0,0,0,0,0,0,0,0,0,0,0,0,0,0,0,0,0,0,0,0,0,0,0,0,0,"-",{"$f":"IFERROR(ROUND(PERCENTILE(_xlfn._xlws.FILTER(Data_Table[Speed],(Data_Table[Direction]=ImportData!Direction_1)*(Data_Table[Period]=$B143)*(SUM(C143:N143)>=10)),0.85),2),\"-\")","v":"-"}]
[140,{"$f":"ImportData!$B$10+7*QUOTIENT(A144,24*60*7/ImportData!$B$8)+MOD(1+QUOTIENT(A144,24*60/ImportData!$B$8)-ImportData!$E$10,7)+TIME(0,ImportData!$B$8*A144,0)","v":"2023-09-30T20:00:00"},0,0,0,0,0,0,0,0,0,0,0,0,0,0,0,0,0,0,0,0,0,0,0,0,0,0,0,0,0,0,0,0,0,0,0,0,"-",{"$f":"IFERROR(ROUND(PERCENTILE(_xlfn._xlws.FILTER(Data_Table[Speed],(Data_Table[Direction]=ImportData!Direction_1)*(Data_Table[Period]=$B144)*(SUM(C144:N144)>=10)),0.85),2),\"-\")","v":"-"}]
[141,{"$f":"ImportData!$B$10+7*QUOTIENT(A145,24*60*7/ImportData!$B$8)+MOD(1+QUOTIENT(A145,24*60/ImportData!$B$8)-ImportData!$E$10,7)+TIME(0,ImportData!$B$8*A145,0)","v":"2023-09-30T21:00:00"},0,0,0,0,0,0,0,0,0,0,0,0,0,0,0,0,0,0,0,0,0,0,0,0,0,0,0,0,0,0,0,0,0,0,0,0,"-",{"$f":"IFERROR(ROUND(PERCENTILE(_xlfn._xlws.FILTER(Data_Table[Speed],(Data_Table[Direction]=ImportData!Direction_1)*(Data_Table[Period]=$B145)*(SUM(C145:N145)>=10)),0.85),2),\"-\")","v":"-"}]
[142,{"$f":"ImportData!$B$10+7*QUOTIENT(A146,24*60*7/ImportData!$B$8)+MOD(1+QUOTIENT(A146,24*60/ImportData!$B$8)-ImportData!$E$10,7)+TIME(0,ImportData!$B$8*A146,0)","v":"2023-09-30T22:00:00"},0,0,0,0,0,0,0,0,0,0,0,0,0,0,0,0,0,0,0,0,0,0,0,0,0,0,0,0,0,0,0,0,0,0,0,0,"-",{"$f":"IFERROR(ROUND(PERCENTILE(_xlfn._xlws.FILTER(Data_Table[Speed],(Data_Table[Direction]=ImportData!Direction_1)*(Data_Table[Period]=$B146)*(SUM(C146:N146)>=10)),0.85),2),\"-\")","v":"-"}]
[143,{"$f":"ImportData!$B$10+7*QUOTIENT(A147,24*60*7/ImportData!$B$8)+MOD(1+QUOTIENT(A147,24*60/ImportData!$B$8)-ImportData!$E$10,7)+TIME(0,ImportData!$B$8*A147,0)","v":"2023-09-30T23:00:00"},0,0,0,0,0,0,0,0,0,0,0,0,0,0,0,0,0,0,0,0,0,0,0,0,0,0,0,0,0,0,0,0,0,0,0,0,"-",{"$f":"IFERROR(ROUND(PERCENTILE(_xlfn._xlws.FILTER(Data_Table[Speed],(Data_Table[Direction]=ImportData!Direction_1)*(Data_Table[Period]=$B147)*(SUM(C147:N147)>=10)),0.85),2),\"-\")","v":"-"}]
[144,{"$f":"ImportData!$B$10+7*QUOTIENT(A148,24*60*7/ImportData!$B$8)+MOD(1+QUOTIENT(A148,24*60/ImportData!$B$8)-ImportData!$E$10,7)+TIME(0,ImportData!$B$8*A148,0)","v":"2023-10-01"},0,0,0,0,0,0,0,0,0,0,0,0,0,0,0,0,0,0,0,0,0,0,0,0,0,0,0,0,0,0,0,0,0,0,0,0,"-",{"$f":"IFERROR(ROUND(PERCENTILE(_xlfn._xlws.FILTER(Data_Table[Speed],(Data_Table[Direction]=ImportData!Direction_1)*(Data_Table[Period]=$B148)*(SUM(C148:N148)>=10)),0.85),2),\"-\")","v":"-"}]
[145,{"$f":"ImportData!$B$10+7*QUOTIENT(A149,24*60*7/ImportData!$B$8)+MOD(1+QUOTIENT(A149,24*60/ImportData!$B$8)-ImportData!$E$10,7)+TIME(0,ImportData!$B$8*A149,0)","v":"2023-10-01T01:00:00"},0,0,0,0,0,0,0,0,0,0,0,0,0,0,0,0,0,0,0,0,0,0,0,0,0,0,0,0,0,0,0,0,0,0,0,0,"-",{"$f":"IFERROR(ROUND(PERCENTILE(_xlfn._xlws.FILTER(Data_Table[Speed],(Data_Table[Direction]=ImportData!Direction_1)*(Data_Table[Period]=$B149)*(SUM(C149:N149)>=10)),0.85),2),\"-\")","v":"-"}]
[146,{"$f":"ImportData!$B$10+7*QUOTIENT(A150,24*60*7/ImportData!$B$8)+MOD(1+QUOTIENT(A150,24*60/ImportData!$B$8)-ImportData!$E$10,7)+TIME(0,ImportData!$B$8*A150,0)","v":"2023-10-01T02:00:00"},0,0,0,0,0,0,0,0,0,0,0,0,0,0,0,0,0,0,0,0,0,0,0,0,0,0,0,0,0,0,0,0,0,0,0,0,"-",{"$f":"IFERROR(ROUND(PERCENTILE(_xlfn._xlws.FILTER(Data_Table[Speed],(Data_Table[Direction]=ImportData!Direction_1)*(Data_Table[Period]=$B150)*(SUM(C150:N150)>=10)),0.85),2),\"-\")","v":"-"}]
[147,{"$f":"ImportData!$B$10+7*QUOTIENT(A151,24*60*7/ImportData!$B$8)+MOD(1+QUOTIENT(A151,24*60/ImportData!$B$8)-ImportData!$E$10,7)+TIME(0,ImportData!$B$8*A151,0)","v":"2023-10-01T03:00:00"},0,0,0,0,0,0,0,0,0,0,0,0,0,0,0,0,0,0,0,0,0,0,0,0,0,0,0,0,0,0,0,0,0,0,0,0,"-",{"$f":"IFERROR(ROUND(PERCENTILE(_xlfn._xlws.FILTER(Data_Table[Speed],(Data_Table[Direction]=ImportData!Direction_1)*(Data_Table[Period]=$B151)*(SUM(C151:N151)>=10)),0.85),2),\"-\")","v":"-"}]
[148,{"$f":"ImportData!$B$10+7*QUOTIENT(A152,24*60*7/ImportData!$B$8)+MOD(1+QUOTIENT(A152,24*60/ImportData!$B$8)-ImportData!$E$10,7)+TIME(0,ImportData!$B$8*A152,0)","v":"2023-10-01T04:00:00"},0,0,0,0,0,0,0,0,0,0,0,0,0,0,0,0,0,0,0,0,0,0,0,0,0,0,0,0,0,0,0,0,0,0,0,0,"-",{"$f":"IFERROR(ROUND(PERCENTILE(_xlfn._xlws.FILTER(Data_Table[Speed],(Data_Table[Direction]=ImportData!Direction_1)*(Data_Table[Period]=$B152)*(SUM(C152:N152)>=10)),0.85),2),\"-\")","v":"-"}]
[149,{"$f":"ImportData!$B$10+7*QUOTIENT(A153,24*60*7/ImportData!$B$8)+MOD(1+QUOTIENT(A153,24*60/ImportData!$B$8)-ImportData!$E$10,7)+TIME(0,ImportData!$B$8*A153,0)","v":"2023-10-01T05:00:00"},0,0,0,0,0,0,0,0,0,0,0,0,0,0,0,0,0,0,0,0,0,0,0,0,0,0,0,0,0,0,0,0,0,0,0,0,"-",{"$f":"IFERROR(ROUND(PERCENTILE(_xlfn._xlws.FILTER(Data_Table[Speed],(Data_Table[Direction]=ImportData!Direction_1)*(Data_Table[Period]=$B153)*(SUM(C153:N153)>=10)),0.85),2),\"-\")","v":"-"}]
[150,{"$f":"ImportData!$B$10+7*QUOTIENT(A154,24*60*7/ImportData!$B$8)+MOD(1+QUOTIENT(A154,24*60/ImportData!$B$8)-ImportData!$E$10,7)+TIME(0,ImportData!$B$8*A154,0)","v":"2023-10-01T06:00:00"},0,0,0,0,0,0,0,0,0,0,0,0,0,0,0,0,0,0,0,0,0,0,0,0,0,0,0,0,0,0,0,0,0,0,0,0,"-",{"$f":"IFERROR(ROUND(PERCENTILE(_xlfn._xlws.FILTER(Data_Table[Speed],(Data_Table[Direction]=ImportData!Direction_1)*(Data_Table[Period]=$B154)*(SUM(C154:N154)>=10)),0.85),2),\"-\")","v":"-"}]
[151,{"$f":"ImportData!$B$10+7*QUOTIENT(A155,24*60*7/ImportData!$B$8)+MOD(1+QUOTIENT(A155,24*60/ImportData!$B$8)-ImportData!$E$10,7)+TIME(0,ImportData!$B$8*A155,0)","v":"2023-10-01T07:00:00"},0,0,0,0,0,0,0,0,0,0,0,0,0,0,0,0,0,0,0,0,0,0,0,0,0,0,0,0,0,0,0,0,0,0,0,0,"-",{"$f":"IFERROR(ROUND(PERCENTILE(_xlfn._xlws.FILTER(Data_Table[Speed],(Data_Table[Direction]=ImportData!Direction_1)*(Data_Table[Period]=$B155)*(SUM(C155:N155)>=10)),0.85),2),\"-\")","v":"-"}]
[152,{"$f":"ImportData!$B$10+7*QUOTIENT(A156,24*60*7/ImportData!$B$8)+MOD(1+QUOTIENT(A156,24*60/ImportData!$B$8)-ImportData!$E$10,7)+TIME(0,ImportData!$B$8*A156,0)","v":"2023-10-01T08:00:00"},0,0,0,0,0,0,0,0,0,0,0,0,0,0,0,0,0,0,0,0,0,0,0,0,0,0,0,0,0,0,0,0,0,0,0,0,"-",{"$f":"IFERROR(ROUND(PERCENTILE(_xlfn._xlws.FILTER(Data_Table[Speed],(Data_Table[Direction]=ImportData!Direction_1)*(Data_Table[Period]=$B156)*(SUM(C156:N156)>=10)),0.85),2),\"-\")","v":"-"}]
[153,{"$f":"ImportData!$B$10+7*QUOTIENT(A157,24*60*7/ImportData!$B$8)+MOD(1+QUOTIENT(A157,24*60/ImportData!$B$8)-ImportData!$E$10,7)+TIME(0,ImportData!$B$8*A157,0)","v":"2023-10-01T09:00:00"},0,0,0,0,0,0,0,0,0,0,0,0,0,0,0,0,0,0,0,0,0,0,0,0,0,0,0,0,0,0,0,0,0,0,0,0,"-",{"$f":"IFERROR(ROUND(PERCENTILE(_xlfn._xlws.FILTER(Data_Table[Speed],(Data_Table[Direction]=ImportData!Direction_1)*(Data_Table[Period]=$B157)*(SUM(C157:N157)>=10)),0.85),2),\"-\")","v":"-"}]
[154,{"$f":"ImportData!$B$10+7*QUOTIENT(A158,24*60*7/ImportData!$B$8)+MOD(1+QUOTIENT(A158,24*60/ImportData!$B$8)-ImportData!$E$10,7)+TIME(0,ImportData!$B$8*A158,0)","v":"2023-10-01T10:00:00"},0,0,0,0,0,0,0,0,0,0,0,0,0,0,0,0,0,0,0,0,0,0,0,0,0,0,0,0,0,0,0,0,0,0,0,0,"-",{"$f":"IFERROR(ROUND(PERCENTILE(_xlfn._xlws.FILTER(Data_Table[Speed],(Data_Table[Direction]=ImportData!Direction_1)*(Data_Table[Period]=$B158)*(SUM(C158:N158)>=10)),0.85),2),\"-\")","v":"-"}]
[155,{"$f":"ImportData!$B$10+7*QUOTIENT(A159,24*60*7/ImportData!$B$8)+MOD(1+QUOTIENT(A159,24*60/ImportData!$B$8)-ImportData!$E$10,7)+TIME(0,ImportData!$B$8*A159,0)","v":"2023-10-01T11:00:00"},0,0,0,0,0,0,0,0,0,0,0,0,0,0,0,0,0,0,0,0,0,0,0,0,0,0,0,0,0,0,0,0,0,0,0,0,"-",{"$f":"IFERROR(ROUND(PERCENTILE(_xlfn._xlws.FILTER(Data_Table[Speed],(Data_Table[Direction]=ImportData!Direction_1)*(Data_Table[Period]=$B159)*(SUM(C159:N159)>=10)),0.85),2),\"-\")","v":"-"}]
[156,{"$f":"ImportData!$B$10+7*QUOTIENT(A160,24*60*7/ImportData!$B$8)+MOD(1+QUOTIENT(A160,24*60/ImportData!$B$8)-ImportData!$E$10,7)+TIME(0,ImportData!$B$8*A160,0)","v":"2023-10-01T12:00:00"},0,0,0,0,0,0,0,0,0,0,0,0,0,0,0,0,0,0,0,0,0,0,0,0,0,0,0,0,0,0,0,0,0,0,0,0,"-",{"$f":"IFERROR(ROUND(PERCENTILE(_xlfn._xlws.FILTER(Data_Table[Speed],(Data_Table[Direction]=ImportData!Direction_1)*(Data_Table[Period]=$B160)*(SUM(C160:N160)>=10)),0.85),2),\"-\")","v":"-"}]
[157,{"$f":"ImportData!$B$10+7*QUOTIENT(A161,24*60*7/ImportData!$B$8)+MOD(1+QUOTIENT(A161,24*60/ImportData!$B$8)-ImportData!$E$10,7)+TIME(0,ImportData!$B$8*A161,0)","v":"2023-10-01T13:00:00"},0,0,0,0,0,0,0,0,0,0,0,0,0,0,0,0,0,0,0,0,0,0,0,0,0,0,0,0,0,0,0,0,0,0,0,0,"-",{"$f":"IFERROR(ROUND(PERCENTILE(_xlfn._xlws.FILTER(Data_Table[Speed],(Data_Table[Direction]=ImportData!Direction_1)*(Data_Table[Period]=$B161)*(SUM(C161:N161)>=10)),0.85),2),\"-\")","v":"-"}]
[158,{"$f":"ImportData!$B$10+7*QUOTIENT(A162,24*60*7/ImportData!$B$8)+MOD(1+QUOTIENT(A162,24*60/ImportData!$B$8)-ImportData!$E$10,7)+TIME(0,ImportData!$B$8*A162,0)","v":"2023-10-01T14:00:00"},0,0,0,0,0,0,0,0,0,0,0,0,0,0,0,0,0,0,0,0,0,0,0,0,0,0,0,0,0,0,0,0,0,0,0,0,"-",{"$f":"IFERROR(ROUND(PERCENTILE(_xlfn._xlws.FILTER(Data_Table[Speed],(Data_Table[Direction]=ImportData!Direction_1)*(Data_Table[Period]=$B162)*(SUM(C162:N162)>=10)),0.85),2),\"-\")","v":"-"}]
[159,{"$f":"ImportData!$B$10+7*QUOTIENT(A163,24*60*7/ImportData!$B$8)+MOD(1+QUOTIENT(A163,24*60/ImportData!$B$8)-ImportData!$E$10,7)+TIME(0,ImportData!$B$8*A163,0)","v":"2023-10-01T15:00:00"},0,0,0,0,0,0,0,0,0,0,0,0,0,0,0,0,0,0,0,0,0,0,0,0,0,0,0,0,0,0,0,0,0,0,0,0,"-",{"$f":"IFERROR(ROUND(PERCENTILE(_xlfn._xlws.FILTER(Data_Table[Speed],(Data_Table[Direction]=ImportData!Direction_1)*(Data_Table[Period]=$B163)*(SUM(C163:N163)>=10)),0.85),2),\"-\")","v":"-"}]
[160,{"$f":"ImportData!$B$10+7*QUOTIENT(A164,24*60*7/ImportData!$B$8)+MOD(1+QUOTIENT(A164,24*60/ImportData!$B$8)-ImportData!$E$10,7)+TIME(0,ImportData!$B$8*A164,0)","v":"2023-10-01T16:00:00"},0,0,0,0,0,0,0,0,0,0,0,0,0,0,0,0,0,0,0,0,0,0,0,0,0,0,0,0,0,0,0,0,0,0,0,0,"-",{"$f":"IFERROR(ROUND(PERCENTILE(_xlfn._xlws.FILTER(Data_Table[Speed],(Data_Table[Direction]=ImportData!Direction_1)*(Data_Table[Period]=$B164)*(SUM(C164:N164)>=10)),0.85),2),\"-\")","v":"-"}]
[161,{"$f":"ImportData!$B$10+7*QUOTIENT(A165,24*60*7/ImportData!$B$8)+MOD(1+QUOTIENT(A165,24*60/ImportData!$B$8)-ImportData!$E$10,7)+TIME(0,ImportData!$B$8*A165,0)","v":"2023-10-01T17:00:00"},0,0,0,0,0,0,0,0,0,0,0,0,0,0,0,0,0,0,0,0,0,0,0,0,0,0,0,0,0,0,0,0,0,0,0,0,"-",{"$f":"IFERROR(ROUND(PERCENTILE(_xlfn._xlws.FILTER(Data_Table[Speed],(Data_Table[Direction]=ImportData!Direction_1)*(Data_Table[Period]=$B165)*(SUM(C165:N165)>=10)),0.85),2),\"-\")","v":"-"}]
[162,{"$f":"ImportData!$B$10+7*QUOTIENT(A166,24*60*7/ImportData!$B$8)+MOD(1+QUOTIENT(A166,24*60/ImportData!$B$8)-ImportData!$E$10,7)+TIME(0,ImportData!$B$8*A166,0)","v":"2023-10-01T18:00:00"},0,0,0,0,0,0,0,0,0,0,0,0,0,0,0,0,0,0,0,0,0,0,0,0,0,0,0,0,0,0,0,0,0,0,0,0,"-",{"$f":"IFERROR(ROUND(PERCENTILE(_xlfn._xlws.FILTER(Data_Table[Speed],(Data_Table[Direction]=ImportData!Direction_1)*(Data_Table[Period]=$B166)*(SUM(C166:N166)>=10)),0.85),2),\"-\")","v":"-"}]
[163,{"$f":"ImportData!$B$10+7*QUOTIENT(A167,24*60*7/ImportData!$B$8)+MOD(1+QUOTIENT(A167,24*60/ImportData!$B$8)-ImportData!$E$10,7)+TIME(0,ImportData!$B$8*A167,0)","v":"2023-10-01T19:00:00"},0,0,0,0,0,0,0,0,0,0,0,0,0,0,0,0,0,0,0,0,0,0,0,0,0,0,0,0,0,0,0,0,0,0,0,0,"-",{"$f":"IFERROR(ROUND(PERCENTILE(_xlfn._xlws.FILTER(Data_Table[Speed],(Data_Table[Direction]=ImportData!Direction_1)*(Data_Table[Period]=$B167)*(SUM(C167:N167)>=10)),0.85),2),\"-\")","v":"-"}]
[164,{"$f":"ImportData!$B$10+7*QUOTIENT(A168,24*60*7/ImportData!$B$8)+MOD(1+QUOTIENT(A168,24*60/ImportData!$B$8)-ImportData!$E$10,7)+TIME(0,ImportData!$B$8*A168,0)","v":"2023-10-01T20:00:00"},0,0,0,0,0,0,0,0,0,0,0,0,0,0,0,0,0,0,0,0,0,0,0,0,0,0,0,0,0,0,0,0,0,0,0,0,"-",{"$f":"IFERROR(ROUND(PERCENTILE(_xlfn._xlws.FILTER(Data_Table[Speed],(Data_Table[Direction]=ImportData!Direction_1)*(Data_Table[Period]=$B168)*(SUM(C168:N168)>=10)),0.85),2),\"-\")","v":"-"}]
[165,{"$f":"ImportData!$B$10+7*QUOTIENT(A169,24*60*7/ImportData!$B$8)+MOD(1+QUOTIENT(A169,24*60/ImportData!$B$8)-ImportData!$E$10,7)+TIME(0,ImportData!$B$8*A169,0)","v":"2023-10-01T21:00:00"},0,0,0,0,0,0,0,0,0,0,0,0,0,0,0,0,0,0,0,0,0,0,0,0,0,0,0,0,0,0,0,0,0,0,0,0,"-",{"$f":"IFERROR(ROUND(PERCENTILE(_xlfn._xlws.FILTER(Data_Table[Speed],(Data_Table[Direction]=ImportData!Direction_1)*(Data_Table[Period]=$B169)*(SUM(C169:N169)>=10)),0.85),2),\"-\")","v":"-"}]
[166,{"$f":"ImportData!$B$10+7*QUOTIENT(A170,24*60*7/ImportData!$B$8)+MOD(1+QUOTIENT(A170,24*60/ImportData!$B$8)-ImportData!$E$10,7)+TIME(0,ImportData!$B$8*A170,0)","v":"2023-10-01T22:00:00"},0,0,0,0,0,0,0,0,0,0,0,0,0,0,0,0,0,0,0,0,0,0,0,0,0,0,0,0,0,0,0,0,0,0,0,0,"-",{"$f":"IFERROR(ROUND(PERCENTILE(_xlfn._xlws.FILTER(Data_Table[Speed],(Data_Table[Direction]=ImportData!Direction_1)*(Data_Table[Period]=$B170)*(SUM(C170:N170)>=10)),0.85),2),\"-\")","v":"-"}]
[167,{"$f":"ImportData!$B$10+7*QUOTIENT(A171,24*60*7/ImportData!$B$8)+MOD(1+QUOTIENT(A171,24*60/ImportData!$B$8)-ImportData!$E$10,7)+TIME(0,ImportData!$B$8*A171,0)","v":"2023-10-01T23:00:00"},0,0,0,0,0,0,0,0,0,0,0,0,0,0,0,0,0,0,0,0,0,0,0,0,0,0,0,0,0,0,0,0,0,0,0,0,"-",{"$f":"IFERROR(ROUND(PERCENTILE(_xlfn._xlws.FILTER(Data_Table[Speed],(Data_Table[Direction]=ImportData!Direction_1)*(Data_Table[Period]=$B171)*(SUM(C171:N171)>=10)),0.85),2),\"-\")","v":"-"}]
[null,"00:00:00",{"$f":"SUM(C4,C28,C52,C76,C100)","v":0},{"$f":"SUM(D4,D28,D52,D76,D100)","v":0},0,0,0,0,0,0,0,0,0,0,0,0,0,{"$f":"SUM(R4,R28,R52,R76,R100)","v":0},0,0,0,0,0,0,0,0,0,0,0,0,0,0,0,0,0,0,0,{"$f":"SUM(AL4,AL28,AL52,AL76,AL100)","v":0},{"$f":"IFERROR(ROUND(AVERAGE(_xlfn._xlws.FILTER(Data_Table[Speed],(Data_Table[Direction]=ImportData!Direction_1)*(Data_Table[Period]-INT(Data_Table[Period])=B172)*(Data_Table[Weekday]<6))),2),\"-\")","v":"-"},{"$f":"IFERROR(ROUND(PERCENTILE(_xlfn._xlws.FILTER(Data_Table[Speed],(Data_Table[Direction]=ImportData!Direction_1)*(Data_Table[Period]-INT(Data_Table[Period])=B172)*(Data_Table[Weekday]<6)*(SUM(C172:N172)>=10)),0.85),2),\"-\")","v":"-"}]
[null,"01:00:00",{"$f":"SUM(C5,C29,C53,C77,C101)","v":0},0,0,0,0,0,0,0,0,0,0,0,0,0,0,{"$f":"SUM(R5,R29,R53,R77,R101)","v":0},0,0,0,0,0,0,0,0,0,0,0,0,0,0,0,0,0,0,0,{"$f":"SUM(AL5,AL29,AL53,AL77,AL101)","v":0},{"$f":"IFERROR(ROUND(AVERAGE(_xlfn._xlws.FILTER(Data_Table[Speed],(Data_Table[Direction]=ImportData!Direction_1)*(Data_Table[Period]-INT(Data_Table[Period])=B173)*(Data_Table[Weekday]<6))),2),\"-\")","v":"-"},{"$f":"IFERROR(ROUND(PERCENTILE(_xlfn._xlws.FILTER(Data_Table[Speed],(Data_Table[Direction]=ImportData!Direction_1)*(Data_Table[Period]-INT(Data_Table[Period])=B173)*(Data_Table[Weekday]<6)*(SUM(C173:N173)>=10)),0.85),2),\"-\")","v":"-"}]
[null,"02:00:00",{"$f":"SUM(C6,C30,C54,C78,C102)","v":0},0,0,0,0,0,0,0,0,0,0,0,0,0,0,{"$f":"SUM(R6,R30,R54,R78,R102)","v":0},0,0,0,0,0,0,0,0,0,0,0,0,0,0,0,0,0,0,0,{"$f":"SUM(AL6,AL30,AL54,AL78,AL102)","v":0},{"$f":"IFERROR(ROUND(AVERAGE(_xlfn._xlws.FILTER(Data_Table[Speed],(Data_Table[Direction]=ImportData!Direction_1)*(Data_Table[Period]-INT(Data_Table[Period])=B174)*(Data_Table[Weekday]<6))),2),\"-\")","v":"-"},{"$f":"IFERROR(ROUND(PERCENTILE(_xlfn._xlws.FILTER(Data_Table[Speed],(Data_Table[Direction]=ImportData!Direction_1)*(Data_Table[Period]-INT(Data_Table[Period])=B174)*(Data_Table[Weekday]<6)*(SUM(C174:N174)>=10)),0.85),2),\"-\")","v":"-"}]
[null,"03:00:00",{"$f":"SUM(C7,C31,C55,C79,C103)","v":0},0,0,0,0,0,0,0,0,0,0,0,0,0,0,{"$f":"SUM(R7,R31,R55,R79,R103)","v":0},0,0,0,0,0,0,0,0,0,0,0,0,0,0,0,0,0,0,0,{"$f":"SUM(AL7,AL31,AL55,AL79,AL103)","v":0},{"$f":"IFERROR(ROUND(AVERAGE(_xlfn._xlws.FILTER(Data_Table[Speed],(Data_Table[Direction]=ImportData!Direction_1)*(Data_Table[Period]-INT(Data_Table[Period])=B175)*(Data_Table[Weekday]<6))),2),\"-\")","v":"-"},{"$f":"IFERROR(ROUND(PERCENTILE(_xlfn._xlws.FILTER(Data_Table[Speed],(Data_Table[Direction]=ImportData!Direction_1)*(Data_Table[Period]-INT(Data_Table[Period])=B175)*(Data_Table[Weekday]<6)*(SUM(C175:N175)>=10)),0.85),2),\"-\")","v":"-"}]
[null,"04:00:00",{"$f":"SUM(C8,C32,C56,C80,C104)","v":0},0,0,0,0,0,0,0,0,0,0,0,0,0,0,{"$f":"SUM(R8,R32,R56,R80,R104)","v":0},0,0,0,0,0,0,0,0,0,0,0,0,0,0,0,0,0,0,0,{"$f":"SUM(AL8,AL32,AL56,AL80,AL104)","v":0},{"$f":"IFERROR(ROUND(AVERAGE(_xlfn._xlws.FILTER(Data_Table[Speed],(Data_Table[Direction]=ImportData!Direction_1)*(Data_Table[Period]-INT(Data_Table[Period])=B176)*(Data_Table[Weekday]<6))),2),\"-\")","v":"-"},{"$f":"IFERROR(ROUND(PERCENTILE(_xlfn._xlws.FILTER(Data_Table[Speed],(Data_Table[Direction]=ImportData!Direction_1)*(Data_Table[Period]-INT(Data_Table[Period])=B176)*(Data_Table[Weekday]<6)*(SUM(C176:N176)>=10)),0.85),2),\"-\")","v":"-"}]
[null,"05:00:00",{"$f":"SUM(C9,C33,C57,C81,C105)","v":0},0,0,0,0,0,0,0,0,0,0,0,0,0,0,{"$f":"SUM(R9,R33,R57,R81,R105)","v":0},0,0,0,0,0,0,0,0,0,0,0,0,0,0,0,0,0,0,0,{"$f":"SUM(AL9,AL33,AL57,AL81,AL105)","v":0},{"$f":"IFERROR(ROUND(AVERAGE(_xlfn._xlws.FILTER(Data_Table[Speed],(Data_Table[Direction]=ImportData!Direction_1)*(Data_Table[Period]-INT(Data_Table[Period])=B177)*(Data_Table[Weekday]<6))),2),\"-\")","v":"-"},{"$f":"IFERROR(ROUND(PERCENTILE(_xlfn._xlws.FILTER(Data_Table[Speed],(Data_Table[Direction]=ImportData!Direction_1)*(Data_Table[Period]-INT(Data_Table[Period])=B177)*(Data_Table[Weekday]<6)*(SUM(C177:N177)>=10)),0.85),2),\"-\")","v":"-"}]
[null,"06:00:00",{"$f":"SUM(C10,C34,C58,C82,C106)","v":0},0,0,0,0,0,0,0,0,0,0,0,0,0,0,{"$f":"SUM(R10,R34,R58,R82,R106)","v":0},0,0,0,0,0,0,0,0,0,0,0,0,0,0,0,0,0,0,0,{"$f":"SUM(AL10,AL34,AL58,AL82,AL106)","v":0},{"$f":"IFERROR(ROUND(AVERAGE(_xlfn._xlws.FILTER(Data_Table[Speed],(Data_Table[Direction]=ImportData!Direction_1)*(Data_Table[Period]-INT(Data_Table[Period])=B178)*(Data_Table[Weekday]<6))),2),\"-\")","v":"-"},{"$f":"IFERROR(ROUND(PERCENTILE(_xlfn._xlws.FILTER(Data_Table[Speed],(Data_Table[Direction]=ImportData!Direction_1)*(Data_Table[Period]-INT(Data_Table[Period])=B178)*(Data_Table[Weekday]<6)*(SUM(C178:N178)>=10)),0.85),2),\"-\")","v":"-"}]
[null,"07:00:00",{"$f":"SUM(C11,C35,C59,C83,C107)","v":0},0,0,0,0,0,0,0,0,0,0,0,0,0,0,{"$f":"SUM(R11,R35,R59,R83,R107)","v":0},0,0,0,0,0,0,0,0,0,0,0,0,0,0,0,0,0,0,0,{"$f":"SUM(AL11,AL35,AL59,AL83,AL107)","v":0},{"$f":"IFERROR(ROUND(AVERAGE(_xlfn._xlws.FILTER(Data_Table[Speed],(Data_Table[Direction]=ImportData!Direction_1)*(Data_Table[Period]-INT(Data_Table[Period])=B179)*(Data_Table[Weekday]<6))),2),\"-\")","v":"-"},{"$f":"IFERROR(ROUND(PERCENTILE(_xlfn._xlws.FILTER(Data_Table[Speed],(Data_Table[Direction]=ImportData!Direction_1)*(Data_Table[Period]-INT(Data_Table[Period])=B179)*(Data_Table[Weekday]<6)*(SUM(C179:N179)>=10)),0.85),2),\"-\")","v":"-"}]
[null,"08:00:00",{"$f":"SUM(C12,C36,C60,C84,C108)","v":0},0,0,0,0,0,0,0,0,0,0,0,0,0,0,{"$f":"SUM(R12,R36,R60,R84,R108)","v":0},0,0,0,0,0,0,0,0,0,0,0,0,0,0,0,0,0,0,0,{"$f":"SUM(AL12,AL36,AL60,AL84,AL108)","v":0},{"$f":"IFERROR(ROUND(AVERAGE(_xlfn._xlws.FILTER(Data_Table[Speed],(Data_Table[Direction]=ImportData!Direction_1)*(Data_Table[Period]-INT(Data_Table[Period])=B180)*(Data_Table[Weekday]<6))),2),\"-\")","v":"-"},{"$f":"IFERROR(ROUND(PERCENTILE(_xlfn._xlws.FILTER(Data_Table[Speed],(Data_Table[Direction]=ImportData!Direction_1)*(Data_Table[Period]-INT(Data_Table[Period])=B180)*(Data_Table[Weekday]<6)*(SUM(C180:N180)>=10)),0.85),2),\"-\")","v":"-"}]
[null,"09:00:00",{"$f":"SUM(C13,C37,C61,C85,C109)","v":0},0,0,0,0,0,0,0,0,0,0,0,0,0,0,{"$f":"SUM(R13,R37,R61,R85,R109)","v":0},0,0,0,0,0,0,0,0,0,0,0,0,0,0,0,0,0,0,0,{"$f":"SUM(AL13,AL37,AL61,AL85,AL109)","v":0},{"$f":"IFERROR(ROUND(AVERAGE(_xlfn._xlws.FILTER(Data_Table[Speed],(Data_Table[Direction]=ImportData!Direction_1)*(Data_Table[Period]-INT(Data_Table[Period])=B181)*(Data_Table[Weekday]<6))),2),\"-\")","v":"-"},{"$f":"IFERROR(ROUND(PERCENTILE(_xlfn._xlws.FILTER(Data_Table[Speed],(Data_Table[Direction]=ImportData!Direction_1)*(Data_Table[Period]-INT(Data_Table[Period])=B181)*(Data_Table[Weekday]<6)*(SUM(C181:N181)>=10)),0.85),2),\"-\")","v":"-"}]
[null,"10:00:00",{"$f":"SUM(C14,C38,C62,C86,C110)","v":0},0,0,0,0,0,0,0,0,0,0,0,0,0,0,{"$f":"SUM(R14,R38,R62,R86,R110)","v":0},0,0,0,0,0,0,0,0,0,0,0,0,0,0,0,0,0,0,0,{"$f":"SUM(AL14,AL38,AL62,AL86,AL110)","v":0},{"$f":"IFERROR(ROUND(AVERAGE(_xlfn._xlws.FILTER(Data_Table[Speed],(Data_Table[Direction]=ImportData!Direction_1)*(Data_Table[Period]-INT(Data_Table[Period])=B182)*(Data_Table[Weekday]<6))),2),\"-\")","v":"-"},{"$f":"IFERROR(ROUND(PERCENTILE(_xlfn._xlws.FILTER(Data_Table[Speed],(Data_Table[Direction]=ImportData!Direction_1)*(Data_Table[Period]-INT(Data_Table[Period])=B182)*(Data_Table[Weekday]<6)*(SUM(C182:N182)>=10)),0.85),2),\"-\")","v":"-"}]
[null,"11:00:00",{"$f":"SUM(C15,C39,C63,C87,C111)","v":0},0,0,0,0,0,0,0,0,0,0,0,0,0,0,{"$f":"SUM(R15,R39,R63,R87,R111)","v":0},0,0,0,0,0,0,0,0,0,0,0,0,0,0,0,0,0,0,0,{"$f":"SUM(AL15,AL39,AL63,AL87,AL111)","v":0},{"$f":"IFERROR(ROUND(AVERAGE(_xlfn._xlws.FILTER(Data_Table[Speed],(Data_Table[Direction]=ImportData!Direction_1)*(Data_Table[Period]-INT(Data_Table[Period])=B183)*(Data_Table[Weekday]<6))),2),\"-\")","v":"-"},{"$f":"IFERROR(ROUND(PERCENTILE(_xlfn._xlws.FILTER(Data_Table[Speed],(Data_Table[Direction]=ImportData!Direction_1)*(Data_Table[Period]-INT(Data_Table[Period])=B183)*(Data_Table[Weekday]<6)*(SUM(C183:N183)>=10)),0.85),2),\"-\")","v":"-"}]
[null,"12:00:00",{"$f":"SUM(C16,C40,C64,C88,C112)","v":0},0,0,0,0,0,0,0,0,0,0,0,0,0,0,{"$f":"SUM(R16,R40,R64,R88,R112)","v":0},0,0,0,0,0,0,0,0,0,0,0,0,0,0,0,0,0,0,0,{"$f":"SUM(AL16,AL40,AL64,AL88,AL112)","v":0},{"$f":"IFERROR(ROUND(AVERAGE(_xlfn._xlws.FILTER(Data_Table[Speed],(Data_Table[Direction]=ImportData!Direction_1)*(Data_Table[Period]-INT(Data_Table[Period])=B184)*(Data_Table[Weekday]<6))),2),\"-\")","v":"-"},{"$f":"IFERROR(ROUND(PERCENTILE(_xlfn._xlws.FILTER(Data_Table[Speed],(Data_Table[Direction]=ImportData!Direction_1)*(Data_Table[Period]-INT(Data_Table[Period])=B184)*(Data_Table[Weekday]<6)*(SUM(C184:N184)>=10)),0.85),2),\"-\")","v":"-"}]
[null,"13:00:00",{"$f":"SUM(C17,C41,C65,C89,C113)","v":0},0,0,0,0,0,0,0,0,0,0,0,0,0,0,{"$f":"SUM(R17,R41,R65,R89,R113)","v":0},0,0,0,0,0,0,0,0,0,0,0,0,0,0,0,0,0,0,0,{"$f":"SUM(AL17,AL41,AL65,AL89,AL113)","v":0},{"$f":"IFERROR(ROUND(AVERAGE(_xlfn._xlws.FILTER(Data_Table[Speed],(Data_Table[Direction]=ImportData!Direction_1)*(Data_Table[Period]-INT(Data_Table[Period])=B185)*(Data_Table[Weekday]<6))),2),\"-\")","v":"-"},{"$f":"IFERROR(ROUND(PERCENTILE(_xlfn._xlws.FILTER(Data_Table[Speed],(Data_Table[Direction]=ImportData!Direction_1)*(Data_Table[Period]-INT(Data_Table[Period])=B185)*(Data_Table[Weekday]<6)*(SUM(C185:N185)>=10)),0.85),2),\"-\")","v":"-"}]
[null,"14:00:00",{"$f":"SUM(C18,C42,C66,C90,C114)","v":0},0,0,0,0,0,0,0,0,0,0,0,0,0,0,{"$f":"SUM(R18,R42,R66,R90,R114)","v":0},0,0,0,0,0,0,0,0,0,0,0,0,0,0,0,0,0,0,0,{"$f":"SUM(AL18,AL42,AL66,AL90,AL114)","v":0},{"$f":"IFERROR(ROUND(AVERAGE(_xlfn._xlws.FILTER(Data_Table[Speed],(Data_Table[Direction]=ImportData!Direction_1)*(Data_Table[Period]-INT(Data_Table[Period])=B186)*(Data_Table[Weekday]<6))),2),\"-\")","v":"-"},{"$f":"IFERROR(ROUND(PERCENTILE(_xlfn._xlws.FILTER(Data_Table[Speed],(Data_Table[Direction]=ImportData!Direction_1)*(Data_Table[Period]-INT(Data_Table[Period])=B186)*(Data_Table[Weekday]<6)*(SUM(C186:N186)>=10)),0.85),2),\"-\")","v":"-"}]
[null,"15:00:00",{"$f":"SUM(C19,C43,C67,C91,C115)","v":0},0,0,0,0,0,0,0,0,0,0,0,0,0,0,{"$f":"SUM(R19,R43,R67,R91,R115)","v":0},0,0,0,0,0,0,0,0,0,0,0,0,0,0,0,0,0,0,0,{"$f":"SUM(AL19,AL43,AL67,AL91,AL115)","v":0},{"$f":"IFERROR(ROUND(AVERAGE(_xlfn._xlws.FILTER(Data_Table[Speed],(Data_Table[Direction]=ImportData!Direction_1)*(Data_Table[Period]-INT(Data_Table[Period])=B187)*(Data_Table[Weekday]<6))),2),\"-\")","v":"-"},{"$f":"IFERROR(ROUND(PERCENTILE(_xlfn._xlws.FILTER(Data_Table[Speed],(Data_Table[Direction]=ImportData!Direction_1)*(Data_Table[Period]-INT(Data_Table[Period])=B187)*(Data_Table[Weekday]<6)*(SUM(C187:N187)>=10)),0.85),2),\"-\")","v":"-"}]
[null,"16:00:00",{"$f":"SUM(C20,C44,C68,C92,C116)","v":0},0,0,0,0,0,0,0,0,0,0,0,0,0,0,{"$f":"SUM(R20,R44,R68,R92,R116)","v":0},0,0,0,0,0,0,0,0,0,0,0,0,0,0,0,0,0,0,0,{"$f":"SUM(AL20,AL44,AL68,AL92,AL116)","v":0},{"$f":"IFERROR(ROUND(AVERAGE(_xlfn._xlws.FILTER(Data_Table[Speed],(Data_Table[Direction]=ImportData!Direction_1)*(Data_Table[Period]-INT(Data_Table[Period])=B188)*(Data_Table[Weekday]<6))),2),\"-\")","v":"-"},{"$f":"IFERROR(ROUND(PERCENTILE(_xlfn._xlws.FILTER(Data_Table[Speed],(Data_Table[Direction]=ImportData!Direction_1)*(Data_Table[Period]-INT(Data_Table[Period])=B188)*(Data_Table[Weekday]<6)*(SUM(C188:N188)>=10)),0.85),2),\"-\")","v":"-"}]
[null,"17:00:00",{"$f":"SUM(C21,C45,C69,C93,C117)","v":0},0,0,0,0,0,0,0,0,0,0,0,0,0,0,{"$f":"SUM(R21,R45,R69,R93,R117)","v":0},0,0,0,0,0,0,0,0,0,0,0,0,0,0,0,0,0,0,0,{"$f":"SUM(AL21,AL45,AL69,AL93,AL117)","v":0},{"$f":"IFERROR(ROUND(AVERAGE(_xlfn._xlws.FILTER(Data_Table[Speed],(Data_Table[Direction]=ImportData!Direction_1)*(Data_Table[Period]-INT(Data_Table[Period])=B189)*(Data_Table[Weekday]<6))),2),\"-\")","v":"-"},{"$f":"IFERROR(ROUND(PERCENTILE(_xlfn._xlws.FILTER(Data_Table[Speed],(Data_Table[Direction]=ImportData!Direction_1)*(Data_Table[Period]-INT(Data_Table[Period])=B189)*(Data_Table[Weekday]<6)*(SUM(C189:N189)>=10)),0.85),2),\"-\")","v":"-"}]
[null,"18:00:00",{"$f":"SUM(C22,C46,C70,C94,C118)","v":0},0,0,0,0,0,0,0,0,0,0,0,0,0,0,{"$f":"SUM(R22,R46,R70,R94,R118)","v":0},0,0,0,0,0,0,0,0,0,0,0,0,0,0,0,0,0,0,0,{"$f":"SUM(AL22,AL46,AL70,AL94,AL118)","v":0},{"$f":"IFERROR(ROUND(AVERAGE(_xlfn._xlws.FILTER(Data_Table[Speed],(Data_Table[Direction]=ImportData!Direction_1)*(Data_Table[Period]-INT(Data_Table[Period])=B190)*(Data_Table[Weekday]<6))),2),\"-\")","v":"-"},{"$f":"IFERROR(ROUND(PERCENTILE(_xlfn._xlws.FILTER(Data_Table[Speed],(Data_Table[Direction]=ImportData!Direction_1)*(Data_Table[Period]-INT(Data_Table[Period])=B190)*(Data_Table[Weekday]<6)*(SUM(C190:N190)>=10)),0.85),2),\"-\")","v":"-"}]
[null,"19:00:00",{"$f":"SUM(C23,C47,C71,C95,C119)","v":0},0,0,0,0,0,0,0,0,0,0,0,0,0,0,{"$f":"SUM(R23,R47,R71,R95,R119)","v":0},0,0,0,0,0,0,0,0,0,0,0,0,0,0,0,0,0,0,0,{"$f":"SUM(AL23,AL47,AL71,AL95,AL119)","v":0},{"$f":"IFERROR(ROUND(AVERAGE(_xlfn._xlws.FILTER(Data_Table[Speed],(Data_Table[Direction]=ImportData!Direction_1)*(Data_Table[Period]-INT(Data_Table[Period])=B191)*(Data_Table[Weekday]<6))),2),\"-\")","v":"-"},{"$f":"IFERROR(ROUND(PERCENTILE(_xlfn._xlws.FILTER(Data_Table[Speed],(Data_Table[Direction]=ImportData!Direction_1)*(Data_Table[Period]-INT(Data_Table[Period])=B191)*(Data_Table[Weekday]<6)*(SUM(C191:N191)>=10)),0.85),2),\"-\")","v":"-"}]
[null,"20:00:00",{"$f":"SUM(C24,C48,C72,C96,C120)","v":0},0,0,0,0,0,0,0,0,0,0,0,0,0,0,{"$f":"SUM(R24,R48,R72,R96,R120)","v":0},0,0,0,0,0,0,0,0,0,0,0,0,0,0,0,0,0,0,0,{"$f":"SUM(AL24,AL48,AL72,AL96,AL120)","v":0},{"$f":"IFERROR(ROUND(AVERAGE(_xlfn._xlws.FILTER(Data_Table[Speed],(Data_Table[Direction]=ImportData!Direction_1)*(Data_Table[Period]-INT(Data_Table[Period])=B192)*(Data_Table[Weekday]<6))),2),\"-\")","v":"-"},{"$f":"IFERROR(ROUND(PERCENTILE(_xlfn._xlws.FILTER(Data_Table[Speed],(Data_Table[Direction]=ImportData!Direction_1)*(Data_Table[Period]-INT(Data_Table[Period])=B192)*(Data_Table[Weekday]<6)*(SUM(C192:N192)>=10)),0.85),2),\"-\")","v":"-"}]
[null,"21:00:00",{"$f":"SUM(C25,C49,C73,C97,C121)","v":0},0,0,0,0,0,0,0,0,0,0,0,0,0,0,{"$f":"SUM(R25,R49,R73,R97,R121)","v":0},0,0,0,0,0,0,0,0,0,0,0,0,0,0,0,0,0,0,0,{"$f":"SUM(AL25,AL49,AL73,AL97,AL121)","v":0},{"$f":"IFERROR(ROUND(AVERAGE(_xlfn._xlws.FILTER(Data_Table[Speed],(Data_Table[Direction]=ImportData!Direction_1)*(Data_Table[Period]-INT(Data_Table[Period])=B193)*(Data_Table[Weekday]<6))),2),\"-\")","v":"-"},{"$f":"IFERROR(ROUND(PERCENTILE(_xlfn._xlws.FILTER(Data_Table[Speed],(Data_Table[Direction]=ImportData!Direction_1)*(Data_Table[Period]-INT(Data_Table[Period])=B193)*(Data_Table[Weekday]<6)*(SUM(C193:N193)>=10)),0.85),2),\"-\")","v":"-"}]
[null,"22:00:00",{"$f":"SUM(C26,C50,C74,C98,C122)","v":0},0,0,0,0,0,0,0,0,0,0,0,0,0,0,{"$f":"SUM(R26,R50,R74,R98,R122)","v":0},0,0,0,0,0,0,0,0,0,0,0,0,0,0,0,0,0,0,0,{"$f":"SUM(AL26,AL50,AL74,AL98,AL122)","v":0},{"$f":"IFERROR(ROUND(AVERAGE(_xlfn._xlws.FILTER(Data_Table[Speed],(Data_Table[Direction]=ImportData!Direction_1)*(Data_Table[Period]-INT(Data_Table[Period])=B194)*(Data_Table[Weekday]<6))),2),\"-\")","v":"-"},{"$f":"IFERROR(ROUND(PERCENTILE(_xlfn._xlws.FILTER(Data_Table[Speed],(Data_Table[Direction]=ImportData!Direction_1)*(Data_Table[Period]-INT(Data_Table[Period])=B194)*(Data_Table[Weekday]<6)*(SUM(C194:N194)>=10)),0.85),2),\"-\")","v":"-"}]
[null,"23:00:00",{"$f":"SUM(C27,C51,C75,C99,C123)","v":0},0,0,0,0,0,0,0,0,0,0,0,0,0,0,{"$f":"SUM(R27,R51,R75,R99,R123)","v":0},0,0,0,0,0,0,0,0,0,0,0,0,0,0,0,0,0,0,0,{"$f":"SUM(AL27,AL51,AL75,AL99,AL123)","v":0},{"$f":"IFERROR(ROUND(AVERAGE(_xlfn._xlws.FILTER(Data_Table[Speed],(Data_Table[Direction]=ImportData!Direction_1)*(Data_Table[Period]-INT(Data_Table[Period])=B195)*(Data_Table[Weekday]<6))),2),\"-\")","v":"-"},{"$f":"IFERROR(ROUND(PERCENTILE(_xlfn._xlws.FILTER(Data_Table[Speed],(Data_Table[Direction]=ImportData!Direction_1)*(Data_Table[Period]-INT(Data_Table[Period])=B195)*(Data_Table[Weekday]<6)*(SUM(C195:N195)>=10)),0.85),2),\"-\")","v":"-"}]
[null,"00:00:00",{"$f":"SUM(C4,C28,C52,C76,C100,C124,C148)","v":0},{"$f":"SUM(D4,D28,D52,D76,D100,D124,D148)","v":0},0,0,0,0,0,0,0,0,0,0,0,0,0,{"$f":"SUM(R4,R28,R52,R76,R100,R124,R148)","v":0},0,0,0,0,0,0,0,0,0,0,0,0,0,0,0,0,0,0,0,{"$f":"SUM(AL4,AL28,AL52,AL76,AL100,AL124,AL148)","v":0},{"$f":"IFERROR(ROUND(AVERAGE(_xlfn._xlws.FILTER(Data_Table[Speed],(Data_Table[Direction]=ImportData!Direction_1)*(Data_Table[Period]-INT(Data_Table[Period])=B196))),2),\"-\")","v":"-"},{"$f":"IFERROR(ROUND(PERCENTILE(_xlfn._xlws.FILTER(Data_Table[Speed],(Data_Table[Direction]=ImportData!Direction_1)*(Data_Table[Period]-INT(Data_Table[Period])=B196)*(SUM(C196:N196)>=10)),0.85),2),\"-\")","v":"-"}]
[null,"01:00:00",{"$f":"SUM(C5,C29,C53,C77,C101,C125,C149)","v":0},0,0,0,0,0,0,0,0,0,0,0,0,0,0,{"$f":"SUM(R5,R29,R53,R77,R101,R125,R149)","v":0},0,0,0,0,0,0,0,0,0,0,0,0,0,0,0,0,0,0,0,{"$f":"SUM(AL5,AL29,AL53,AL77,AL101,AL125,AL149)","v":0},{"$f":"IFERROR(ROUND(AVERAGE(_xlfn._xlws.FILTER(Data_Table[Speed],(Data_Table[Direction]=ImportData!Direction_1)*(Data_Table[Period]-INT(Data_Table[Period])=B197))),2),\"-\")","v":"-"},{"$f":"IFERROR(ROUND(PERCENTILE(_xlfn._xlws.FILTER(Data_Table[Speed],(Data_Table[Direction]=ImportData!Direction_1)*(Data_Table[Period]-INT(Data_Table[Period])=B197)*(SUM(C197:N197)>=10)),0.85),2),\"-\")","v":"-"}]
[null,"02:00:00",{"$f":"SUM(C6,C30,C54,C78,C102,C126,C150)","v":0},0,0,0,0,0,0,0,0,0,0,0,0,0,0,{"$f":"SUM(R6,R30,R54,R78,R102,R126,R150)","v":0},0,0,0,0,0,0,0,0,0,0,0,0,0,0,0,0,0,0,0,{"$f":"SUM(AL6,AL30,AL54,AL78,AL102,AL126,AL150)","v":0},{"$f":"IFERROR(ROUND(AVERAGE(_xlfn._xlws.FILTER(Data_Table[Speed],(Data_Table[Direction]=ImportData!Direction_1)*(Data_Table[Period]-INT(Data_Table[Period])=B198))),2),\"-\")","v":"-"},{"$f":"IFERROR(ROUND(PERCENTILE(_xlfn._xlws.FILTER(Data_Table[Speed],(Data_Table[Direction]=ImportData!Direction_1)*(Data_Table[Period]-INT(Data_Table[Period])=B198)*(SUM(C198:N198)>=10)),0.85),2),\"-\")","v":"-"}]
[null,"03:00:00",{"$f":"SUM(C7,C31,C55,C79,C103,C127,C151)","v":0},0,0,0,0,0,0,0,0,0,0,0,0,0,0,{"$f":"SUM(R7,R31,R55,R79,R103,R127,R151)","v":0},0,0,0,0,0,0,0,0,0,0,0,0,0,0,0,0,0,0,0,{"$f":"SUM(AL7,AL31,AL55,AL79,AL103,AL127,AL151)","v":0},{"$f":"IFERROR(ROUND(AVERAGE(_xlfn._xlws.FILTER(Data_Table[Speed],(Data_Table[Direction]=ImportData!Direction_1)*(Data_Table[Period]-INT(Data_Table[Period])=B199))),2),\"-\")","v":"-"},{"$f":"IFERROR(ROUND(PERCENTILE(_xlfn._xlws.FILTER(Data_Table[Speed],(Data_Table[Direction]=ImportData!Direction_1)*(Data_Table[Period]-INT(Data_Table[Period])=B199)*(SUM(C199:N199)>=10)),0.85),2),\"-\")","v":"-"}]
[null,"04:00:00",{"$f":"SUM(C8,C32,C56,C80,C104,C128,C152)","v":0},0,0,0,0,0,0,0,0,0,0,0,0,0,0,{"$f":"SUM(R8,R32,R56,R80,R104,R128,R152)","v":0},0,0,0,0,0,0,0,0,0,0,0,0,0,0,0,0,0,0,0,{"$f":"SUM(AL8,AL32,AL56,AL80,AL104,AL128,AL152)","v":0},{"$f":"IFERROR(ROUND(AVERAGE(_xlfn._xlws.FILTER(Data_Table[Speed],(Data_Table[Direction]=ImportData!Direction_1)*(Data_Table[Period]-INT(Data_Table[Period])=B200))),2),\"-\")","v":"-"},{"$f":"IFERROR(ROUND(PERCENTILE(_xlfn._xlws.FILTER(Data_Table[Speed],(Data_Table[Direction]=ImportData!Direction_1)*(Data_Table[Period]-INT(Data_Table[Period])=B200)*(SUM(C200:N200)>=10)),0.85),2),\"-\")","v":"-"}]
[null,"05:00:00",{"$f":"SUM(C9,C33,C57,C81,C105,C129,C153)","v":0},0,0,0,0,0,0,0,0,0,0,0,0,0,0,{"$f":"SUM(R9,R33,R57,R81,R105,R129,R153)","v":0},0,0,0,0,0,0,0,0,0,0,0,0,0,0,0,0,0,0,0,{"$f":"SUM(AL9,AL33,AL57,AL81,AL105,AL129,AL153)","v":0},{"$f":"IFERROR(ROUND(AVERAGE(_xlfn._xlws.FILTER(Data_Table[Speed],(Data_Table[Direction]=ImportData!Direction_1)*(Data_Table[Period]-INT(Data_Table[Period])=B201))),2),\"-\")","v":"-"},{"$f":"IFERROR(ROUND(PERCENTILE(_xlfn._xlws.FILTER(Data_Table[Speed],(Data_Table[Direction]=ImportData!Direction_1)*(Data_Table[Period]-INT(Data_Table[Period])=B201)*(SUM(C201:N201)>=10)),0.85),2),\"-\")","v":"-"}]
[null,"06:00:00",{"$f":"SUM(C10,C34,C58,C82,C106,C130,C154)","v":0},0,0,0,0,0,0,0,0,0,0,0,0,0,0,{"$f":"SUM(R10,R34,R58,R82,R106,R130,R154)","v":0},0,0,0,0,0,0,0,0,0,0,0,0,0,0,0,0,0,0,0,{"$f":"SUM(AL10,AL34,AL58,AL82,AL106,AL130,AL154)","v":0},{"$f":"IFERROR(ROUND(AVERAGE(_xlfn._xlws.FILTER(Data_Table[Speed],(Data_Table[Direction]=ImportData!Direction_1)*(Data_Table[Period]-INT(Data_Table[Period])=B202))),2),\"-\")","v":"-"},{"$f":"IFERROR(ROUND(PERCENTILE(_xlfn._xlws.FILTER(Data_Table[Speed],(Data_Table[Direction]=ImportData!Direction_1)*(Data_Table[Period]-INT(Data_Table[Period])=B202)*(SUM(C202:N202)>=10)),0.85),2),\"-\")","v":"-"}]
[null,"07:00:00",{"$f":"SUM(C11,C35,C59,C83,C107,C131,C155)","v":0},0,0,0,0,0,0,0,0,0,0,0,0,0,0,{"$f":"SUM(R11,R35,R59,R83,R107,R131,R155)","v":0},0,0,0,0,0,0,0,0,0,0,0,0,0,0,0,0,0,0,0,{"$f":"SUM(AL11,AL35,AL59,AL83,AL107,AL131,AL155)","v":0},{"$f":"IFERROR(ROUND(AVERAGE(_xlfn._xlws.FILTER(Data_Table[Speed],(Data_Table[Direction]=ImportData!Direction_1)*(Data_Table[Period]-INT(Data_Table[Period])=B203))),2),\"-\")","v":"-"},{"$f":"IFERROR(ROUND(PERCENTILE(_xlfn._xlws.FILTER(Data_Table[Speed],(Data_Table[Direction]=ImportData!Direction_1)*(Data_Table[Period]-INT(Data_Table[Period])=B203)*(SUM(C203:N203)>=10)),0.85),2),\"-\")","v":"-"}]
[null,"08:00:00",{"$f":"SUM(C12,C36,C60,C84,C108,C132,C156)","v":0},0,0,0,0,0,0,0,0,0,0,0,0,0,0,{"$f":"SUM(R12,R36,R60,R84,R108,R132,R156)","v":0},0,0,0,0,0,0,0,0,0,0,0,0,0,0,0,0,0,0,0,{"$f":"SUM(AL12,AL36,AL60,AL84,AL108,AL132,AL156)","v":0},{"$f":"IFERROR(ROUND(AVERAGE(_xlfn._xlws.FILTER(Data_Table[Speed],(Data_Table[Direction]=ImportData!Direction_1)*(Data_Table[Period]-INT(Data_Table[Period])=B204))),2),\"-\")","v":"-"},{"$f":"IFERROR(ROUND(PERCENTILE(_xlfn._xlws.FILTER(Data_Table[Speed],(Data_Table[Direction]=ImportData!Direction_1)*(Data_Table[Period]-INT(Data_Table[Period])=B204)*(SUM(C204:N204)>=10)),0.85),2),\"-\")","v":"-"}]
[null,"09:00:00",{"$f":"SUM(C13,C37,C61,C85,C109,C133,C157)","v":0},0,0,0,0,0,0,0,0,0,0,0,0,0,0,{"$f":"SUM(R13,R37,R61,R85,R109,R133,R157)","v":0},0,0,0,0,0,0,0,0,0,0,0,0,0,0,0,0,0,0,0,{"$f":"SUM(AL13,AL37,AL61,AL85,AL109,AL133,AL157)","v":0},{"$f":"IFERROR(ROUND(AVERAGE(_xlfn._xlws.FILTER(Data_Table[Speed],(Data_Table[Direction]=ImportData!Direction_1)*(Data_Table[Period]-INT(Data_Table[Period])=B205))),2),\"-\")","v":"-"},{"$f":"IFERROR(ROUND(PERCENTILE(_xlfn._xlws.FILTER(Data_Table[Speed],(Data_Table[Direction]=ImportData!Direction_1)*(Data_Table[Period]-INT(Data_Table[Period])=B205)*(SUM(C205:N205)>=10)),0.85),2),\"-\")","v":"-"}]
[null,"10:00:00",{"$f":"SUM(C14,C38,C62,C86,C110,C134,C158)","v":0},0,0,0,0,0,0,0,0,0,0,0,0,0,0,{"$f":"SUM(R14,R38,R62,R86,R110,R134,R158)","v":0},0,0,0,0,0,0,0,0,0,0,0,0,0,0,0,0,0,0,0,{"$f":"SUM(AL14,AL38,AL62,AL86,AL110,AL134,AL158)","v":0},{"$f":"IFERROR(ROUND(AVERAGE(_xlfn._xlws.FILTER(Data_Table[Speed],(Data_Table[Direction]=ImportData!Direction_1)*(Data_Table[Period]-INT(Data_Table[Period])=B206))),2),\"-\")","v":"-"},{"$f":"IFERROR(ROUND(PERCENTILE(_xlfn._xlws.FILTER(Data_Table[Speed],(Data_Table[Direction]=ImportData!Direction_1)*(Data_Table[Period]-INT(Data_Table[Period])=B206)*(SUM(C206:N206)>=10)),0.85),2),\"-\")","v":"-"}]
[null,"11:00:00",{"$f":"SUM(C15,C39,C63,C87,C111,C135,C159)","v":0},0,0,0,0,0,0,0,0,0,0,0,0,0,0,{"$f":"SUM(R15,R39,R63,R87,R111,R135,R159)","v":0},0,0,0,0,0,0,0,0,0,0,0,0,0,0,0,0,0,0,0,{"$f":"SUM(AL15,AL39,AL63,AL87,AL111,AL135,AL159)","v":0},{"$f":"IFERROR(ROUND(AVERAGE(_xlfn._xlws.FILTER(Data_Table[Speed],(Data_Table[Direction]=ImportData!Direction_1)*(Data_Table[Period]-INT(Data_Table[Period])=B207))),2),\"-\")","v":"-"},{"$f":"IFERROR(ROUND(PERCENTILE(_xlfn._xlws.FILTER(Data_Table[Speed],(Data_Table[Direction]=ImportData!Direction_1)*(Data_Table[Period]-INT(Data_Table[Period])=B207)*(SUM(C207:N207)>=10)),0.85),2),\"-\")","v":"-"}]
[null,"12:00:00",{"$f":"SUM(C16,C40,C64,C88,C112,C136,C160)","v":0},0,0,0,0,0,0,0,0,0,0,0,0,0,0,{"$f":"SUM(R16,R40,R64,R88,R112,R136,R160)","v":0},0,0,0,0,0,0,0,0,0,0,0,0,0,0,0,0,0,0,0,{"$f":"SUM(AL16,AL40,AL64,AL88,AL112,AL136,AL160)","v":0},{"$f":"IFERROR(ROUND(AVERAGE(_xlfn._xlws.FILTER(Data_Table[Speed],(Data_Table[Direction]=ImportData!Direction_1)*(Data_Table[Period]-INT(Data_Table[Period])=B208))),2),\"-\")","v":"-"},{"$f":"IFERROR(ROUND(PERCENTILE(_xlfn._xlws.FILTER(Data_Table[Speed],(Data_Table[Direction]=ImportData!Direction_1)*(Data_Table[Period]-INT(Data_Table[Period])=B208)*(SUM(C208:N208)>=10)),0.85),2),\"-\")","v":"-"}]
[null,"13:00:00",{"$f":"SUM(C17,C41,C65,C89,C113,C137,C161)","v":0},0,0,0,0,0,0,0,0,0,0,0,0,0,0,{"$f":"SUM(R17,R41,R65,R89,R113,R137,R161)","v":0},0,0,0,0,0,0,0,0,0,0,0,0,0,0,0,0,0,0,0,{"$f":"SUM(AL17,AL41,AL65,AL89,AL113,AL137,AL161)","v":0},{"$f":"IFERROR(ROUND(AVERAGE(_xlfn._xlws.FILTER(Data_Table[Speed],(Data_Table[Direction]=ImportData!Direction_1)*(Data_Table[Period]-INT(Data_Table[Period])=B209))),2),\"-\")","v":"-"},{"$f":"IFERROR(ROUND(PERCENTILE(_xlfn._xlws.FILTER(Data_Table[Speed],(Data_Table[Direction]=ImportData!Direction_1)*(Data_Table[Period]-INT(Data_Table[Period])=B209)*(SUM(C209:N209)>=10)),0.85),2),\"-\")","v":"-"}]
[null,"14:00:00",{"$f":"SUM(C18,C42,C66,C90,C114,C138,C162)","v":0},0,0,0,0,0,0,0,0,0,0,0,0,0,0,{"$f":"SUM(R18,R42,R66,R90,R114,R138,R162)","v":0},0,0,0,0,0,0,0,0,0,0,0,0,0,0,0,0,0,0,0,{"$f":"SUM(AL18,AL42,AL66,AL90,AL114,AL138,AL162)","v":0},{"$f":"IFERROR(ROUND(AVERAGE(_xlfn._xlws.FILTER(Data_Table[Speed],(Data_Table[Direction]=ImportData!Direction_1)*(Data_Table[Period]-INT(Data_Table[Period])=B210))),2),\"-\")","v":"-"},{"$f":"IFERROR(ROUND(PERCENTILE(_xlfn._xlws.FILTER(Data_Table[Speed],(Data_Table[Direction]=ImportData!Direction_1)*(Data_Table[Period]-INT(Data_Table[Period])=B210)*(SUM(C210:N210)>=10)),0.85),2),\"-\")","v":"-"}]
[null,"15:00:00",{"$f":"SUM(C19,C43,C67,C91,C115,C139,C163)","v":0},0,0,0,0,0,0,0,0,0,0,0,0,0,0,{"$f":"SUM(R19,R43,R67,R91,R115,R139,R163)","v":0},0,0,0,0,0,0,0,0,0,0,0,0,0,0,0,0,0,0,0,{"$f":"SUM(AL19,AL43,AL67,AL91,AL115,AL139,AL163)","v":0},{"$f":"IFERROR(ROUND(AVERAGE(_xlfn._xlws.FILTER(Data_Table[Speed],(Data_Table[Direction]=ImportData!Direction_1)*(Data_Table[Period]-INT(Data_Table[Period])=B211))),2),\"-\")","v":"-"},{"$f":"IFERROR(ROUND(PERCENTILE(_xlfn._xlws.FILTER(Data_Table[Speed],(Data_Table[Direction]=ImportData!Direction_1)*(Data_Table[Period]-INT(Data_Table[Period])=B211)*(SUM(C211:N211)>=10)),0.85),2),\"-\")","v":"-"}]
[null,"16:00:00",{"$f":"SUM(C20,C44,C68,C92,C116,C140,C164)","v":0},0,0,0,0,0,0,0,0,0,0,0,0,0,0,{"$f":"SUM(R20,R44,R68,R92,R116,R140,R164)","v":0},0,0,0,0,0,0,0,0,0,0,0,0,0,0,0,0,0,0,0,{"$f":"SUM(AL20,AL44,AL68,AL92,AL116,AL140,AL164)","v":0},{"$f":"IFERROR(ROUND(AVERAGE(_xlfn._xlws.FILTER(Data_Table[Speed],(Data_Table[Direction]=ImportData!Direction_1)*(Data_Table[Period]-INT(Data_Table[Period])=B212))),2),\"-\")","v":"-"},{"$f":"IFERROR(ROUND(PERCENTILE(_xlfn._xlws.FILTER(Data_Table[Speed],(Data_Table[Direction]=ImportData!Direction_1)*(Data_Table[Period]-INT(Data_Table[Period])=B212)*(SUM(C212:N212)>=10)),0.85),2),\"-\")","v":"-"}]
[null,"17:00:00",{"$f":"SUM(C21,C45,C69,C93,C117,C141,C165)","v":0},0,0,0,0,0,0,0,0,0,0,0,0,0,0,{"$f":"SUM(R21,R45,R69,R93,R117,R141,R165)","v":0},0,0,0,0,0,0,0,0,0,0,0,0,0,0,0,0,0,0,0,{"$f":"SUM(AL21,AL45,AL69,AL93,AL117,AL141,AL165)","v":0},{"$f":"IFERROR(ROUND(AVERAGE(_xlfn._xlws.FILTER(Data_Table[Speed],(Data_Table[Direction]=ImportData!Direction_1)*(Data_Table[Period]-INT(Data_Table[Period])=B213))),2),\"-\")","v":"-"},{"$f":"IFERROR(ROUND(PERCENTILE(_xlfn._xlws.FILTER(Data_Table[Speed],(Data_Table[Direction]=ImportData!Direction_1)*(Data_Table[Period]-INT(Data_Table[Period])=B213)*(SUM(C213:N213)>=10)),0.85),2),\"-\")","v":"-"}]
[null,"18:00:00",{"$f":"SUM(C22,C46,C70,C94,C118,C142,C166)","v":0},0,0,0,0,0,0,0,0,0,0,0,0,0,0,{"$f":"SUM(R22,R46,R70,R94,R118,R142,R166)","v":0},0,0,0,0,0,0,0,0,0,0,0,0,0,0,0,0,0,0,0,{"$f":"SUM(AL22,AL46,AL70,AL94,AL118,AL142,AL166)","v":0},{"$f":"IFERROR(ROUND(AVERAGE(_xlfn._xlws.FILTER(Data_Table[Speed],(Data_Table[Direction]=ImportData!Direction_1)*(Data_Table[Period]-INT(Data_Table[Period])=B214))),2),\"-\")","v":"-"},{"$f":"IFERROR(ROUND(PERCENTILE(_xlfn._xlws.FILTER(Data_Table[Speed],(Data_Table[Direction]=ImportData!Direction_1)*(Data_Table[Period]-INT(Data_Table[Period])=B214)*(SUM(C214:N214)>=10)),0.85),2),\"-\")","v":"-"}]
[null,"19:00:00",{"$f":"SUM(C23,C47,C71,C95,C119,C143,C167)","v":0},0,0,0,0,0,0,0,0,0,0,0,0,0,0,{"$f":"SUM(R23,R47,R71,R95,R119,R143,R167)","v":0},0,0,0,0,0,0,0,0,0,0,0,0,0,0,0,0,0,0,0,{"$f":"SUM(AL23,AL47,AL71,AL95,AL119,AL143,AL167)","v":0},{"$f":"IFERROR(ROUND(AVERAGE(_xlfn._xlws.FILTER(Data_Table[Speed],(Data_Table[Direction]=ImportData!Direction_1)*(Data_Table[Period]-INT(Data_Table[Period])=B215))),2),\"-\")","v":"-"},{"$f":"IFERROR(ROUND(PERCENTILE(_xlfn._xlws.FILTER(Data_Table[Speed],(Data_Table[Direction]=ImportData!Direction_1)*(Data_Table[Period]-INT(Data_Table[Period])=B215)*(SUM(C215:N215)>=10)),0.85),2),\"-\")","v":"-"}]
[null,"20:00:00",{"$f":"SUM(C24,C48,C72,C96,C120,C144,C168)","v":0},0,0,0,0,0,0,0,0,0,0,0,0,0,0,{"$f":"SUM(R24,R48,R72,R96,R120,R144,R168)","v":0},0,0,0,0,0,0,0,0,0,0,0,0,0,0,0,0,0,0,0,{"$f":"SUM(AL24,AL48,AL72,AL96,AL120,AL144,AL168)","v":0},{"$f":"IFERROR(ROUND(AVERAGE(_xlfn._xlws.FILTER(Data_Table[Speed],(Data_Table[Direction]=ImportData!Direction_1)*(Data_Table[Period]-INT(Data_Table[Period])=B216))),2),\"-\")","v":"-"},{"$f":"IFERROR(ROUND(PERCENTILE(_xlfn._xlws.FILTER(Data_Table[Speed],(Data_Table[Direction]=ImportData!Direction_1)*(Data_Table[Period]-INT(Data_Table[Period])=B216)*(SUM(C216:N216)>=10)),0.85),2),\"-\")","v":"-"}]
[null,"21:00:00",{"$f":"SUM(C25,C49,C73,C97,C121,C145,C169)","v":0},0,0,0,0,0,0,0,0,0,0,0,0,0,0,{"$f":"SUM(R25,R49,R73,R97,R121,R145,R169)","v":0},0,0,0,0,0,0,0,0,0,0,0,0,0,0,0,0,0,0,0,{"$f":"SUM(AL25,AL49,AL73,AL97,AL121,AL145,AL169)","v":0},{"$f":"IFERROR(ROUND(AVERAGE(_xlfn._xlws.FILTER(Data_Table[Speed],(Data_Table[Direction]=ImportData!Direction_1)*(Data_Table[Period]-INT(Data_Table[Period])=B217))),2),\"-\")","v":"-"},{"$f":"IFERROR(ROUND(PERCENTILE(_xlfn._xlws.FILTER(Data_Table[Speed],(Data_Table[Direction]=ImportData!Direction_1)*(Data_Table[Period]-INT(Data_Table[Period])=B217)*(SUM(C217:N217)>=10)),0.85),2),\"-\")","v":"-"}]
[null,"22:00:00",{"$f":"SUM(C26,C50,C74,C98,C122,C146,C170)","v":0},0,0,0,0,0,0,0,0,0,0,0,0,0,0,{"$f":"SUM(R26,R50,R74,R98,R122,R146,R170)","v":0},0,0,0,0,0,0,0,0,0,0,0,0,0,0,0,0,0,0,0,{"$f":"SUM(AL26,AL50,AL74,AL98,AL122,AL146,AL170)","v":0},{"$f":"IFERROR(ROUND(AVERAGE(_xlfn._xlws.FILTER(Data_Table[Speed],(Data_Table[Direction]=ImportData!Direction_1)*(Data_Table[Period]-INT(Data_Table[Period])=B218))),2),\"-\")","v":"-"},{"$f":"IFERROR(ROUND(PERCENTILE(_xlfn._xlws.FILTER(Data_Table[Speed],(Data_Table[Direction]=ImportData!Direction_1)*(Data_Table[Period]-INT(Data_Table[Period])=B218)*(SUM(C218:N218)>=10)),0.85),2),\"-\")","v":"-"}]
[null,"23:00:00",{"$f":"SUM(C27,C51,C75,C99,C123,C147,C171)","v":0},0,0,0,0,0,0,0,0,0,0,0,0,0,0,{"$f":"SUM(R27,R51,R75,R99,R123,R147,R171)","v":0},0,0,0,0,0,0,0,0,0,0,0,0,0,0,0,0,0,0,0,{"$f":"SUM(AL27,AL51,AL75,AL99,AL123,AL147,AL171)","v":0},{"$f":"IFERROR(ROUND(AVERAGE(_xlfn._xlws.FILTER(Data_Table[Speed],(Data_Table[Direction]=ImportData!Direction_1)*(Data_Table[Period]-INT(Data_Table[Period])=B219))),2),\"-\")","v":"-"},{"$f":"IFERROR(ROUND(PERCENTILE(_xlfn._xlws.FILTER(Data_Table[Speed],(Data_Table[Direction]=ImportData!Direction_1)*(Data_Table[Period]-INT(Data_Table[Period])=B219)*(SUM(C219:N219)>=10)),0.85),2),\"-\")","v":"-"}]

{"sheet":"Dir2","index":12,"n_rows":219,"n_cols":54,"rows_kept":219,"cut":false,"hidden":true,"merged":[[1,40,2,40],[1,1,2,1],[1,2,1,13],[1,14,1,37],[1,38,2,38],[1,39,2,39]]}
[]
[null,"Time","Vehicle Class",null,null,null,null,null,null,null,null,null,null,null,"Speed Bin",null,null,null,null,null,null,null,null,null,null,null,null,null,null,null,null,null,null,null,null,null,null,null,"Average",0.85]
[null,null,1,2,3,4,5,6,7,8,9,10,11,12,0,5,10,15,20,25,30,35,40,45,50,55,60,65,70,75,80,85,90,95,100,105,110,115,null,null,null,null,null,"Headway >=0","Min","Median","Average",0.85,0.95,"Max","StDev","15Kph Pace Lower Bound","Pace Count","Count > PSL "]
[0,{"$f":"ImportData!$B$10+MOD(1-ImportData!$E$10,7)","v":"2023-10-02"},{"$f":"COUNTIFS(Data_Table[Direction],ImportData!Direction_2,Data_Table[Class],C$3:N$3,Data_Table[Period], $B4:$B171)","v":0},0,0,0,0,0,0,0,0,0,0,0,{"$f":"COUNTIFS(Data_Table[Direction],ImportData!Direction_2,Data_Table[Speed],\">\" & O$3:AK$3,Data_Table[Speed],\"<=\" & P$3:AL$3,Data_Table[Period],$B4:$B171)","v":0},0,0,0,0,0,0,0,0,0,0,0,0,0,0,0,0,0,0,0,0,0,0,{"$f":"COUNTIFS(Data_Table[Direction],ImportData!Direction_2,Data_Table[Speed],\">\" & AL$3,Data_Table[Period], $B4:$B171)","v":0},{"$f":"IFERROR(ROUND(AVERAGEIFS(Data_Table[Speed],Data_Table[Direction],ImportData!Direction_2,Data_Table[Period], $B4:$B171),2),\"-\")","v":"-"},{"$f":"IFERROR(ROUND(PERCENTILE(_xlfn._xlws.FILTER(Data_Table[Speed],(Data_Table[Direction]=ImportData!Direction_2)*(Data_Table[Period]=$B4)*(SUM(C4:N4)>=10)),0.85),2),\"-\")","v":"-"},null,null,0,{"$f":"OFFSET($B$4,AQ4*24,0)","v":"2023-10-02"},null,{"$f":"IFERROR(ROUND(PERCENTILE(_xlfn._xlws.FILTER(Data_Table[Speed],(Data_Table[Direction]=ImportData!Direction_2)*(Data_Table[Weekday]=$AQ4+1)),0.5),2),\"-\")","v":"-"},{"$f":"IFERROR(ROUND(AVERAGEIFS(Data_Table[Speed],Data_Table[Direction],ImportData!Direction_2,Data_Table[Weekday], $AQ4:$AQ10+1),2),\"-\")","v":"-"},{"$f":"IFERROR(ROUND(PERCENTILE(_xlfn._xlws.FILTER(Data_Table[Speed],(Data_Table[Direction]=ImportData!Direction_2)*(Data_Table[Weekday]=$AQ4+1)),0.85),2),\"-\")","v":"-"}]
[1,{"$f":"ImportData!$B$10+7*QUOTIENT(A5,24*60*7/ImportData!$B$8)+MOD(1+QUOTIENT(A5,24*60/ImportData!$B$8)-ImportData!$E$10,7)+TIME(0,ImportData!$B$8*A5,0)","v":"2023-10-02T01:00:00"},0,0,0,0,0,0,0,0,0,0,0,0,0,0,0,0,0,0,0,0,0,0,0,0,0,0,0,0,0,0,0,0,0,0,0,0,"-",{"$f":"IFERROR(ROUND(PERCENTILE(_xlfn._xlws.FILTER(Data_Table[Speed],(Data_Table[Direction]=ImportData!Direction_2)*(Data_Table[Period]=$B5)*(SUM(C5:N5)>=10)),0.85),2),\"-\")","v":"-"},null,null,1,{"$f":"OFFSET($B$4,AQ5*24,0)","v":"2023-10-03"},null,{"$f":"IFERROR(ROUND(PERCENTILE(_xlfn._xlws.FILTER(Data_Table[Speed],(Data_Table[Direction]=ImportData!Direction_2)*(Data_Table[Weekday]=$AQ5+1)),0.5),2),\"-\")","v":"-"},"-",{"$f":"IFERROR(ROUND(PERCENTILE(_xlfn._xlws.FILTER(Data_Table[Speed],(Data_Table[Direction]=ImportData!Direction_2)*(Data_Table[Weekday]=$AQ5+1)),0.85),2),\"-\")","v":"-"}]
[2,{"$f":"ImportData!$B$10+7*QUOTIENT(A6,24*60*7/ImportData!$B$8)+MOD(1+QUOTIENT(A6,24*60/ImportData!$B$8)-ImportData!$E$10,7)+TIME(0,ImportData!$B$8*A6,0)","v":"2023-10-02T02:00:00"},0,0,0,0,0,0,0,0,0,0,0,0,0,0,0,0,0,0,0,0,0,0,0,0,0,0,0,0,0,0,0,0,0,0,0,0,"-",{"$f":"IFERROR(ROUND(PERCENTILE(_xlfn._xlws.FILTER(Data_Table[Speed],(Data_Table[Direction]=ImportData!Direction_2)*(Data_Table[Period]=$B6)*(SUM(C6:N6)>=10)),0.85),2),\"-\")","v":"-"},null,null,2,"2023-10-04",null,{"$f":"IFERROR(ROUND(PERCENTILE(_xlfn._xlws.FILTER(Data_Table[Speed],(Data_Table[Direction]=ImportData!Direction_2)*(Data_Table[Weekday]=$AQ6+1)),0.5),2),\"-\")","v":"-"},"-",{"$f":"IFERROR(ROUND(PERCENTILE(_xlfn._xlws.FILTER(Data_Table[Speed],(Data_Table[Direction]=ImportData!Direction_2)*(Data_Table[Weekday]=$AQ6+1)),0.85),2),\"-\")","v":"-"}]
[3,{"$f":"ImportData!$B$10+7*QUOTIENT(A7,24*60*7/ImportData!$B$8)+MOD(1+QUOTIENT(A7,24*60/ImportData!$B$8)-ImportData!$E$10,7)+TIME(0,ImportData!$B$8*A7,0)","v":"2023-10-02T03:00:00"},0,0,0,0,0,0,0,0,0,0,0,0,0,0,0,0,0,0,0,0,0,0,0,0,0,0,0,0,0,0,0,0,0,0,0,0,"-",{"$f":"IFERROR(ROUND(PERCENTILE(_xlfn._xlws.FILTER(Data_Table[Speed],(Data_Table[Direction]=ImportData!Direction_2)*(Data_Table[Period]=$B7)*(SUM(C7:N7)>=10)),0.85),2),\"-\")","v":"-"},null,null,3,"2023-09-28",null,{"$f":"IFERROR(ROUND(PERCENTILE(_xlfn._xlws.FILTER(Data_Table[Speed],(Data_Table[Direction]=ImportData!Direction_2)*(Data_Table[Weekday]=$AQ7+1)),0.5),2),\"-\")","v":"-"},"-",{"$f":"IFERROR(ROUND(PERCENTILE(_xlfn._xlws.FILTER(Data_Table[Speed],(Data_Table[Direction]=ImportData!Direction_2)*(Data_Table[Weekday]=$AQ7+1)),0.85),2),\"-\")","v":"-"}]
[4,{"$f":"ImportData!$B$10+7*QUOTIENT(A8,24*60*7/ImportData!$B$8)+MOD(1+QUOTIENT(A8,24*60/ImportData!$B$8)-ImportData!$E$10,7)+TIME(0,ImportData!$B$8*A8,0)","v":"2023-10-02T04:00:00"},0,0,0,0,0,0,0,0,0,0,0,0,0,0,0,0,0,0,0,0,0,0,0,0,0,0,0,0,0,0,0,0,0,0,0,0,"-",{"$f":"IFERROR(ROUND(PERCENTILE(_xlfn._xlws.FILTER(Data_Table[Speed],(Data_Table[Direction]=ImportData!Direction_2)*(Data_Table[Period]=$B8)*(SUM(C8:N8)>=10)),0.85),2),\"-\")","v":"-"},null,null,4,"2023-09-29",null,{"$f":"IFERROR(ROUND(PERCENTILE(_xlfn._xlws.FILTER(Data_Table[Speed],(Data_Table[Direction]=ImportData!Direction_2)*(Data_Table[Weekday]=$AQ8+1)),0.5),2),\"-\")","v":"-"},"-",{"$f":"IFERROR(ROUND(PERCENTILE(_xlfn._xlws.FILTER(Data_Table[Speed],(Data_Table[Direction]=ImportData!Direction_2)*(Data_Table[Weekday]=$AQ8+1)),0.85),2),\"-\")","v":"-"}]
[5,{"$f":"ImportData!$B$10+7*QUOTIENT(A9,24*60*7/ImportData!$B$8)+MOD(1+QUOTIENT(A9,24*60/ImportData!$B$8)-ImportData!$E$10,7)+TIME(0,ImportData!$B$8*A9,0)","v":"2023-10-02T05:00:00"},0,0,0,0,0,0,0,0,0,0,0,0,0,0,0,0,0,0,0,0,0,0,0,0,0,0,0,0,0,0,0,0,0,0,0,0,"-",{"$f":"IFERROR(ROUND(PERCENTILE(_xlfn._xlws.FILTER(Data_Table[Speed],(Data_Table[Direction]=ImportData!Direction_2)*(Data_Table[Period]=$B9)*(SUM(C9:N9)>=10)),0.85),2),\"-\")","v":"-"},null,null,5,"2023-09-30",null,{"$f":"IFERROR(ROUND(PERCENTILE(_xlfn._xlws.FILTER(Data_Table[Speed],(Data_Table[Direction]=ImportData!Direction_2)*(Data_Table[Weekday]=$AQ9+1)),0.5),2),\"-\")","v":"-"},"-",{"$f":"IFERROR(ROUND(PERCENTILE(_xlfn._xlws.FILTER(Data_Table[Speed],(Data_Table[Direction]=ImportData!Direction_2)*(Data_Table[Weekday]=$AQ9+1)),0.85),2),\"-\")","v":"-"}]
[6,{"$f":"ImportData!$B$10+7*QUOTIENT(A10,24*60*7/ImportData!$B$8)+MOD(1+QUOTIENT(A10,24*60/ImportData!$B$8)-ImportData!$E$10,7)+TIME(0,ImportData!$B$8*A10,0)","v":"2023-10-02T06:00:00"},0,0,0,0,0,0,0,0,0,0,0,0,0,0,0,0,0,0,0,0,0,0,0,0,0,0,0,0,0,0,0,0,0,0,0,0,"-",{"$f":"IFERROR(ROUND(PERCENTILE(_xlfn._xlws.FILTER(Data_Table[Speed],(Data_Table[Direction]=ImportData!Direction_2)*(Data_Table[Period]=$B10)*(SUM(C10:N10)>=10)),0.85),2),\"-\")","v":"-"},null,null,6,"2023-10-01",null,{"$f":"IFERROR(ROUND(PERCENTILE(_xlfn._xlws.FILTER(Data_Table[Speed],(Data_Table[Direction]=ImportData!Direction_2)*(Data_Table[Weekday]=$AQ10+1)),0.5),2),\"-\")","v":"-"},"-",{"$f":"IFERROR(ROUND(PERCENTILE(_xlfn._xlws.FILTER(Data_Table[Speed],(Data_Table[Direction]=ImportData!Direction_2)*(Data_Table[Weekday]=$AQ10+1)),0.85),2),\"-\")","v":"-"}]
[7,{"$f":"ImportData!$B$10+7*QUOTIENT(A11,24*60*7/ImportData!$B$8)+MOD(1+QUOTIENT(A11,24*60/ImportData!$B$8)-ImportData!$E$10,7)+TIME(0,ImportData!$B$8*A11,0)","v":"2023-10-02T07:00:00"},0,0,0,0,0,0,0,0,0,0,0,0,0,0,0,0,0,0,0,0,0,0,0,0,0,0,0,0,0,0,0,0,0,0,0,0,"-",{"$f":"IFERROR(ROUND(PERCENTILE(_xlfn._xlws.FILTER(Data_Table[Speed],(Data_Table[Direction]=ImportData!Direction_2)*(Data_Table[Period]=$B11)*(SUM(C11:N11)>=10)),0.85),2),\"-\")","v":"-"},null,null,null,"Weekdays",null,{"$f":"IFERROR(ROUND(PERCENTILE(_xlfn._xlws.FILTER(Data_Table[Speed],(Data_Table[Direction]=ImportData!Direction_2)*(Data_Table[Weekday]< 6)),0.5),2),\"-\")","v":"-"},{"$f":"IFERROR(ROUND(AVERAGEIFS(Data_Table[Speed],Data_Table[Direction],ImportData!Direction_2,Data_Table[Weekday],\"<\" & 6),2),\"-\")","v":"-"},{"$f":"IFERROR(ROUND(PERCENTILE(_xlfn._xlws.FILTER(Data_Table[Speed],(Data_Table[Direction]=ImportData!Direction_2)*(Data_Table[Weekday]< 6)),0.85),2),\"-\")","v":"-"}]
[8,{"$f":"ImportData!$B$10+7*QUOTIENT(A12,24*60*7/ImportData!$B$8)+MOD(1+QUOTIENT(A12,24*60/ImportData!$B$8)-ImportData!$E$10,7)+TIME(0,ImportData!$B$8*A12,0)","v":"2023-10-02T08:00:00"},0,0,0,0,0,0,0,0,0,0,0,0,0,0,0,0,0,0,0,0,0,0,0,0,0,0,0,0,0,0,0,0,0,0,0,0,"-",{"$f":"IFERROR(ROUND(PERCENTILE(_xlfn._xlws.FILTER(Data_Table[Speed],(Data_Table[Direction]=ImportData!Direction_2)*(Data_Table[Period]=$B12)*(SUM(C12:N12)>=10)),0.85),2),\"-\")","v":"-"},null,null,null,"7 days",null,{"$f":"IFERROR(ROUND(PERCENTILE(_xlfn._xlws.FILTER(Data_Table[Speed],(Data_Table[Direction]=ImportData!Direction_2)),0.5),2),\"-\")","v":"-"},{"$f":"IFERROR(ROUND(AVERAGEIFS(Data_Table[Speed],Data_Table[Direction],ImportData!Direction_2),2),\"-\")","v":"-"},{"$f":"IFERROR(ROUND(PERCENTILE(_xlfn._xlws.FILTER(Data_Table[Speed],(Data_Table[Direction]=ImportData!Direction_2)),0.85),2),\"-\")","v":"-"}]
[9,{"$f":"ImportData!$B$10+7*QUOTIENT(A13,24*60*7/ImportData!$B$8)+MOD(1+QUOTIENT(A13,24*60/ImportData!$B$8)-ImportData!$E$10,7)+TIME(0,ImportData!$B$8*A13,0)","v":"2023-10-02T09:00:00"},0,0,0,0,0,0,0,0,0,0,0,0,0,0,0,0,0,0,0,0,0,0,0,0,0,0,0,0,0,0,0,0,0,0,0,0,"-",{"$f":"IFERROR(ROUND(PERCENTILE(_xlfn._xlws.FILTER(Data_Table[Speed],(Data_Table[Direction]=ImportData!Direction_2)*(Data_Table[Period]=$B13)*(SUM(C13:N13)>=10)),0.85),2),\"-\")","v":"-"}]
[10,{"$f":"ImportData!$B$10+7*QUOTIENT(A14,24*60*7/ImportData!$B$8)+MOD(1+QUOTIENT(A14,24*60/ImportData!$B$8)-ImportData!$E$10,7)+TIME(0,ImportData!$B$8*A14,0)","v":"2023-10-02T10:00:00"},0,0,0,0,0,0,0,0,0,0,0,0,0,0,0,0,0,0,0,0,0,0,0,0,0,0,0,0,0,0,0,0,0,0,0,0,"-",{"$f":"IFERROR(ROUND(PERCENTILE(_xlfn._xlws.FILTER(Data_Table[Speed],(Data_Table[Direction]=ImportData!Direction_2)*(Data_Table[Period]=$B14)*(SUM(C14:N14)>=10)),0.85),2),\"-\")","v":"-"}]
[11,{"$f":"ImportData!$B$10+7*QUOTIENT(A15,24*60*7/ImportData!$B$8)+MOD(1+QUOTIENT(A15,24*60/ImportData!$B$8)-ImportData!$E$10,7)+TIME(0,ImportData!$B$8*A15,0)","v":"2023-10-02T11:00:00"},0,0,0,0,0,0,0,0,0,0,0,0,0,0,0,0,0,0,0,0,0,0,0,0,0,0,0,0,0,0,0,0,0,0,0,0,"-",{"$f":"IFERROR(ROUND(PERCENTILE(_xlfn._xlws.FILTER(Data_Table[Speed],(Data_Table[Direction]=ImportData!Direction_2)*(Data_Table[Period]=$B15)*(SUM(C15:N15)>=10)),0.85),2),\"-\")","v":"-"},null,null,null,"Headway >=4","Min","Median","Average",0.85,0.95,"Max","StDev","15Kph Pace Lower Bound","Pace Count","Count > PSL "]
[12,{"$f":"ImportData!$B$10+7*QUOTIENT(A16,24*60*7/ImportData!$B$8)+MOD(1+QUOTIENT(A16,24*60/ImportData!$B$8)-ImportData!$E$10,7)+TIME(0,ImportData!$B$8*A16,0)","v":"2023-10-02T12:00:00"},0,0,0,0,0,0,0,0,0,0,0,0,0,0,0,0,0,0,0,0,0,0,0,0,0,0,0,0,0,0,0,0,0,0,0,0,"-",{"$f":"IFERROR(ROUND(PERCENTILE(_xlfn._xlws.FILTER(Data_Table[Speed],(Data_Table[Direction]=ImportData!Direction_2)*(Data_Table[Period]=$B16)*(SUM(C16:N16)>=10)),0.85),2),\"-\")","v":"-"},null,null,0,{"$f":"OFFSET($B$4,AQ16*24,0)","v":"2023-10-02"},null,{"$f":"IFERROR(ROUND(PERCENTILE(_xlfn._xlws.FILTER(Data_Table[Speed],(Data_Table[Headway]>= 4)*(Data_Table[Direction]=ImportData!Direction_2)*(Data_Table[Weekday]=$AQ16+1)),0.5),2),\"-\")","v":"-"},{"$f":"IFERROR(ROUND(AVERAGEIFS(Data_Table[Speed],Data_Table[Headway],\">=\" & 4,Data_Table[Direction],ImportData!Direction_2,Data_Table[Weekday],$AQ16:$AQ22+1),2),\"-\")","v":"-"},{"$f":"IFERROR(ROUND(PERCENTILE(_xlfn._xlws.FILTER(Data_Table[Speed],(Data_Table[Headway]>= 4)*(Data_Table[Direction]=ImportData!Direction_2)*(Data_Table[Weekday]=$AQ16+1)),0.85),2),\"-\")","v":"-"}]
[13,{"$f":"ImportData!$B$10+7*QUOTIENT(A17,24*60*7/ImportData!$B$8)+MOD(1+QUOTIENT(A17,24*60/ImportData!$B$8)-ImportData!$E$10,7)+TIME(0,ImportData!$B$8*A17,0)","v":"2023-10-02T13:00:00"},0,0,0,0,0,0,0,0,0,0,0,0,0,0,0,0,0,0,0,0,0,0,0,0,0,0,0,0,0,0,0,0,0,0,0,0,"-",{"$f":"IFERROR(ROUND(PERCENTILE(_xlfn._xlws.FILTER(Data_Table[Speed],(Data_Table[Direction]=ImportData!Direction_2)*(Data_Table[Period]=$B17)*(SUM(C17:N17)>=10)),0.85),2),\"-\")","v":"-"},null,null,1,{"$f":"OFFSET($B$4,AQ17*24,0)","v":"2023-10-03"},null,{"$f":"IFERROR(ROUND(PERCENTILE(_xlfn._xlws.FILTER(Data_Table[Speed],(Data_Table[Headway]>= 4)*(Data_Table[Direction]=ImportData!Direction_2)*(Data_Table[Weekday]=$AQ17+1)),0.5),2),\"-\")","v":"-"},"-",{"$f":"IFERROR(ROUND(PERCENTILE(_xlfn._xlws.FILTER(Data_Table[Speed],(Data_Table[Headway]>= 4)*(Data_Table[Direction]=ImportData!Direction_2)*(Data_Table[Weekday]=$AQ17+1)),0.85),2),\"-\")","v":"-"}]
[14,{"$f":"ImportData!$B$10+7*QUOTIENT(A18,24*60*7/ImportData!$B$8)+MOD(1+QUOTIENT(A18,24*60/ImportData!$B$8)-ImportData!$E$10,7)+TIME(0,ImportData!$B$8*A18,0)","v":"2023-10-02T14:00:00"},0,0,0,0,0,0,0,0,0,0,0,0,0,0,0,0,0,0,0,0,0,0,0,0,0,0,0,0,0,0,0,0,0,0,0,0,"-",{"$f":"IFERROR(ROUND(PERCENTILE(_xlfn._xlws.FILTER(Data_Table[Speed],(Data_Table[Direction]=ImportData!Direction_2)*(Data_Table[Period]=$B18)*(SUM(C18:N18)>=10)),0.85),2),\"-\")","v":"-"},null,null,2,"2023-10-04",null,{"$f":"IFERROR(ROUND(PERCENTILE(_xlfn._xlws.FILTER(Data_Table[Speed],(Data_Table[Headway]>= 4)*(Data_Table[Direction]=ImportData!Direction_2)*(Data_Table[Weekday]=$AQ18+1)),0.5),2),\"-\")","v":"-"},"-",{"$f":"IFERROR(ROUND(PERCENTILE(_xlfn._xlws.FILTER(Data_Table[Speed],(Data_Table[Headway]>= 4)*(Data_Table[Direction]=ImportData!Direction_2)*(Data_Table[Weekday]=$AQ18+1)),0.85),2),\"-\")","v":"-"}]
[15,{"$f":"ImportData!$B$10+7*QUOTIENT(A19,24*60*7/ImportData!$B$8)+MOD(1+QUOTIENT(A19,24*60/ImportData!$B$8)-ImportData!$E$10,7)+TIME(0,ImportData!$B$8*A19,0)","v":"2023-10-02T15:00:00"},0,0,0,0,0,0,0,0,0,0,0,0,0,0,0,0,0,0,0,0,0,0,0,0,0,0,0,0,0,0,0,0,0,0,0,0,"-",{"$f":"IFERROR(ROUND(PERCENTILE(_xlfn._xlws.FILTER(Data_Table[Speed],(Data_Table[Direction]=ImportData!Direction_2)*(Data_Table[Period]=$B19)*(SUM(C19:N19)>=10)),0.85),2),\"-\")","v":"-"},null,null,3,"2023-09-28",null,{"$f":"IFERROR(ROUND(PERCENTILE(_xlfn._xlws.FILTER(Data_Table[Speed],(Data_Table[Headway]>= 4)*(Data_Table[Direction]=ImportData!Direction_2)*(Data_Table[Weekday]=$AQ19+1)),0.5),2),\"-\")","v":"-"},"-",{"$f":"IFERROR(ROUND(PERCENTILE(_xlfn._xlws.FILTER(Data_Table[Speed],(Data_Table[Headway]>= 4)*(Data_Table[Direction]=ImportData!Direction_2)*(Data_Table[Weekday]=$AQ19+1)),0.85),2),\"-\")","v":"-"}]
[16,{"$f":"ImportData!$B$10+7*QUOTIENT(A20,24*60*7/ImportData!$B$8)+MOD(1+QUOTIENT(A20,24*60/ImportData!$B$8)-ImportData!$E$10,7)+TIME(0,ImportData!$B$8*A20,0)","v":"2023-10-02T16:00:00"},0,0,0,0,0,0,0,0,0,0,0,0,0,0,0,0,0,0,0,0,0,0,0,0,0,0,0,0,0,0,0,0,0,0,0,0,"-",{"$f":"IFERROR(ROUND(PERCENTILE(_xlfn._xlws.FILTER(Data_Table[Speed],(Data_Table[Direction]=ImportData!Direction_2)*(Data_Table[Period]=$B20)*(SUM(C20:N20)>=10)),0.85),2),\"-\")","v":"-"},null,null,4,"2023-09-29",null,{"$f":"IFERROR(ROUND(PERCENTILE(_xlfn._xlws.FILTER(Data_Table[Speed],(Data_Table[Headway]>= 4)*(Data_Table[Direction]=ImportData!Direction_2)*(Data_Table[Weekday]=$AQ20+1)),0.5),2),\"-\")","v":"-"},"-",{"$f":"IFERROR(ROUND(PERCENTILE(_xlfn._xlws.FILTER(Data_Table[Speed],(Data_Table[Headway]>= 4)*(Data_Table[Direction]=ImportData!Direction_2)*(Data_Table[Weekday]=$AQ20+1)),0.85),2),\"-\")","v":"-"}]
[17,{"$f":"ImportData!$B$10+7*QUOTIENT(A21,24*60*7/ImportData!$B$8)+MOD(1+QUOTIENT(A21,24*60/ImportData!$B$8)-ImportData!$E$10,7)+TIME(0,ImportData!$B$8*A21,0)","v":"2023-10-02T17:00:00"},0,0,0,0,0,0,0,0,0,0,0,0,0,0,0,0,0,0,0,0,0,0,0,0,0,0,0,0,0,0,0,0,0,0,0,0,"-",{"$f":"IFERROR(ROUND(PERCENTILE(_xlfn._xlws.FILTER(Data_Table[Speed],(Data_Table[Direction]=ImportData!Direction_2)*(Data_Table[Period]=$B21)*(SUM(C21:N21)>=10)),0.85),2),\"-\")","v":"-"},null,null,5,"2023-09-30",null,{"$f":"IFERROR(ROUND(PERCENTILE(_xlfn._xlws.FILTER(Data_Table[Speed],(Data_Table[Headway]>= 4)*(Data_Table[Direction]=ImportData!Direction_2)*(Data_Table[Weekday]=$AQ21+1)),0.5),2),\"-\")","v":"-"},"-",{"$f":"IFERROR(ROUND(PERCENTILE(_xlfn._xlws.FILTER(Data_Table[Speed],(Data_Table[Headway]>= 4)*(Data_Table[Direction]=ImportData!Direction_2)*(Data_Table[Weekday]=$AQ21+1)),0.85),2),\"-\")","v":"-"}]
[18,{"$f":"ImportData!$B$10+7*QUOTIENT(A22,24*60*7/ImportData!$B$8)+MOD(1+QUOTIENT(A22,24*60/ImportData!$B$8)-ImportData!$E$10,7)+TIME(0,ImportData!$B$8*A22,0)","v":"2023-10-02T18:00:00"},0,0,0,0,0,0,0,0,0,0,0,0,0,0,0,0,0,0,0,0,0,0,0,0,0,0,0,0,0,0,0,0,0,0,0,0,"-",{"$f":"IFERROR(ROUND(PERCENTILE(_xlfn._xlws.FILTER(Data_Table[Speed],(Data_Table[Direction]=ImportData!Direction_2)*(Data_Table[Period]=$B22)*(SUM(C22:N22)>=10)),0.85),2),\"-\")","v":"-"},null,null,6,"2023-10-01",null,{"$f":"IFERROR(ROUND(PERCENTILE(_xlfn._xlws.FILTER(Data_Table[Speed],(Data_Table[Headway]>= 4)*(Data_Table[Direction]=ImportData!Direction_2)*(Data_Table[Weekday]=$AQ22+1)),0.5),2),\"-\")","v":"-"},"-",{"$f":"IFERROR(ROUND(PERCENTILE(_xlfn._xlws.FILTER(Data_Table[Speed],(Data_Table[Headway]>= 4)*(Data_Table[Direction]=ImportData!Direction_2)*(Data_Table[Weekday]=$AQ22+1)),0.85),2),\"-\")","v":"-"}]
[19,{"$f":"ImportData!$B$10+7*QUOTIENT(A23,24*60*7/ImportData!$B$8)+MOD(1+QUOTIENT(A23,24*60/ImportData!$B$8)-ImportData!$E$10,7)+TIME(0,ImportData!$B$8*A23,0)","v":"2023-10-02T19:00:00"},0,0,0,0,0,0,0,0,0,0,0,0,0,0,0,0,0,0,0,0,0,0,0,0,0,0,0,0,0,0,0,0,0,0,0,0,"-",{"$f":"IFERROR(ROUND(PERCENTILE(_xlfn._xlws.FILTER(Data_Table[Speed],(Data_Table[Direction]=ImportData!Direction_2)*(Data_Table[Period]=$B23)*(SUM(C23:N23)>=10)),0.85),2),\"-\")","v":"-"},null,null,null,"Weekdays",null,{"$f":"IFERROR(ROUND(PERCENTILE(_xlfn._xlws.FILTER(Data_Table[Speed],(Data_Table[Headway]>= 4)*(Data_Table[Direction]=ImportData!Direction_2)*(Data_Table[Weekday]< 6)),0.5),2),\"-\")","v":"-"},{"$f":"IFERROR(ROUND(AVERAGEIFS(Data_Table[Speed],Data_Table[Headway],\">=\" & 4,Data_Table[Direction],ImportData!Direction_2,Data_Table[Weekday],\"<\" & 6),2),\"-\")","v":"-"},{"$f":"IFERROR(ROUND(PERCENTILE(_xlfn._xlws.FILTER(Data_Table[Speed],(Data_Table[Headway]>= 4)*(Data_Table[Direction]=ImportData!Direction_2)*(Data_Table[Weekday]< 6)),0.85),2),\"-\")","v":"-"}]
[20,{"$f":"ImportData!$B$10+7*QUOTIENT(A24,24*60*7/ImportData!$B$8)+MOD(1+QUOTIENT(A24,24*60/ImportData!$B$8)-ImportData!$E$10,7)+TIME(0,ImportData!$B$8*A24,0)","v":"2023-10-02T20:00:00"},0,0,0,0,0,0,0,0,0,0,0,0,0,0,0,0,0,0,0,0,0,0,0,0,0,0,0,0,0,0,0,0,0,0,0,0,"-",{"$f":"IFERROR(ROUND(PERCENTILE(_xlfn._xlws.FILTER(Data_Table[Speed],(Data_Table[Direction]=ImportData!Direction_2)*(Data_Table[Period]=$B24)*(SUM(C24:N24)>=10)),0.85),2),\"-\")","v":"-"},null,null,null,"7 days",null,{"$f":"IFERROR(ROUND(PERCENTILE(_xlfn._xlws.FILTER(Data_Table[Speed],(Data_Table[Headway]>= 4)*(Data_Table[Direction]=ImportData!Direction_2)),0.5),2),\"-\")","v":"-"},{"$f":"IFERROR(ROUND(AVERAGEIFS(Data_Table[Speed],Data_Table[Headway],\">=\" & 4,Data_Table[Direction],ImportData!Direction_2),2),\"-\")","v":"-"},{"$f":"IFERROR(ROUND(PERCENTILE(_xlfn._xlws.FILTER(Data_Table[Speed],(Data_Table[Headway]>= 4)*(Data_Table[Direction]=ImportData!Direction_2)),0.85),2),\"-\")","v":"-"}]
[21,{"$f":"ImportData!$B$10+7*QUOTIENT(A25,24*60*7/ImportData!$B$8)+MOD(1+QUOTIENT(A25,24*60/ImportData!$B$8)-ImportData!$E$10,7)+TIME(0,ImportData!$B$8*A25,0)","v":"2023-10-02T21:00:00"},0,0,0,0,0,0,0,0,0,0,0,0,0,0,0,0,0,0,0,0,0,0,0,0,0,0,0,0,0,0,0,0,0,0,0,0,"-",{"$f":"IFERROR(ROUND(PERCENTILE(_xlfn._xlws.FILTER(Data_Table[Speed],(Data_Table[Direction]=ImportData!Direction_2)*(Data_Table[Period]=$B25)*(SUM(C25:N25)>=10)),0.85),2),\"-\")","v":"-"}]
[22,{"$f":"ImportData!$B$10+7*QUOTIENT(A26,24*60*7/ImportData!$B$8)+MOD(1+QUOTIENT(A26,24*60/ImportData!$B$8)-ImportData!$E$10,7)+TIME(0,ImportData!$B$8*A26,0)","v":"2023-10-02T22:00:00"},0,0,0,0,0,0,0,0,0,0,0,0,0,0,0,0,0,0,0,0,0,0,0,0,0,0,0,0,0,0,0,0,0,0,0,0,"-",{"$f":"IFERROR(ROUND(PERCENTILE(_xlfn._xlws.FILTER(Data_Table[Speed],(Data_Table[Direction]=ImportData!Direction_2)*(Data_Table[Period]=$B26)*(SUM(C26:N26)>=10)),0.85),2),\"-\")","v":"-"}]
[23,{"$f":"ImportData!$B$10+7*QUOTIENT(A27,24*60*7/ImportData!$B$8)+MOD(1+QUOTIENT(A27,24*60/ImportData!$B$8)-ImportData!$E$10,7)+TIME(0,ImportData!$B$8*A27,0)","v":"2023-10-02T23:00:00"},0,0,0,0,0,0,0,0,0,0,0,0,0,0,0,0,0,0,0,0,0,0,0,0,0,0,0,0,0,0,0,0,0,0,0,0,"-",{"$f":"IFERROR(ROUND(PERCENTILE(_xlfn._xlws.FILTER(Data_Table[Speed],(Data_Table[Direction]=ImportData!Direction_2)*(Data_Table[Period]=$B27)*(SUM(C27:N27)>=10)),0.85),2),\"-\")","v":"-"}]
[24,{"$f":"ImportData!$B$10+7*QUOTIENT(A28,24*60*7/ImportData!$B$8)+MOD(1+QUOTIENT(A28,24*60/ImportData!$B$8)-ImportData!$E$10,7)+TIME(0,ImportData!$B$8*A28,0)","v":"2023-10-03"},0,0,0,0,0,0,0,0,0,0,0,0,0,0,0,0,0,0,0,0,0,0,0,0,0,0,0,0,0,0,0,0,0,0,0,0,"-",{"$f":"IFERROR(ROUND(PERCENTILE(_xlfn._xlws.FILTER(Data_Table[Speed],(Data_Table[Direction]=ImportData!Direction_2)*(Data_Table[Period]=$B28)*(SUM(C28:N28)>=10)),0.85),2),\"-\")","v":"-"}]
[25,{"$f":"ImportData!$B$10+7*QUOTIENT(A29,24*60*7/ImportData!$B$8)+MOD(1+QUOTIENT(A29,24*60/ImportData!$B$8)-ImportData!$E$10,7)+TIME(0,ImportData!$B$8*A29,0)","v":"2023-10-03T01:00:00"},0,0,0,0,0,0,0,0,0,0,0,0,0,0,0,0,0,0,0,0,0,0,0,0,0,0,0,0,0,0,0,0,0,0,0,0,"-",{"$f":"IFERROR(ROUND(PERCENTILE(_xlfn._xlws.FILTER(Data_Table[Speed],(Data_Table[Direction]=ImportData!Direction_2)*(Data_Table[Period]=$B29)*(SUM(C29:N29)>=10)),0.85),2),\"-\")","v":"-"}]
[26,{"$f":"ImportData!$B$10+7*QUOTIENT(A30,24*60*7/ImportData!$B$8)+MOD(1+QUOTIENT(A30,24*60/ImportData!$B$8)-ImportData!$E$10,7)+TIME(0,ImportData!$B$8*A30,0)","v":"2023-10-03T02:00:00"},0,0,0,0,0,0,0,0,0,0,0,0,0,0,0,0,0,0,0,0,0,0,0,0,0,0,0,0,0,0,0,0,0,0,0,0,"-",{"$f":"IFERROR(ROUND(PERCENTILE(_xlfn._xlws.FILTER(Data_Table[Speed],(Data_Table[Direction]=ImportData!Direction_2)*(Data_Table[Period]=$B30)*(SUM(C30:N30)>=10)),0.85),2),\"-\")","v":"-"}]
[27,{"$f":"ImportData!$B$10+7*QUOTIENT(A31,24*60*7/ImportData!$B$8)+MOD(1+QUOTIENT(A31,24*60/ImportData!$B$8)-ImportData!$E$10,7)+TIME(0,ImportData!$B$8*A31,0)","v":"2023-10-03T03:00:00"},0,0,0,0,0,0,0,0,0,0,0,0,0,0,0,0,0,0,0,0,0,0,0,0,0,0,0,0,0,0,0,0,0,0,0,0,"-",{"$f":"IFERROR(ROUND(PERCENTILE(_xlfn._xlws.FILTER(Data_Table[Speed],(Data_Table[Direction]=ImportData!Direction_2)*(Data_Table[Period]=$B31)*(SUM(C31:N31)>=10)),0.85),2),\"-\")","v":"-"}]
[28,{"$f":"ImportData!$B$10+7*QUOTIENT(A32,24*60*7/ImportData!$B$8)+MOD(1+QUOTIENT(A32,24*60/ImportData!$B$8)-ImportData!$E$10,7)+TIME(0,ImportData!$B$8*A32,0)","v":"2023-10-03T04:00:00"},0,0,0,0,0,0,0,0,0,0,0,0,0,0,0,0,0,0,0,0,0,0,0,0,0,0,0,0,0,0,0,0,0,0,0,0,"-",{"$f":"IFERROR(ROUND(PERCENTILE(_xlfn._xlws.FILTER(Data_Table[Speed],(Data_Table[Direction]=ImportData!Direction_2)*(Data_Table[Period]=$B32)*(SUM(C32:N32)>=10)),0.85),2),\"-\")","v":"-"}]
[29,{"$f":"ImportData!$B$10+7*QUOTIENT(A33,24*60*7/ImportData!$B$8)+MOD(1+QUOTIENT(A33,24*60/ImportData!$B$8)-ImportData!$E$10,7)+TIME(0,ImportData!$B$8*A33,0)","v":"2023-10-03T05:00:00"},0,0,0,0,0,0,0,0,0,0,0,0,0,0,0,0,0,0,0,0,0,0,0,0,0,0,0,0,0,0,0,0,0,0,0,0,"-",{"$f":"IFERROR(ROUND(PERCENTILE(_xlfn._xlws.FILTER(Data_Table[Speed],(Data_Table[Direction]=ImportData!Direction_2)*(Data_Table[Period]=$B33)*(SUM(C33:N33)>=10)),0.85),2),\"-\")","v":"-"}]
[30,{"$f":"ImportData!$B$10+7*QUOTIENT(A34,24*60*7/ImportData!$B$8)+MOD(1+QUOTIENT(A34,24*60/ImportData!$B$8)-ImportData!$E$10,7)+TIME(0,ImportData!$B$8*A34,0)","v":"2023-10-03T06:00:00"},0,0,0,0,0,0,0,0,0,0,0,0,0,0,0,0,0,0,0,0,0,0,0,0,0,0,0,0,0,0,0,0,0,0,0,0,"-",{"$f":"IFERROR(ROUND(PERCENTILE(_xlfn._xlws.FILTER(Data_Table[Speed],(Data_Table[Direction]=ImportData!Direction_2)*(Data_Table[Period]=$B34)*(SUM(C34:N34)>=10)),0.85),2),\"-\")","v":"-"}]
[31,{"$f":"ImportData!$B$10+7*QUOTIENT(A35,24*60*7/ImportData!$B$8)+MOD(1+QUOTIENT(A35,24*60/ImportData!$B$8)-ImportData!$E$10,7)+TIME(0,ImportData!$B$8*A35,0)","v":"2023-10-03T07:00:00"},0,0,0,0,0,0,0,0,0,0,0,0,0,0,0,0,0,0,0,0,0,0,0,0,0,0,0,0,0,0,0,0,0,0,0,0,"-",{"$f":"IFERROR(ROUND(PERCENTILE(_xlfn._xlws.FILTER(Data_Table[Speed],(Data_Table[Direction]=ImportData!Direction_2)*(Data_Table[Period]=$B35)*(SUM(C35:N35)>=10)),0.85),2),\"-\")","v":"-"}]
[32,{"$f":"ImportData!$B$10+7*QUOTIENT(A36,24*60*7/ImportData!$B$8)+MOD(1+QUOTIENT(A36,24*60/ImportData!$B$8)-ImportData!$E$10,7)+TIME(0,ImportData!$B$8*A36,0)","v":"2023-10-03T08:00:00"},0,0,0,0,0,0,0,0,0,0,0,0,0,0,0,0,0,0,0,0,0,0,0,0,0,0,0,0,0,0,0,0,0,0,0,0,"-",{"$f":"IFERROR(ROUND(PERCENTILE(_xlfn._xlws.FILTER(Data_Table[Speed],(Data_Table[Direction]=ImportData!Direction_2)*(Data_Table[Period]=$B36)*(SUM(C36:N36)>=10)),0.85),2),\"-\")","v":"-"}]
[33,{"$f":"ImportData!$B$10+7*QUOTIENT(A37,24*60*7/ImportData!$B$8)+MOD(1+QUOTIENT(A37,24*60/ImportData!$B$8)-ImportData!$E$10,7)+TIME(0,ImportData!$B$8*A37,0)","v":"2023-10-03T09:00:00"},0,0,0,0,0,0,0,0,0,0,0,0,0,0,0,0,0,0,0,0,0,0,0,0,0,0,0,0,0,0,0,0,0,0,0,0,"-",{"$f":"IFERROR(ROUND(PERCENTILE(_xlfn._xlws.FILTER(Data_Table[Speed],(Data_Table[Direction]=ImportData!Direction_2)*(Data_Table[Period]=$B37)*(SUM(C37:N37)>=10)),0.85),2),\"-\")","v":"-"}]
[34,{"$f":"ImportData!$B$10+7*QUOTIENT(A38,24*60*7/ImportData!$B$8)+MOD(1+QUOTIENT(A38,24*60/ImportData!$B$8)-ImportData!$E$10,7)+TIME(0,ImportData!$B$8*A38,0)","v":"2023-10-03T10:00:00"},0,0,0,0,0,0,0,0,0,0,0,0,0,0,0,0,0,0,0,0,0,0,0,0,0,0,0,0,0,0,0,0,0,0,0,0,"-",{"$f":"IFERROR(ROUND(PERCENTILE(_xlfn._xlws.FILTER(Data_Table[Speed],(Data_Table[Direction]=ImportData!Direction_2)*(Data_Table[Period]=$B38)*(SUM(C38:N38)>=10)),0.85),2),\"-\")","v":"-"}]
[35,{"$f":"ImportData!$B$10+7*QUOTIENT(A39,24*60*7/ImportData!$B$8)+MOD(1+QUOTIENT(A39,24*60/ImportData!$B$8)-ImportData!$E$10,7)+TIME(0,ImportData!$B$8*A39,0)","v":"2023-10-03T11:00:00"},0,0,0,0,0,0,0,0,0,0,0,0,0,0,0,0,0,0,0,0,0,0,0,0,0,0,0,0,0,0,0,0,0,0,0,0,"-",{"$f":"IFERROR(ROUND(PERCENTILE(_xlfn._xlws.FILTER(Data_Table[Speed],(Data_Table[Direction]=ImportData!Direction_2)*(Data_Table[Period]=$B39)*(SUM(C39:N39)>=10)),0.85),2),\"-\")","v":"-"}]
[36,{"$f":"ImportData!$B$10+7*QUOTIENT(A40,24*60*7/ImportData!$B$8)+MOD(1+QUOTIENT(A40,24*60/ImportData!$B$8)-ImportData!$E$10,7)+TIME(0,ImportData!$B$8*A40,0)","v":"2023-10-03T12:00:00"},0,0,0,0,0,0,0,0,0,0,0,0,0,0,0,0,0,0,0,0,0,0,0,0,0,0,0,0,0,0,0,0,0,0,0,0,"-",{"$f":"IFERROR(ROUND(PERCENTILE(_xlfn._xlws.FILTER(Data_Table[Speed],(Data_Table[Direction]=ImportData!Direction_2)*(Data_Table[Period]=$B40)*(SUM(C40:N40)>=10)),0.85),2),\"-\")","v":"-"}]
[37,{"$f":"ImportData!$B$10+7*QUOTIENT(A41,24*60*7/ImportData!$B$8)+MOD(1+QUOTIENT(A41,24*60/ImportData!$B$8)-ImportData!$E$10,7)+TIME(0,ImportData!$B$8*A41,0)","v":"2023-10-03T13:00:00"},0,0,0,0,0,0,0,0,0,0,0,0,0,0,0,0,0,0,0,0,0,0,0,0,0,0,0,0,0,0,0,0,0,0,0,0,"-",{"$f":"IFERROR(ROUND(PERCENTILE(_xlfn._xlws.FILTER(Data_Table[Speed],(Data_Table[Direction]=ImportData!Direction_2)*(Data_Table[Period]=$B41)*(SUM(C41:N41)>=10)),0.85),2),\"-\")","v":"-"}]
[38,{"$f":"ImportData!$B$10+7*QUOTIENT(A42,24*60*7/ImportData!$B$8)+MOD(1+QUOTIENT(A42,24*60/ImportData!$B$8)-ImportData!$E$10,7)+TIME(0,ImportData!$B$8*A42,0)","v":"2023-10-03T14:00:00"},0,0,0,0,0,0,0,0,0,0,0,0,0,0,0,0,0,0,0,0,0,0,0,0,0,0,0,0,0,0,0,0,0,0,0,0,"-",{"$f":"IFERROR(ROUND(PERCENTILE(_xlfn._xlws.FILTER(Data_Table[Speed],(Data_Table[Direction]=ImportData!Direction_2)*(Data_Table[Period]=$B42)*(SUM(C42:N42)>=10)),0.85),2),\"-\")","v":"-"}]
[39,{"$f":"ImportData!$B$10+7*QUOTIENT(A43,24*60*7/ImportData!$B$8)+MOD(1+QUOTIENT(A43,24*60/ImportData!$B$8)-ImportData!$E$10,7)+TIME(0,ImportData!$B$8*A43,0)","v":"2023-10-03T15:00:00"},0,0,0,0,0,0,0,0,0,0,0,0,0,0,0,0,0,0,0,0,0,0,0,0,0,0,0,0,0,0,0,0,0,0,0,0,"-",{"$f":"IFERROR(ROUND(PERCENTILE(_xlfn._xlws.FILTER(Data_Table[Speed],(Data_Table[Direction]=ImportData!Direction_2)*(Data_Table[Period]=$B43)*(SUM(C43:N43)>=10)),0.85),2),\"-\")","v":"-"}]
[40,{"$f":"ImportData!$B$10+7*QUOTIENT(A44,24*60*7/ImportData!$B$8)+MOD(1+QUOTIENT(A44,24*60/ImportData!$B$8)-ImportData!$E$10,7)+TIME(0,ImportData!$B$8*A44,0)","v":"2023-10-03T16:00:00"},0,0,0,0,0,0,0,0,0,0,0,0,0,0,0,0,0,0,0,0,0,0,0,0,0,0,0,0,0,0,0,0,0,0,0,0,"-",{"$f":"IFERROR(ROUND(PERCENTILE(_xlfn._xlws.FILTER(Data_Table[Speed],(Data_Table[Direction]=ImportData!Direction_2)*(Data_Table[Period]=$B44)*(SUM(C44:N44)>=10)),0.85),2),\"-\")","v":"-"}]
[41,{"$f":"ImportData!$B$10+7*QUOTIENT(A45,24*60*7/ImportData!$B$8)+MOD(1+QUOTIENT(A45,24*60/ImportData!$B$8)-ImportData!$E$10,7)+TIME(0,ImportData!$B$8*A45,0)","v":"2023-10-03T17:00:00"},0,0,0,0,0,0,0,0,0,0,0,0,0,0,0,0,0,0,0,0,0,0,0,0,0,0,0,0,0,0,0,0,0,0,0,0,"-",{"$f":"IFERROR(ROUND(PERCENTILE(_xlfn._xlws.FILTER(Data_Table[Speed],(Data_Table[Direction]=ImportData!Direction_2)*(Data_Table[Period]=$B45)*(SUM(C45:N45)>=10)),0.85),2),\"-\")","v":"-"}]
[42,{"$f":"ImportData!$B$10+7*QUOTIENT(A46,24*60*7/ImportData!$B$8)+MOD(1+QUOTIENT(A46,24*60/ImportData!$B$8)-ImportData!$E$10,7)+TIME(0,ImportData!$B$8*A46,0)","v":"2023-10-03T18:00:00"},0,0,0,0,0,0,0,0,0,0,0,0,0,0,0,0,0,0,0,0,0,0,0,0,0,0,0,0,0,0,0,0,0,0,0,0,"-",{"$f":"IFERROR(ROUND(PERCENTILE(_xlfn._xlws.FILTER(Data_Table[Speed],(Data_Table[Direction]=ImportData!Direction_2)*(Data_Table[Period]=$B46)*(SUM(C46:N46)>=10)),0.85),2),\"-\")","v":"-"}]
[43,{"$f":"ImportData!$B$10+7*QUOTIENT(A47,24*60*7/ImportData!$B$8)+MOD(1+QUOTIENT(A47,24*60/ImportData!$B$8)-ImportData!$E$10,7)+TIME(0,ImportData!$B$8*A47,0)","v":"2023-10-03T19:00:00"},0,0,0,0,0,0,0,0,0,0,0,0,0,0,0,0,0,0,0,0,0,0,0,0,0,0,0,0,0,0,0,0,0,0,0,0,"-",{"$f":"IFERROR(ROUND(PERCENTILE(_xlfn._xlws.FILTER(Data_Table[Speed],(Data_Table[Direction]=ImportData!Direction_2)*(Data_Table[Period]=$B47)*(SUM(C47:N47)>=10)),0.85),2),\"-\")","v":"-"}]
[44,{"$f":"ImportData!$B$10+7*QUOTIENT(A48,24*60*7/ImportData!$B$8)+MOD(1+QUOTIENT(A48,24*60/ImportData!$B$8)-ImportData!$E$10,7)+TIME(0,ImportData!$B$8*A48,0)","v":"2023-10-03T20:00:00"},0,0,0,0,0,0,0,0,0,0,0,0,0,0,0,0,0,0,0,0,0,0,0,0,0,0,0,0,0,0,0,0,0,0,0,0,"-",{"$f":"IFERROR(ROUND(PERCENTILE(_xlfn._xlws.FILTER(Data_Table[Speed],(Data_Table[Direction]=ImportData!Direction_2)*(Data_Table[Period]=$B48)*(SUM(C48:N48)>=10)),0.85),2),\"-\")","v":"-"}]
[45,{"$f":"ImportData!$B$10+7*QUOTIENT(A49,24*60*7/ImportData!$B$8)+MOD(1+QUOTIENT(A49,24*60/ImportData!$B$8)-ImportData!$E$10,7)+TIME(0,ImportData!$B$8*A49,0)","v":"2023-10-03T21:00:00"},0,0,0,0,0,0,0,0,0,0,0,0,0,0,0,0,0,0,0,0,0,0,0,0,0,0,0,0,0,0,0,0,0,0,0,0,"-",{"$f":"IFERROR(ROUND(PERCENTILE(_xlfn._xlws.FILTER(Data_Table[Speed],(Data_Table[Direction]=ImportData!Direction_2)*(Data_Table[Period]=$B49)*(SUM(C49:N49)>=10)),0.85),2),\"-\")","v":"-"}]
[46,{"$f":"ImportData!$B$10+7*QUOTIENT(A50,24*60*7/ImportData!$B$8)+MOD(1+QUOTIENT(A50,24*60/ImportData!$B$8)-ImportData!$E$10,7)+TIME(0,ImportData!$B$8*A50,0)","v":"2023-10-03T22:00:00"},0,0,0,0,0,0,0,0,0,0,0,0,0,0,0,0,0,0,0,0,0,0,0,0,0,0,0,0,0,0,0,0,0,0,0,0,"-",{"$f":"IFERROR(ROUND(PERCENTILE(_xlfn._xlws.FILTER(Data_Table[Speed],(Data_Table[Direction]=ImportData!Direction_2)*(Data_Table[Period]=$B50)*(SUM(C50:N50)>=10)),0.85),2),\"-\")","v":"-"}]
[47,{"$f":"ImportData!$B$10+7*QUOTIENT(A51,24*60*7/ImportData!$B$8)+MOD(1+QUOTIENT(A51,24*60/ImportData!$B$8)-ImportData!$E$10,7)+TIME(0,ImportData!$B$8*A51,0)","v":"2023-10-03T23:00:00"},0,0,0,0,0,0,0,0,0,0,0,0,0,0,0,0,0,0,0,0,0,0,0,0,0,0,0,0,0,0,0,0,0,0,0,0,"-",{"$f":"IFERROR(ROUND(PERCENTILE(_xlfn._xlws.FILTER(Data_Table[Speed],(Data_Table[Direction]=ImportData!Direction_2)*(Data_Table[Period]=$B51)*(SUM(C51:N51)>=10)),0.85),2),\"-\")","v":"-"}]
[48,{"$f":"ImportData!$B$10+7*QUOTIENT(A52,24*60*7/ImportData!$B$8)+MOD(1+QUOTIENT(A52,24*60/ImportData!$B$8)-ImportData!$E$10,7)+TIME(0,ImportData!$B$8*A52,0)","v":"2023-10-04"},0,0,0,0,0,0,0,0,0,0,0,0,0,0,0,0,0,0,0,0,0,0,0,0,0,0,0,0,0,0,0,0,0,0,0,0,"-",{"$f":"IFERROR(ROUND(PERCENTILE(_xlfn._xlws.FILTER(Data_Table[Speed],(Data_Table[Direction]=ImportData!Direction_2)*(Data_Table[Period]=$B52)*(SUM(C52:N52)>=10)),0.85),2),\"-\")","v":"-"}]
[49,{"$f":"ImportData!$B$10+7*QUOTIENT(A53,24*60*7/ImportData!$B$8)+MOD(1+QUOTIENT(A53,24*60/ImportData!$B$8)-ImportData!$E$10,7)+TIME(0,ImportData!$B$8*A53,0)","v":"2023-10-04T01:00:00"},0,0,0,0,0,0,0,0,0,0,0,0,0,0,0,0,0,0,0,0,0,0,0,0,0,0,0,0,0,0,0,0,0,0,0,0,"-",{"$f":"IFERROR(ROUND(PERCENTILE(_xlfn._xlws.FILTER(Data_Table[Speed],(Data_Table[Direction]=ImportData!Direction_2)*(Data_Table[Period]=$B53)*(SUM(C53:N53)>=10)),0.85),2),\"-\")","v":"-"}]
[50,{"$f":"ImportData!$B$10+7*QUOTIENT(A54,24*60*7/ImportData!$B$8)+MOD(1+QUOTIENT(A54,24*60/ImportData!$B$8)-ImportData!$E$10,7)+TIME(0,ImportData!$B$8*A54,0)","v":"2023-10-04T02:00:00"},0,0,0,0,0,0,0,0,0,0,0,0,0,0,0,0,0,0,0,0,0,0,0,0,0,0,0,0,0,0,0,0,0,0,0,0,"-",{"$f":"IFERROR(ROUND(PERCENTILE(_xlfn._xlws.FILTER(Data_Table[Speed],(Data_Table[Direction]=ImportData!Direction_2)*(Data_Table[Period]=$B54)*(SUM(C54:N54)>=10)),0.85),2),\"-\")","v":"-"}]
[51,{"$f":"ImportData!$B$10+7*QUOTIENT(A55,24*60*7/ImportData!$B$8)+MOD(1+QUOTIENT(A55,24*60/ImportData!$B$8)-ImportData!$E$10,7)+TIME(0,ImportData!$B$8*A55,0)","v":"2023-10-04T03:00:00"},0,0,0,0,0,0,0,0,0,0,0,0,0,0,0,0,0,0,0,0,0,0,0,0,0,0,0,0,0,0,0,0,0,0,0,0,"-",{"$f":"IFERROR(ROUND(PERCENTILE(_xlfn._xlws.FILTER(Data_Table[Speed],(Data_Table[Direction]=ImportData!Direction_2)*(Data_Table[Period]=$B55)*(SUM(C55:N55)>=10)),0.85),2),\"-\")","v":"-"}]
[52,{"$f":"ImportData!$B$10+7*QUOTIENT(A56,24*60*7/ImportData!$B$8)+MOD(1+QUOTIENT(A56,24*60/ImportData!$B$8)-ImportData!$E$10,7)+TIME(0,ImportData!$B$8*A56,0)","v":"2023-10-04T04:00:00"},0,0,0,0,0,0,0,0,0,0,0,0,0,0,0,0,0,0,0,0,0,0,0,0,0,0,0,0,0,0,0,0,0,0,0,0,"-",{"$f":"IFERROR(ROUND(PERCENTILE(_xlfn._xlws.FILTER(Data_Table[Speed],(Data_Table[Direction]=ImportData!Direction_2)*(Data_Table[Period]=$B56)*(SUM(C56:N56)>=10)),0.85),2),\"-\")","v":"-"}]
[53,{"$f":"ImportData!$B$10+7*QUOTIENT(A57,24*60*7/ImportData!$B$8)+MOD(1+QUOTIENT(A57,24*60/ImportData!$B$8)-ImportData!$E$10,7)+TIME(0,ImportData!$B$8*A57,0)","v":"2023-10-04T05:00:00"},0,0,0,0,0,0,0,0,0,0,0,0,0,0,0,0,0,0,0,0,0,0,0,0,0,0,0,0,0,0,0,0,0,0,0,0,"-",{"$f":"IFERROR(ROUND(PERCENTILE(_xlfn._xlws.FILTER(Data_Table[Speed],(Data_Table[Direction]=ImportData!Direction_2)*(Data_Table[Period]=$B57)*(SUM(C57:N57)>=10)),0.85),2),\"-\")","v":"-"}]
[54,{"$f":"ImportData!$B$10+7*QUOTIENT(A58,24*60*7/ImportData!$B$8)+MOD(1+QUOTIENT(A58,24*60/ImportData!$B$8)-ImportData!$E$10,7)+TIME(0,ImportData!$B$8*A58,0)","v":"2023-10-04T06:00:00"},0,0,0,0,0,0,0,0,0,0,0,0,0,0,0,0,0,0,0,0,0,0,0,0,0,0,0,0,0,0,0,0,0,0,0,0,"-",{"$f":"IFERROR(ROUND(PERCENTILE(_xlfn._xlws.FILTER(Data_Table[Speed],(Data_Table[Direction]=ImportData!Direction_2)*(Data_Table[Period]=$B58)*(SUM(C58:N58)>=10)),0.85),2),\"-\")","v":"-"}]
[55,{"$f":"ImportData!$B$10+7*QUOTIENT(A59,24*60*7/ImportData!$B$8)+MOD(1+QUOTIENT(A59,24*60/ImportData!$B$8)-ImportData!$E$10,7)+TIME(0,ImportData!$B$8*A59,0)","v":"2023-10-04T07:00:00"},0,0,0,0,0,0,0,0,0,0,0,0,0,0,0,0,0,0,0,0,0,0,0,0,0,0,0,0,0,0,0,0,0,0,0,0,"-",{"$f":"IFERROR(ROUND(PERCENTILE(_xlfn._xlws.FILTER(Data_Table[Speed],(Data_Table[Direction]=ImportData!Direction_2)*(Data_Table[Period]=$B59)*(SUM(C59:N59)>=10)),0.85),2),\"-\")","v":"-"}]
[56,{"$f":"ImportData!$B$10+7*QUOTIENT(A60,24*60*7/ImportData!$B$8)+MOD(1+QUOTIENT(A60,24*60/ImportData!$B$8)-ImportData!$E$10,7)+TIME(0,ImportData!$B$8*A60,0)","v":"2023-10-04T08:00:00"},0,0,0,0,0,0,0,0,0,0,0,0,0,0,0,0,0,0,0,0,0,0,0,0,0,0,0,0,0,0,0,0,0,0,0,0,"-",{"$f":"IFERROR(ROUND(PERCENTILE(_xlfn._xlws.FILTER(Data_Table[Speed],(Data_Table[Direction]=ImportData!Direction_2)*(Data_Table[Period]=$B60)*(SUM(C60:N60)>=10)),0.85),2),\"-\")","v":"-"}]
[57,{"$f":"ImportData!$B$10+7*QUOTIENT(A61,24*60*7/ImportData!$B$8)+MOD(1+QUOTIENT(A61,24*60/ImportData!$B$8)-ImportData!$E$10,7)+TIME(0,ImportData!$B$8*A61,0)","v":"2023-10-04T09:00:00"},0,0,0,0,0,0,0,0,0,0,0,0,0,0,0,0,0,0,0,0,0,0,0,0,0,0,0,0,0,0,0,0,0,0,0,0,"-",{"$f":"IFERROR(ROUND(PERCENTILE(_xlfn._xlws.FILTER(Data_Table[Speed],(Data_Table[Direction]=ImportData!Direction_2)*(Data_Table[Period]=$B61)*(SUM(C61:N61)>=10)),0.85),2),\"-\")","v":"-"}]
[58,{"$f":"ImportData!$B$10+7*QUOTIENT(A62,24*60*7/ImportData!$B$8)+MOD(1+QUOTIENT(A62,24*60/ImportData!$B$8)-ImportData!$E$10,7)+TIME(0,ImportData!$B$8*A62,0)","v":"2023-10-04T10:00:00"},0,0,0,0,0,0,0,0,0,0,0,0,0,0,0,0,0,0,0,0,0,0,0,0,0,0,0,0,0,0,0,0,0,0,0,0,"-",{"$f":"IFERROR(ROUND(PERCENTILE(_xlfn._xlws.FILTER(Data_Table[Speed],(Data_Table[Direction]=ImportData!Direction_2)*(Data_Table[Period]=$B62)*(SUM(C62:N62)>=10)),0.85),2),\"-\")","v":"-"}]
[59,{"$f":"ImportData!$B$10+7*QUOTIENT(A63,24*60*7/ImportData!$B$8)+MOD(1+QUOTIENT(A63,24*60/ImportData!$B$8)-ImportData!$E$10,7)+TIME(0,ImportData!$B$8*A63,0)","v":"2023-10-04T11:00:00"},0,0,0,0,0,0,0,0,0,0,0,0,0,0,0,0,0,0,0,0,0,0,0,0,0,0,0,0,0,0,0,0,0,0,0,0,"-",{"$f":"IFERROR(ROUND(PERCENTILE(_xlfn._xlws.FILTER(Data_Table[Speed],(Data_Table[Direction]=ImportData!Direction_2)*(Data_Table[Period]=$B63)*(SUM(C63:N63)>=10)),0.85),2),\"-\")","v":"-"}]
[60,{"$f":"ImportData!$B$10+7*QUOTIENT(A64,24*60*7/ImportData!$B$8)+MOD(1+QUOTIENT(A64,24*60/ImportData!$B$8)-ImportData!$E$10,7)+TIME(0,ImportData!$B$8*A64,0)","v":"2023-10-04T12:00:00"},0,0,0,0,0,0,0,0,0,0,0,0,0,0,0,0,0,0,0,0,0,0,0,0,0,0,0,0,0,0,0,0,0,0,0,0,"-",{"$f":"IFERROR(ROUND(PERCENTILE(_xlfn._xlws.FILTER(Data_Table[Speed],(Data_Table[Direction]=ImportData!Direction_2)*(Data_Table[Period]=$B64)*(SUM(C64:N64)>=10)),0.85),2),\"-\")","v":"-"}]
[61,{"$f":"ImportData!$B$10+7*QUOTIENT(A65,24*60*7/ImportData!$B$8)+MOD(1+QUOTIENT(A65,24*60/ImportData!$B$8)-ImportData!$E$10,7)+TIME(0,ImportData!$B$8*A65,0)","v":"2023-10-04T13:00:00"},0,0,0,0,0,0,0,0,0,0,0,0,0,0,0,0,0,0,0,0,0,0,0,0,0,0,0,0,0,0,0,0,0,0,0,0,"-",{"$f":"IFERROR(ROUND(PERCENTILE(_xlfn._xlws.FILTER(Data_Table[Speed],(Data_Table[Direction]=ImportData!Direction_2)*(Data_Table[Period]=$B65)*(SUM(C65:N65)>=10)),0.85),2),\"-\")","v":"-"}]
[62,{"$f":"ImportData!$B$10+7*QUOTIENT(A66,24*60*7/ImportData!$B$8)+MOD(1+QUOTIENT(A66,24*60/ImportData!$B$8)-ImportData!$E$10,7)+TIME(0,ImportData!$B$8*A66,0)","v":"2023-10-04T14:00:00"},0,0,0,0,0,0,0,0,0,0,0,0,0,0,0,0,0,0,0,0,0,0,0,0,0,0,0,0,0,0,0,0,0,0,0,0,"-",{"$f":"IFERROR(ROUND(PERCENTILE(_xlfn._xlws.FILTER(Data_Table[Speed],(Data_Table[Direction]=ImportData!Direction_2)*(Data_Table[Period]=$B66)*(SUM(C66:N66)>=10)),0.85),2),\"-\")","v":"-"}]
[63,{"$f":"ImportData!$B$10+7*QUOTIENT(A67,24*60*7/ImportData!$B$8)+MOD(1+QUOTIENT(A67,24*60/ImportData!$B$8)-ImportData!$E$10,7)+TIME(0,ImportData!$B$8*A67,0)","v":"2023-10-04T15:00:00"},0,0,0,0,0,0,0,0,0,0,0,0,0,0,0,0,0,0,0,0,0,0,0,0,0,0,0,0,0,0,0,0,0,0,0,0,"-",{"$f":"IFERROR(ROUND(PERCENTILE(_xlfn._xlws.FILTER(Data_Table[Speed],(Data_Table[Direction]=ImportData!Direction_2)*(Data_Table[Period]=$B67)*(SUM(C67:N67)>=10)),0.85),2),\"-\")","v":"-"}]
[64,{"$f":"ImportData!$B$10+7*QUOTIENT(A68,24*60*7/ImportData!$B$8)+MOD(1+QUOTIENT(A68,24*60/ImportData!$B$8)-ImportData!$E$10,7)+TIME(0,ImportData!$B$8*A68,0)","v":"2023-10-04T16:00:00"},0,0,0,0,0,0,0,0,0,0,0,0,0,0,0,0,0,0,0,0,0,0,0,0,0,0,0,0,0,0,0,0,0,0,0,0,"-",{"$f":"IFERROR(ROUND(PERCENTILE(_xlfn._xlws.FILTER(Data_Table[Speed],(Data_Table[Direction]=ImportData!Direction_2)*(Data_Table[Period]=$B68)*(SUM(C68:N68)>=10)),0.85),2),\"-\")","v":"-"}]
[65,{"$f":"ImportData!$B$10+7*QUOTIENT(A69,24*60*7/ImportData!$B$8)+MOD(1+QUOTIENT(A69,24*60/ImportData!$B$8)-ImportData!$E$10,7)+TIME(0,ImportData!$B$8*A69,0)","v":"2023-10-04T17:00:00"},0,0,0,0,0,0,0,0,0,0,0,0,0,0,0,0,0,0,0,0,0,0,0,0,0,0,0,0,0,0,0,0,0,0,0,0,"-",{"$f":"IFERROR(ROUND(PERCENTILE(_xlfn._xlws.FILTER(Data_Table[Speed],(Data_Table[Direction]=ImportData!Direction_2)*(Data_Table[Period]=$B69)*(SUM(C69:N69)>=10)),0.85),2),\"-\")","v":"-"}]
[66,{"$f":"ImportData!$B$10+7*QUOTIENT(A70,24*60*7/ImportData!$B$8)+MOD(1+QUOTIENT(A70,24*60/ImportData!$B$8)-ImportData!$E$10,7)+TIME(0,ImportData!$B$8*A70,0)","v":"2023-10-04T18:00:00"},0,0,0,0,0,0,0,0,0,0,0,0,0,0,0,0,0,0,0,0,0,0,0,0,0,0,0,0,0,0,0,0,0,0,0,0,"-",{"$f":"IFERROR(ROUND(PERCENTILE(_xlfn._xlws.FILTER(Data_Table[Speed],(Data_Table[Direction]=ImportData!Direction_2)*(Data_Table[Period]=$B70)*(SUM(C70:N70)>=10)),0.85),2),\"-\")","v":"-"}]
[67,{"$f":"ImportData!$B$10+7*QUOTIENT(A71,24*60*7/ImportData!$B$8)+MOD(1+QUOTIENT(A71,24*60/ImportData!$B$8)-ImportData!$E$10,7)+TIME(0,ImportData!$B$8*A71,0)","v":"2023-10-04T19:00:00"},0,0,0,0,0,0,0,0,0,0,0,0,0,0,0,0,0,0,0,0,0,0,0,0,0,0,0,0,0,0,0,0,0,0,0,0,"-",{"$f":"IFERROR(ROUND(PERCENTILE(_xlfn._xlws.FILTER(Data_Table[Speed],(Data_Table[Direction]=ImportData!Direction_2)*(Data_Table[Period]=$B71)*(SUM(C71:N71)>=10)),0.85),2),\"-\")","v":"-"}]
[68,{"$f":"ImportData!$B$10+7*QUOTIENT(A72,24*60*7/ImportData!$B$8)+MOD(1+QUOTIENT(A72,24*60/ImportData!$B$8)-ImportData!$E$10,7)+TIME(0,ImportData!$B$8*A72,0)","v":"2023-10-04T20:00:00"},0,0,0,0,0,0,0,0,0,0,0,0,0,0,0,0,0,0,0,0,0,0,0,0,0,0,0,0,0,0,0,0,0,0,0,0,"-",{"$f":"IFERROR(ROUND(PERCENTILE(_xlfn._xlws.FILTER(Data_Table[Speed],(Data_Table[Direction]=ImportData!Direction_2)*(Data_Table[Period]=$B72)*(SUM(C72:N72)>=10)),0.85),2),\"-\")","v":"-"}]
[69,{"$f":"ImportData!$B$10+7*QUOTIENT(A73,24*60*7/ImportData!$B$8)+MOD(1+QUOTIENT(A73,24*60/ImportData!$B$8)-ImportData!$E$10,7)+TIME(0,ImportData!$B$8*A73,0)","v":"2023-10-04T21:00:00"},0,0,0,0,0,0,0,0,0,0,0,0,0,0,0,0,0,0,0,0,0,0,0,0,0,0,0,0,0,0,0,0,0,0,0,0,"-",{"$f":"IFERROR(ROUND(PERCENTILE(_xlfn._xlws.FILTER(Data_Table[Speed],(Data_Table[Direction]=ImportData!Direction_2)*(Data_Table[Period]=$B73)*(SUM(C73:N73)>=10)),0.85),2),\"-\")","v":"-"}]
[70,{"$f":"ImportData!$B$10+7*QUOTIENT(A74,24*60*7/ImportData!$B$8)+MOD(1+QUOTIENT(A74,24*60/ImportData!$B$8)-ImportData!$E$10,7)+TIME(0,ImportData!$B$8*A74,0)","v":"2023-10-04T22:00:00"},0,0,0,0,0,0,0,0,0,0,0,0,0,0,0,0,0,0,0,0,0,0,0,0,0,0,0,0,0,0,0,0,0,0,0,0,"-",{"$f":"IFERROR(ROUND(PERCENTILE(_xlfn._xlws.FILTER(Data_Table[Speed],(Data_Table[Direction]=ImportData!Direction_2)*(Data_Table[Period]=$B74)*(SUM(C74:N74)>=10)),0.85),2),\"-\")","v":"-"}]
[71,{"$f":"ImportData!$B$10+7*QUOTIENT(A75,24*60*7/ImportData!$B$8)+MOD(1+QUOTIENT(A75,24*60/ImportData!$B$8)-ImportData!$E$10,7)+TIME(0,ImportData!$B$8*A75,0)","v":"2023-10-04T23:00:00"},0,0,0,0,0,0,0,0,0,0,0,0,0,0,0,0,0,0,0,0,0,0,0,0,0,0,0,0,0,0,0,0,0,0,0,0,"-",{"$f":"IFERROR(ROUND(PERCENTILE(_xlfn._xlws.FILTER(Data_Table[Speed],(Data_Table[Direction]=ImportData!Direction_2)*(Data_Table[Period]=$B75)*(SUM(C75:N75)>=10)),0.85),2),\"-\")","v":"-"}]
[72,{"$f":"ImportData!$B$10+7*QUOTIENT(A76,24*60*7/ImportData!$B$8)+MOD(1+QUOTIENT(A76,24*60/ImportData!$B$8)-ImportData!$E$10,7)+TIME(0,ImportData!$B$8*A76,0)","v":"2023-09-28"},0,0,0,0,0,0,0,0,0,0,0,0,0,0,0,0,0,0,0,0,0,0,0,0,0,0,0,0,0,0,0,0,0,0,0,0,"-",{"$f":"IFERROR(ROUND(PERCENTILE(_xlfn._xlws.FILTER(Data_Table[Speed],(Data_Table[Direction]=ImportData!Direction_2)*(Data_Table[Period]=$B76)*(SUM(C76:N76)>=10)),0.85),2),\"-\")","v":"-"}]
[73,{"$f":"ImportData!$B$10+7*QUOTIENT(A77,24*60*7/ImportData!$B$8)+MOD(1+QUOTIENT(A77,24*60/ImportData!$B$8)-ImportData!$E$10,7)+TIME(0,ImportData!$B$8*A77,0)","v":"2023-09-28T01:00:00"},0,0,0,0,0,0,0,0,0,0,0,0,0,0,0,0,0,0,0,0,0,0,0,0,0,0,0,0,0,0,0,0,0,0,0,0,"-",{"$f":"IFERROR(ROUND(PERCENTILE(_xlfn._xlws.FILTER(Data_Table[Speed],(Data_Table[Direction]=ImportData!Direction_2)*(Data_Table[Period]=$B77)*(SUM(C77:N77)>=10)),0.85),2),\"-\")","v":"-"}]
[74,{"$f":"ImportData!$B$10+7*QUOTIENT(A78,24*60*7/ImportData!$B$8)+MOD(1+QUOTIENT(A78,24*60/ImportData!$B$8)-ImportData!$E$10,7)+TIME(0,ImportData!$B$8*A78,0)","v":"2023-09-28T02:00:00"},0,0,0,0,0,0,0,0,0,0,0,0,0,0,0,0,0,0,0,0,0,0,0,0,0,0,0,0,0,0,0,0,0,0,0,0,"-",{"$f":"IFERROR(ROUND(PERCENTILE(_xlfn._xlws.FILTER(Data_Table[Speed],(Data_Table[Direction]=ImportData!Direction_2)*(Data_Table[Period]=$B78)*(SUM(C78:N78)>=10)),0.85),2),\"-\")","v":"-"}]
[75,{"$f":"ImportData!$B$10+7*QUOTIENT(A79,24*60*7/ImportData!$B$8)+MOD(1+QUOTIENT(A79,24*60/ImportData!$B$8)-ImportData!$E$10,7)+TIME(0,ImportData!$B$8*A79,0)","v":"2023-09-28T03:00:00"},0,0,0,0,0,0,0,0,0,0,0,0,0,0,0,0,0,0,0,0,0,0,0,0,0,0,0,0,0,0,0,0,0,0,0,0,"-",{"$f":"IFERROR(ROUND(PERCENTILE(_xlfn._xlws.FILTER(Data_Table[Speed],(Data_Table[Direction]=ImportData!Direction_2)*(Data_Table[Period]=$B79)*(SUM(C79:N79)>=10)),0.85),2),\"-\")","v":"-"}]
[76,{"$f":"ImportData!$B$10+7*QUOTIENT(A80,24*60*7/ImportData!$B$8)+MOD(1+QUOTIENT(A80,24*60/ImportData!$B$8)-ImportData!$E$10,7)+TIME(0,ImportData!$B$8*A80,0)","v":"2023-09-28T04:00:00"},0,0,0,0,0,0,0,0,0,0,0,0,0,0,0,0,0,0,0,0,0,0,0,0,0,0,0,0,0,0,0,0,0,0,0,0,"-",{"$f":"IFERROR(ROUND(PERCENTILE(_xlfn._xlws.FILTER(Data_Table[Speed],(Data_Table[Direction]=ImportData!Direction_2)*(Data_Table[Period]=$B80)*(SUM(C80:N80)>=10)),0.85),2),\"-\")","v":"-"}]
[77,{"$f":"ImportData!$B$10+7*QUOTIENT(A81,24*60*7/ImportData!$B$8)+MOD(1+QUOTIENT(A81,24*60/ImportData!$B$8)-ImportData!$E$10,7)+TIME(0,ImportData!$B$8*A81,0)","v":"2023-09-28T05:00:00"},0,0,0,0,0,0,0,0,0,0,0,0,0,0,0,0,0,0,0,0,0,0,0,0,0,0,0,0,0,0,0,0,0,0,0,0,"-",{"$f":"IFERROR(ROUND(PERCENTILE(_xlfn._xlws.FILTER(Data_Table[Speed],(Data_Table[Direction]=ImportData!Direction_2)*(Data_Table[Period]=$B81)*(SUM(C81:N81)>=10)),0.85),2),\"-\")","v":"-"}]
[78,{"$f":"ImportData!$B$10+7*QUOTIENT(A82,24*60*7/ImportData!$B$8)+MOD(1+QUOTIENT(A82,24*60/ImportData!$B$8)-ImportData!$E$10,7)+TIME(0,ImportData!$B$8*A82,0)","v":"2023-09-28T06:00:00"},0,0,0,0,0,0,0,0,0,0,0,0,0,0,0,0,0,0,0,0,0,0,0,0,0,0,0,0,0,0,0,0,0,0,0,0,"-",{"$f":"IFERROR(ROUND(PERCENTILE(_xlfn._xlws.FILTER(Data_Table[Speed],(Data_Table[Direction]=ImportData!Direction_2)*(Data_Table[Period]=$B82)*(SUM(C82:N82)>=10)),0.85),2),\"-\")","v":"-"}]
[79,{"$f":"ImportData!$B$10+7*QUOTIENT(A83,24*60*7/ImportData!$B$8)+MOD(1+QUOTIENT(A83,24*60/ImportData!$B$8)-ImportData!$E$10,7)+TIME(0,ImportData!$B$8*A83,0)","v":"2023-09-28T07:00:00"},0,0,0,0,0,0,0,0,0,0,0,0,0,0,0,0,0,0,0,0,0,0,0,0,0,0,0,0,0,0,0,0,0,0,0,0,"-",{"$f":"IFERROR(ROUND(PERCENTILE(_xlfn._xlws.FILTER(Data_Table[Speed],(Data_Table[Direction]=ImportData!Direction_2)*(Data_Table[Period]=$B83)*(SUM(C83:N83)>=10)),0.85),2),\"-\")","v":"-"}]
[80,{"$f":"ImportData!$B$10+7*QUOTIENT(A84,24*60*7/ImportData!$B$8)+MOD(1+QUOTIENT(A84,24*60/ImportData!$B$8)-ImportData!$E$10,7)+TIME(0,ImportData!$B$8*A84,0)","v":"2023-09-28T08:00:00"},0,0,0,0,0,0,0,0,0,0,0,0,0,0,0,0,0,0,0,0,0,0,0,0,0,0,0,0,0,0,0,0,0,0,0,0,"-",{"$f":"IFERROR(ROUND(PERCENTILE(_xlfn._xlws.FILTER(Data_Table[Speed],(Data_Table[Direction]=ImportData!Direction_2)*(Data_Table[Period]=$B84)*(SUM(C84:N84)>=10)),0.85),2),\"-\")","v":"-"}]
[81,{"$f":"ImportData!$B$10+7*QUOTIENT(A85,24*60*7/ImportData!$B$8)+MOD(1+QUOTIENT(A85,24*60/ImportData!$B$8)-ImportData!$E$10,7)+TIME(0,ImportData!$B$8*A85,0)","v":"2023-09-28T09:00:00"},0,0,0,0,0,0,0,0,0,0,0,0,0,0,0,0,0,0,0,0,0,0,0,0,0,0,0,0,0,0,0,0,0,0,0,0,"-",{"$f":"IFERROR(ROUND(PERCENTILE(_xlfn._xlws.FILTER(Data_Table[Speed],(Data_Table[Direction]=ImportData!Direction_2)*(Data_Table[Period]=$B85)*(SUM(C85:N85)>=10)),0.85),2),\"-\")","v":"-"}]
[82,{"$f":"ImportData!$B$10+7*QUOTIENT(A86,24*60*7/ImportData!$B$8)+MOD(1+QUOTIENT(A86,24*60/ImportData!$B$8)-ImportData!$E$10,7)+TIME(0,ImportData!$B$8*A86,0)","v":"2023-09-28T10:00:00"},0,0,0,0,0,0,0,0,0,0,0,0,0,0,0,0,0,0,0,0,0,0,0,0,0,0,0,0,0,0,0,0,0,0,0,0,"-",{"$f":"IFERROR(ROUND(PERCENTILE(_xlfn._xlws.FILTER(Data_Table[Speed],(Data_Table[Direction]=ImportData!Direction_2)*(Data_Table[Period]=$B86)*(SUM(C86:N86)>=10)),0.85),2),\"-\")","v":"-"}]
[83,{"$f":"ImportData!$B$10+7*QUOTIENT(A87,24*60*7/ImportData!$B$8)+MOD(1+QUOTIENT(A87,24*60/ImportData!$B$8)-ImportData!$E$10,7)+TIME(0,ImportData!$B$8*A87,0)","v":"2023-09-28T11:00:00"},0,0,0,0,0,0,0,0,0,0,0,0,0,0,0,0,0,0,0,0,0,0,0,0,0,0,0,0,0,0,0,0,0,0,0,0,"-",{"$f":"IFERROR(ROUND(PERCENTILE(_xlfn._xlws.FILTER(Data_Table[Speed],(Data_Table[Direction]=ImportData!Direction_2)*(Data_Table[Period]=$B87)*(SUM(C87:N87)>=10)),0.85),2),\"-\")","v":"-"}]
[84,{"$f":"ImportData!$B$10+7*QUOTIENT(A88,24*60*7/ImportData!$B$8)+MOD(1+QUOTIENT(A88,24*60/ImportData!$B$8)-ImportData!$E$10,7)+TIME(0,ImportData!$B$8*A88,0)","v":"2023-09-28T12:00:00"},0,0,0,0,0,0,0,0,0,0,0,0,0,0,0,0,0,0,0,0,0,0,0,0,0,0,0,0,0,0,0,0,0,0,0,0,"-",{"$f":"IFERROR(ROUND(PERCENTILE(_xlfn._xlws.FILTER(Data_Table[Speed],(Data_Table[Direction]=ImportData!Direction_2)*(Data_Table[Period]=$B88)*(SUM(C88:N88)>=10)),0.85),2),\"-\")","v":"-"}]
[85,{"$f":"ImportData!$B$10+7*QUOTIENT(A89,24*60*7/ImportData!$B$8)+MOD(1+QUOTIENT(A89,24*60/ImportData!$B$8)-ImportData!$E$10,7)+TIME(0,ImportData!$B$8*A89,0)","v":"2023-09-28T13:00:00"},0,0,0,0,0,0,0,0,0,0,0,0,0,0,0,0,0,0,0,0,0,0,0,0,0,0,0,0,0,0,0,0,0,0,0,0,"-",{"$f":"IFERROR(ROUND(PERCENTILE(_xlfn._xlws.FILTER(Data_Table[Speed],(Data_Table[Direction]=ImportData!Direction_2)*(Data_Table[Period]=$B89)*(SUM(C89:N89)>=10)),0.85),2),\"-\")","v":"-"}]
[86,{"$f":"ImportData!$B$10+7*QUOTIENT(A90,24*60*7/ImportData!$B$8)+MOD(1+QUOTIENT(A90,24*60/ImportData!$B$8)-ImportData!$E$10,7)+TIME(0,ImportData!$B$8*A90,0)","v":"2023-09-28T14:00:00"},0,0,0,0,0,0,0,0,0,0,0,0,0,0,0,0,0,0,0,0,0,0,0,0,0,0,0,0,0,0,0,0,0,0,0,0,"-",{"$f":"IFERROR(ROUND(PERCENTILE(_xlfn._xlws.FILTER(Data_Table[Speed],(Data_Table[Direction]=ImportData!Direction_2)*(Data_Table[Period]=$B90)*(SUM(C90:N90)>=10)),0.85),2),\"-\")","v":"-"}]
[87,{"$f":"ImportData!$B$10+7*QUOTIENT(A91,24*60*7/ImportData!$B$8)+MOD(1+QUOTIENT(A91,24*60/ImportData!$B$8)-ImportData!$E$10,7)+TIME(0,ImportData!$B$8*A91,0)","v":"2023-09-28T15:00:00"},0,0,0,0,0,0,0,0,0,0,0,0,0,0,0,0,0,0,0,0,0,0,0,0,0,0,0,0,0,0,0,0,0,0,0,0,"-",{"$f":"IFERROR(ROUND(PERCENTILE(_xlfn._xlws.FILTER(Data_Table[Speed],(Data_Table[Direction]=ImportData!Direction_2)*(Data_Table[Period]=$B91)*(SUM(C91:N91)>=10)),0.85),2),\"-\")","v":"-"}]
[88,{"$f":"ImportData!$B$10+7*QUOTIENT(A92,24*60*7/ImportData!$B$8)+MOD(1+QUOTIENT(A92,24*60/ImportData!$B$8)-ImportData!$E$10,7)+TIME(0,ImportData!$B$8*A92,0)","v":"2023-09-28T16:00:00"},0,0,0,0,0,0,0,0,0,0,0,0,0,0,0,0,0,0,0,0,0,0,0,0,0,0,0,0,0,0,0,0,0,0,0,0,"-",{"$f":"IFERROR(ROUND(PERCENTILE(_xlfn._xlws.FILTER(Data_Table[Speed],(Data_Table[Direction]=ImportData!Direction_2)*(Data_Table[Period]=$B92)*(SUM(C92:N92)>=10)),0.85),2),\"-\")","v":"-"}]
[89,{"$f":"ImportData!$B$10+7*QUOTIENT(A93,24*60*7/ImportData!$B$8)+MOD(1+QUOTIENT(A93,24*60/ImportData!$B$8)-ImportData!$E$10,7)+TIME(0,ImportData!$B$8*A93,0)","v":"2023-09-28T17:00:00"},0,0,0,0,0,0,0,0,0,0,0,0,0,0,0,0,0,0,0,0,0,0,0,0,0,0,0,0,0,0,0,0,0,0,0,0,"-",{"$f":"IFERROR(ROUND(PERCENTILE(_xlfn._xlws.FILTER(Data_Table[Speed],(Data_Table[Direction]=ImportData!Direction_2)*(Data_Table[Period]=$B93)*(SUM(C93:N93)>=10)),0.85),2),\"-\")","v":"-"}]
[90,{"$f":"ImportData!$B$10+7*QUOTIENT(A94,24*60*7/ImportData!$B$8)+MOD(1+QUOTIENT(A94,24*60/ImportData!$B$8)-ImportData!$E$10,7)+TIME(0,ImportData!$B$8*A94,0)","v":"2023-09-28T18:00:00"},0,0,0,0,0,0,0,0,0,0,0,0,0,0,0,0,0,0,0,0,0,0,0,0,0,0,0,0,0,0,0,0,0,0,0,0,"-",{"$f":"IFERROR(ROUND(PERCENTILE(_xlfn._xlws.FILTER(Data_Table[Speed],(Data_Table[Direction]=ImportData!Direction_2)*(Data_Table[Period]=$B94)*(SUM(C94:N94)>=10)),0.85),2),\"-\")","v":"-"}]
[91,{"$f":"ImportData!$B$10+7*QUOTIENT(A95,24*60*7/ImportData!$B$8)+MOD(1+QUOTIENT(A95,24*60/ImportData!$B$8)-ImportData!$E$10,7)+TIME(0,ImportData!$B$8*A95,0)","v":"2023-09-28T19:00:00"},0,0,0,0,0,0,0,0,0,0,0,0,0,0,0,0,0,0,0,0,0,0,0,0,0,0,0,0,0,0,0,0,0,0,0,0,"-",{"$f":"IFERROR(ROUND(PERCENTILE(_xlfn._xlws.FILTER(Data_Table[Speed],(Data_Table[Direction]=ImportData!Direction_2)*(Data_Table[Period]=$B95)*(SUM(C95:N95)>=10)),0.85),2),\"-\")","v":"-"}]
[92,{"$f":"ImportData!$B$10+7*QUOTIENT(A96,24*60*7/ImportData!$B$8)+MOD(1+QUOTIENT(A96,24*60/ImportData!$B$8)-ImportData!$E$10,7)+TIME(0,ImportData!$B$8*A96,0)","v":"2023-09-28T20:00:00"},0,0,0,0,0,0,0,0,0,0,0,0,0,0,0,0,0,0,0,0,0,0,0,0,0,0,0,0,0,0,0,0,0,0,0,0,"-",{"$f":"IFERROR(ROUND(PERCENTILE(_xlfn._xlws.FILTER(Data_Table[Speed],(Data_Table[Direction]=ImportData!Direction_2)*(Data_Table[Period]=$B96)*(SUM(C96:N96)>=10)),0.85),2),\"-\")","v":"-"}]
[93,{"$f":"ImportData!$B$10+7*QUOTIENT(A97,24*60*7/ImportData!$B$8)+MOD(1+QUOTIENT(A97,24*60/ImportData!$B$8)-ImportData!$E$10,7)+TIME(0,ImportData!$B$8*A97,0)","v":"2023-09-28T21:00:00"},0,0,0,0,0,0,0,0,0,0,0,0,0,0,0,0,0,0,0,0,0,0,0,0,0,0,0,0,0,0,0,0,0,0,0,0,"-",{"$f":"IFERROR(ROUND(PERCENTILE(_xlfn._xlws.FILTER(Data_Table[Speed],(Data_Table[Direction]=ImportData!Direction_2)*(Data_Table[Period]=$B97)*(SUM(C97:N97)>=10)),0.85),2),\"-\")","v":"-"}]
[94,{"$f":"ImportData!$B$10+7*QUOTIENT(A98,24*60*7/ImportData!$B$8)+MOD(1+QUOTIENT(A98,24*60/ImportData!$B$8)-ImportData!$E$10,7)+TIME(0,ImportData!$B$8*A98,0)","v":"2023-09-28T22:00:00"},0,0,0,0,0,0,0,0,0,0,0,0,0,0,0,0,0,0,0,0,0,0,0,0,0,0,0,0,0,0,0,0,0,0,0,0,"-",{"$f":"IFERROR(ROUND(PERCENTILE(_xlfn._xlws.FILTER(Data_Table[Speed],(Data_Table[Direction]=ImportData!Direction_2)*(Data_Table[Period]=$B98)*(SUM(C98:N98)>=10)),0.85),2),\"-\")","v":"-"}]
[95,{"$f":"ImportData!$B$10+7*QUOTIENT(A99,24*60*7/ImportData!$B$8)+MOD(1+QUOTIENT(A99,24*60/ImportData!$B$8)-ImportData!$E$10,7)+TIME(0,ImportData!$B$8*A99,0)","v":"2023-09-28T23:00:00"},0,0,0,0,0,0,0,0,0,0,0,0,0,0,0,0,0,0,0,0,0,0,0,0,0,0,0,0,0,0,0,0,0,0,0,0,"-",{"$f":"IFERROR(ROUND(PERCENTILE(_xlfn._xlws.FILTER(Data_Table[Speed],(Data_Table[Direction]=ImportData!Direction_2)*(Data_Table[Period]=$B99)*(SUM(C99:N99)>=10)),0.85),2),\"-\")","v":"-"}]
[96,{"$f":"ImportData!$B$10+7*QUOTIENT(A100,24*60*7/ImportData!$B$8)+MOD(1+QUOTIENT(A100,24*60/ImportData!$B$8)-ImportData!$E$10,7)+TIME(0,ImportData!$B$8*A100,0)","v":"2023-09-29"},0,0,0,0,0,0,0,0,0,0,0,0,0,0,0,0,0,0,0,0,0,0,0,0,0,0,0,0,0,0,0,0,0,0,0,0,"-",{"$f":"IFERROR(ROUND(PERCENTILE(_xlfn._xlws.FILTER(Data_Table[Speed],(Data_Table[Direction]=ImportData!Direction_2)*(Data_Table[Period]=$B100)*(SUM(C100:N100)>=10)),0.85),2),\"-\")","v":"-"}]
[97,{"$f":"ImportData!$B$10+7*QUOTIENT(A101,24*60*7/ImportData!$B$8)+MOD(1+QUOTIENT(A101,24*60/ImportData!$B$8)-ImportData!$E$10,7)+TIME(0,ImportData!$B$8*A101,0)","v":"2023-09-29T01:00:00"},0,0,0,0,0,0,0,0,0,0,0,0,0,0,0,0,0,0,0,0,0,0,0,0,0,0,0,0,0,0,0,0,0,0,0,0,"-",{"$f":"IFERROR(ROUND(PERCENTILE(_xlfn._xlws.FILTER(Data_Table[Speed],(Data_Table[Direction]=ImportData!Direction_2)*(Data_Table[Period]=$B101)*(SUM(C101:N101)>=10)),0.85),2),\"-\")","v":"-"}]
[98,{"$f":"ImportData!$B$10+7*QUOTIENT(A102,24*60*7/ImportData!$B$8)+MOD(1+QUOTIENT(A102,24*60/ImportData!$B$8)-ImportData!$E$10,7)+TIME(0,ImportData!$B$8*A102,0)","v":"2023-09-29T02:00:00"},0,0,0,0,0,0,0,0,0,0,0,0,0,0,0,0,0,0,0,0,0,0,0,0,0,0,0,0,0,0,0,0,0,0,0,0,"-",{"$f":"IFERROR(ROUND(PERCENTILE(_xlfn._xlws.FILTER(Data_Table[Speed],(Data_Table[Direction]=ImportData!Direction_2)*(Data_Table[Period]=$B102)*(SUM(C102:N102)>=10)),0.85),2),\"-\")","v":"-"}]
[99,{"$f":"ImportData!$B$10+7*QUOTIENT(A103,24*60*7/ImportData!$B$8)+MOD(1+QUOTIENT(A103,24*60/ImportData!$B$8)-ImportData!$E$10,7)+TIME(0,ImportData!$B$8*A103,0)","v":"2023-09-29T03:00:00"},0,0,0,0,0,0,0,0,0,0,0,0,0,0,0,0,0,0,0,0,0,0,0,0,0,0,0,0,0,0,0,0,0,0,0,0,"-",{"$f":"IFERROR(ROUND(PERCENTILE(_xlfn._xlws.FILTER(Data_Table[Speed],(Data_Table[Direction]=ImportData!Direction_2)*(Data_Table[Period]=$B103)*(SUM(C103:N103)>=10)),0.85),2),\"-\")","v":"-"}]
[100,{"$f":"ImportData!$B$10+7*QUOTIENT(A104,24*60*7/ImportData!$B$8)+MOD(1+QUOTIENT(A104,24*60/ImportData!$B$8)-ImportData!$E$10,7)+TIME(0,ImportData!$B$8*A104,0)","v":"2023-09-29T04:00:00"},0,0,0,0,0,0,0,0,0,0,0,0,0,0,0,0,0,0,0,0,0,0,0,0,0,0,0,0,0,0,0,0,0,0,0,0,"-",{"$f":"IFERROR(ROUND(PERCENTILE(_xlfn._xlws.FILTER(Data_Table[Speed],(Data_Table[Direction]=ImportData!Direction_2)*(Data_Table[Period]=$B104)*(SUM(C104:N104)>=10)),0.85),2),\"-\")","v":"-"}]
[101,{"$f":"ImportData!$B$10+7*QUOTIENT(A105,24*60*7/ImportData!$B$8)+MOD(1+QUOTIENT(A105,24*60/ImportData!$B$8)-ImportData!$E$10,7)+TIME(0,ImportData!$B$8*A105,0)","v":"2023-09-29T05:00:00"},0,0,0,0,0,0,0,0,0,0,0,0,0,0,0,0,0,0,0,0,0,0,0,0,0,0,0,0,0,0,0,0,0,0,0,0,"-",{"$f":"IFERROR(ROUND(PERCENTILE(_xlfn._xlws.FILTER(Data_Table[Speed],(Data_Table[Direction]=ImportData!Direction_2)*(Data_Table[Period]=$B105)*(SUM(C105:N105)>=10)),0.85),2),\"-\")","v":"-"}]
[102,{"$f":"ImportData!$B$10+7*QUOTIENT(A106,24*60*7/ImportData!$B$8)+MOD(1+QUOTIENT(A106,24*60/ImportData!$B$8)-ImportData!$E$10,7)+TIME(0,ImportData!$B$8*A106,0)","v":"2023-09-29T06:00:00"},0,0,0,0,0,0,0,0,0,0,0,0,0,0,0,0,0,0,0,0,0,0,0,0,0,0,0,0,0,0,0,0,0,0,0,0,"-",{"$f":"IFERROR(ROUND(PERCENTILE(_xlfn._xlws.FILTER(Data_Table[Speed],(Data_Table[Direction]=ImportData!Direction_2)*(Data_Table[Period]=$B106)*(SUM(C106:N106)>=10)),0.85),2),\"-\")","v":"-"}]
[103,{"$f":"ImportData!$B$10+7*QUOTIENT(A107,24*60*7/ImportData!$B$8)+MOD(1+QUOTIENT(A107,24*60/ImportData!$B$8)-ImportData!$E$10,7)+TIME(0,ImportData!$B$8*A107,0)","v":"2023-09-29T07:00:00"},0,0,0,0,0,0,0,0,0,0,0,0,0,0,0,0,0,0,0,0,0,0,0,0,0,0,0,0,0,0,0,0,0,0,0,0,"-",{"$f":"IFERROR(ROUND(PERCENTILE(_xlfn._xlws.FILTER(Data_Table[Speed],(Data_Table[Direction]=ImportData!Direction_2)*(Data_Table[Period]=$B107)*(SUM(C107:N107)>=10)),0.85),2),\"-\")","v":"-"}]
[104,{"$f":"ImportData!$B$10+7*QUOTIENT(A108,24*60*7/ImportData!$B$8)+MOD(1+QUOTIENT(A108,24*60/ImportData!$B$8)-ImportData!$E$10,7)+TIME(0,ImportData!$B$8*A108,0)","v":"2023-09-29T08:00:00"},0,0,0,0,0,0,0,0,0,0,0,0,0,0,0,0,0,0,0,0,0,0,0,0,0,0,0,0,0,0,0,0,0,0,0,0,"-",{"$f":"IFERROR(ROUND(PERCENTILE(_xlfn._xlws.FILTER(Data_Table[Speed],(Data_Table[Direction]=ImportData!Direction_2)*(Data_Table[Period]=$B108)*(SUM(C108:N108)>=10)),0.85),2),\"-\")","v":"-"}]
[105,{"$f":"ImportData!$B$10+7*QUOTIENT(A109,24*60*7/ImportData!$B$8)+MOD(1+QUOTIENT(A109,24*60/ImportData!$B$8)-ImportData!$E$10,7)+TIME(0,ImportData!$B$8*A109,0)","v":"2023-09-29T09:00:00"},0,0,0,0,0,0,0,0,0,0,0,0,0,0,0,0,0,0,0,0,0,0,0,0,0,0,0,0,0,0,0,0,0,0,0,0,"-",{"$f":"IFERROR(ROUND(PERCENTILE(_xlfn._xlws.FILTER(Data_Table[Speed],(Data_Table[Direction]=ImportData!Direction_2)*(Data_Table[Period]=$B109)*(SUM(C109:N109)>=10)),0.85),2),\"-\")","v":"-"}]
[106,{"$f":"ImportData!$B$10+7*QUOTIENT(A110,24*60*7/ImportData!$B$8)+MOD(1+QUOTIENT(A110,24*60/ImportData!$B$8)-ImportData!$E$10,7)+TIME(0,ImportData!$B$8*A110,0)","v":"2023-09-29T10:00:00"},0,0,0,0,0,0,0,0,0,0,0,0,0,0,0,0,0,0,0,0,0,0,0,0,0,0,0,0,0,0,0,0,0,0,0,0,"-",{"$f":"IFERROR(ROUND(PERCENTILE(_xlfn._xlws.FILTER(Data_Table[Speed],(Data_Table[Direction]=ImportData!Direction_2)*(Data_Table[Period]=$B110)*(SUM(C110:N110)>=10)),0.85),2),\"-\")","v":"-"}]
[107,{"$f":"ImportData!$B$10+7*QUOTIENT(A111,24*60*7/ImportData!$B$8)+MOD(1+QUOTIENT(A111,24*60/ImportData!$B$8)-ImportData!$E$10,7)+TIME(0,ImportData!$B$8*A111,0)","v":"2023-09-29T11:00:00"},0,0,0,0,0,0,0,0,0,0,0,0,0,0,0,0,0,0,0,0,0,0,0,0,0,0,0,0,0,0,0,0,0,0,0,0,"-",{"$f":"IFERROR(ROUND(PERCENTILE(_xlfn._xlws.FILTER(Data_Table[Speed],(Data_Table[Direction]=ImportData!Direction_2)*(Data_Table[Period]=$B111)*(SUM(C111:N111)>=10)),0.85),2),\"-\")","v":"-"}]
[108,{"$f":"ImportData!$B$10+7*QUOTIENT(A112,24*60*7/ImportData!$B$8)+MOD(1+QUOTIENT(A112,24*60/ImportData!$B$8)-ImportData!$E$10,7)+TIME(0,ImportData!$B$8*A112,0)","v":"2023-09-29T12:00:00"},0,0,0,0,0,0,0,0,0,0,0,0,0,0,0,0,0,0,0,0,0,0,0,0,0,0,0,0,0,0,0,0,0,0,0,0,"-",{"$f":"IFERROR(ROUND(PERCENTILE(_xlfn._xlws.FILTER(Data_Table[Speed],(Data_Table[Direction]=ImportData!Direction_2)*(Data_Table[Period]=$B112)*(SUM(C112:N112)>=10)),0.85),2),\"-\")","v":"-"}]
[109,{"$f":"ImportData!$B$10+7*QUOTIENT(A113,24*60*7/ImportData!$B$8)+MOD(1+QUOTIENT(A113,24*60/ImportData!$B$8)-ImportData!$E$10,7)+TIME(0,ImportData!$B$8*A113,0)","v":"2023-09-29T13:00:00"},0,0,0,0,0,0,0,0,0,0,0,0,0,0,0,0,0,0,0,0,0,0,0,0,0,0,0,0,0,0,0,0,0,0,0,0,"-",{"$f":"IFERROR(ROUND(PERCENTILE(_xlfn._xlws.FILTER(Data_Table[Speed],(Data_Table[Direction]=ImportData!Direction_2)*(Data_Table[Period]=$B113)*(SUM(C113:N113)>=10)),0.85),2),\"-\")","v":"-"}]
[110,{"$f":"ImportData!$B$10+7*QUOTIENT(A114,24*60*7/ImportData!$B$8)+MOD(1+QUOTIENT(A114,24*60/ImportData!$B$8)-ImportData!$E$10,7)+TIME(0,ImportData!$B$8*A114,0)","v":"2023-09-29T14:00:00"},0,0,0,0,0,0,0,0,0,0,0,0,0,0,0,0,0,0,0,0,0,0,0,0,0,0,0,0,0,0,0,0,0,0,0,0,"-",{"$f":"IFERROR(ROUND(PERCENTILE(_xlfn._xlws.FILTER(Data_Table[Speed],(Data_Table[Direction]=ImportData!Direction_2)*(Data_Table[Period]=$B114)*(SUM(C114:N114)>=10)),0.85),2),\"-\")","v":"-"}]
[111,{"$f":"ImportData!$B$10+7*QUOTIENT(A115,24*60*7/ImportData!$B$8)+MOD(1+QUOTIENT(A115,24*60/ImportData!$B$8)-ImportData!$E$10,7)+TIME(0,ImportData!$B$8*A115,0)","v":"2023-09-29T15:00:00"},0,0,0,0,0,0,0,0,0,0,0,0,0,0,0,0,0,0,0,0,0,0,0,0,0,0,0,0,0,0,0,0,0,0,0,0,"-",{"$f":"IFERROR(ROUND(PERCENTILE(_xlfn._xlws.FILTER(Data_Table[Speed],(Data_Table[Direction]=ImportData!Direction_2)*(Data_Table[Period]=$B115)*(SUM(C115:N115)>=10)),0.85),2),\"-\")","v":"-"}]
[112,{"$f":"ImportData!$B$10+7*QUOTIENT(A116,24*60*7/ImportData!$B$8)+MOD(1+QUOTIENT(A116,24*60/ImportData!$B$8)-ImportData!$E$10,7)+TIME(0,ImportData!$B$8*A116,0)","v":"2023-09-29T16:00:00"},0,0,0,0,0,0,0,0,0,0,0,0,0,0,0,0,0,0,0,0,0,0,0,0,0,0,0,0,0,0,0,0,0,0,0,0,"-",{"$f":"IFERROR(ROUND(PERCENTILE(_xlfn._xlws.FILTER(Data_Table[Speed],(Data_Table[Direction]=ImportData!Direction_2)*(Data_Table[Period]=$B116)*(SUM(C116:N116)>=10)),0.85),2),\"-\")","v":"-"}]
[113,{"$f":"ImportData!$B$10+7*QUOTIENT(A117,24*60*7/ImportData!$B$8)+MOD(1+QUOTIENT(A117,24*60/ImportData!$B$8)-ImportData!$E$10,7)+TIME(0,ImportData!$B$8*A117,0)","v":"2023-09-29T17:00:00"},0,0,0,0,0,0,0,0,0,0,0,0,0,0,0,0,0,0,0,0,0,0,0,0,0,0,0,0,0,0,0,0,0,0,0,0,"-",{"$f":"IFERROR(ROUND(PERCENTILE(_xlfn._xlws.FILTER(Data_Table[Speed],(Data_Table[Direction]=ImportData!Direction_2)*(Data_Table[Period]=$B117)*(SUM(C117:N117)>=10)),0.85),2),\"-\")","v":"-"}]
[114,{"$f":"ImportData!$B$10+7*QUOTIENT(A118,24*60*7/ImportData!$B$8)+MOD(1+QUOTIENT(A118,24*60/ImportData!$B$8)-ImportData!$E$10,7)+TIME(0,ImportData!$B$8*A118,0)","v":"2023-09-29T18:00:00"},0,0,0,0,0,0,0,0,0,0,0,0,0,0,0,0,0,0,0,0,0,0,0,0,0,0,0,0,0,0,0,0,0,0,0,0,"-",{"$f":"IFERROR(ROUND(PERCENTILE(_xlfn._xlws.FILTER(Data_Table[Speed],(Data_Table[Direction]=ImportData!Direction_2)*(Data_Table[Period]=$B118)*(SUM(C118:N118)>=10)),0.85),2),\"-\")","v":"-"}]
[115,{"$f":"ImportData!$B$10+7*QUOTIENT(A119,24*60*7/ImportData!$B$8)+MOD(1+QUOTIENT(A119,24*60/ImportData!$B$8)-ImportData!$E$10,7)+TIME(0,ImportData!$B$8*A119,0)","v":"2023-09-29T19:00:00"},0,0,0,0,0,0,0,0,0,0,0,0,0,0,0,0,0,0,0,0,0,0,0,0,0,0,0,0,0,0,0,0,0,0,0,0,"-",{"$f":"IFERROR(ROUND(PERCENTILE(_xlfn._xlws.FILTER(Data_Table[Speed],(Data_Table[Direction]=ImportData!Direction_2)*(Data_Table[Period]=$B119)*(SUM(C119:N119)>=10)),0.85),2),\"-\")","v":"-"}]
[116,{"$f":"ImportData!$B$10+7*QUOTIENT(A120,24*60*7/ImportData!$B$8)+MOD(1+QUOTIENT(A120,24*60/ImportData!$B$8)-ImportData!$E$10,7)+TIME(0,ImportData!$B$8*A120,0)","v":"2023-09-29T20:00:00"},0,0,0,0,0,0,0,0,0,0,0,0,0,0,0,0,0,0,0,0,0,0,0,0,0,0,0,0,0,0,0,0,0,0,0,0,"-",{"$f":"IFERROR(ROUND(PERCENTILE(_xlfn._xlws.FILTER(Data_Table[Speed],(Data_Table[Direction]=ImportData!Direction_2)*(Data_Table[Period]=$B120)*(SUM(C120:N120)>=10)),0.85),2),\"-\")","v":"-"}]
[117,{"$f":"ImportData!$B$10+7*QUOTIENT(A121,24*60*7/ImportData!$B$8)+MOD(1+QUOTIENT(A121,24*60/ImportData!$B$8)-ImportData!$E$10,7)+TIME(0,ImportData!$B$8*A121,0)","v":"2023-09-29T21:00:00"},0,0,0,0,0,0,0,0,0,0,0,0,0,0,0,0,0,0,0,0,0,0,0,0,0,0,0,0,0,0,0,0,0,0,0,0,"-",{"$f":"IFERROR(ROUND(PERCENTILE(_xlfn._xlws.FILTER(Data_Table[Speed],(Data_Table[Direction]=ImportData!Direction_2)*(Data_Table[Period]=$B121)*(SUM(C121:N121)>=10)),0.85),2),\"-\")","v":"-"}]
[118,{"$f":"ImportData!$B$10+7*QUOTIENT(A122,24*60*7/ImportData!$B$8)+MOD(1+QUOTIENT(A122,24*60/ImportData!$B$8)-ImportData!$E$10,7)+TIME(0,ImportData!$B$8*A122,0)","v":"2023-09-29T22:00:00"},0,0,0,0,0,0,0,0,0,0,0,0,0,0,0,0,0,0,0,0,0,0,0,0,0,0,0,0,0,0,0,0,0,0,0,0,"-",{"$f":"IFERROR(ROUND(PERCENTILE(_xlfn._xlws.FILTER(Data_Table[Speed],(Data_Table[Direction]=ImportData!Direction_2)*(Data_Table[Period]=$B122)*(SUM(C122:N122)>=10)),0.85),2),\"-\")","v":"-"}]
[119,{"$f":"ImportData!$B$10+7*QUOTIENT(A123,24*60*7/ImportData!$B$8)+MOD(1+QUOTIENT(A123,24*60/ImportData!$B$8)-ImportData!$E$10,7)+TIME(0,ImportData!$B$8*A123,0)","v":"2023-09-29T23:00:00"},0,0,0,0,0,0,0,0,0,0,0,0,0,0,0,0,0,0,0,0,0,0,0,0,0,0,0,0,0,0,0,0,0,0,0,0,"-",{"$f":"IFERROR(ROUND(PERCENTILE(_xlfn._xlws.FILTER(Data_Table[Speed],(Data_Table[Direction]=ImportData!Direction_2)*(Data_Table[Period]=$B123)*(SUM(C123:N123)>=10)),0.85),2),\"-\")","v":"-"}]
[120,{"$f":"ImportData!$B$10+7*QUOTIENT(A124,24*60*7/ImportData!$B$8)+MOD(1+QUOTIENT(A124,24*60/ImportData!$B$8)-ImportData!$E$10,7)+TIME(0,ImportData!$B$8*A124,0)","v":"2023-09-30"},0,0,0,0,0,0,0,0,0,0,0,0,0,0,0,0,0,0,0,0,0,0,0,0,0,0,0,0,0,0,0,0,0,0,0,0,"-",{"$f":"IFERROR(ROUND(PERCENTILE(_xlfn._xlws.FILTER(Data_Table[Speed],(Data_Table[Direction]=ImportData!Direction_2)*(Data_Table[Period]=$B124)*(SUM(C124:N124)>=10)),0.85),2),\"-\")","v":"-"}]
[121,{"$f":"ImportData!$B$10+7*QUOTIENT(A125,24*60*7/ImportData!$B$8)+MOD(1+QUOTIENT(A125,24*60/ImportData!$B$8)-ImportData!$E$10,7)+TIME(0,ImportData!$B$8*A125,0)","v":"2023-09-30T01:00:00"},0,0,0,0,0,0,0,0,0,0,0,0,0,0,0,0,0,0,0,0,0,0,0,0,0,0,0,0,0,0,0,0,0,0,0,0,"-",{"$f":"IFERROR(ROUND(PERCENTILE(_xlfn._xlws.FILTER(Data_Table[Speed],(Data_Table[Direction]=ImportData!Direction_2)*(Data_Table[Period]=$B125)*(SUM(C125:N125)>=10)),0.85),2),\"-\")","v":"-"}]
[122,{"$f":"ImportData!$B$10+7*QUOTIENT(A126,24*60*7/ImportData!$B$8)+MOD(1+QUOTIENT(A126,24*60/ImportData!$B$8)-ImportData!$E$10,7)+TIME(0,ImportData!$B$8*A126,0)","v":"2023-09-30T02:00:00"},0,0,0,0,0,0,0,0,0,0,0,0,0,0,0,0,0,0,0,0,0,0,0,0,0,0,0,0,0,0,0,0,0,0,0,0,"-",{"$f":"IFERROR(ROUND(PERCENTILE(_xlfn._xlws.FILTER(Data_Table[Speed],(Data_Table[Direction]=ImportData!Direction_2)*(Data_Table[Period]=$B126)*(SUM(C126:N126)>=10)),0.85),2),\"-\")","v":"-"}]
[123,{"$f":"ImportData!$B$10+7*QUOTIENT(A127,24*60*7/ImportData!$B$8)+MOD(1+QUOTIENT(A127,24*60/ImportData!$B$8)-ImportData!$E$10,7)+TIME(0,ImportData!$B$8*A127,0)","v":"2023-09-30T03:00:00"},0,0,0,0,0,0,0,0,0,0,0,0,0,0,0,0,0,0,0,0,0,0,0,0,0,0,0,0,0,0,0,0,0,0,0,0,"-",{"$f":"IFERROR(ROUND(PERCENTILE(_xlfn._xlws.FILTER(Data_Table[Speed],(Data_Table[Direction]=ImportData!Direction_2)*(Data_Table[Period]=$B127)*(SUM(C127:N127)>=10)),0.85),2),\"-\")","v":"-"}]
[124,{"$f":"ImportData!$B$10+7*QUOTIENT(A128,24*60*7/ImportData!$B$8)+MOD(1+QUOTIENT(A128,24*60/ImportData!$B$8)-ImportData!$E$10,7)+TIME(0,ImportData!$B$8*A128,0)","v":"2023-09-30T04:00:00"},0,0,0,0,0,0,0,0,0,0,0,0,0,0,0,0,0,0,0,0,0,0,0,0,0,0,0,0,0,0,0,0,0,0,0,0,"-",{"$f":"IFERROR(ROUND(PERCENTILE(_xlfn._xlws.FILTER(Data_Table[Speed],(Data_Table[Direction]=ImportData!Direction_2)*(Data_Table[Period]=$B128)*(SUM(C128:N128)>=10)),0.85),2),\"-\")","v":"-"}]
[125,{"$f":"ImportData!$B$10+7*QUOTIENT(A129,24*60*7/ImportData!$B$8)+MOD(1+QUOTIENT(A129,24*60/ImportData!$B$8)-ImportData!$E$10,7)+TIME(0,ImportData!$B$8*A129,0)","v":"2023-09-30T05:00:00"},0,0,0,0,0,0,0,0,0,0,0,0,0,0,0,0,0,0,0,0,0,0,0,0,0,0,0,0,0,0,0,0,0,0,0,0,"-",{"$f":"IFERROR(ROUND(PERCENTILE(_xlfn._xlws.FILTER(Data_Table[Speed],(Data_Table[Direction]=ImportData!Direction_2)*(Data_Table[Period]=$B129)*(SUM(C129:N129)>=10)),0.85),2),\"-\")","v":"-"}]
[126,{"$f":"ImportData!$B$10+7*QUOTIENT(A130,24*60*7/ImportData!$B$8)+MOD(1+QUOTIENT(A130,24*60/ImportData!$B$8)-ImportData!$E$10,7)+TIME(0,ImportData!$B$8*A130,0)","v":"2023-09-30T06:00:00"},0,0,0,0,0,0,0,0,0,0,0,0,0,0,0,0,0,0,0,0,0,0,0,0,0,0,0,0,0,0,0,0,0,0,0,0,"-",{"$f":"IFERROR(ROUND(PERCENTILE(_xlfn._xlws.FILTER(Data_Table[Speed],(Data_Table[Direction]=ImportData!Direction_2)*(Data_Table[Period]=$B130)*(SUM(C130:N130)>=10)),0.85),2),\"-\")","v":"-"}]
[127,{"$f":"ImportData!$B$10+7*QUOTIENT(A131,24*60*7/ImportData!$B$8)+MOD(1+QUOTIENT(A131,24*60/ImportData!$B$8)-ImportData!$E$10,7)+TIME(0,ImportData!$B$8*A131,0)","v":"2023-09-30T07:00:00"},0,0,0,0,0,0,0,0,0,0,0,0,0,0,0,0,0,0,0,0,0,0,0,0,0,0,0,0,0,0,0,0,0,0,0,0,"-",{"$f":"IFERROR(ROUND(PERCENTILE(_xlfn._xlws.FILTER(Data_Table[Speed],(Data_Table[Direction]=ImportData!Direction_2)*(Data_Table[Period]=$B131)*(SUM(C131:N131)>=10)),0.85),2),\"-\")","v":"-"}]
[128,{"$f":"ImportData!$B$10+7*QUOTIENT(A132,24*60*7/ImportData!$B$8)+MOD(1+QUOTIENT(A132,24*60/ImportData!$B$8)-ImportData!$E$10,7)+TIME(0,ImportData!$B$8*A132,0)","v":"2023-09-30T08:00:00"},0,0,0,0,0,0,0,0,0,0,0,0,0,0,0,0,0,0,0,0,0,0,0,0,0,0,0,0,0,0,0,0,0,0,0,0,"-",{"$f":"IFERROR(ROUND(PERCENTILE(_xlfn._xlws.FILTER(Data_Table[Speed],(Data_Table[Direction]=ImportData!Direction_2)*(Data_Table[Period]=$B132)*(SUM(C132:N132)>=10)),0.85),2),\"-\")","v":"-"}]
[129,{"$f":"ImportData!$B$10+7*QUOTIENT(A133,24*60*7/ImportData!$B$8)+MOD(1+QUOTIENT(A133,24*60/ImportData!$B$8)-ImportData!$E$10,7)+TIME(0,ImportData!$B$8*A133,0)","v":"2023-09-30T09:00:00"},0,0,0,0,0,0,0,0,0,0,0,0,0,0,0,0,0,0,0,0,0,0,0,0,0,0,0,0,0,0,0,0,0,0,0,0,"-",{"$f":"IFERROR(ROUND(PERCENTILE(_xlfn._xlws.FILTER(Data_Table[Speed],(Data_Table[Direction]=ImportData!Direction_2)*(Data_Table[Period]=$B133)*(SUM(C133:N133)>=10)),0.85),2),\"-\")","v":"-"}]
[130,{"$f":"ImportData!$B$10+7*QUOTIENT(A134,24*60*7/ImportData!$B$8)+MOD(1+QUOTIENT(A134,24*60/ImportData!$B$8)-ImportData!$E$10,7)+TIME(0,ImportData!$B$8*A134,0)","v":"2023-09-30T10:00:00"},0,0,0,0,0,0,0,0,0,0,0,0,0,0,0,0,0,0,0,0,0,0,0,0,0,0,0,0,0,0,0,0,0,0,0,0,"-",{"$f":"IFERROR(ROUND(PERCENTILE(_xlfn._xlws.FILTER(Data_Table[Speed],(Data_Table[Direction]=ImportData!Direction_2)*(Data_Table[Period]=$B134)*(SUM(C134:N134)>=10)),0.85),2),\"-\")","v":"-"}]
[131,{"$f":"ImportData!$B$10+7*QUOTIENT(A135,24*60*7/ImportData!$B$8)+MOD(1+QUOTIENT(A135,24*60/ImportData!$B$8)-ImportData!$E$10,7)+TIME(0,ImportData!$B$8*A135,0)","v":"2023-09-30T11:00:00"},0,0,0,0,0,0,0,0,0,0,0,0,0,0,0,0,0,0,0,0,0,0,0,0,0,0,0,0,0,0,0,0,0,0,0,0,"-",{"$f":"IFERROR(ROUND(PERCENTILE(_xlfn._xlws.FILTER(Data_Table[Speed],(Data_Table[Direction]=ImportData!Direction_2)*(Data_Table[Period]=$B135)*(SUM(C135:N135)>=10)),0.85),2),\"-\")","v":"-"}]
[132,{"$f":"ImportData!$B$10+7*QUOTIENT(A136,24*60*7/ImportData!$B$8)+MOD(1+QUOTIENT(A136,24*60/ImportData!$B$8)-ImportData!$E$10,7)+TIME(0,ImportData!$B$8*A136,0)","v":"2023-09-30T12:00:00"},0,0,0,0,0,0,0,0,0,0,0,0,0,0,0,0,0,0,0,0,0,0,0,0,0,0,0,0,0,0,0,0,0,0,0,0,"-",{"$f":"IFERROR(ROUND(PERCENTILE(_xlfn._xlws.FILTER(Data_Table[Speed],(Data_Table[Direction]=ImportData!Direction_2)*(Data_Table[Period]=$B136)*(SUM(C136:N136)>=10)),0.85),2),\"-\")","v":"-"}]
[133,{"$f":"ImportData!$B$10+7*QUOTIENT(A137,24*60*7/ImportData!$B$8)+MOD(1+QUOTIENT(A137,24*60/ImportData!$B$8)-ImportData!$E$10,7)+TIME(0,ImportData!$B$8*A137,0)","v":"2023-09-30T13:00:00"},0,0,0,0,0,0,0,0,0,0,0,0,0,0,0,0,0,0,0,0,0,0,0,0,0,0,0,0,0,0,0,0,0,0,0,0,"-",{"$f":"IFERROR(ROUND(PERCENTILE(_xlfn._xlws.FILTER(Data_Table[Speed],(Data_Table[Direction]=ImportData!Direction_2)*(Data_Table[Period]=$B137)*(SUM(C137:N137)>=10)),0.85),2),\"-\")","v":"-"}]
[134,{"$f":"ImportData!$B$10+7*QUOTIENT(A138,24*60*7/ImportData!$B$8)+MOD(1+QUOTIENT(A138,24*60/ImportData!$B$8)-ImportData!$E$10,7)+TIME(0,ImportData!$B$8*A138,0)","v":"2023-09-30T14:00:00"},0,0,0,0,0,0,0,0,0,0,0,0,0,0,0,0,0,0,0,0,0,0,0,0,0,0,0,0,0,0,0,0,0,0,0,0,"-",{"$f":"IFERROR(ROUND(PERCENTILE(_xlfn._xlws.FILTER(Data_Table[Speed],(Data_Table[Direction]=ImportData!Direction_2)*(Data_Table[Period]=$B138)*(SUM(C138:N138)>=10)),0.85),2),\"-\")","v":"-"}]
[135,{"$f":"ImportData!$B$10+7*QUOTIENT(A139,24*60*7/ImportData!$B$8)+MOD(1+QUOTIENT(A139,24*60/ImportData!$B$8)-ImportData!$E$10,7)+TIME(0,ImportData!$B$8*A139,0)","v":"2023-09-30T15:00:00"},0,0,0,0,0,0,0,0,0,0,0,0,0,0,0,0,0,0,0,0,0,0,0,0,0,0,0,0,0,0,0,0,0,0,0,0,"-",{"$f":"IFERROR(ROUND(PERCENTILE(_xlfn._xlws.FILTER(Data_Table[Speed],(Data_Table[Direction]=ImportData!Direction_2)*(Data_Table[Period]=$B139)*(SUM(C139:N139)>=10)),0.85),2),\"-\")","v":"-"}]
[136,{"$f":"ImportData!$B$10+7*QUOTIENT(A140,24*60*7/ImportData!$B$8)+MOD(1+QUOTIENT(A140,24*60/ImportData!$B$8)-ImportData!$E$10,7)+TIME(0,ImportData!$B$8*A140,0)","v":"2023-09-30T16:00:00"},0,0,0,0,0,0,0,0,0,0,0,0,0,0,0,0,0,0,0,0,0,0,0,0,0,0,0,0,0,0,0,0,0,0,0,0,"-",{"$f":"IFERROR(ROUND(PERCENTILE(_xlfn._xlws.FILTER(Data_Table[Speed],(Data_Table[Direction]=ImportData!Direction_2)*(Data_Table[Period]=$B140)*(SUM(C140:N140)>=10)),0.85),2),\"-\")","v":"-"}]
[137,{"$f":"ImportData!$B$10+7*QUOTIENT(A141,24*60*7/ImportData!$B$8)+MOD(1+QUOTIENT(A141,24*60/ImportData!$B$8)-ImportData!$E$10,7)+TIME(0,ImportData!$B$8*A141,0)","v":"2023-09-30T17:00:00"},0,0,0,0,0,0,0,0,0,0,0,0,0,0,0,0,0,0,0,0,0,0,0,0,0,0,0,0,0,0,0,0,0,0,0,0,"-",{"$f":"IFERROR(ROUND(PERCENTILE(_xlfn._xlws.FILTER(Data_Table[Speed],(Data_Table[Direction]=ImportData!Direction_2)*(Data_Table[Period]=$B141)*(SUM(C141:N141)>=10)),0.85),2),\"-\")","v":"-"}]
[138,{"$f":"ImportData!$B$10+7*QUOTIENT(A142,24*60*7/ImportData!$B$8)+MOD(1+QUOTIENT(A142,24*60/ImportData!$B$8)-ImportData!$E$10,7)+TIME(0,ImportData!$B$8*A142,0)","v":"2023-09-30T18:00:00"},0,0,0,0,0,0,0,0,0,0,0,0,0,0,0,0,0,0,0,0,0,0,0,0,0,0,0,0,0,0,0,0,0,0,0,0,"-",{"$f":"IFERROR(ROUND(PERCENTILE(_xlfn._xlws.FILTER(Data_Table[Speed],(Data_Table[Direction]=ImportData!Direction_2)*(Data_Table[Period]=$B142)*(SUM(C142:N142)>=10)),0.85),2),\"-\")","v":"-"}]
[139,{"$f":"ImportData!$B$10+7*QUOTIENT(A143,24*60*7/ImportData!$B$8)+MOD(1+QUOTIENT(A143,24*60/ImportData!$B$8)-ImportData!$E$10,7)+TIME(0,ImportData!$B$8*A143,0)","v":"2023-09-30T19:00:00"},0,0,0,0,0,0,0,0,0,0,0,0,0,0,0,0,0,0,0,0,0,0,0,0,0,0,0,0,0,0,0,0,0,0,0,0,"-",{"$f":"IFERROR(ROUND(PERCENTILE(_xlfn._xlws.FILTER(Data_Table[Speed],(Data_Table[Direction]=ImportData!Direction_2)*(Data_Table[Period]=$B143)*(SUM(C143:N143)>=10)),0.85),2),\"-\")","v":"-"}]
[140,{"$f":"ImportData!$B$10+7*QUOTIENT(A144,24*60*7/ImportData!$B$8)+MOD(1+QUOTIENT(A144,24*60/ImportData!$B$8)-ImportData!$E$10,7)+TIME(0,ImportData!$B$8*A144,0)","v":"2023-09-30T20:00:00"},0,0,0,0,0,0,0,0,0,0,0,0,0,0,0,0,0,0,0,0,0,0,0,0,0,0,0,0,0,0,0,0,0,0,0,0,"-",{"$f":"IFERROR(ROUND(PERCENTILE(_xlfn._xlws.FILTER(Data_Table[Speed],(Data_Table[Direction]=ImportData!Direction_2)*(Data_Table[Period]=$B144)*(SUM(C144:N144)>=10)),0.85),2),\"-\")","v":"-"}]
[141,{"$f":"ImportData!$B$10+7*QUOTIENT(A145,24*60*7/ImportData!$B$8)+MOD(1+QUOTIENT(A145,24*60/ImportData!$B$8)-ImportData!$E$10,7)+TIME(0,ImportData!$B$8*A145,0)","v":"2023-09-30T21:00:00"},0,0,0,0,0,0,0,0,0,0,0,0,0,0,0,0,0,0,0,0,0,0,0,0,0,0,0,0,0,0,0,0,0,0,0,0,"-",{"$f":"IFERROR(ROUND(PERCENTILE(_xlfn._xlws.FILTER(Data_Table[Speed],(Data_Table[Direction]=ImportData!Direction_2)*(Data_Table[Period]=$B145)*(SUM(C145:N145)>=10)),0.85),2),\"-\")","v":"-"}]
[142,{"$f":"ImportData!$B$10+7*QUOTIENT(A146,24*60*7/ImportData!$B$8)+MOD(1+QUOTIENT(A146,24*60/ImportData!$B$8)-ImportData!$E$10,7)+TIME(0,ImportData!$B$8*A146,0)","v":"2023-09-30T22:00:00"},0,0,0,0,0,0,0,0,0,0,0,0,0,0,0,0,0,0,0,0,0,0,0,0,0,0,0,0,0,0,0,0,0,0,0,0,"-",{"$f":"IFERROR(ROUND(PERCENTILE(_xlfn._xlws.FILTER(Data_Table[Speed],(Data_Table[Direction]=ImportData!Direction_2)*(Data_Table[Period]=$B146)*(SUM(C146:N146)>=10)),0.85),2),\"-\")","v":"-"}]
[143,{"$f":"ImportData!$B$10+7*QUOTIENT(A147,24*60*7/ImportData!$B$8)+MOD(1+QUOTIENT(A147,24*60/ImportData!$B$8)-ImportData!$E$10,7)+TIME(0,ImportData!$B$8*A147,0)","v":"2023-09-30T23:00:00"},0,0,0,0,0,0,0,0,0,0,0,0,0,0,0,0,0,0,0,0,0,0,0,0,0,0,0,0,0,0,0,0,0,0,0,0,"-",{"$f":"IFERROR(ROUND(PERCENTILE(_xlfn._xlws.FILTER(Data_Table[Speed],(Data_Table[Direction]=ImportData!Direction_2)*(Data_Table[Period]=$B147)*(SUM(C147:N147)>=10)),0.85),2),\"-\")","v":"-"}]
[144,{"$f":"ImportData!$B$10+7*QUOTIENT(A148,24*60*7/ImportData!$B$8)+MOD(1+QUOTIENT(A148,24*60/ImportData!$B$8)-ImportData!$E$10,7)+TIME(0,ImportData!$B$8*A148,0)","v":"2023-10-01"},0,0,0,0,0,0,0,0,0,0,0,0,0,0,0,0,0,0,0,0,0,0,0,0,0,0,0,0,0,0,0,0,0,0,0,0,"-",{"$f":"IFERROR(ROUND(PERCENTILE(_xlfn._xlws.FILTER(Data_Table[Speed],(Data_Table[Direction]=ImportData!Direction_2)*(Data_Table[Period]=$B148)*(SUM(C148:N148)>=10)),0.85),2),\"-\")","v":"-"}]
[145,{"$f":"ImportData!$B$10+7*QUOTIENT(A149,24*60*7/ImportData!$B$8)+MOD(1+QUOTIENT(A149,24*60/ImportData!$B$8)-ImportData!$E$10,7)+TIME(0,ImportData!$B$8*A149,0)","v":"2023-10-01T01:00:00"},0,0,0,0,0,0,0,0,0,0,0,0,0,0,0,0,0,0,0,0,0,0,0,0,0,0,0,0,0,0,0,0,0,0,0,0,"-",{"$f":"IFERROR(ROUND(PERCENTILE(_xlfn._xlws.FILTER(Data_Table[Speed],(Data_Table[Direction]=ImportData!Direction_2)*(Data_Table[Period]=$B149)*(SUM(C149:N149)>=10)),0.85),2),\"-\")","v":"-"}]
[146,{"$f":"ImportData!$B$10+7*QUOTIENT(A150,24*60*7/ImportData!$B$8)+MOD(1+QUOTIENT(A150,24*60/ImportData!$B$8)-ImportData!$E$10,7)+TIME(0,ImportData!$B$8*A150,0)","v":"2023-10-01T02:00:00"},0,0,0,0,0,0,0,0,0,0,0,0,0,0,0,0,0,0,0,0,0,0,0,0,0,0,0,0,0,0,0,0,0,0,0,0,"-",{"$f":"IFERROR(ROUND(PERCENTILE(_xlfn._xlws.FILTER(Data_Table[Speed],(Data_Table[Direction]=ImportData!Direction_2)*(Data_Table[Period]=$B150)*(SUM(C150:N150)>=10)),0.85),2),\"-\")","v":"-"}]
[147,{"$f":"ImportData!$B$10+7*QUOTIENT(A151,24*60*7/ImportData!$B$8)+MOD(1+QUOTIENT(A151,24*60/ImportData!$B$8)-ImportData!$E$10,7)+TIME(0,ImportData!$B$8*A151,0)","v":"2023-10-01T03:00:00"},0,0,0,0,0,0,0,0,0,0,0,0,0,0,0,0,0,0,0,0,0,0,0,0,0,0,0,0,0,0,0,0,0,0,0,0,"-",{"$f":"IFERROR(ROUND(PERCENTILE(_xlfn._xlws.FILTER(Data_Table[Speed],(Data_Table[Direction]=ImportData!Direction_2)*(Data_Table[Period]=$B151)*(SUM(C151:N151)>=10)),0.85),2),\"-\")","v":"-"}]
[148,{"$f":"ImportData!$B$10+7*QUOTIENT(A152,24*60*7/ImportData!$B$8)+MOD(1+QUOTIENT(A152,24*60/ImportData!$B$8)-ImportData!$E$10,7)+TIME(0,ImportData!$B$8*A152,0)","v":"2023-10-01T04:00:00"},0,0,0,0,0,0,0,0,0,0,0,0,0,0,0,0,0,0,0,0,0,0,0,0,0,0,0,0,0,0,0,0,0,0,0,0,"-",{"$f":"IFERROR(ROUND(PERCENTILE(_xlfn._xlws.FILTER(Data_Table[Speed],(Data_Table[Direction]=ImportData!Direction_2)*(Data_Table[Period]=$B152)*(SUM(C152:N152)>=10)),0.85),2),\"-\")","v":"-"}]
[149,{"$f":"ImportData!$B$10+7*QUOTIENT(A153,24*60*7/ImportData!$B$8)+MOD(1+QUOTIENT(A153,24*60/ImportData!$B$8)-ImportData!$E$10,7)+TIME(0,ImportData!$B$8*A153,0)","v":"2023-10-01T05:00:00"},0,0,0,0,0,0,0,0,0,0,0,0,0,0,0,0,0,0,0,0,0,0,0,0,0,0,0,0,0,0,0,0,0,0,0,0,"-",{"$f":"IFERROR(ROUND(PERCENTILE(_xlfn._xlws.FILTER(Data_Table[Speed],(Data_Table[Direction]=ImportData!Direction_2)*(Data_Table[Period]=$B153)*(SUM(C153:N153)>=10)),0.85),2),\"-\")","v":"-"}]
[150,{"$f":"ImportData!$B$10+7*QUOTIENT(A154,24*60*7/ImportData!$B$8)+MOD(1+QUOTIENT(A154,24*60/ImportData!$B$8)-ImportData!$E$10,7)+TIME(0,ImportData!$B$8*A154,0)","v":"2023-10-01T06:00:00"},0,0,0,0,0,0,0,0,0,0,0,0,0,0,0,0,0,0,0,0,0,0,0,0,0,0,0,0,0,0,0,0,0,0,0,0,"-",{"$f":"IFERROR(ROUND(PERCENTILE(_xlfn._xlws.FILTER(Data_Table[Speed],(Data_Table[Direction]=ImportData!Direction_2)*(Data_Table[Period]=$B154)*(SUM(C154:N154)>=10)),0.85),2),\"-\")","v":"-"}]
[151,{"$f":"ImportData!$B$10+7*QUOTIENT(A155,24*60*7/ImportData!$B$8)+MOD(1+QUOTIENT(A155,24*60/ImportData!$B$8)-ImportData!$E$10,7)+TIME(0,ImportData!$B$8*A155,0)","v":"2023-10-01T07:00:00"},0,0,0,0,0,0,0,0,0,0,0,0,0,0,0,0,0,0,0,0,0,0,0,0,0,0,0,0,0,0,0,0,0,0,0,0,"-",{"$f":"IFERROR(ROUND(PERCENTILE(_xlfn._xlws.FILTER(Data_Table[Speed],(Data_Table[Direction]=ImportData!Direction_2)*(Data_Table[Period]=$B155)*(SUM(C155:N155)>=10)),0.85),2),\"-\")","v":"-"}]
[152,{"$f":"ImportData!$B$10+7*QUOTIENT(A156,24*60*7/ImportData!$B$8)+MOD(1+QUOTIENT(A156,24*60/ImportData!$B$8)-ImportData!$E$10,7)+TIME(0,ImportData!$B$8*A156,0)","v":"2023-10-01T08:00:00"},0,0,0,0,0,0,0,0,0,0,0,0,0,0,0,0,0,0,0,0,0,0,0,0,0,0,0,0,0,0,0,0,0,0,0,0,"-",{"$f":"IFERROR(ROUND(PERCENTILE(_xlfn._xlws.FILTER(Data_Table[Speed],(Data_Table[Direction]=ImportData!Direction_2)*(Data_Table[Period]=$B156)*(SUM(C156:N156)>=10)),0.85),2),\"-\")","v":"-"}]
[153,{"$f":"ImportData!$B$10+7*QUOTIENT(A157,24*60*7/ImportData!$B$8)+MOD(1+QUOTIENT(A157,24*60/ImportData!$B$8)-ImportData!$E$10,7)+TIME(0,ImportData!$B$8*A157,0)","v":"2023-10-01T09:00:00"},0,0,0,0,0,0,0,0,0,0,0,0,0,0,0,0,0,0,0,0,0,0,0,0,0,0,0,0,0,0,0,0,0,0,0,0,"-",{"$f":"IFERROR(ROUND(PERCENTILE(_xlfn._xlws.FILTER(Data_Table[Speed],(Data_Table[Direction]=ImportData!Direction_2)*(Data_Table[Period]=$B157)*(SUM(C157:N157)>=10)),0.85),2),\"-\")","v":"-"}]
[154,{"$f":"ImportData!$B$10+7*QUOTIENT(A158,24*60*7/ImportData!$B$8)+MOD(1+QUOTIENT(A158,24*60/ImportData!$B$8)-ImportData!$E$10,7)+TIME(0,ImportData!$B$8*A158,0)","v":"2023-10-01T10:00:00"},0,0,0,0,0,0,0,0,0,0,0,0,0,0,0,0,0,0,0,0,0,0,0,0,0,0,0,0,0,0,0,0,0,0,0,0,"-",{"$f":"IFERROR(ROUND(PERCENTILE(_xlfn._xlws.FILTER(Data_Table[Speed],(Data_Table[Direction]=ImportData!Direction_2)*(Data_Table[Period]=$B158)*(SUM(C158:N158)>=10)),0.85),2),\"-\")","v":"-"}]
[155,{"$f":"ImportData!$B$10+7*QUOTIENT(A159,24*60*7/ImportData!$B$8)+MOD(1+QUOTIENT(A159,24*60/ImportData!$B$8)-ImportData!$E$10,7)+TIME(0,ImportData!$B$8*A159,0)","v":"2023-10-01T11:00:00"},0,0,0,0,0,0,0,0,0,0,0,0,0,0,0,0,0,0,0,0,0,0,0,0,0,0,0,0,0,0,0,0,0,0,0,0,"-",{"$f":"IFERROR(ROUND(PERCENTILE(_xlfn._xlws.FILTER(Data_Table[Speed],(Data_Table[Direction]=ImportData!Direction_2)*(Data_Table[Period]=$B159)*(SUM(C159:N159)>=10)),0.85),2),\"-\")","v":"-"}]
[156,{"$f":"ImportData!$B$10+7*QUOTIENT(A160,24*60*7/ImportData!$B$8)+MOD(1+QUOTIENT(A160,24*60/ImportData!$B$8)-ImportData!$E$10,7)+TIME(0,ImportData!$B$8*A160,0)","v":"2023-10-01T12:00:00"},0,0,0,0,0,0,0,0,0,0,0,0,0,0,0,0,0,0,0,0,0,0,0,0,0,0,0,0,0,0,0,0,0,0,0,0,"-",{"$f":"IFERROR(ROUND(PERCENTILE(_xlfn._xlws.FILTER(Data_Table[Speed],(Data_Table[Direction]=ImportData!Direction_2)*(Data_Table[Period]=$B160)*(SUM(C160:N160)>=10)),0.85),2),\"-\")","v":"-"}]
[157,{"$f":"ImportData!$B$10+7*QUOTIENT(A161,24*60*7/ImportData!$B$8)+MOD(1+QUOTIENT(A161,24*60/ImportData!$B$8)-ImportData!$E$10,7)+TIME(0,ImportData!$B$8*A161,0)","v":"2023-10-01T13:00:00"},0,0,0,0,0,0,0,0,0,0,0,0,0,0,0,0,0,0,0,0,0,0,0,0,0,0,0,0,0,0,0,0,0,0,0,0,"-",{"$f":"IFERROR(ROUND(PERCENTILE(_xlfn._xlws.FILTER(Data_Table[Speed],(Data_Table[Direction]=ImportData!Direction_2)*(Data_Table[Period]=$B161)*(SUM(C161:N161)>=10)),0.85),2),\"-\")","v":"-"}]
[158,{"$f":"ImportData!$B$10+7*QUOTIENT(A162,24*60*7/ImportData!$B$8)+MOD(1+QUOTIENT(A162,24*60/ImportData!$B$8)-ImportData!$E$10,7)+TIME(0,ImportData!$B$8*A162,0)","v":"2023-10-01T14:00:00"},0,0,0,0,0,0,0,0,0,0,0,0,0,0,0,0,0,0,0,0,0,0,0,0,0,0,0,0,0,0,0,0,0,0,0,0,"-",{"$f":"IFERROR(ROUND(PERCENTILE(_xlfn._xlws.FILTER(Data_Table[Speed],(Data_Table[Direction]=ImportData!Direction_2)*(Data_Table[Period]=$B162)*(SUM(C162:N162)>=10)),0.85),2),\"-\")","v":"-"}]
[159,{"$f":"ImportData!$B$10+7*QUOTIENT(A163,24*60*7/ImportData!$B$8)+MOD(1+QUOTIENT(A163,24*60/ImportData!$B$8)-ImportData!$E$10,7)+TIME(0,ImportData!$B$8*A163,0)","v":"2023-10-01T15:00:00"},0,0,0,0,0,0,0,0,0,0,0,0,0,0,0,0,0,0,0,0,0,0,0,0,0,0,0,0,0,0,0,0,0,0,0,0,"-",{"$f":"IFERROR(ROUND(PERCENTILE(_xlfn._xlws.FILTER(Data_Table[Speed],(Data_Table[Direction]=ImportData!Direction_2)*(Data_Table[Period]=$B163)*(SUM(C163:N163)>=10)),0.85),2),\"-\")","v":"-"}]
[160,{"$f":"ImportData!$B$10+7*QUOTIENT(A164,24*60*7/ImportData!$B$8)+MOD(1+QUOTIENT(A164,24*60/ImportData!$B$8)-ImportData!$E$10,7)+TIME(0,ImportData!$B$8*A164,0)","v":"2023-10-01T16:00:00"},0,0,0,0,0,0,0,0,0,0,0,0,0,0,0,0,0,0,0,0,0,0,0,0,0,0,0,0,0,0,0,0,0,0,0,0,"-",{"$f":"IFERROR(ROUND(PERCENTILE(_xlfn._xlws.FILTER(Data_Table[Speed],(Data_Table[Direction]=ImportData!Direction_2)*(Data_Table[Period]=$B164)*(SUM(C164:N164)>=10)),0.85),2),\"-\")","v":"-"}]
[161,{"$f":"ImportData!$B$10+7*QUOTIENT(A165,24*60*7/ImportData!$B$8)+MOD(1+QUOTIENT(A165,24*60/ImportData!$B$8)-ImportData!$E$10,7)+TIME(0,ImportData!$B$8*A165,0)","v":"2023-10-01T17:00:00"},0,0,0,0,0,0,0,0,0,0,0,0,0,0,0,0,0,0,0,0,0,0,0,0,0,0,0,0,0,0,0,0,0,0,0,0,"-",{"$f":"IFERROR(ROUND(PERCENTILE(_xlfn._xlws.FILTER(Data_Table[Speed],(Data_Table[Direction]=ImportData!Direction_2)*(Data_Table[Period]=$B165)*(SUM(C165:N165)>=10)),0.85),2),\"-\")","v":"-"}]
[162,{"$f":"ImportData!$B$10+7*QUOTIENT(A166,24*60*7/ImportData!$B$8)+MOD(1+QUOTIENT(A166,24*60/ImportData!$B$8)-ImportData!$E$10,7)+TIME(0,ImportData!$B$8*A166,0)","v":"2023-10-01T18:00:00"},0,0,0,0,0,0,0,0,0,0,0,0,0,0,0,0,0,0,0,0,0,0,0,0,0,0,0,0,0,0,0,0,0,0,0,0,"-",{"$f":"IFERROR(ROUND(PERCENTILE(_xlfn._xlws.FILTER(Data_Table[Speed],(Data_Table[Direction]=ImportData!Direction_2)*(Data_Table[Period]=$B166)*(SUM(C166:N166)>=10)),0.85),2),\"-\")","v":"-"}]
[163,{"$f":"ImportData!$B$10+7*QUOTIENT(A167,24*60*7/ImportData!$B$8)+MOD(1+QUOTIENT(A167,24*60/ImportData!$B$8)-ImportData!$E$10,7)+TIME(0,ImportData!$B$8*A167,0)","v":"2023-10-01T19:00:00"},0,0,0,0,0,0,0,0,0,0,0,0,0,0,0,0,0,0,0,0,0,0,0,0,0,0,0,0,0,0,0,0,0,0,0,0,"-",{"$f":"IFERROR(ROUND(PERCENTILE(_xlfn._xlws.FILTER(Data_Table[Speed],(Data_Table[Direction]=ImportData!Direction_2)*(Data_Table[Period]=$B167)*(SUM(C167:N167)>=10)),0.85),2),\"-\")","v":"-"}]
[164,{"$f":"ImportData!$B$10+7*QUOTIENT(A168,24*60*7/ImportData!$B$8)+MOD(1+QUOTIENT(A168,24*60/ImportData!$B$8)-ImportData!$E$10,7)+TIME(0,ImportData!$B$8*A168,0)","v":"2023-10-01T20:00:00"},0,0,0,0,0,0,0,0,0,0,0,0,0,0,0,0,0,0,0,0,0,0,0,0,0,0,0,0,0,0,0,0,0,0,0,0,"-",{"$f":"IFERROR(ROUND(PERCENTILE(_xlfn._xlws.FILTER(Data_Table[Speed],(Data_Table[Direction]=ImportData!Direction_2)*(Data_Table[Period]=$B168)*(SUM(C168:N168)>=10)),0.85),2),\"-\")","v":"-"}]
[165,{"$f":"ImportData!$B$10+7*QUOTIENT(A169,24*60*7/ImportData!$B$8)+MOD(1+QUOTIENT(A169,24*60/ImportData!$B$8)-ImportData!$E$10,7)+TIME(0,ImportData!$B$8*A169,0)","v":"2023-10-01T21:00:00"},0,0,0,0,0,0,0,0,0,0,0,0,0,0,0,0,0,0,0,0,0,0,0,0,0,0,0,0,0,0,0,0,0,0,0,0,"-",{"$f":"IFERROR(ROUND(PERCENTILE(_xlfn._xlws.FILTER(Data_Table[Speed],(Data_Table[Direction]=ImportData!Direction_2)*(Data_Table[Period]=$B169)*(SUM(C169:N169)>=10)),0.85),2),\"-\")","v":"-"}]
[166,{"$f":"ImportData!$B$10+7*QUOTIENT(A170,24*60*7/ImportData!$B$8)+MOD(1+QUOTIENT(A170,24*60/ImportData!$B$8)-ImportData!$E$10,7)+TIME(0,ImportData!$B$8*A170,0)","v":"2023-10-01T22:00:00"},0,0,0,0,0,0,0,0,0,0,0,0,0,0,0,0,0,0,0,0,0,0,0,0,0,0,0,0,0,0,0,0,0,0,0,0,"-",{"$f":"IFERROR(ROUND(PERCENTILE(_xlfn._xlws.FILTER(Data_Table[Speed],(Data_Table[Direction]=ImportData!Direction_2)*(Data_Table[Period]=$B170)*(SUM(C170:N170)>=10)),0.85),2),\"-\")","v":"-"}]
[167,{"$f":"ImportData!$B$10+7*QUOTIENT(A171,24*60*7/ImportData!$B$8)+MOD(1+QUOTIENT(A171,24*60/ImportData!$B$8)-ImportData!$E$10,7)+TIME(0,ImportData!$B$8*A171,0)","v":"2023-10-01T23:00:00"},0,0,0,0,0,0,0,0,0,0,0,0,0,0,0,0,0,0,0,0,0,0,0,0,0,0,0,0,0,0,0,0,0,0,0,0,"-",{"$f":"IFERROR(ROUND(PERCENTILE(_xlfn._xlws.FILTER(Data_Table[Speed],(Data_Table[Direction]=ImportData!Direction_2)*(Data_Table[Period]=$B171)*(SUM(C171:N171)>=10)),0.85),2),\"-\")","v":"-"}]
[null,"00:00:00",{"$f":"SUM(C4,C28,C52,C76,C100)","v":0},{"$f":"SUM(D4,D28,D52,D76,D100)","v":0},0,0,0,0,0,0,0,0,0,0,0,0,0,{"$f":"SUM(R4,R28,R52,R76,R100)","v":0},0,0,0,0,0,0,0,0,0,0,0,0,0,0,0,0,0,0,0,{"$f":"SUM(AL4,AL28,AL52,AL76,AL100)","v":0},{"$f":"IFERROR(ROUND(AVERAGE(_xlfn._xlws.FILTER(Data_Table[Speed],(Data_Table[Direction]=ImportData!Direction_2)*(Data_Table[Period]-INT(Data_Table[Period])=B172)*(Data_Table[Weekday]<6))),2),\"-\")","v":"-"},{"$f":"IFERROR(ROUND(PERCENTILE(_xlfn._xlws.FILTER(Data_Table[Speed],(Data_Table[Direction]=ImportData!Direction_2)*(Data_Table[Period]-INT(Data_Table[Period])=B172)*(Data_Table[Weekday]<6)*(SUM(C172:N172)>=10)),0.85),2),\"-\")","v":"-"}]
[null,"01:00:00",{"$f":"SUM(C5,C29,C53,C77,C101)","v":0},0,0,0,0,0,0,0,0,0,0,0,0,0,0,{"$f":"SUM(R5,R29,R53,R77,R101)","v":0},0,0,0,0,0,0,0,0,0,0,0,0,0,0,0,0,0,0,0,0,{"$f":"IFERROR(ROUND(AVERAGE(_xlfn._xlws.FILTER(Data_Table[Speed],(Data_Table[Direction]=ImportData!Direction_2)*(Data_Table[Period]-INT(Data_Table[Period])=B173)*(Data_Table[Weekday]<6))),2),\"-\")","v":"-"},{"$f":"IFERROR(ROUND(PERCENTILE(_xlfn._xlws.FILTER(Data_Table[Speed],(Data_Table[Direction]=ImportData!Direction_2)*(Data_Table[Period]-INT(Data_Table[Period])=B173)*(Data_Table[Weekday]<6)*(SUM(C173:N173)>=10)),0.85),2),\"-\")","v":"-"}]
[null,"02:00:00",0,0,0,0,0,0,0,0,0,0,0,0,0,0,0,{"$f":"SUM(R6,R30,R54,R78,R102)","v":0},0,0,0,0,0,0,0,0,0,0,0,0,0,0,0,0,0,0,0,0,{"$f":"IFERROR(ROUND(AVERAGE(_xlfn._xlws.FILTER(Data_Table[Speed],(Data_Table[Direction]=ImportData!Direction_2)*(Data_Table[Period]-INT(Data_Table[Period])=B174)*(Data_Table[Weekday]<6))),2),\"-\")","v":"-"},{"$f":"IFERROR(ROUND(PERCENTILE(_xlfn._xlws.FILTER(Data_Table[Speed],(Data_Table[Direction]=ImportData!Direction_2)*(Data_Table[Period]-INT(Data_Table[Period])=B174)*(Data_Table[Weekday]<6)*(SUM(C174:N174)>=10)),0.85),2),\"-\")","v":"-"}]
[null,"03:00:00",0,0,0,0,0,0,0,0,0,0,0,0,0,0,0,{"$f":"SUM(R7,R31,R55,R79,R103)","v":0},0,0,0,0,0,0,0,0,0,0,0,0,0,0,0,0,0,0,0,0,{"$f":"IFERROR(ROUND(AVERAGE(_xlfn._xlws.FILTER(Data_Table[Speed],(Data_Table[Direction]=ImportData!Direction_2)*(Data_Table[Period]-INT(Data_Table[Period])=B175)*(Data_Table[Weekday]<6))),2),\"-\")","v":"-"},{"$f":"IFERROR(ROUND(PERCENTILE(_xlfn._xlws.FILTER(Data_Table[Speed],(Data_Table[Direction]=ImportData!Direction_2)*(Data_Table[Period]-INT(Data_Table[Period])=B175)*(Data_Table[Weekday]<6)*(SUM(C175:N175)>=10)),0.85),2),\"-\")","v":"-"}]
[null,"04:00:00",0,0,0,0,0,0,0,0,0,0,0,0,0,0,0,{"$f":"SUM(R8,R32,R56,R80,R104)","v":0},0,0,0,0,0,0,0,0,0,0,0,0,0,0,0,0,0,0,0,0,{"$f":"IFERROR(ROUND(AVERAGE(_xlfn._xlws.FILTER(Data_Table[Speed],(Data_Table[Direction]=ImportData!Direction_2)*(Data_Table[Period]-INT(Data_Table[Period])=B176)*(Data_Table[Weekday]<6))),2),\"-\")","v":"-"},{"$f":"IFERROR(ROUND(PERCENTILE(_xlfn._xlws.FILTER(Data_Table[Speed],(Data_Table[Direction]=ImportData!Direction_2)*(Data_Table[Period]-INT(Data_Table[Period])=B176)*(Data_Table[Weekday]<6)*(SUM(C176:N176)>=10)),0.85),2),\"-\")","v":"-"}]
[null,"05:00:00",0,0,0,0,0,0,0,0,0,0,0,0,0,0,0,{"$f":"SUM(R9,R33,R57,R81,R105)","v":0},0,0,0,0,0,0,0,0,0,0,0,0,0,0,0,0,0,0,0,0,{"$f":"IFERROR(ROUND(AVERAGE(_xlfn._xlws.FILTER(Data_Table[Speed],(Data_Table[Direction]=ImportData!Direction_2)*(Data_Table[Period]-INT(Data_Table[Period])=B177)*(Data_Table[Weekday]<6))),2),\"-\")","v":"-"},{"$f":"IFERROR(ROUND(PERCENTILE(_xlfn._xlws.FILTER(Data_Table[Speed],(Data_Table[Direction]=ImportData!Direction_2)*(Data_Table[Period]-INT(Data_Table[Period])=B177)*(Data_Table[Weekday]<6)*(SUM(C177:N177)>=10)),0.85),2),\"-\")","v":"-"}]
[null,"06:00:00",0,0,0,0,0,0,0,0,0,0,0,0,0,0,0,{"$f":"SUM(R10,R34,R58,R82,R106)","v":0},0,0,0,0,0,0,0,0,0,0,0,0,0,0,0,0,0,0,0,0,{"$f":"IFERROR(ROUND(AVERAGE(_xlfn._xlws.FILTER(Data_Table[Speed],(Data_Table[Direction]=ImportData!Direction_2)*(Data_Table[Period]-INT(Data_Table[Period])=B178)*(Data_Table[Weekday]<6))),2),\"-\")","v":"-"},{"$f":"IFERROR(ROUND(PERCENTILE(_xlfn._xlws.FILTER(Data_Table[Speed],(Data_Table[Direction]=ImportData!Direction_2)*(Data_Table[Period]-INT(Data_Table[Period])=B178)*(Data_Table[Weekday]<6)*(SUM(C178:N178)>=10)),0.85),2),\"-\")","v":"-"}]
[null,"07:00:00",0,0,0,0,0,0,0,0,0,0,0,0,0,0,0,{"$f":"SUM(R11,R35,R59,R83,R107)","v":0},0,0,0,0,0,0,0,0,0,0,0,0,0,0,0,0,0,0,0,0,{"$f":"IFERROR(ROUND(AVERAGE(_xlfn._xlws.FILTER(Data_Table[Speed],(Data_Table[Direction]=ImportData!Direction_2)*(Data_Table[Period]-INT(Data_Table[Period])=B179)*(Data_Table[Weekday]<6))),2),\"-\")","v":"-"},{"$f":"IFERROR(ROUND(PERCENTILE(_xlfn._xlws.FILTER(Data_Table[Speed],(Data_Table[Direction]=ImportData!Direction_2)*(Data_Table[Period]-INT(Data_Table[Period])=B179)*(Data_Table[Weekday]<6)*(SUM(C179:N179)>=10)),0.85),2),\"-\")","v":"-"}]
[null,"08:00:00",0,0,0,0,0,0,0,0,0,0,0,0,0,0,0,{"$f":"SUM(R12,R36,R60,R84,R108)","v":0},0,0,0,0,0,0,0,0,0,0,0,0,0,0,0,0,0,0,0,0,{"$f":"IFERROR(ROUND(AVERAGE(_xlfn._xlws.FILTER(Data_Table[Speed],(Data_Table[Direction]=ImportData!Direction_2)*(Data_Table[Period]-INT(Data_Table[Period])=B180)*(Data_Table[Weekday]<6))),2),\"-\")","v":"-"},{"$f":"IFERROR(ROUND(PERCENTILE(_xlfn._xlws.FILTER(Data_Table[Speed],(Data_Table[Direction]=ImportData!Direction_2)*(Data_Table[Period]-INT(Data_Table[Period])=B180)*(Data_Table[Weekday]<6)*(SUM(C180:N180)>=10)),0.85),2),\"-\")","v":"-"}]
[null,"09:00:00",0,0,0,0,0,0,0,0,0,0,0,0,0,0,0,{"$f":"SUM(R13,R37,R61,R85,R109)","v":0},0,0,0,0,0,0,0,0,0,0,0,0,0,0,0,0,0,0,0,0,{"$f":"IFERROR(ROUND(AVERAGE(_xlfn._xlws.FILTER(Data_Table[Speed],(Data_Table[Direction]=ImportData!Direction_2)*(Data_Table[Period]-INT(Data_Table[Period])=B181)*(Data_Table[Weekday]<6))),2),\"-\")","v":"-"},{"$f":"IFERROR(ROUND(PERCENTILE(_xlfn._xlws.FILTER(Data_Table[Speed],(Data_Table[Direction]=ImportData!Direction_2)*(Data_Table[Period]-INT(Data_Table[Period])=B181)*(Data_Table[Weekday]<6)*(SUM(C181:N181)>=10)),0.85),2),\"-\")","v":"-"}]
[null,"10:00:00",0,0,0,0,0,0,0,0,0,0,0,0,0,0,0,{"$f":"SUM(R14,R38,R62,R86,R110)","v":0},0,0,0,0,0,0,0,0,0,0,0,0,0,0,0,0,0,0,0,0,{"$f":"IFERROR(ROUND(AVERAGE(_xlfn._xlws.FILTER(Data_Table[Speed],(Data_Table[Direction]=ImportData!Direction_2)*(Data_Table[Period]-INT(Data_Table[Period])=B182)*(Data_Table[Weekday]<6))),2),\"-\")","v":"-"},{"$f":"IFERROR(ROUND(PERCENTILE(_xlfn._xlws.FILTER(Data_Table[Speed],(Data_Table[Direction]=ImportData!Direction_2)*(Data_Table[Period]-INT(Data_Table[Period])=B182)*(Data_Table[Weekday]<6)*(SUM(C182:N182)>=10)),0.85),2),\"-\")","v":"-"}]
[null,"11:00:00",0,0,0,0,0,{"$f":"SUM(H15,H39,H63,H87,H111)","v":0},0,0,0,0,0,0,0,0,0,{"$f":"SUM(R15,R39,R63,R87,R111)","v":0},0,0,0,0,0,0,0,0,0,0,0,0,0,0,0,0,0,0,0,{"$f":"SUM(AL15,AL39,AL63,AL87,AL111)","v":0},{"$f":"IFERROR(ROUND(AVERAGE(_xlfn._xlws.FILTER(Data_Table[Speed],(Data_Table[Direction]=ImportData!Direction_2)*(Data_Table[Period]-INT(Data_Table[Period])=B183)*(Data_Table[Weekday]<6))),2),\"-\")","v":"-"},{"$f":"IFERROR(ROUND(PERCENTILE(_xlfn._xlws.FILTER(Data_Table[Speed],(Data_Table[Direction]=ImportData!Direction_2)*(Data_Table[Period]-INT(Data_Table[Period])=B183)*(Data_Table[Weekday]<6)*(SUM(C183:N183)>=10)),0.85),2),\"-\")","v":"-"}]
[null,"12:00:00",{"$f":"SUM(C16,C40,C64,C88,C112)","v":0},0,0,0,0,0,0,0,0,0,0,0,0,0,0,{"$f":"SUM(R16,R40,R64,R88,R112)","v":0},0,0,0,0,0,0,0,0,0,0,0,0,0,0,0,0,0,0,0,0,{"$f":"IFERROR(ROUND(AVERAGE(_xlfn._xlws.FILTER(Data_Table[Speed],(Data_Table[Direction]=ImportData!Direction_2)*(Data_Table[Period]-INT(Data_Table[Period])=B184)*(Data_Table[Weekday]<6))),2),\"-\")","v":"-"},{"$f":"IFERROR(ROUND(PERCENTILE(_xlfn._xlws.FILTER(Data_Table[Speed],(Data_Table[Direction]=ImportData!Direction_2)*(Data_Table[Period]-INT(Data_Table[Period])=B184)*(Data_Table[Weekday]<6)*(SUM(C184:N184)>=10)),0.85),2),\"-\")","v":"-"}]
[null,"13:00:00",0,0,0,0,0,0,0,0,0,0,0,0,0,0,0,{"$f":"SUM(R17,R41,R65,R89,R113)","v":0},0,0,0,0,0,0,0,0,0,0,0,0,0,0,0,0,0,0,0,0,{"$f":"IFERROR(ROUND(AVERAGE(_xlfn._xlws.FILTER(Data_Table[Speed],(Data_Table[Direction]=ImportData!Direction_2)*(Data_Table[Period]-INT(Data_Table[Period])=B185)*(Data_Table[Weekday]<6))),2),\"-\")","v":"-"},{"$f":"IFERROR(ROUND(PERCENTILE(_xlfn._xlws.FILTER(Data_Table[Speed],(Data_Table[Direction]=ImportData!Direction_2)*(Data_Table[Period]-INT(Data_Table[Period])=B185)*(Data_Table[Weekday]<6)*(SUM(C185:N185)>=10)),0.85),2),\"-\")","v":"-"}]
[null,"14:00:00",0,0,0,0,0,0,0,0,0,0,0,0,0,0,0,{"$f":"SUM(R18,R42,R66,R90,R114)","v":0},0,0,0,0,0,0,0,0,0,0,0,0,0,0,0,0,0,0,0,0,{"$f":"IFERROR(ROUND(AVERAGE(_xlfn._xlws.FILTER(Data_Table[Speed],(Data_Table[Direction]=ImportData!Direction_2)*(Data_Table[Period]-INT(Data_Table[Period])=B186)*(Data_Table[Weekday]<6))),2),\"-\")","v":"-"},{"$f":"IFERROR(ROUND(PERCENTILE(_xlfn._xlws.FILTER(Data_Table[Speed],(Data_Table[Direction]=ImportData!Direction_2)*(Data_Table[Period]-INT(Data_Table[Period])=B186)*(Data_Table[Weekday]<6)*(SUM(C186:N186)>=10)),0.85),2),\"-\")","v":"-"}]
[null,"15:00:00",0,0,0,0,0,0,0,0,0,0,0,0,0,0,0,{"$f":"SUM(R19,R43,R67,R91,R115)","v":0},0,0,0,0,0,0,0,0,0,0,0,0,0,0,0,0,0,0,0,0,{"$f":"IFERROR(ROUND(AVERAGE(_xlfn._xlws.FILTER(Data_Table[Speed],(Data_Table[Direction]=ImportData!Direction_2)*(Data_Table[Period]-INT(Data_Table[Period])=B187)*(Data_Table[Weekday]<6))),2),\"-\")","v":"-"},{"$f":"IFERROR(ROUND(PERCENTILE(_xlfn._xlws.FILTER(Data_Table[Speed],(Data_Table[Direction]=ImportData!Direction_2)*(Data_Table[Period]-INT(Data_Table[Period])=B187)*(Data_Table[Weekday]<6)*(SUM(C187:N187)>=10)),0.85),2),\"-\")","v":"-"}]
[null,"16:00:00",0,0,0,0,0,0,0,0,0,0,0,0,0,0,0,{"$f":"SUM(R20,R44,R68,R92,R116)","v":0},0,0,0,0,0,0,0,0,0,0,0,0,0,0,0,0,0,0,0,0,{"$f":"IFERROR(ROUND(AVERAGE(_xlfn._xlws.FILTER(Data_Table[Speed],(Data_Table[Direction]=ImportData!Direction_2)*(Data_Table[Period]-INT(Data_Table[Period])=B188)*(Data_Table[Weekday]<6))),2),\"-\")","v":"-"},{"$f":"IFERROR(ROUND(PERCENTILE(_xlfn._xlws.FILTER(Data_Table[Speed],(Data_Table[Direction]=ImportData!Direction_2)*(Data_Table[Period]-INT(Data_Table[Period])=B188)*(Data_Table[Weekday]<6)*(SUM(C188:N188)>=10)),0.85),2),\"-\")","v":"-"}]
[null,"17:00:00",0,0,0,0,0,0,0,0,0,0,0,0,0,0,0,{"$f":"SUM(R21,R45,R69,R93,R117)","v":0},0,0,0,0,0,0,0,0,0,0,0,0,0,0,0,0,0,0,0,0,{"$f":"IFERROR(ROUND(AVERAGE(_xlfn._xlws.FILTER(Data_Table[Speed],(Data_Table[Direction]=ImportData!Direction_2)*(Data_Table[Period]-INT(Data_Table[Period])=B189)*(Data_Table[Weekday]<6))),2),\"-\")","v":"-"},{"$f":"IFERROR(ROUND(PERCENTILE(_xlfn._xlws.FILTER(Data_Table[Speed],(Data_Table[Direction]=ImportData!Direction_2)*(Data_Table[Period]-INT(Data_Table[Period])=B189)*(Data_Table[Weekday]<6)*(SUM(C189:N189)>=10)),0.85),2),\"-\")","v":"-"}]
[null,"18:00:00",0,0,0,0,0,0,0,0,0,0,0,0,0,0,0,{"$f":"SUM(R22,R46,R70,R94,R118)","v":0},0,0,0,0,0,0,0,0,0,0,0,0,0,0,0,0,0,0,0,0,{"$f":"IFERROR(ROUND(AVERAGE(_xlfn._xlws.FILTER(Data_Table[Speed],(Data_Table[Direction]=ImportData!Direction_2)*(Data_Table[Period]-INT(Data_Table[Period])=B190)*(Data_Table[Weekday]<6))),2),\"-\")","v":"-"},{"$f":"IFERROR(ROUND(PERCENTILE(_xlfn._xlws.FILTER(Data_Table[Speed],(Data_Table[Direction]=ImportData!Direction_2)*(Data_Table[Period]-INT(Data_Table[Period])=B190)*(Data_Table[Weekday]<6)*(SUM(C190:N190)>=10)),0.85),2),\"-\")","v":"-"}]
[null,"19:00:00",0,0,0,0,0,0,0,0,0,0,0,0,0,0,0,{"$f":"SUM(R23,R47,R71,R95,R119)","v":0},0,0,0,0,0,0,0,0,0,0,0,0,0,0,0,0,0,0,0,0,{"$f":"IFERROR(ROUND(AVERAGE(_xlfn._xlws.FILTER(Data_Table[Speed],(Data_Table[Direction]=ImportData!Direction_2)*(Data_Table[Period]-INT(Data_Table[Period])=B191)*(Data_Table[Weekday]<6))),2),\"-\")","v":"-"},{"$f":"IFERROR(ROUND(PERCENTILE(_xlfn._xlws.FILTER(Data_Table[Speed],(Data_Table[Direction]=ImportData!Direction_2)*(Data_Table[Period]-INT(Data_Table[Period])=B191)*(Data_Table[Weekday]<6)*(SUM(C191:N191)>=10)),0.85),2),\"-\")","v":"-"}]
[null,"20:00:00",0,0,0,0,0,0,0,0,0,0,0,0,0,0,0,{"$f":"SUM(R24,R48,R72,R96,R120)","v":0},0,0,0,0,0,0,0,0,0,0,0,0,0,0,0,0,0,0,0,0,{"$f":"IFERROR(ROUND(AVERAGE(_xlfn._xlws.FILTER(Data_Table[Speed],(Data_Table[Direction]=ImportData!Direction_2)*(Data_Table[Period]-INT(Data_Table[Period])=B192)*(Data_Table[Weekday]<6))),2),\"-\")","v":"-"},{"$f":"IFERROR(ROUND(PERCENTILE(_xlfn._xlws.FILTER(Data_Table[Speed],(Data_Table[Direction]=ImportData!Direction_2)*(Data_Table[Period]-INT(Data_Table[Period])=B192)*(Data_Table[Weekday]<6)*(SUM(C192:N192)>=10)),0.85),2),\"-\")","v":"-"}]
[null,"21:00:00",0,0,0,0,0,0,0,0,0,0,0,0,0,0,0,{"$f":"SUM(R25,R49,R73,R97,R121)","v":0},0,0,0,0,0,0,0,0,0,0,0,0,0,0,0,0,0,0,0,0,{"$f":"IFERROR(ROUND(AVERAGE(_xlfn._xlws.FILTER(Data_Table[Speed],(Data_Table[Direction]=ImportData!Direction_2)*(Data_Table[Period]-INT(Data_Table[Period])=B193)*(Data_Table[Weekday]<6))),2),\"-\")","v":"-"},{"$f":"IFERROR(ROUND(PERCENTILE(_xlfn._xlws.FILTER(Data_Table[Speed],(Data_Table[Direction]=ImportData!Direction_2)*(Data_Table[Period]-INT(Data_Table[Period])=B193)*(Data_Table[Weekday]<6)*(SUM(C193:N193)>=10)),0.85),2),\"-\")","v":"-"}]
[null,"22:00:00",0,0,0,0,0,{"$f":"SUM(H26,H50,H74,H98,H122)","v":0},0,0,0,0,0,0,0,0,0,{"$f":"SUM(R26,R50,R74,R98,R122)","v":0},0,0,0,0,0,0,0,0,0,0,0,0,0,0,0,0,0,0,0,{"$f":"SUM(AL26,AL50,AL74,AL98,AL122)","v":0},{"$f":"IFERROR(ROUND(AVERAGE(_xlfn._xlws.FILTER(Data_Table[Speed],(Data_Table[Direction]=ImportData!Direction_2)*(Data_Table[Period]-INT(Data_Table[Period])=B194)*(Data_Table[Weekday]<6))),2),\"-\")","v":"-"},{"$f":"IFERROR(ROUND(PERCENTILE(_xlfn._xlws.FILTER(Data_Table[Speed],(Data_Table[Direction]=ImportData!Direction_2)*(Data_Table[Period]-INT(Data_Table[Period])=B194)*(Data_Table[Weekday]<6)*(SUM(C194:N194)>=10)),0.85),2),\"-\")","v":"-"}]
[null,"23:00:00",{"$f":"SUM(C27,C51,C75,C99,C123)","v":0},0,0,0,0,0,0,0,0,0,0,0,0,0,0,{"$f":"SUM(R27,R51,R75,R99,R123)","v":0},0,0,0,0,0,0,0,0,0,0,0,0,0,0,0,0,0,0,0,{"$f":"SUM(AL27,AL51,AL75,AL99,AL123)","v":0},{"$f":"IFERROR(ROUND(AVERAGE(_xlfn._xlws.FILTER(Data_Table[Speed],(Data_Table[Direction]=ImportData!Direction_2)*(Data_Table[Period]-INT(Data_Table[Period])=B195)*(Data_Table[Weekday]<6))),2),\"-\")","v":"-"},{"$f":"IFERROR(ROUND(PERCENTILE(_xlfn._xlws.FILTER(Data_Table[Speed],(Data_Table[Direction]=ImportData!Direction_2)*(Data_Table[Period]-INT(Data_Table[Period])=B195)*(Data_Table[Weekday]<6)*(SUM(C195:N195)>=10)),0.85),2),\"-\")","v":"-"}]
[null,"00:00:00",{"$f":"SUM(C4,C28,C52,C76,C100,C124,C148)","v":0},{"$f":"SUM(D4,D28,D52,D76,D100,D124,D148)","v":0},0,0,0,0,0,0,0,0,0,0,0,0,0,{"$f":"SUM(R4,R28,R52,R76,R100,R124,R148)","v":0},0,0,0,0,0,0,0,0,0,0,0,0,0,0,0,0,0,0,0,{"$f":"SUM(AL4,AL28,AL52,AL76,AL100,AL124,AL148)","v":0},{"$f":"IFERROR(ROUND(AVERAGE(_xlfn._xlws.FILTER(Data_Table[Speed],(Data_Table[Direction]=ImportData!Direction_2)*(Data_Table[Period]-INT(Data_Table[Period])=B196))),2),\"-\")","v":"-"},{"$f":"IFERROR(ROUND(PERCENTILE(_xlfn._xlws.FILTER(Data_Table[Speed],(Data_Table[Direction]=ImportData!Direction_2)*(Data_Table[Period]-INT(Data_Table[Period])=B196)*(SUM(C196:N196)>=10)),0.85),2),\"-\")","v":"-"}]
[null,"01:00:00",{"$f":"SUM(C5,C29,C53,C77,C101,C125,C149)","v":0},0,0,0,0,0,0,0,0,0,0,0,0,0,0,{"$f":"SUM(R5,R29,R53,R77,R101,R125,R149)","v":0},0,0,0,0,0,0,0,0,0,0,0,0,0,0,0,0,0,0,0,0,{"$f":"IFERROR(ROUND(AVERAGE(_xlfn._xlws.FILTER(Data_Table[Speed],(Data_Table[Direction]=ImportData!Direction_2)*(Data_Table[Period]-INT(Data_Table[Period])=B197))),2),\"-\")","v":"-"},{"$f":"IFERROR(ROUND(PERCENTILE(_xlfn._xlws.FILTER(Data_Table[Speed],(Data_Table[Direction]=ImportData!Direction_2)*(Data_Table[Period]-INT(Data_Table[Period])=B197)*(SUM(C197:N197)>=10)),0.85),2),\"-\")","v":"-"}]
[null,"02:00:00",0,0,0,0,0,0,0,0,0,0,0,0,0,0,0,{"$f":"SUM(R6,R30,R54,R78,R102,R126,R150)","v":0},0,0,0,0,0,0,0,0,0,0,0,0,0,0,0,0,0,0,0,0,{"$f":"IFERROR(ROUND(AVERAGE(_xlfn._xlws.FILTER(Data_Table[Speed],(Data_Table[Direction]=ImportData!Direction_2)*(Data_Table[Period]-INT(Data_Table[Period])=B198))),2),\"-\")","v":"-"},{"$f":"IFERROR(ROUND(PERCENTILE(_xlfn._xlws.FILTER(Data_Table[Speed],(Data_Table[Direction]=ImportData!Direction_2)*(Data_Table[Period]-INT(Data_Table[Period])=B198)*(SUM(C198:N198)>=10)),0.85),2),\"-\")","v":"-"}]
[null,"03:00:00",0,0,0,0,0,0,0,0,0,0,0,0,0,0,0,{"$f":"SUM(R7,R31,R55,R79,R103,R127,R151)","v":0},0,0,0,0,0,0,0,0,0,0,0,0,0,0,0,0,0,0,0,0,{"$f":"IFERROR(ROUND(AVERAGE(_xlfn._xlws.FILTER(Data_Table[Speed],(Data_Table[Direction]=ImportData!Direction_2)*(Data_Table[Period]-INT(Data_Table[Period])=B199))),2),\"-\")","v":"-"},{"$f":"IFERROR(ROUND(PERCENTILE(_xlfn._xlws.FILTER(Data_Table[Speed],(Data_Table[Direction]=ImportData!Direction_2)*(Data_Table[Period]-INT(Data_Table[Period])=B199)*(SUM(C199:N199)>=10)),0.85),2),\"-\")","v":"-"}]
[null,"04:00:00",0,0,0,0,0,0,0,0,0,0,0,0,0,0,0,{"$f":"SUM(R8,R32,R56,R80,R104,R128,R152)","v":0},0,0,0,0,0,0,0,0,0,0,0,0,0,0,0,0,0,0,0,0,{"$f":"IFERROR(ROUND(AVERAGE(_xlfn._xlws.FILTER(Data_Table[Speed],(Data_Table[Direction]=ImportData!Direction_2)*(Data_Table[Period]-INT(Data_Table[Period])=B200))),2),\"-\")","v":"-"},{"$f":"IFERROR(ROUND(PERCENTILE(_xlfn._xlws.FILTER(Data_Table[Speed],(Data_Table[Direction]=ImportData!Direction_2)*(Data_Table[Period]-INT(Data_Table[Period])=B200)*(SUM(C200:N200)>=10)),0.85),2),\"-\")","v":"-"}]
[null,"05:00:00",0,0,0,0,0,0,0,0,0,0,0,0,0,0,0,{"$f":"SUM(R9,R33,R57,R81,R105,R129,R153)","v":0},0,0,0,0,0,0,0,0,0,0,0,0,0,0,0,0,0,0,0,0,{"$f":"IFERROR(ROUND(AVERAGE(_xlfn._xlws.FILTER(Data_Table[Speed],(Data_Table[Direction]=ImportData!Direction_2)*(Data_Table[Period]-INT(Data_Table[Period])=B201))),2),\"-\")","v":"-"},{"$f":"IFERROR(ROUND(PERCENTILE(_xlfn._xlws.FILTER(Data_Table[Speed],(Data_Table[Direction]=ImportData!Direction_2)*(Data_Table[Period]-INT(Data_Table[Period])=B201)*(SUM(C201:N201)>=10)),0.85),2),\"-\")","v":"-"}]
[null,"06:00:00",0,0,0,0,0,0,0,0,0,0,0,0,0,0,0,{"$f":"SUM(R10,R34,R58,R82,R106,R130,R154)","v":0},0,0,0,0,0,0,0,0,0,0,0,0,0,0,0,0,0,0,0,0,{"$f":"IFERROR(ROUND(AVERAGE(_xlfn._xlws.FILTER(Data_Table[Speed],(Data_Table[Direction]=ImportData!Direction_2)*(Data_Table[Period]-INT(Data_Table[Period])=B202))),2),\"-\")","v":"-"},{"$f":"IFERROR(ROUND(PERCENTILE(_xlfn._xlws.FILTER(Data_Table[Speed],(Data_Table[Direction]=ImportData!Direction_2)*(Data_Table[Period]-INT(Data_Table[Period])=B202)*(SUM(C202:N202)>=10)),0.85),2),\"-\")","v":"-"}]
[null,"07:00:00",0,0,0,0,0,0,0,0,0,0,0,0,0,0,0,{"$f":"SUM(R11,R35,R59,R83,R107,R131,R155)","v":0},0,0,0,0,0,0,0,0,0,0,0,0,0,0,0,0,0,0,0,0,{"$f":"IFERROR(ROUND(AVERAGE(_xlfn._xlws.FILTER(Data_Table[Speed],(Data_Table[Direction]=ImportData!Direction_2)*(Data_Table[Period]-INT(Data_Table[Period])=B203))),2),\"-\")","v":"-"},{"$f":"IFERROR(ROUND(PERCENTILE(_xlfn._xlws.FILTER(Data_Table[Speed],(Data_Table[Direction]=ImportData!Direction_2)*(Data_Table[Period]-INT(Data_Table[Period])=B203)*(SUM(C203:N203)>=10)),0.85),2),\"-\")","v":"-"}]
[null,"08:00:00",0,0,0,0,0,0,0,0,0,0,0,0,0,0,0,{"$f":"SUM(R12,R36,R60,R84,R108,R132,R156)","v":0},0,0,0,0,0,0,0,0,0,0,0,0,0,0,0,0,0,0,0,0,{"$f":"IFERROR(ROUND(AVERAGE(_xlfn._xlws.FILTER(Data_Table[Speed],(Data_Table[Direction]=ImportData!Direction_2)*(Data_Table[Period]-INT(Data_Table[Period])=B204))),2),\"-\")","v":"-"},{"$f":"IFERROR(ROUND(PERCENTILE(_xlfn._xlws.FILTER(Data_Table[Speed],(Data_Table[Direction]=ImportData!Direction_2)*(Data_Table[Period]-INT(Data_Table[Period])=B204)*(SUM(C204:N204)>=10)),0.85),2),\"-\")","v":"-"}]
[null,"09:00:00",0,0,0,0,0,0,0,0,0,0,0,0,0,0,0,{"$f":"SUM(R13,R37,R61,R85,R109,R133,R157)","v":0},0,0,0,0,0,0,0,0,0,0,0,0,0,0,0,0,0,0,0,0,{"$f":"IFERROR(ROUND(AVERAGE(_xlfn._xlws.FILTER(Data_Table[Speed],(Data_Table[Direction]=ImportData!Direction_2)*(Data_Table[Period]-INT(Data_Table[Period])=B205))),2),\"-\")","v":"-"},{"$f":"IFERROR(ROUND(PERCENTILE(_xlfn._xlws.FILTER(Data_Table[Speed],(Data_Table[Direction]=ImportData!Direction_2)*(Data_Table[Period]-INT(Data_Table[Period])=B205)*(SUM(C205:N205)>=10)),0.85),2),\"-\")","v":"-"}]
[null,"10:00:00",0,0,0,0,0,0,0,0,0,0,0,0,0,0,0,{"$f":"SUM(R14,R38,R62,R86,R110,R134,R158)","v":0},0,0,0,0,0,0,0,0,0,0,0,0,0,0,0,0,0,0,0,0,{"$f":"IFERROR(ROUND(AVERAGE(_xlfn._xlws.FILTER(Data_Table[Speed],(Data_Table[Direction]=ImportData!Direction_2)*(Data_Table[Period]-INT(Data_Table[Period])=B206))),2),\"-\")","v":"-"},{"$f":"IFERROR(ROUND(PERCENTILE(_xlfn._xlws.FILTER(Data_Table[Speed],(Data_Table[Direction]=ImportData!Direction_2)*(Data_Table[Period]-INT(Data_Table[Period])=B206)*(SUM(C206:N206)>=10)),0.85),2),\"-\")","v":"-"}]
[null,"11:00:00",0,0,0,0,0,{"$f":"SUM(H15,H39,H63,H87,H111,H135,H159)","v":0},0,0,0,0,0,0,0,0,0,{"$f":"SUM(R15,R39,R63,R87,R111,R135,R159)","v":0},0,0,0,0,0,0,0,0,0,0,0,0,0,0,0,0,0,0,0,{"$f":"SUM(AL15,AL39,AL63,AL87,AL111,AL135,AL159)","v":0},{"$f":"IFERROR(ROUND(AVERAGE(_xlfn._xlws.FILTER(Data_Table[Speed],(Data_Table[Direction]=ImportData!Direction_2)*(Data_Table[Period]-INT(Data_Table[Period])=B207))),2),\"-\")","v":"-"},{"$f":"IFERROR(ROUND(PERCENTILE(_xlfn._xlws.FILTER(Data_Table[Speed],(Data_Table[Direction]=ImportData!Direction_2)*(Data_Table[Period]-INT(Data_Table[Period])=B207)*(SUM(C207:N207)>=10)),0.85),2),\"-\")","v":"-"}]
[null,"12:00:00",{"$f":"SUM(C16,C40,C64,C88,C112,C136,C160)","v":0},0,0,0,0,0,0,0,0,0,0,0,0,0,0,{"$f":"SUM(R16,R40,R64,R88,R112,R136,R160)","v":0},0,0,0,0,0,0,0,0,0,0,0,0,0,0,0,0,0,0,0,0,{"$f":"IFERROR(ROUND(AVERAGE(_xlfn._xlws.FILTER(Data_Table[Speed],(Data_Table[Direction]=ImportData!Direction_2)*(Data_Table[Period]-INT(Data_Table[Period])=B208))),2),\"-\")","v":"-"},{"$f":"IFERROR(ROUND(PERCENTILE(_xlfn._xlws.FILTER(Data_Table[Speed],(Data_Table[Direction]=ImportData!Direction_2)*(Data_Table[Period]-INT(Data_Table[Period])=B208)*(SUM(C208:N208)>=10)),0.85),2),\"-\")","v":"-"}]
[null,"13:00:00",0,0,0,0,0,0,0,0,0,0,0,0,0,0,0,{"$f":"SUM(R17,R41,R65,R89,R113,R137,R161)","v":0},0,0,0,0,0,0,0,0,0,0,0,0,0,0,0,0,0,0,0,0,{"$f":"IFERROR(ROUND(AVERAGE(_xlfn._xlws.FILTER(Data_Table[Speed],(Data_Table[Direction]=ImportData!Direction_2)*(Data_Table[Period]-INT(Data_Table[Period])=B209))),2),\"-\")","v":"-"},{"$f":"IFERROR(ROUND(PERCENTILE(_xlfn._xlws.FILTER(Data_Table[Speed],(Data_Table[Direction]=ImportData!Direction_2)*(Data_Table[Period]-INT(Data_Table[Period])=B209)*(SUM(C209:N209)>=10)),0.85),2),\"-\")","v":"-"}]
[null,"14:00:00",0,0,0,0,0,0,0,0,0,0,0,0,0,0,0,{"$f":"SUM(R18,R42,R66,R90,R114,R138,R162)","v":0},0,0,0,0,0,0,0,0,0,0,0,0,0,0,0,0,0,0,0,0,{"$f":"IFERROR(ROUND(AVERAGE(_xlfn._xlws.FILTER(Data_Table[Speed],(Data_Table[Direction]=ImportData!Direction_2)*(Data_Table[Period]-INT(Data_Table[Period])=B210))),2),\"-\")","v":"-"},{"$f":"IFERROR(ROUND(PERCENTILE(_xlfn._xlws.FILTER(Data_Table[Speed],(Data_Table[Direction]=ImportData!Direction_2)*(Data_Table[Period]-INT(Data_Table[Period])=B210)*(SUM(C210:N210)>=10)),0.85),2),\"-\")","v":"-"}]
[null,"15:00:00",0,0,0,0,0,0,0,0,0,0,0,0,0,0,0,{"$f":"SUM(R19,R43,R67,R91,R115,R139,R163)","v":0},0,0,0,0,0,0,0,0,0,0,0,0,0,0,0,0,0,0,0,0,{"$f":"IFERROR(ROUND(AVERAGE(_xlfn._xlws.FILTER(Data_Table[Speed],(Data_Table[Direction]=ImportData!Direction_2)*(Data_Table[Period]-INT(Data_Table[Period])=B211))),2),\"-\")","v":"-"},{"$f":"IFERROR(ROUND(PERCENTILE(_xlfn._xlws.FILTER(Data_Table[Speed],(Data_Table[Direction]=ImportData!Direction_2)*(Data_Table[Period]-INT(Data_Table[Period])=B211)*(SUM(C211:N211)>=10)),0.85),2),\"-\")","v":"-"}]
[null,"16:00:00",0,0,0,0,0,0,0,0,0,0,0,0,0,0,0,{"$f":"SUM(R20,R44,R68,R92,R116,R140,R164)","v":0},0,0,0,0,0,0,0,0,0,0,0,0,0,0,0,0,0,0,0,0,{"$f":"IFERROR(ROUND(AVERAGE(_xlfn._xlws.FILTER(Data_Table[Speed],(Data_Table[Direction]=ImportData!Direction_2)*(Data_Table[Period]-INT(Data_Table[Period])=B212))),2),\"-\")","v":"-"},{"$f":"IFERROR(ROUND(PERCENTILE(_xlfn._xlws.FILTER(Data_Table[Speed],(Data_Table[Direction]=ImportData!Direction_2)*(Data_Table[Period]-INT(Data_Table[Period])=B212)*(SUM(C212:N212)>=10)),0.85),2),\"-\")","v":"-"}]
[null,"17:00:00",0,0,0,0,0,0,0,0,0,0,0,0,0,0,0,{"$f":"SUM(R21,R45,R69,R93,R117,R141,R165)","v":0},0,0,0,0,0,0,0,0,0,0,0,0,0,0,0,0,0,0,0,0,{"$f":"IFERROR(ROUND(AVERAGE(_xlfn._xlws.FILTER(Data_Table[Speed],(Data_Table[Direction]=ImportData!Direction_2)*(Data_Table[Period]-INT(Data_Table[Period])=B213))),2),\"-\")","v":"-"},{"$f":"IFERROR(ROUND(PERCENTILE(_xlfn._xlws.FILTER(Data_Table[Speed],(Data_Table[Direction]=ImportData!Direction_2)*(Data_Table[Period]-INT(Data_Table[Period])=B213)*(SUM(C213:N213)>=10)),0.85),2),\"-\")","v":"-"}]
[null,"18:00:00",0,0,0,0,0,0,0,0,0,0,0,0,0,0,0,{"$f":"SUM(R22,R46,R70,R94,R118,R142,R166)","v":0},0,0,0,0,0,0,0,0,0,0,0,0,0,0,0,0,0,0,0,0,{"$f":"IFERROR(ROUND(AVERAGE(_xlfn._xlws.FILTER(Data_Table[Speed],(Data_Table[Direction]=ImportData!Direction_2)*(Data_Table[Period]-INT(Data_Table[Period])=B214))),2),\"-\")","v":"-"},{"$f":"IFERROR(ROUND(PERCENTILE(_xlfn._xlws.FILTER(Data_Table[Speed],(Data_Table[Direction]=ImportData!Direction_2)*(Data_Table[Period]-INT(Data_Table[Period])=B214)*(SUM(C214:N214)>=10)),0.85),2),\"-\")","v":"-"}]
[null,"19:00:00",0,0,0,0,0,0,0,0,0,0,0,0,0,0,0,{"$f":"SUM(R23,R47,R71,R95,R119,R143,R167)","v":0},0,0,0,0,0,0,0,0,0,0,0,0,0,0,0,0,0,0,0,0,{"$f":"IFERROR(ROUND(AVERAGE(_xlfn._xlws.FILTER(Data_Table[Speed],(Data_Table[Direction]=ImportData!Direction_2)*(Data_Table[Period]-INT(Data_Table[Period])=B215))),2),\"-\")","v":"-"},{"$f":"IFERROR(ROUND(PERCENTILE(_xlfn._xlws.FILTER(Data_Table[Speed],(Data_Table[Direction]=ImportData!Direction_2)*(Data_Table[Period]-INT(Data_Table[Period])=B215)*(SUM(C215:N215)>=10)),0.85),2),\"-\")","v":"-"}]
[null,"20:00:00",0,0,0,0,0,0,0,0,0,0,0,0,0,0,0,{"$f":"SUM(R24,R48,R72,R96,R120,R144,R168)","v":0},0,0,0,0,0,0,0,0,0,0,0,0,0,0,0,0,0,0,0,0,{"$f":"IFERROR(ROUND(AVERAGE(_xlfn._xlws.FILTER(Data_Table[Speed],(Data_Table[Direction]=ImportData!Direction_2)*(Data_Table[Period]-INT(Data_Table[Period])=B216))),2),\"-\")","v":"-"},{"$f":"IFERROR(ROUND(PERCENTILE(_xlfn._xlws.FILTER(Data_Table[Speed],(Data_Table[Direction]=ImportData!Direction_2)*(Data_Table[Period]-INT(Data_Table[Period])=B216)*(SUM(C216:N216)>=10)),0.85),2),\"-\")","v":"-"}]
[null,"21:00:00",0,0,0,0,0,0,0,0,0,0,0,0,0,0,0,{"$f":"SUM(R25,R49,R73,R97,R121,R145,R169)","v":0},0,0,0,0,0,0,0,0,0,0,0,0,0,0,0,0,0,0,0,0,{"$f":"IFERROR(ROUND(AVERAGE(_xlfn._xlws.FILTER(Data_Table[Speed],(Data_Table[Direction]=ImportData!Direction_2)*(Data_Table[Period]-INT(Data_Table[Period])=B217))),2),\"-\")","v":"-"},{"$f":"IFERROR(ROUND(PERCENTILE(_xlfn._xlws.FILTER(Data_Table[Speed],(Data_Table[Direction]=ImportData!Direction_2)*(Data_Table[Period]-INT(Data_Table[Period])=B217)*(SUM(C217:N217)>=10)),0.85),2),\"-\")","v":"-"}]
[null,"22:00:00",0,0,0,0,0,{"$f":"SUM(H26,H50,H74,H98,H122,H146,H170)","v":0},0,0,0,0,0,0,0,0,0,{"$f":"SUM(R26,R50,R74,R98,R122,R146,R170)","v":0},0,0,0,0,0,0,0,0,0,0,0,0,0,0,0,0,0,0,0,{"$f":"SUM(AL26,AL50,AL74,AL98,AL122,AL146,AL170)","v":0},{"$f":"IFERROR(ROUND(AVERAGE(_xlfn._xlws.FILTER(Data_Table[Speed],(Data_Table[Direction]=ImportData!Direction_2)*(Data_Table[Period]-INT(Data_Table[Period])=B218))),2),\"-\")","v":"-"},{"$f":"IFERROR(ROUND(PERCENTILE(_xlfn._xlws.FILTER(Data_Table[Speed],(Data_Table[Direction]=ImportData!Direction_2)*(Data_Table[Period]-INT(Data_Table[Period])=B218)*(SUM(C218:N218)>=10)),0.85),2),\"-\")","v":"-"}]
[null,"23:00:00",{"$f":"SUM(C27,C51,C75,C99,C123,C147,C171)","v":0},0,0,0,0,0,0,0,0,0,0,0,0,0,0,{"$f":"SUM(R27,R51,R75,R99,R123,R147,R171)","v":0},0,0,0,0,0,0,0,0,0,0,0,0,0,0,0,0,0,0,0,{"$f":"SUM(AL27,AL51,AL75,AL99,AL123,AL147,AL171)","v":0},{"$f":"IFERROR(ROUND(AVERAGE(_xlfn._xlws.FILTER(Data_Table[Speed],(Data_Table[Direction]=ImportData!Direction_2)*(Data_Table[Period]-INT(Data_Table[Period])=B219))),2),\"-\")","v":"-"},{"$f":"IFERROR(ROUND(PERCENTILE(_xlfn._xlws.FILTER(Data_Table[Speed],(Data_Table[Direction]=ImportData!Direction_2)*(Data_Table[Period]-INT(Data_Table[Period])=B219)*(SUM(C219:N219)>=10)),0.85),2),\"-\")","v":"-"}]

{"sheet":"Dir_Both","index":13,"n_rows":219,"n_cols":54,"rows_kept":219,"cut":false,"hidden":true,"merged":[[1,40,2,40],[1,1,2,1],[1,2,1,13],[1,14,1,37],[1,38,2,38],[1,39,2,39]]}
[]
[null,"Time","Vehicle Class",null,null,null,null,null,null,null,null,null,null,null,"Speed Bin",null,null,null,null,null,null,null,null,null,null,null,null,null,null,null,null,null,null,null,null,null,null,null,"Average",0.85]
[null,null,1,2,3,4,5,6,7,8,9,10,11,12,0,5,10,15,20,25,30,35,40,45,50,55,60,65,70,75,80,85,90,95,100,105,110,115,null,null,null,null,null,"Headway >=0","Min","Median","Average",0.85,0.95,"Max","StDev","15Kph Pace Lower Bound","Pace Count","Count > PSL "]
[0,{"$f":"ImportData!$B$10+MOD(1-ImportData!$E$10,7)","v":"2023-10-02"},{"$f":"'Dir1'!C4+'Dir2'!C4","v":0},{"$f":"'Dir1'!D4+'Dir2'!D4","v":0},{"$f":"'Dir1'!E4+'Dir2'!E4","v":0},{"$f":"'Dir1'!F4+'Dir2'!F4","v":0},{"$f":"'Dir1'!G4+'Dir2'!G4","v":0},{"$f":"'Dir1'!H4+'Dir2'!H4","v":0},{"$f":"'Dir1'!I4+'Dir2'!I4","v":0},{"$f":"'Dir1'!J4+'Dir2'!J4","v":0},{"$f":"'Dir1'!K4+'Dir2'!K4","v":0},{"$f":"'Dir1'!L4+'Dir2'!L4","v":0},{"$f":"'Dir1'!M4+'Dir2'!M4","v":0},{"$f":"'Dir1'!N4+'Dir2'!N4","v":0},{"$f":"'Dir1'!O4+'Dir2'!O4","v":0},{"$f":"'Dir1'!P4+'Dir2'!N4","v":0},{"$f":"'Dir1'!Q4+'Dir2'!O4","v":0},{"$f":"'Dir1'!R4+'Dir2'!R4","v":0},{"$f":"'Dir1'!S4+'Dir2'!S4","v":0},{"$f":"'Dir1'!T4+'Dir2'!T4","v":0},{"$f":"'Dir1'!U4+'Dir2'!U4","v":0},{"$f":"'Dir1'!V4+'Dir2'!V4","v":0},{"$f":"'Dir1'!W4+'Dir2'!W4","v":0},{"$f":"'Dir1'!X4+'Dir2'!X4","v":0},{"$f":"'Dir1'!Y4+'Dir2'!Y4","v":0},{"$f":"'Dir1'!Z4+'Dir2'!Z4","v":0},{"$f":"'Dir1'!AA4+'Dir2'!AA4","v":0},{"$f":"'Dir1'!AB4+'Dir2'!AB4","v":0},{"$f":"'Dir1'!AC4+'Dir2'!AC4","v":0},{"$f":"'Dir1'!AD4+'Dir2'!AD4","v":0},{"$f":"'Dir1'!AE4+'Dir2'!AE4","v":0},{"$f":"'Dir1'!AF4+'Dir2'!AF4","v":0},{"$f":"'Dir1'!AG4+'Dir2'!AG4","v":0},{"$f":"'Dir1'!AH4+'Dir2'!AH4","v":0},{"$f":"'Dir1'!AI4+'Dir2'!AI4","v":0},{"$f":"'Dir1'!AJ4+'Dir2'!AJ4","v":0},{"$f":"'Dir1'!AK4+'Dir2'!AK4","v":0},{"$f":"'Dir1'!AL4+'Dir2'!AL4","v":0},{"$f":"IFERROR(ROUND(AVERAGEIFS(Data_Table[Speed],Data_Table[Period], $B4:$B171),2),\"-\")","v":"-"},{"$f":"IFERROR(ROUND(PERCENTILE(_xlfn._xlws.FILTER(Data_Table[Speed],(Data_Table[Period]=$B4)*(SUM(C4:N4)>=10)),0.85),2),\"-\")","v":"-"},null,null,0,{"$f":"OFFSET($B$4,AQ4*24,0)","v":"2023-10-02"},null,{"$f":"IFERROR(ROUND(PERCENTILE(_xlfn._xlws.FILTER(Data_Table[Speed],(Data_Table[Weekday]=$AQ4+1)),0.5),2),\"-\")","v":"-"},{"$f":"IFERROR(ROUND(AVERAGEIFS(Data_Table[Speed],Data_Table[Weekday], $AQ4:$AQ10+1),2),\"-\")","v":"-"},{"$f":"IFERROR(ROUND(PERCENTILE(_xlfn._xlws.FILTER(Data_Table[Speed],(Data_Table[Weekday]=$AQ4+1)),0.85),2),\"-\")","v":"-"}]
[1,{"$f":"ImportData!$B$10+7*QUOTIENT(A5,24*60*7/ImportData!$B$8)+MOD(1+QUOTIENT(A5,24*60/ImportData!$B$8)-ImportData!$E$10,7)+TIME(0,ImportData!$B$8*A5,0)","v":"2023-10-02T01:00:00"},{"$f":"'Dir1'!C5+'Dir2'!C5","v":0},{"$f":"'Dir1'!D5+'Dir2'!D5","v":0},{"$f":"'Dir1'!E5+'Dir2'!E5","v":0},{"$f":"'Dir1'!F5+'Dir2'!F5","v":0},{"$f":"'Dir1'!G5+'Dir2'!G5","v":0},{"$f":"'Dir1'!H5+'Dir2'!H5","v":0},{"$f":"'Dir1'!I5+'Dir2'!I5","v":0},{"$f":"'Dir1'!J5+'Dir2'!J5","v":0},{"$f":"'Dir1'!K5+'Dir2'!K5","v":0},{"$f":"'Dir1'!L5+'Dir2'!L5","v":0},{"$f":"'Dir1'!M5+'Dir2'!M5","v":0},{"$f":"'Dir1'!N5+'Dir2'!N5","v":0},{"$f":"'Dir1'!O5+'Dir2'!O5","v":0},{"$f":"'Dir1'!P5+'Dir2'!N5","v":0},{"$f":"'Dir1'!Q5+'Dir2'!O5","v":0},{"$f":"'Dir1'!R5+'Dir2'!R5","v":0},{"$f":"'Dir1'!S5+'Dir2'!S5","v":0},{"$f":"'Dir1'!T5+'Dir2'!T5","v":0},{"$f":"'Dir1'!U5+'Dir2'!U5","v":0},{"$f":"'Dir1'!V5+'Dir2'!V5","v":0},{"$f":"'Dir1'!W5+'Dir2'!W5","v":0},{"$f":"'Dir1'!X5+'Dir2'!X5","v":0},{"$f":"'Dir1'!Y5+'Dir2'!Y5","v":0},{"$f":"'Dir1'!Z5+'Dir2'!Z5","v":0},{"$f":"'Dir1'!AA5+'Dir2'!AA5","v":0},{"$f":"'Dir1'!AB5+'Dir2'!AB5","v":0},{"$f":"'Dir1'!AC5+'Dir2'!AC5","v":0},{"$f":"'Dir1'!AD5+'Dir2'!AD5","v":0},{"$f":"'Dir1'!AE5+'Dir2'!AE5","v":0},{"$f":"'Dir1'!AF5+'Dir2'!AF5","v":0},{"$f":"'Dir1'!AG5+'Dir2'!AG5","v":0},{"$f":"'Dir1'!AH5+'Dir2'!AH5","v":0},{"$f":"'Dir1'!AI5+'Dir2'!AI5","v":0},{"$f":"'Dir1'!AJ5+'Dir2'!AJ5","v":0},{"$f":"'Dir1'!AK5+'Dir2'!AK5","v":0},{"$f":"'Dir1'!AL5+'Dir2'!AL5","v":0},"-",{"$f":"IFERROR(ROUND(PERCENTILE(_xlfn._xlws.FILTER(Data_Table[Speed],(Data_Table[Period]=$B5)*(SUM(C5:N5)>=10)),0.85),2),\"-\")","v":"-"},null,null,1,{"$f":"OFFSET($B$4,AQ5*24,0)","v":"2023-10-03"},null,{"$f":"IFERROR(ROUND(PERCENTILE(_xlfn._xlws.FILTER(Data_Table[Speed],(Data_Table[Weekday]=$AQ5+1)),0.5),2),\"-\")","v":"-"},"-",{"$f":"IFERROR(ROUND(PERCENTILE(_xlfn._xlws.FILTER(Data_Table[Speed],(Data_Table[Weekday]=$AQ5+1)),0.85),2),\"-\")","v":"-"}]
[2,{"$f":"ImportData!$B$10+7*QUOTIENT(A6,24*60*7/ImportData!$B$8)+MOD(1+QUOTIENT(A6,24*60/ImportData!$B$8)-ImportData!$E$10,7)+TIME(0,ImportData!$B$8*A6,0)","v":"2023-10-02T02:00:00"},{"$f":"'Dir1'!C6+'Dir2'!C6","v":0},{"$f":"'Dir1'!D6+'Dir2'!D6","v":0},{"$f":"'Dir1'!E6+'Dir2'!E6","v":0},{"$f":"'Dir1'!F6+'Dir2'!F6","v":0},{"$f":"'Dir1'!G6+'Dir2'!G6","v":0},{"$f":"'Dir1'!H6+'Dir2'!H6","v":0},{"$f":"'Dir1'!I6+'Dir2'!I6","v":0},{"$f":"'Dir1'!J6+'Dir2'!J6","v":0},{"$f":"'Dir1'!K6+'Dir2'!K6","v":0},{"$f":"'Dir1'!L6+'Dir2'!L6","v":0},{"$f":"'Dir1'!M6+'Dir2'!M6","v":0},{"$f":"'Dir1'!N6+'Dir2'!N6","v":0},{"$f":"'Dir1'!O6+'Dir2'!O6","v":0},{"$f":"'Dir1'!P6+'Dir2'!N6","v":0},{"$f":"'Dir1'!Q6+'Dir2'!O6","v":0},{"$f":"'Dir1'!R6+'Dir2'!R6","v":0},{"$f":"'Dir1'!S6+'Dir2'!S6","v":0},{"$f":"'Dir1'!T6+'Dir2'!T6","v":0},{"$f":"'Dir1'!U6+'Dir2'!U6","v":0},{"$f":"'Dir1'!V6+'Dir2'!V6","v":0},{"$f":"'Dir1'!W6+'Dir2'!W6","v":0},{"$f":"'Dir1'!X6+'Dir2'!X6","v":0},{"$f":"'Dir1'!Y6+'Dir2'!Y6","v":0},{"$f":"'Dir1'!Z6+'Dir2'!Z6","v":0},{"$f":"'Dir1'!AA6+'Dir2'!AA6","v":0},{"$f":"'Dir1'!AB6+'Dir2'!AB6","v":0},{"$f":"'Dir1'!AC6+'Dir2'!AC6","v":0},{"$f":"'Dir1'!AD6+'Dir2'!AD6","v":0},{"$f":"'Dir1'!AE6+'Dir2'!AE6","v":0},{"$f":"'Dir1'!AF6+'Dir2'!AF6","v":0},{"$f":"'Dir1'!AG6+'Dir2'!AG6","v":0},{"$f":"'Dir1'!AH6+'Dir2'!AH6","v":0},{"$f":"'Dir1'!AI6+'Dir2'!AI6","v":0},{"$f":"'Dir1'!AJ6+'Dir2'!AJ6","v":0},{"$f":"'Dir1'!AK6+'Dir2'!AK6","v":0},{"$f":"'Dir1'!AL6+'Dir2'!AL6","v":0},"-",{"$f":"IFERROR(ROUND(PERCENTILE(_xlfn._xlws.FILTER(Data_Table[Speed],(Data_Table[Period]=$B6)*(SUM(C6:N6)>=10)),0.85),2),\"-\")","v":"-"},null,null,2,"2023-10-04",null,{"$f":"IFERROR(ROUND(PERCENTILE(_xlfn._xlws.FILTER(Data_Table[Speed],(Data_Table[Weekday]=$AQ6+1)),0.5),2),\"-\")","v":"-"},"-",{"$f":"IFERROR(ROUND(PERCENTILE(_xlfn._xlws.FILTER(Data_Table[Speed],(Data_Table[Weekday]=$AQ6+1)),0.85),2),\"-\")","v":"-"}]
[3,{"$f":"ImportData!$B$10+7*QUOTIENT(A7,24*60*7/ImportData!$B$8)+MOD(1+QUOTIENT(A7,24*60/ImportData!$B$8)-ImportData!$E$10,7)+TIME(0,ImportData!$B$8*A7,0)","v":"2023-10-02T03:00:00"},{"$f":"'Dir1'!C7+'Dir2'!C7","v":0},{"$f":"'Dir1'!D7+'Dir2'!D7","v":0},{"$f":"'Dir1'!E7+'Dir2'!E7","v":0},{"$f":"'Dir1'!F7+'Dir2'!F7","v":0},{"$f":"'Dir1'!G7+'Dir2'!G7","v":0},{"$f":"'Dir1'!H7+'Dir2'!H7","v":0},{"$f":"'Dir1'!I7+'Dir2'!I7","v":0},{"$f":"'Dir1'!J7+'Dir2'!J7","v":0},{"$f":"'Dir1'!K7+'Dir2'!K7","v":0},{"$f":"'Dir1'!L7+'Dir2'!L7","v":0},{"$f":"'Dir1'!M7+'Dir2'!M7","v":0},{"$f":"'Dir1'!N7+'Dir2'!N7","v":0},{"$f":"'Dir1'!O7+'Dir2'!O7","v":0},{"$f":"'Dir1'!P7+'Dir2'!N7","v":0},{"$f":"'Dir1'!Q7+'Dir2'!O7","v":0},{"$f":"'Dir1'!R7+'Dir2'!R7","v":0},{"$f":"'Dir1'!S7+'Dir2'!S7","v":0},{"$f":"'Dir1'!T7+'Dir2'!T7","v":0},{"$f":"'Dir1'!U7+'Dir2'!U7","v":0},{"$f":"'Dir1'!V7+'Dir2'!V7","v":0},{"$f":"'Dir1'!W7+'Dir2'!W7","v":0},{"$f":"'Dir1'!X7+'Dir2'!X7","v":0},{"$f":"'Dir1'!Y7+'Dir2'!Y7","v":0},{"$f":"'Dir1'!Z7+'Dir2'!Z7","v":0},{"$f":"'Dir1'!AA7+'Dir2'!AA7","v":0},{"$f":"'Dir1'!AB7+'Dir2'!AB7","v":0},{"$f":"'Dir1'!AC7+'Dir2'!AC7","v":0},{"$f":"'Dir1'!AD7+'Dir2'!AD7","v":0},{"$f":"'Dir1'!AE7+'Dir2'!AE7","v":0},{"$f":"'Dir1'!AF7+'Dir2'!AF7","v":0},{"$f":"'Dir1'!AG7+'Dir2'!AG7","v":0},{"$f":"'Dir1'!AH7+'Dir2'!AH7","v":0},{"$f":"'Dir1'!AI7+'Dir2'!AI7","v":0},{"$f":"'Dir1'!AJ7+'Dir2'!AJ7","v":0},{"$f":"'Dir1'!AK7+'Dir2'!AK7","v":0},{"$f":"'Dir1'!AL7+'Dir2'!AL7","v":0},"-",{"$f":"IFERROR(ROUND(PERCENTILE(_xlfn._xlws.FILTER(Data_Table[Speed],(Data_Table[Period]=$B7)*(SUM(C7:N7)>=10)),0.85),2),\"-\")","v":"-"},null,null,3,"2023-09-28",null,{"$f":"IFERROR(ROUND(PERCENTILE(_xlfn._xlws.FILTER(Data_Table[Speed],(Data_Table[Weekday]=$AQ7+1)),0.5),2),\"-\")","v":"-"},"-",{"$f":"IFERROR(ROUND(PERCENTILE(_xlfn._xlws.FILTER(Data_Table[Speed],(Data_Table[Weekday]=$AQ7+1)),0.85),2),\"-\")","v":"-"}]
[4,{"$f":"ImportData!$B$10+7*QUOTIENT(A8,24*60*7/ImportData!$B$8)+MOD(1+QUOTIENT(A8,24*60/ImportData!$B$8)-ImportData!$E$10,7)+TIME(0,ImportData!$B$8*A8,0)","v":"2023-10-02T04:00:00"},{"$f":"'Dir1'!C8+'Dir2'!C8","v":0},{"$f":"'Dir1'!D8+'Dir2'!D8","v":0},{"$f":"'Dir1'!E8+'Dir2'!E8","v":0},{"$f":"'Dir1'!F8+'Dir2'!F8","v":0},{"$f":"'Dir1'!G8+'Dir2'!G8","v":0},{"$f":"'Dir1'!H8+'Dir2'!H8","v":0},{"$f":"'Dir1'!I8+'Dir2'!I8","v":0},{"$f":"'Dir1'!J8+'Dir2'!J8","v":0},{"$f":"'Dir1'!K8+'Dir2'!K8","v":0},{"$f":"'Dir1'!L8+'Dir2'!L8","v":0},{"$f":"'Dir1'!M8+'Dir2'!M8","v":0},{"$f":"'Dir1'!N8+'Dir2'!N8","v":0},{"$f":"'Dir1'!O8+'Dir2'!O8","v":0},{"$f":"'Dir1'!P8+'Dir2'!N8","v":0},{"$f":"'Dir1'!Q8+'Dir2'!O8","v":0},{"$f":"'Dir1'!R8+'Dir2'!R8","v":0},{"$f":"'Dir1'!S8+'Dir2'!S8","v":0},{"$f":"'Dir1'!T8+'Dir2'!T8","v":0},{"$f":"'Dir1'!U8+'Dir2'!U8","v":0},{"$f":"'Dir1'!V8+'Dir2'!V8","v":0},{"$f":"'Dir1'!W8+'Dir2'!W8","v":0},{"$f":"'Dir1'!X8+'Dir2'!X8","v":0},{"$f":"'Dir1'!Y8+'Dir2'!Y8","v":0},{"$f":"'Dir1'!Z8+'Dir2'!Z8","v":0},{"$f":"'Dir1'!AA8+'Dir2'!AA8","v":0},{"$f":"'Dir1'!AB8+'Dir2'!AB8","v":0},{"$f":"'Dir1'!AC8+'Dir2'!AC8","v":0},{"$f":"'Dir1'!AD8+'Dir2'!AD8","v":0},{"$f":"'Dir1'!AE8+'Dir2'!AE8","v":0},{"$f":"'Dir1'!AF8+'Dir2'!AF8","v":0},{"$f":"'Dir1'!AG8+'Dir2'!AG8","v":0},{"$f":"'Dir1'!AH8+'Dir2'!AH8","v":0},{"$f":"'Dir1'!AI8+'Dir2'!AI8","v":0},{"$f":"'Dir1'!AJ8+'Dir2'!AJ8","v":0},{"$f":"'Dir1'!AK8+'Dir2'!AK8","v":0},{"$f":"'Dir1'!AL8+'Dir2'!AL8","v":0},"-",{"$f":"IFERROR(ROUND(PERCENTILE(_xlfn._xlws.FILTER(Data_Table[Speed],(Data_Table[Period]=$B8)*(SUM(C8:N8)>=10)),0.85),2),\"-\")","v":"-"},null,null,4,"2023-09-29",null,{"$f":"IFERROR(ROUND(PERCENTILE(_xlfn._xlws.FILTER(Data_Table[Speed],(Data_Table[Weekday]=$AQ8+1)),0.5),2),\"-\")","v":"-"},"-",{"$f":"IFERROR(ROUND(PERCENTILE(_xlfn._xlws.FILTER(Data_Table[Speed],(Data_Table[Weekday]=$AQ8+1)),0.85),2),\"-\")","v":"-"}]
[5,{"$f":"ImportData!$B$10+7*QUOTIENT(A9,24*60*7/ImportData!$B$8)+MOD(1+QUOTIENT(A9,24*60/ImportData!$B$8)-ImportData!$E$10,7)+TIME(0,ImportData!$B$8*A9,0)","v":"2023-10-02T05:00:00"},{"$f":"'Dir1'!C9+'Dir2'!C9","v":0},{"$f":"'Dir1'!D9+'Dir2'!D9","v":0},{"$f":"'Dir1'!E9+'Dir2'!E9","v":0},{"$f":"'Dir1'!F9+'Dir2'!F9","v":0},{"$f":"'Dir1'!G9+'Dir2'!G9","v":0},{"$f":"'Dir1'!H9+'Dir2'!H9","v":0},{"$f":"'Dir1'!I9+'Dir2'!I9","v":0},{"$f":"'Dir1'!J9+'Dir2'!J9","v":0},{"$f":"'Dir1'!K9+'Dir2'!K9","v":0},{"$f":"'Dir1'!L9+'Dir2'!L9","v":0},{"$f":"'Dir1'!M9+'Dir2'!M9","v":0},{"$f":"'Dir1'!N9+'Dir2'!N9","v":0},{"$f":"'Dir1'!O9+'Dir2'!O9","v":0},{"$f":"'Dir1'!P9+'Dir2'!N9","v":0},{"$f":"'Dir1'!Q9+'Dir2'!O9","v":0},{"$f":"'Dir1'!R9+'Dir2'!R9","v":0},{"$f":"'Dir1'!S9+'Dir2'!S9","v":0},{"$f":"'Dir1'!T9+'Dir2'!T9","v":0},{"$f":"'Dir1'!U9+'Dir2'!U9","v":0},{"$f":"'Dir1'!V9+'Dir2'!V9","v":0},{"$f":"'Dir1'!W9+'Dir2'!W9","v":0},{"$f":"'Dir1'!X9+'Dir2'!X9","v":0},{"$f":"'Dir1'!Y9+'Dir2'!Y9","v":0},{"$f":"'Dir1'!Z9+'Dir2'!Z9","v":0},{"$f":"'Dir1'!AA9+'Dir2'!AA9","v":0},{"$f":"'Dir1'!AB9+'Dir2'!AB9","v":0},{"$f":"'Dir1'!AC9+'Dir2'!AC9","v":0},{"$f":"'Dir1'!AD9+'Dir2'!AD9","v":0},{"$f":"'Dir1'!AE9+'Dir2'!AE9","v":0},{"$f":"'Dir1'!AF9+'Dir2'!AF9","v":0},{"$f":"'Dir1'!AG9+'Dir2'!AG9","v":0},{"$f":"'Dir1'!AH9+'Dir2'!AH9","v":0},{"$f":"'Dir1'!AI9+'Dir2'!AI9","v":0},{"$f":"'Dir1'!AJ9+'Dir2'!AJ9","v":0},{"$f":"'Dir1'!AK9+'Dir2'!AK9","v":0},{"$f":"'Dir1'!AL9+'Dir2'!AL9","v":0},"-",{"$f":"IFERROR(ROUND(PERCENTILE(_xlfn._xlws.FILTER(Data_Table[Speed],(Data_Table[Period]=$B9)*(SUM(C9:N9)>=10)),0.85),2),\"-\")","v":"-"},null,null,5,"2023-09-30",null,{"$f":"IFERROR(ROUND(PERCENTILE(_xlfn._xlws.FILTER(Data_Table[Speed],(Data_Table[Weekday]=$AQ9+1)),0.5),2),\"-\")","v":"-"},"-",{"$f":"IFERROR(ROUND(PERCENTILE(_xlfn._xlws.FILTER(Data_Table[Speed],(Data_Table[Weekday]=$AQ9+1)),0.85),2),\"-\")","v":"-"}]
[6,{"$f":"ImportData!$B$10+7*QUOTIENT(A10,24*60*7/ImportData!$B$8)+MOD(1+QUOTIENT(A10,24*60/ImportData!$B$8)-ImportData!$E$10,7)+TIME(0,ImportData!$B$8*A10,0)","v":"2023-10-02T06:00:00"},{"$f":"'Dir1'!C10+'Dir2'!C10","v":0},{"$f":"'Dir1'!D10+'Dir2'!D10","v":0},{"$f":"'Dir1'!E10+'Dir2'!E10","v":0},{"$f":"'Dir1'!F10+'Dir2'!F10","v":0},{"$f":"'Dir1'!G10+'Dir2'!G10","v":0},{"$f":"'Dir1'!H10+'Dir2'!H10","v":0},{"$f":"'Dir1'!I10+'Dir2'!I10","v":0},{"$f":"'Dir1'!J10+'Dir2'!J10","v":0},{"$f":"'Dir1'!K10+'Dir2'!K10","v":0},{"$f":"'Dir1'!L10+'Dir2'!L10","v":0},{"$f":"'Dir1'!M10+'Dir2'!M10","v":0},{"$f":"'Dir1'!N10+'Dir2'!N10","v":0},{"$f":"'Dir1'!O10+'Dir2'!O10","v":0},{"$f":"'Dir1'!P10+'Dir2'!N10","v":0},{"$f":"'Dir1'!Q10+'Dir2'!O10","v":0},{"$f":"'Dir1'!R10+'Dir2'!R10","v":0},{"$f":"'Dir1'!S10+'Dir2'!S10","v":0},{"$f":"'Dir1'!T10+'Dir2'!T10","v":0},{"$f":"'Dir1'!U10+'Dir2'!U10","v":0},{"$f":"'Dir1'!V10+'Dir2'!V10","v":0},{"$f":"'Dir1'!W10+'Dir2'!W10","v":0},{"$f":"'Dir1'!X10+'Dir2'!X10","v":0},{"$f":"'Dir1'!Y10+'Dir2'!Y10","v":0},{"$f":"'Dir1'!Z10+'Dir2'!Z10","v":0},{"$f":"'Dir1'!AA10+'Dir2'!AA10","v":0},{"$f":"'Dir1'!AB10+'Dir2'!AB10","v":0},{"$f":"'Dir1'!AC10+'Dir2'!AC10","v":0},{"$f":"'Dir1'!AD10+'Dir2'!AD10","v":0},{"$f":"'Dir1'!AE10+'Dir2'!AE10","v":0},{"$f":"'Dir1'!AF10+'Dir2'!AF10","v":0},{"$f":"'Dir1'!AG10+'Dir2'!AG10","v":0},{"$f":"'Dir1'!AH10+'Dir2'!AH10","v":0},{"$f":"'Dir1'!AI10+'Dir2'!AI10","v":0},{"$f":"'Dir1'!AJ10+'Dir2'!AJ10","v":0},{"$f":"'Dir1'!AK10+'Dir2'!AK10","v":0},{"$f":"'Dir1'!AL10+'Dir2'!AL10","v":0},"-",{"$f":"IFERROR(ROUND(PERCENTILE(_xlfn._xlws.FILTER(Data_Table[Speed],(Data_Table[Period]=$B10)*(SUM(C10:N10)>=10)),0.85),2),\"-\")","v":"-"},null,null,6,"2023-10-01",null,{"$f":"IFERROR(ROUND(PERCENTILE(_xlfn._xlws.FILTER(Data_Table[Speed],(Data_Table[Weekday]=$AQ10+1)),0.5),2),\"-\")","v":"-"},"-",{"$f":"IFERROR(ROUND(PERCENTILE(_xlfn._xlws.FILTER(Data_Table[Speed],(Data_Table[Weekday]=$AQ10+1)),0.85),2),\"-\")","v":"-"}]
[7,{"$f":"ImportData!$B$10+7*QUOTIENT(A11,24*60*7/ImportData!$B$8)+MOD(1+QUOTIENT(A11,24*60/ImportData!$B$8)-ImportData!$E$10,7)+TIME(0,ImportData!$B$8*A11,0)","v":"2023-10-02T07:00:00"},{"$f":"'Dir1'!C11+'Dir2'!C11","v":0},{"$f":"'Dir1'!D11+'Dir2'!D11","v":0},{"$f":"'Dir1'!E11+'Dir2'!E11","v":0},{"$f":"'Dir1'!F11+'Dir2'!F11","v":0},{"$f":"'Dir1'!G11+'Dir2'!G11","v":0},{"$f":"'Dir1'!H11+'Dir2'!H11","v":0},{"$f":"'Dir1'!I11+'Dir2'!I11","v":0},{"$f":"'Dir1'!J11+'Dir2'!J11","v":0},{"$f":"'Dir1'!K11+'Dir2'!K11","v":0},{"$f":"'Dir1'!L11+'Dir2'!L11","v":0},{"$f":"'Dir1'!M11+'Dir2'!M11","v":0},{"$f":"'Dir1'!N11+'Dir2'!N11","v":0},{"$f":"'Dir1'!O11+'Dir2'!O11","v":0},{"$f":"'Dir1'!P11+'Dir2'!N11","v":0},{"$f":"'Dir1'!Q11+'Dir2'!O11","v":0},{"$f":"'Dir1'!R11+'Dir2'!R11","v":0},{"$f":"'Dir1'!S11+'Dir2'!S11","v":0},{"$f":"'Dir1'!T11+'Dir2'!T11","v":0},{"$f":"'Dir1'!U11+'Dir2'!U11","v":0},{"$f":"'Dir1'!V11+'Dir2'!V11","v":0},{"$f":"'Dir1'!W11+'Dir2'!W11","v":0},{"$f":"'Dir1'!X11+'Dir2'!X11","v":0},{"$f":"'Dir1'!Y11+'Dir2'!Y11","v":0},{"$f":"'Dir1'!Z11+'Dir2'!Z11","v":0},{"$f":"'Dir1'!AA11+'Dir2'!AA11","v":0},{"$f":"'Dir1'!AB11+'Dir2'!AB11","v":0},{"$f":"'Dir1'!AC11+'Dir2'!AC11","v":0},{"$f":"'Dir1'!AD11+'Dir2'!AD11","v":0},{"$f":"'Dir1'!AE11+'Dir2'!AE11","v":0},{"$f":"'Dir1'!AF11+'Dir2'!AF11","v":0},{"$f":"'Dir1'!AG11+'Dir2'!AG11","v":0},{"$f":"'Dir1'!AH11+'Dir2'!AH11","v":0},{"$f":"'Dir1'!AI11+'Dir2'!AI11","v":0},{"$f":"'Dir1'!AJ11+'Dir2'!AJ11","v":0},{"$f":"'Dir1'!AK11+'Dir2'!AK11","v":0},{"$f":"'Dir1'!AL11+'Dir2'!AL11","v":0},"-",{"$f":"IFERROR(ROUND(PERCENTILE(_xlfn._xlws.FILTER(Data_Table[Speed],(Data_Table[Period]=$B11)*(SUM(C11:N11)>=10)),0.85),2),\"-\")","v":"-"},null,null,null,"Weekdays",null,{"$f":"IFERROR(ROUND(PERCENTILE(_xlfn._xlws.FILTER(Data_Table[Speed],(Data_Table[Weekday]< 6)),0.5),2),\"-\")","v":"-"},{"$f":"IFERROR(ROUND(AVERAGEIFS(Data_Table[Speed],Data_Table[Weekday],\"<\" & 6),2),\"-\")","v":"-"},{"$f":"IFERROR(ROUND(PERCENTILE(_xlfn._xlws.FILTER(Data_Table[Speed],(Data_Table[Weekday]< 6)),0.85),2),\"-\")","v":"-"}]
[8,{"$f":"ImportData!$B$10+7*QUOTIENT(A12,24*60*7/ImportData!$B$8)+MOD(1+QUOTIENT(A12,24*60/ImportData!$B$8)-ImportData!$E$10,7)+TIME(0,ImportData!$B$8*A12,0)","v":"2023-10-02T08:00:00"},{"$f":"'Dir1'!C12+'Dir2'!C12","v":0},{"$f":"'Dir1'!D12+'Dir2'!D12","v":0},{"$f":"'Dir1'!E12+'Dir2'!E12","v":0},{"$f":"'Dir1'!F12+'Dir2'!F12","v":0},{"$f":"'Dir1'!G12+'Dir2'!G12","v":0},{"$f":"'Dir1'!H12+'Dir2'!H12","v":0},{"$f":"'Dir1'!I12+'Dir2'!I12","v":0},{"$f":"'Dir1'!J12+'Dir2'!J12","v":0},{"$f":"'Dir1'!K12+'Dir2'!K12","v":0},{"$f":"'Dir1'!L12+'Dir2'!L12","v":0},{"$f":"'Dir1'!M12+'Dir2'!M12","v":0},{"$f":"'Dir1'!N12+'Dir2'!N12","v":0},{"$f":"'Dir1'!O12+'Dir2'!O12","v":0},{"$f":"'Dir1'!P12+'Dir2'!N12","v":0},{"$f":"'Dir1'!Q12+'Dir2'!O12","v":0},{"$f":"'Dir1'!R12+'Dir2'!R12","v":0},{"$f":"'Dir1'!S12+'Dir2'!S12","v":0},{"$f":"'Dir1'!T12+'Dir2'!T12","v":0},{"$f":"'Dir1'!U12+'Dir2'!U12","v":0},{"$f":"'Dir1'!V12+'Dir2'!V12","v":0},{"$f":"'Dir1'!W12+'Dir2'!W12","v":0},{"$f":"'Dir1'!X12+'Dir2'!X12","v":0},{"$f":"'Dir1'!Y12+'Dir2'!Y12","v":0},{"$f":"'Dir1'!Z12+'Dir2'!Z12","v":0},{"$f":"'Dir1'!AA12+'Dir2'!AA12","v":0},{"$f":"'Dir1'!AB12+'Dir2'!AB12","v":0},{"$f":"'Dir1'!AC12+'Dir2'!AC12","v":0},{"$f":"'Dir1'!AD12+'Dir2'!AD12","v":0},{"$f":"'Dir1'!AE12+'Dir2'!AE12","v":0},{"$f":"'Dir1'!AF12+'Dir2'!AF12","v":0},{"$f":"'Dir1'!AG12+'Dir2'!AG12","v":0},{"$f":"'Dir1'!AH12+'Dir2'!AH12","v":0},{"$f":"'Dir1'!AI12+'Dir2'!AI12","v":0},{"$f":"'Dir1'!AJ12+'Dir2'!AJ12","v":0},{"$f":"'Dir1'!AK12+'Dir2'!AK12","v":0},{"$f":"'Dir1'!AL12+'Dir2'!AL12","v":0},"-",{"$f":"IFERROR(ROUND(PERCENTILE(_xlfn._xlws.FILTER(Data_Table[Speed],(Data_Table[Period]=$B12)*(SUM(C12:N12)>=10)),0.85),2),\"-\")","v":"-"},null,null,null,"7 days",null,{"$f":"IFERROR(ROUND(PERCENTILE(Data_Table[Speed],0.5),2),\"-\")","v":"-"},{"$f":"IFERROR(ROUND(AVERAGE(Data_Table[Speed]),2),\"-\")","v":"-"},{"$f":"IFERROR(ROUND(PERCENTILE(Data_Table[Speed],0.85),2),\"-\")","v":"-"}]
[9,{"$f":"ImportData!$B$10+7*QUOTIENT(A13,24*60*7/ImportData!$B$8)+MOD(1+QUOTIENT(A13,24*60/ImportData!$B$8)-ImportData!$E$10,7)+TIME(0,ImportData!$B$8*A13,0)","v":"2023-10-02T09:00:00"},{"$f":"'Dir1'!C13+'Dir2'!C13","v":0},{"$f":"'Dir1'!D13+'Dir2'!D13","v":0},{"$f":"'Dir1'!E13+'Dir2'!E13","v":0},{"$f":"'Dir1'!F13+'Dir2'!F13","v":0},{"$f":"'Dir1'!G13+'Dir2'!G13","v":0},{"$f":"'Dir1'!H13+'Dir2'!H13","v":0},{"$f":"'Dir1'!I13+'Dir2'!I13","v":0},{"$f":"'Dir1'!J13+'Dir2'!J13","v":0},{"$f":"'Dir1'!K13+'Dir2'!K13","v":0},{"$f":"'Dir1'!L13+'Dir2'!L13","v":0},{"$f":"'Dir1'!M13+'Dir2'!M13","v":0},{"$f":"'Dir1'!N13+'Dir2'!N13","v":0},{"$f":"'Dir1'!O13+'Dir2'!O13","v":0},{"$f":"'Dir1'!P13+'Dir2'!N13","v":0},{"$f":"'Dir1'!Q13+'Dir2'!O13","v":0},{"$f":"'Dir1'!R13+'Dir2'!R13","v":0},{"$f":"'Dir1'!S13+'Dir2'!S13","v":0},{"$f":"'Dir1'!T13+'Dir2'!T13","v":0},{"$f":"'Dir1'!U13+'Dir2'!U13","v":0},{"$f":"'Dir1'!V13+'Dir2'!V13","v":0},{"$f":"'Dir1'!W13+'Dir2'!W13","v":0},{"$f":"'Dir1'!X13+'Dir2'!X13","v":0},{"$f":"'Dir1'!Y13+'Dir2'!Y13","v":0},{"$f":"'Dir1'!Z13+'Dir2'!Z13","v":0},{"$f":"'Dir1'!AA13+'Dir2'!AA13","v":0},{"$f":"'Dir1'!AB13+'Dir2'!AB13","v":0},{"$f":"'Dir1'!AC13+'Dir2'!AC13","v":0},{"$f":"'Dir1'!AD13+'Dir2'!AD13","v":0},{"$f":"'Dir1'!AE13+'Dir2'!AE13","v":0},{"$f":"'Dir1'!AF13+'Dir2'!AF13","v":0},{"$f":"'Dir1'!AG13+'Dir2'!AG13","v":0},{"$f":"'Dir1'!AH13+'Dir2'!AH13","v":0},{"$f":"'Dir1'!AI13+'Dir2'!AI13","v":0},{"$f":"'Dir1'!AJ13+'Dir2'!AJ13","v":0},{"$f":"'Dir1'!AK13+'Dir2'!AK13","v":0},{"$f":"'Dir1'!AL13+'Dir2'!AL13","v":0},"-",{"$f":"IFERROR(ROUND(PERCENTILE(_xlfn._xlws.FILTER(Data_Table[Speed],(Data_Table[Period]=$B13)*(SUM(C13:N13)>=10)),0.85),2),\"-\")","v":"-"}]
[10,{"$f":"ImportData!$B$10+7*QUOTIENT(A14,24*60*7/ImportData!$B$8)+MOD(1+QUOTIENT(A14,24*60/ImportData!$B$8)-ImportData!$E$10,7)+TIME(0,ImportData!$B$8*A14,0)","v":"2023-10-02T10:00:00"},{"$f":"'Dir1'!C14+'Dir2'!C14","v":0},{"$f":"'Dir1'!D14+'Dir2'!D14","v":0},{"$f":"'Dir1'!E14+'Dir2'!E14","v":0},{"$f":"'Dir1'!F14+'Dir2'!F14","v":0},{"$f":"'Dir1'!G14+'Dir2'!G14","v":0},{"$f":"'Dir1'!H14+'Dir2'!H14","v":0},{"$f":"'Dir1'!I14+'Dir2'!I14","v":0},{"$f":"'Dir1'!J14+'Dir2'!J14","v":0},{"$f":"'Dir1'!K14+'Dir2'!K14","v":0},{"$f":"'Dir1'!L14+'Dir2'!L14","v":0},{"$f":"'Dir1'!M14+'Dir2'!M14","v":0},{"$f":"'Dir1'!N14+'Dir2'!N14","v":0},{"$f":"'Dir1'!O14+'Dir2'!O14","v":0},{"$f":"'Dir1'!P14+'Dir2'!N14","v":0},{"$f":"'Dir1'!Q14+'Dir2'!O14","v":0},{"$f":"'Dir1'!R14+'Dir2'!R14","v":0},{"$f":"'Dir1'!S14+'Dir2'!S14","v":0},{"$f":"'Dir1'!T14+'Dir2'!T14","v":0},{"$f":"'Dir1'!U14+'Dir2'!U14","v":0},{"$f":"'Dir1'!V14+'Dir2'!V14","v":0},{"$f":"'Dir1'!W14+'Dir2'!W14","v":0},{"$f":"'Dir1'!X14+'Dir2'!X14","v":0},{"$f":"'Dir1'!Y14+'Dir2'!Y14","v":0},{"$f":"'Dir1'!Z14+'Dir2'!Z14","v":0},{"$f":"'Dir1'!AA14+'Dir2'!AA14","v":0},{"$f":"'Dir1'!AB14+'Dir2'!AB14","v":0},{"$f":"'Dir1'!AC14+'Dir2'!AC14","v":0},{"$f":"'Dir1'!AD14+'Dir2'!AD14","v":0},{"$f":"'Dir1'!AE14+'Dir2'!AE14","v":0},{"$f":"'Dir1'!AF14+'Dir2'!AF14","v":0},{"$f":"'Dir1'!AG14+'Dir2'!AG14","v":0},{"$f":"'Dir1'!AH14+'Dir2'!AH14","v":0},{"$f":"'Dir1'!AI14+'Dir2'!AI14","v":0},{"$f":"'Dir1'!AJ14+'Dir2'!AJ14","v":0},{"$f":"'Dir1'!AK14+'Dir2'!AK14","v":0},{"$f":"'Dir1'!AL14+'Dir2'!AL14","v":0},"-",{"$f":"IFERROR(ROUND(PERCENTILE(_xlfn._xlws.FILTER(Data_Table[Speed],(Data_Table[Period]=$B14)*(SUM(C14:N14)>=10)),0.85),2),\"-\")","v":"-"}]
[11,{"$f":"ImportData!$B$10+7*QUOTIENT(A15,24*60*7/ImportData!$B$8)+MOD(1+QUOTIENT(A15,24*60/ImportData!$B$8)-ImportData!$E$10,7)+TIME(0,ImportData!$B$8*A15,0)","v":"2023-10-02T11:00:00"},{"$f":"'Dir1'!C15+'Dir2'!C15","v":0},{"$f":"'Dir1'!D15+'Dir2'!D15","v":0},{"$f":"'Dir1'!E15+'Dir2'!E15","v":0},{"$f":"'Dir1'!F15+'Dir2'!F15","v":0},{"$f":"'Dir1'!G15+'Dir2'!G15","v":0},{"$f":"'Dir1'!H15+'Dir2'!H15","v":0},{"$f":"'Dir1'!I15+'Dir2'!I15","v":0},{"$f":"'Dir1'!J15+'Dir2'!J15","v":0},{"$f":"'Dir1'!K15+'Dir2'!K15","v":0},{"$f":"'Dir1'!L15+'Dir2'!L15","v":0},{"$f":"'Dir1'!M15+'Dir2'!M15","v":0},{"$f":"'Dir1'!N15+'Dir2'!N15","v":0},{"$f":"'Dir1'!O15+'Dir2'!O15","v":0},{"$f":"'Dir1'!P15+'Dir2'!N15","v":0},{"$f":"'Dir1'!Q15+'Dir2'!O15","v":0},{"$f":"'Dir1'!R15+'Dir2'!R15","v":0},{"$f":"'Dir1'!S15+'Dir2'!S15","v":0},{"$f":"'Dir1'!T15+'Dir2'!T15","v":0},{"$f":"'Dir1'!U15+'Dir2'!U15","v":0},{"$f":"'Dir1'!V15+'Dir2'!V15","v":0},{"$f":"'Dir1'!W15+'Dir2'!W15","v":0},{"$f":"'Dir1'!X15+'Dir2'!X15","v":0},{"$f":"'Dir1'!Y15+'Dir2'!Y15","v":0},{"$f":"'Dir1'!Z15+'Dir2'!Z15","v":0},{"$f":"'Dir1'!AA15+'Dir2'!AA15","v":0},{"$f":"'Dir1'!AB15+'Dir2'!AB15","v":0},{"$f":"'Dir1'!AC15+'Dir2'!AC15","v":0},{"$f":"'Dir1'!AD15+'Dir2'!AD15","v":0},{"$f":"'Dir1'!AE15+'Dir2'!AE15","v":0},{"$f":"'Dir1'!AF15+'Dir2'!AF15","v":0},{"$f":"'Dir1'!AG15+'Dir2'!AG15","v":0},{"$f":"'Dir1'!AH15+'Dir2'!AH15","v":0},{"$f":"'Dir1'!AI15+'Dir2'!AI15","v":0},{"$f":"'Dir1'!AJ15+'Dir2'!AJ15","v":0},{"$f":"'Dir1'!AK15+'Dir2'!AK15","v":0},{"$f":"'Dir1'!AL15+'Dir2'!AL15","v":0},"-",{"$f":"IFERROR(ROUND(PERCENTILE(_xlfn._xlws.FILTER(Data_Table[Speed],(Data_Table[Period]=$B15)*(SUM(C15:N15)>=10)),0.85),2),\"-\")","v":"-"},null,null,null,"Headway >=4","Min","Median","Average",0.85,0.95,"Max","StDev","15Kph Pace Lower Bound","Pace Count","Count > PSL "]
[12,{"$f":"ImportData!$B$10+7*QUOTIENT(A16,24*60*7/ImportData!$B$8)+MOD(1+QUOTIENT(A16,24*60/ImportData!$B$8)-ImportData!$E$10,7)+TIME(0,ImportData!$B$8*A16,0)","v":"2023-10-02T12:00:00"},{"$f":"'Dir1'!C16+'Dir2'!C16","v":0},{"$f":"'Dir1'!D16+'Dir2'!D16","v":0},{"$f":"'Dir1'!E16+'Dir2'!E16","v":0},{"$f":"'Dir1'!F16+'Dir2'!F16","v":0},{"$f":"'Dir1'!G16+'Dir2'!G16","v":0},{"$f":"'Dir1'!H16+'Dir2'!H16","v":0},{"$f":"'Dir1'!I16+'Dir2'!I16","v":0},{"$f":"'Dir1'!J16+'Dir2'!J16","v":0},{"$f":"'Dir1'!K16+'Dir2'!K16","v":0},{"$f":"'Dir1'!L16+'Dir2'!L16","v":0},{"$f":"'Dir1'!M16+'Dir2'!M16","v":0},{"$f":"'Dir1'!N16+'Dir2'!N16","v":0},{"$f":"'Dir1'!O16+'Dir2'!O16","v":0},{"$f":"'Dir1'!P16+'Dir2'!N16","v":0},{"$f":"'Dir1'!Q16+'Dir2'!O16","v":0},{"$f":"'Dir1'!R16+'Dir2'!R16","v":0},{"$f":"'Dir1'!S16+'Dir2'!S16","v":0},{"$f":"'Dir1'!T16+'Dir2'!T16","v":0},{"$f":"'Dir1'!U16+'Dir2'!U16","v":0},{"$f":"'Dir1'!V16+'Dir2'!V16","v":0},{"$f":"'Dir1'!W16+'Dir2'!W16","v":0},{"$f":"'Dir1'!X16+'Dir2'!X16","v":0},{"$f":"'Dir1'!Y16+'Dir2'!Y16","v":0},{"$f":"'Dir1'!Z16+'Dir2'!Z16","v":0},{"$f":"'Dir1'!AA16+'Dir2'!AA16","v":0},{"$f":"'Dir1'!AB16+'Dir2'!AB16","v":0},{"$f":"'Dir1'!AC16+'Dir2'!AC16","v":0},{"$f":"'Dir1'!AD16+'Dir2'!AD16","v":0},{"$f":"'Dir1'!AE16+'Dir2'!AE16","v":0},{"$f":"'Dir1'!AF16+'Dir2'!AF16","v":0},{"$f":"'Dir1'!AG16+'Dir2'!AG16","v":0},{"$f":"'Dir1'!AH16+'Dir2'!AH16","v":0},{"$f":"'Dir1'!AI16+'Dir2'!AI16","v":0},{"$f":"'Dir1'!AJ16+'Dir2'!AJ16","v":0},{"$f":"'Dir1'!AK16+'Dir2'!AK16","v":0},{"$f":"'Dir1'!AL16+'Dir2'!AL16","v":0},"-",{"$f":"IFERROR(ROUND(PERCENTILE(_xlfn._xlws.FILTER(Data_Table[Speed],(Data_Table[Period]=$B16)*(SUM(C16:N16)>=10)),0.85),2),\"-\")","v":"-"},null,null,0,{"$f":"OFFSET($B$4,AQ16*24,0)","v":"2023-10-02"},null,{"$f":"IFERROR(ROUND(PERCENTILE(_xlfn._xlws.FILTER(Data_Table[Speed],(Data_Table[Headway]>= 4)*(Data_Table[Weekday]=$AQ16+1)),0.5),2),\"-\")","v":"-"},{"$f":"IFERROR(ROUND(AVERAGEIFS(Data_Table[Speed],Data_Table[Headway],\">=\" & 4,Data_Table[Weekday],$AQ16:$AQ22+1),2),\"-\")","v":"-"},{"$f":"IFERROR(ROUND(PERCENTILE(_xlfn._xlws.FILTER(Data_Table[Speed],(Data_Table[Headway]>= 4)*(Data_Table[Weekday]=$AQ16+1)),0.85),2),\"-\")","v":"-"}]
[13,{"$f":"ImportData!$B$10+7*QUOTIENT(A17,24*60*7/ImportData!$B$8)+MOD(1+QUOTIENT(A17,24*60/ImportData!$B$8)-ImportData!$E$10,7)+TIME(0,ImportData!$B$8*A17,0)","v":"2023-10-02T13:00:00"},{"$f":"'Dir1'!C17+'Dir2'!C17","v":0},{"$f":"'Dir1'!D17+'Dir2'!D17","v":0},{"$f":"'Dir1'!E17+'Dir2'!E17","v":0},{"$f":"'Dir1'!F17+'Dir2'!F17","v":0},{"$f":"'Dir1'!G17+'Dir2'!G17","v":0},{"$f":"'Dir1'!H17+'Dir2'!H17","v":0},{"$f":"'Dir1'!I17+'Dir2'!I17","v":0},{"$f":"'Dir1'!J17+'Dir2'!J17","v":0},{"$f":"'Dir1'!K17+'Dir2'!K17","v":0},{"$f":"'Dir1'!L17+'Dir2'!L17","v":0},{"$f":"'Dir1'!M17+'Dir2'!M17","v":0},{"$f":"'Dir1'!N17+'Dir2'!N17","v":0},{"$f":"'Dir1'!O17+'Dir2'!O17","v":0},{"$f":"'Dir1'!P17+'Dir2'!N17","v":0},{"$f":"'Dir1'!Q17+'Dir2'!O17","v":0},{"$f":"'Dir1'!R17+'Dir2'!R17","v":0},{"$f":"'Dir1'!S17+'Dir2'!S17","v":0},{"$f":"'Dir1'!T17+'Dir2'!T17","v":0},{"$f":"'Dir1'!U17+'Dir2'!U17","v":0},{"$f":"'Dir1'!V17+'Dir2'!V17","v":0},{"$f":"'Dir1'!W17+'Dir2'!W17","v":0},{"$f":"'Dir1'!X17+'Dir2'!X17","v":0},{"$f":"'Dir1'!Y17+'Dir2'!Y17","v":0},{"$f":"'Dir1'!Z17+'Dir2'!Z17","v":0},{"$f":"'Dir1'!AA17+'Dir2'!AA17","v":0},{"$f":"'Dir1'!AB17+'Dir2'!AB17","v":0},{"$f":"'Dir1'!AC17+'Dir2'!AC17","v":0},{"$f":"'Dir1'!AD17+'Dir2'!AD17","v":0},{"$f":"'Dir1'!AE17+'Dir2'!AE17","v":0},{"$f":"'Dir1'!AF17+'Dir2'!AF17","v":0},{"$f":"'Dir1'!AG17+'Dir2'!AG17","v":0},{"$f":"'Dir1'!AH17+'Dir2'!AH17","v":0},{"$f":"'Dir1'!AI17+'Dir2'!AI17","v":0},{"$f":"'Dir1'!AJ17+'Dir2'!AJ17","v":0},{"$f":"'Dir1'!AK17+'Dir2'!AK17","v":0},{"$f":"'Dir1'!AL17+'Dir2'!AL17","v":0},"-",{"$f":"IFERROR(ROUND(PERCENTILE(_xlfn._xlws.FILTER(Data_Table[Speed],(Data_Table[Period]=$B17)*(SUM(C17:N17)>=10)),0.85),2),\"-\")","v":"-"},null,null,1,{"$f":"OFFSET($B$4,AQ17*24,0)","v":"2023-10-03"},null,{"$f":"IFERROR(ROUND(PERCENTILE(_xlfn._xlws.FILTER(Data_Table[Speed],(Data_Table[Headway]>= 4)*(Data_Table[Weekday]=$AQ17+1)),0.5),2),\"-\")","v":"-"},"-",{"$f":"IFERROR(ROUND(PERCENTILE(_xlfn._xlws.FILTER(Data_Table[Speed],(Data_Table[Headway]>= 4)*(Data_Table[Weekday]=$AQ17+1)),0.85),2),\"-\")","v":"-"}]
[14,{"$f":"ImportData!$B$10+7*QUOTIENT(A18,24*60*7/ImportData!$B$8)+MOD(1+QUOTIENT(A18,24*60/ImportData!$B$8)-ImportData!$E$10,7)+TIME(0,ImportData!$B$8*A18,0)","v":"2023-10-02T14:00:00"},{"$f":"'Dir1'!C18+'Dir2'!C18","v":0},{"$f":"'Dir1'!D18+'Dir2'!D18","v":0},{"$f":"'Dir1'!E18+'Dir2'!E18","v":0},{"$f":"'Dir1'!F18+'Dir2'!F18","v":0},{"$f":"'Dir1'!G18+'Dir2'!G18","v":0},{"$f":"'Dir1'!H18+'Dir2'!H18","v":0},{"$f":"'Dir1'!I18+'Dir2'!I18","v":0},{"$f":"'Dir1'!J18+'Dir2'!J18","v":0},{"$f":"'Dir1'!K18+'Dir2'!K18","v":0},{"$f":"'Dir1'!L18+'Dir2'!L18","v":0},{"$f":"'Dir1'!M18+'Dir2'!M18","v":0},{"$f":"'Dir1'!N18+'Dir2'!N18","v":0},{"$f":"'Dir1'!O18+'Dir2'!O18","v":0},{"$f":"'Dir1'!P18+'Dir2'!N18","v":0},{"$f":"'Dir1'!Q18+'Dir2'!O18","v":0},{"$f":"'Dir1'!R18+'Dir2'!R18","v":0},{"$f":"'Dir1'!S18+'Dir2'!S18","v":0},{"$f":"'Dir1'!T18+'Dir2'!T18","v":0},{"$f":"'Dir1'!U18+'Dir2'!U18","v":0},{"$f":"'Dir1'!V18+'Dir2'!V18","v":0},{"$f":"'Dir1'!W18+'Dir2'!W18","v":0},{"$f":"'Dir1'!X18+'Dir2'!X18","v":0},{"$f":"'Dir1'!Y18+'Dir2'!Y18","v":0},{"$f":"'Dir1'!Z18+'Dir2'!Z18","v":0},{"$f":"'Dir1'!AA18+'Dir2'!AA18","v":0},{"$f":"'Dir1'!AB18+'Dir2'!AB18","v":0},{"$f":"'Dir1'!AC18+'Dir2'!AC18","v":0},{"$f":"'Dir1'!AD18+'Dir2'!AD18","v":0},{"$f":"'Dir1'!AE18+'Dir2'!AE18","v":0},{"$f":"'Dir1'!AF18+'Dir2'!AF18","v":0},{"$f":"'Dir1'!AG18+'Dir2'!AG18","v":0},{"$f":"'Dir1'!AH18+'Dir2'!AH18","v":0},{"$f":"'Dir1'!AI18+'Dir2'!AI18","v":0},{"$f":"'Dir1'!AJ18+'Dir2'!AJ18","v":0},{"$f":"'Dir1'!AK18+'Dir2'!AK18","v":0},{"$f":"'Dir1'!AL18+'Dir2'!AL18","v":0},"-",{"$f":"IFERROR(ROUND(PERCENTILE(_xlfn._xlws.FILTER(Data_Table[Speed],(Data_Table[Period]=$B18)*(SUM(C18:N18)>=10)),0.85),2),\"-\")","v":"-"},null,null,2,"2023-10-04",null,{"$f":"IFERROR(ROUND(PERCENTILE(_xlfn._xlws.FILTER(Data_Table[Speed],(Data_Table[Headway]>= 4)*(Data_Table[Weekday]=$AQ18+1)),0.5),2),\"-\")","v":"-"},"-",{"$f":"IFERROR(ROUND(PERCENTILE(_xlfn._xlws.FILTER(Data_Table[Speed],(Data_Table[Headway]>= 4)*(Data_Table[Weekday]=$AQ18+1)),0.85),2),\"-\")","v":"-"}]
[15,{"$f":"ImportData!$B$10+7*QUOTIENT(A19,24*60*7/ImportData!$B$8)+MOD(1+QUOTIENT(A19,24*60/ImportData!$B$8)-ImportData!$E$10,7)+TIME(0,ImportData!$B$8*A19,0)","v":"2023-10-02T15:00:00"},{"$f":"'Dir1'!C19+'Dir2'!C19","v":0},{"$f":"'Dir1'!D19+'Dir2'!D19","v":0},{"$f":"'Dir1'!E19+'Dir2'!E19","v":0},{"$f":"'Dir1'!F19+'Dir2'!F19","v":0},{"$f":"'Dir1'!G19+'Dir2'!G19","v":0},{"$f":"'Dir1'!H19+'Dir2'!H19","v":0},{"$f":"'Dir1'!I19+'Dir2'!I19","v":0},{"$f":"'Dir1'!J19+'Dir2'!J19","v":0},{"$f":"'Dir1'!K19+'Dir2'!K19","v":0},{"$f":"'Dir1'!L19+'Dir2'!L19","v":0},{"$f":"'Dir1'!M19+'Dir2'!M19","v":0},{"$f":"'Dir1'!N19+'Dir2'!N19","v":0},{"$f":"'Dir1'!O19+'Dir2'!O19","v":0},{"$f":"'Dir1'!P19+'Dir2'!N19","v":0},{"$f":"'Dir1'!Q19+'Dir2'!O19","v":0},{"$f":"'Dir1'!R19+'Dir2'!R19","v":0},{"$f":"'Dir1'!S19+'Dir2'!S19","v":0},{"$f":"'Dir1'!T19+'Dir2'!T19","v":0},{"$f":"'Dir1'!U19+'Dir2'!U19","v":0},{"$f":"'Dir1'!V19+'Dir2'!V19","v":0},{"$f":"'Dir1'!W19+'Dir2'!W19","v":0},{"$f":"'Dir1'!X19+'Dir2'!X19","v":0},{"$f":"'Dir1'!Y19+'Dir2'!Y19","v":0},{"$f":"'Dir1'!Z19+'Dir2'!Z19","v":0},{"$f":"'Dir1'!AA19+'Dir2'!AA19","v":0},{"$f":"'Dir1'!AB19+'Dir2'!AB19","v":0},{"$f":"'Dir1'!AC19+'Dir2'!AC19","v":0},{"$f":"'Dir1'!AD19+'Dir2'!AD19","v":0},{"$f":"'Dir1'!AE19+'Dir2'!AE19","v":0},{"$f":"'Dir1'!AF19+'Dir2'!AF19","v":0},{"$f":"'Dir1'!AG19+'Dir2'!AG19","v":0},{"$f":"'Dir1'!AH19+'Dir2'!AH19","v":0},{"$f":"'Dir1'!AI19+'Dir2'!AI19","v":0},{"$f":"'Dir1'!AJ19+'Dir2'!AJ19","v":0},{"$f":"'Dir1'!AK19+'Dir2'!AK19","v":0},{"$f":"'Dir1'!AL19+'Dir2'!AL19","v":0},"-",{"$f":"IFERROR(ROUND(PERCENTILE(_xlfn._xlws.FILTER(Data_Table[Speed],(Data_Table[Period]=$B19)*(SUM(C19:N19)>=10)),0.85),2),\"-\")","v":"-"},null,null,3,"2023-09-28",null,{"$f":"IFERROR(ROUND(PERCENTILE(_xlfn._xlws.FILTER(Data_Table[Speed],(Data_Table[Headway]>= 4)*(Data_Table[Weekday]=$AQ19+1)),0.5),2),\"-\")","v":"-"},"-",{"$f":"IFERROR(ROUND(PERCENTILE(_xlfn._xlws.FILTER(Data_Table[Speed],(Data_Table[Headway]>= 4)*(Data_Table[Weekday]=$AQ19+1)),0.85),2),\"-\")","v":"-"}]
[16,{"$f":"ImportData!$B$10+7*QUOTIENT(A20,24*60*7/ImportData!$B$8)+MOD(1+QUOTIENT(A20,24*60/ImportData!$B$8)-ImportData!$E$10,7)+TIME(0,ImportData!$B$8*A20,0)","v":"2023-10-02T16:00:00"},{"$f":"'Dir1'!C20+'Dir2'!C20","v":0},{"$f":"'Dir1'!D20+'Dir2'!D20","v":0},{"$f":"'Dir1'!E20+'Dir2'!E20","v":0},{"$f":"'Dir1'!F20+'Dir2'!F20","v":0},{"$f":"'Dir1'!G20+'Dir2'!G20","v":0},{"$f":"'Dir1'!H20+'Dir2'!H20","v":0},{"$f":"'Dir1'!I20+'Dir2'!I20","v":0},{"$f":"'Dir1'!J20+'Dir2'!J20","v":0},{"$f":"'Dir1'!K20+'Dir2'!K20","v":0},{"$f":"'Dir1'!L20+'Dir2'!L20","v":0},{"$f":"'Dir1'!M20+'Dir2'!M20","v":0},{"$f":"'Dir1'!N20+'Dir2'!N20","v":0},{"$f":"'Dir1'!O20+'Dir2'!O20","v":0},{"$f":"'Dir1'!P20+'Dir2'!N20","v":0},{"$f":"'Dir1'!Q20+'Dir2'!O20","v":0},{"$f":"'Dir1'!R20+'Dir2'!R20","v":0},{"$f":"'Dir1'!S20+'Dir2'!S20","v":0},{"$f":"'Dir1'!T20+'Dir2'!T20","v":0},{"$f":"'Dir1'!U20+'Dir2'!U20","v":0},{"$f":"'Dir1'!V20+'Dir2'!V20","v":0},{"$f":"'Dir1'!W20+'Dir2'!W20","v":0},{"$f":"'Dir1'!X20+'Dir2'!X20","v":0},{"$f":"'Dir1'!Y20+'Dir2'!Y20","v":0},{"$f":"'Dir1'!Z20+'Dir2'!Z20","v":0},{"$f":"'Dir1'!AA20+'Dir2'!AA20","v":0},{"$f":"'Dir1'!AB20+'Dir2'!AB20","v":0},{"$f":"'Dir1'!AC20+'Dir2'!AC20","v":0},{"$f":"'Dir1'!AD20+'Dir2'!AD20","v":0},{"$f":"'Dir1'!AE20+'Dir2'!AE20","v":0},{"$f":"'Dir1'!AF20+'Dir2'!AF20","v":0},{"$f":"'Dir1'!AG20+'Dir2'!AG20","v":0},{"$f":"'Dir1'!AH20+'Dir2'!AH20","v":0},{"$f":"'Dir1'!AI20+'Dir2'!AI20","v":0},{"$f":"'Dir1'!AJ20+'Dir2'!AJ20","v":0},{"$f":"'Dir1'!AK20+'Dir2'!AK20","v":0},{"$f":"'Dir1'!AL20+'Dir2'!AL20","v":0},"-",{"$f":"IFERROR(ROUND(PERCENTILE(_xlfn._xlws.FILTER(Data_Table[Speed],(Data_Table[Period]=$B20)*(SUM(C20:N20)>=10)),0.85),2),\"-\")","v":"-"},null,null,4,"2023-09-29",null,{"$f":"IFERROR(ROUND(PERCENTILE(_xlfn._xlws.FILTER(Data_Table[Speed],(Data_Table[Headway]>= 4)*(Data_Table[Weekday]=$AQ20+1)),0.5),2),\"-\")","v":"-"},"-",{"$f":"IFERROR(ROUND(PERCENTILE(_xlfn._xlws.FILTER(Data_Table[Speed],(Data_Table[Headway]>= 4)*(Data_Table[Weekday]=$AQ20+1)),0.85),2),\"-\")","v":"-"}]
[17,{"$f":"ImportData!$B$10+7*QUOTIENT(A21,24*60*7/ImportData!$B$8)+MOD(1+QUOTIENT(A21,24*60/ImportData!$B$8)-ImportData!$E$10,7)+TIME(0,ImportData!$B$8*A21,0)","v":"2023-10-02T17:00:00"},{"$f":"'Dir1'!C21+'Dir2'!C21","v":0},{"$f":"'Dir1'!D21+'Dir2'!D21","v":0},{"$f":"'Dir1'!E21+'Dir2'!E21","v":0},{"$f":"'Dir1'!F21+'Dir2'!F21","v":0},{"$f":"'Dir1'!G21+'Dir2'!G21","v":0},{"$f":"'Dir1'!H21+'Dir2'!H21","v":0},{"$f":"'Dir1'!I21+'Dir2'!I21","v":0},{"$f":"'Dir1'!J21+'Dir2'!J21","v":0},{"$f":"'Dir1'!K21+'Dir2'!K21","v":0},{"$f":"'Dir1'!L21+'Dir2'!L21","v":0},{"$f":"'Dir1'!M21+'Dir2'!M21","v":0},{"$f":"'Dir1'!N21+'Dir2'!N21","v":0},{"$f":"'Dir1'!O21+'Dir2'!O21","v":0},{"$f":"'Dir1'!P21+'Dir2'!N21","v":0},{"$f":"'Dir1'!Q21+'Dir2'!O21","v":0},{"$f":"'Dir1'!R21+'Dir2'!R21","v":0},{"$f":"'Dir1'!S21+'Dir2'!S21","v":0},{"$f":"'Dir1'!T21+'Dir2'!T21","v":0},{"$f":"'Dir1'!U21+'Dir2'!U21","v":0},{"$f":"'Dir1'!V21+'Dir2'!V21","v":0},{"$f":"'Dir1'!W21+'Dir2'!W21","v":0},{"$f":"'Dir1'!X21+'Dir2'!X21","v":0},{"$f":"'Dir1'!Y21+'Dir2'!Y21","v":0},{"$f":"'Dir1'!Z21+'Dir2'!Z21","v":0},{"$f":"'Dir1'!AA21+'Dir2'!AA21","v":0},{"$f":"'Dir1'!AB21+'Dir2'!AB21","v":0},{"$f":"'Dir1'!AC21+'Dir2'!AC21","v":0},{"$f":"'Dir1'!AD21+'Dir2'!AD21","v":0},{"$f":"'Dir1'!AE21+'Dir2'!AE21","v":0},{"$f":"'Dir1'!AF21+'Dir2'!AF21","v":0},{"$f":"'Dir1'!AG21+'Dir2'!AG21","v":0},{"$f":"'Dir1'!AH21+'Dir2'!AH21","v":0},{"$f":"'Dir1'!AI21+'Dir2'!AI21","v":0},{"$f":"'Dir1'!AJ21+'Dir2'!AJ21","v":0},{"$f":"'Dir1'!AK21+'Dir2'!AK21","v":0},{"$f":"'Dir1'!AL21+'Dir2'!AL21","v":0},"-",{"$f":"IFERROR(ROUND(PERCENTILE(_xlfn._xlws.FILTER(Data_Table[Speed],(Data_Table[Period]=$B21)*(SUM(C21:N21)>=10)),0.85),2),\"-\")","v":"-"},null,null,5,"2023-09-30",null,{"$f":"IFERROR(ROUND(PERCENTILE(_xlfn._xlws.FILTER(Data_Table[Speed],(Data_Table[Headway]>= 4)*(Data_Table[Weekday]=$AQ21+1)),0.5),2),\"-\")","v":"-"},"-",{"$f":"IFERROR(ROUND(PERCENTILE(_xlfn._xlws.FILTER(Data_Table[Speed],(Data_Table[Headway]>= 4)*(Data_Table[Weekday]=$AQ21+1)),0.85),2),\"-\")","v":"-"}]
[18,{"$f":"ImportData!$B$10+7*QUOTIENT(A22,24*60*7/ImportData!$B$8)+MOD(1+QUOTIENT(A22,24*60/ImportData!$B$8)-ImportData!$E$10,7)+TIME(0,ImportData!$B$8*A22,0)","v":"2023-10-02T18:00:00"},{"$f":"'Dir1'!C22+'Dir2'!C22","v":0},{"$f":"'Dir1'!D22+'Dir2'!D22","v":0},{"$f":"'Dir1'!E22+'Dir2'!E22","v":0},{"$f":"'Dir1'!F22+'Dir2'!F22","v":0},{"$f":"'Dir1'!G22+'Dir2'!G22","v":0},{"$f":"'Dir1'!H22+'Dir2'!H22","v":0},{"$f":"'Dir1'!I22+'Dir2'!I22","v":0},{"$f":"'Dir1'!J22+'Dir2'!J22","v":0},{"$f":"'Dir1'!K22+'Dir2'!K22","v":0},{"$f":"'Dir1'!L22+'Dir2'!L22","v":0},{"$f":"'Dir1'!M22+'Dir2'!M22","v":0},{"$f":"'Dir1'!N22+'Dir2'!N22","v":0},{"$f":"'Dir1'!O22+'Dir2'!O22","v":0},{"$f":"'Dir1'!P22+'Dir2'!N22","v":0},{"$f":"'Dir1'!Q22+'Dir2'!O22","v":0},{"$f":"'Dir1'!R22+'Dir2'!R22","v":0},{"$f":"'Dir1'!S22+'Dir2'!S22","v":0},{"$f":"'Dir1'!T22+'Dir2'!T22","v":0},{"$f":"'Dir1'!U22+'Dir2'!U22","v":0},{"$f":"'Dir1'!V22+'Dir2'!V22","v":0},{"$f":"'Dir1'!W22+'Dir2'!W22","v":0},{"$f":"'Dir1'!X22+'Dir2'!X22","v":0},{"$f":"'Dir1'!Y22+'Dir2'!Y22","v":0},{"$f":"'Dir1'!Z22+'Dir2'!Z22","v":0},{"$f":"'Dir1'!AA22+'Dir2'!AA22","v":0},{"$f":"'Dir1'!AB22+'Dir2'!AB22","v":0},{"$f":"'Dir1'!AC22+'Dir2'!AC22","v":0},{"$f":"'Dir1'!AD22+'Dir2'!AD22","v":0},{"$f":"'Dir1'!AE22+'Dir2'!AE22","v":0},{"$f":"'Dir1'!AF22+'Dir2'!AF22","v":0},{"$f":"'Dir1'!AG22+'Dir2'!AG22","v":0},{"$f":"'Dir1'!AH22+'Dir2'!AH22","v":0},{"$f":"'Dir1'!AI22+'Dir2'!AI22","v":0},{"$f":"'Dir1'!AJ22+'Dir2'!AJ22","v":0},{"$f":"'Dir1'!AK22+'Dir2'!AK22","v":0},{"$f":"'Dir1'!AL22+'Dir2'!AL22","v":0},"-",{"$f":"IFERROR(ROUND(PERCENTILE(_xlfn._xlws.FILTER(Data_Table[Speed],(Data_Table[Period]=$B22)*(SUM(C22:N22)>=10)),0.85),2),\"-\")","v":"-"},null,null,6,"2023-10-01",null,{"$f":"IFERROR(ROUND(PERCENTILE(_xlfn._xlws.FILTER(Data_Table[Speed],(Data_Table[Headway]>= 4)*(Data_Table[Weekday]=$AQ22+1)),0.5),2),\"-\")","v":"-"},"-",{"$f":"IFERROR(ROUND(PERCENTILE(_xlfn._xlws.FILTER(Data_Table[Speed],(Data_Table[Headway]>= 4)*(Data_Table[Weekday]=$AQ22+1)),0.85),2),\"-\")","v":"-"}]
[19,{"$f":"ImportData!$B$10+7*QUOTIENT(A23,24*60*7/ImportData!$B$8)+MOD(1+QUOTIENT(A23,24*60/ImportData!$B$8)-ImportData!$E$10,7)+TIME(0,ImportData!$B$8*A23,0)","v":"2023-10-02T19:00:00"},{"$f":"'Dir1'!C23+'Dir2'!C23","v":0},{"$f":"'Dir1'!D23+'Dir2'!D23","v":0},{"$f":"'Dir1'!E23+'Dir2'!E23","v":0},{"$f":"'Dir1'!F23+'Dir2'!F23","v":0},{"$f":"'Dir1'!G23+'Dir2'!G23","v":0},{"$f":"'Dir1'!H23+'Dir2'!H23","v":0},{"$f":"'Dir1'!I23+'Dir2'!I23","v":0},{"$f":"'Dir1'!J23+'Dir2'!J23","v":0},{"$f":"'Dir1'!K23+'Dir2'!K23","v":0},{"$f":"'Dir1'!L23+'Dir2'!L23","v":0},{"$f":"'Dir1'!M23+'Dir2'!M23","v":0},{"$f":"'Dir1'!N23+'Dir2'!N23","v":0},{"$f":"'Dir1'!O23+'Dir2'!O23","v":0},{"$f":"'Dir1'!P23+'Dir2'!N23","v":0},{"$f":"'Dir1'!Q23+'Dir2'!O23","v":0},{"$f":"'Dir1'!R23+'Dir2'!R23","v":0},{"$f":"'Dir1'!S23+'Dir2'!S23","v":0},{"$f":"'Dir1'!T23+'Dir2'!T23","v":0},{"$f":"'Dir1'!U23+'Dir2'!U23","v":0},{"$f":"'Dir1'!V23+'Dir2'!V23","v":0},{"$f":"'Dir1'!W23+'Dir2'!W23","v":0},{"$f":"'Dir1'!X23+'Dir2'!X23","v":0},{"$f":"'Dir1'!Y23+'Dir2'!Y23","v":0},{"$f":"'Dir1'!Z23+'Dir2'!Z23","v":0},{"$f":"'Dir1'!AA23+'Dir2'!AA23","v":0},{"$f":"'Dir1'!AB23+'Dir2'!AB23","v":0},{"$f":"'Dir1'!AC23+'Dir2'!AC23","v":0},{"$f":"'Dir1'!AD23+'Dir2'!AD23","v":0},{"$f":"'Dir1'!AE23+'Dir2'!AE23","v":0},{"$f":"'Dir1'!AF23+'Dir2'!AF23","v":0},{"$f":"'Dir1'!AG23+'Dir2'!AG23","v":0},{"$f":"'Dir1'!AH23+'Dir2'!AH23","v":0},{"$f":"'Dir1'!AI23+'Dir2'!AI23","v":0},{"$f":"'Dir1'!AJ23+'Dir2'!AJ23","v":0},{"$f":"'Dir1'!AK23+'Dir2'!AK23","v":0},{"$f":"'Dir1'!AL23+'Dir2'!AL23","v":0},"-",{"$f":"IFERROR(ROUND(PERCENTILE(_xlfn._xlws.FILTER(Data_Table[Speed],(Data_Table[Period]=$B23)*(SUM(C23:N23)>=10)),0.85),2),\"-\")","v":"-"},null,null,null,"Weekdays",null,{"$f":"IFERROR(ROUND(PERCENTILE(_xlfn._xlws.FILTER(Data_Table[Speed],(Data_Table[Headway]>= 4)*(Data_Table[Weekday]< 6)),0.5),2),\"-\")","v":"-"},{"$f":"IFERROR(ROUND(AVERAGEIFS(Data_Table[Speed],Data_Table[Headway],\">=\" & 4,Data_Table[Weekday],\"<\" & 6),2),\"-\")","v":"-"},{"$f":"IFERROR(ROUND(PERCENTILE(_xlfn._xlws.FILTER(Data_Table[Speed],(Data_Table[Headway]>= 4)*(Data_Table[Weekday]< 6)),0.85),2),\"-\")","v":"-"}]
[20,{"$f":"ImportData!$B$10+7*QUOTIENT(A24,24*60*7/ImportData!$B$8)+MOD(1+QUOTIENT(A24,24*60/ImportData!$B$8)-ImportData!$E$10,7)+TIME(0,ImportData!$B$8*A24,0)","v":"2023-10-02T20:00:00"},{"$f":"'Dir1'!C24+'Dir2'!C24","v":0},{"$f":"'Dir1'!D24+'Dir2'!D24","v":0},{"$f":"'Dir1'!E24+'Dir2'!E24","v":0},{"$f":"'Dir1'!F24+'Dir2'!F24","v":0},{"$f":"'Dir1'!G24+'Dir2'!G24","v":0},{"$f":"'Dir1'!H24+'Dir2'!H24","v":0},{"$f":"'Dir1'!I24+'Dir2'!I24","v":0},{"$f":"'Dir1'!J24+'Dir2'!J24","v":0},{"$f":"'Dir1'!K24+'Dir2'!K24","v":0},{"$f":"'Dir1'!L24+'Dir2'!L24","v":0},{"$f":"'Dir1'!M24+'Dir2'!M24","v":0},{"$f":"'Dir1'!N24+'Dir2'!N24","v":0},{"$f":"'Dir1'!O24+'Dir2'!O24","v":0},{"$f":"'Dir1'!P24+'Dir2'!N24","v":0},{"$f":"'Dir1'!Q24+'Dir2'!O24","v":0},{"$f":"'Dir1'!R24+'Dir2'!R24","v":0},{"$f":"'Dir1'!S24+'Dir2'!S24","v":0},{"$f":"'Dir1'!T24+'Dir2'!T24","v":0},{"$f":"'Dir1'!U24+'Dir2'!U24","v":0},{"$f":"'Dir1'!V24+'Dir2'!V24","v":0},{"$f":"'Dir1'!W24+'Dir2'!W24","v":0},{"$f":"'Dir1'!X24+'Dir2'!X24","v":0},{"$f":"'Dir1'!Y24+'Dir2'!Y24","v":0},{"$f":"'Dir1'!Z24+'Dir2'!Z24","v":0},{"$f":"'Dir1'!AA24+'Dir2'!AA24","v":0},{"$f":"'Dir1'!AB24+'Dir2'!AB24","v":0},{"$f":"'Dir1'!AC24+'Dir2'!AC24","v":0},{"$f":"'Dir1'!AD24+'Dir2'!AD24","v":0},{"$f":"'Dir1'!AE24+'Dir2'!AE24","v":0},{"$f":"'Dir1'!AF24+'Dir2'!AF24","v":0},{"$f":"'Dir1'!AG24+'Dir2'!AG24","v":0},{"$f":"'Dir1'!AH24+'Dir2'!AH24","v":0},{"$f":"'Dir1'!AI24+'Dir2'!AI24","v":0},{"$f":"'Dir1'!AJ24+'Dir2'!AJ24","v":0},{"$f":"'Dir1'!AK24+'Dir2'!AK24","v":0},{"$f":"'Dir1'!AL24+'Dir2'!AL24","v":0},"-",{"$f":"IFERROR(ROUND(PERCENTILE(_xlfn._xlws.FILTER(Data_Table[Speed],(Data_Table[Period]=$B24)*(SUM(C24:N24)>=10)),0.85),2),\"-\")","v":"-"},null,null,null,"7 days",null,{"$f":"IFERROR(ROUND(PERCENTILE(_xlfn._xlws.FILTER(Data_Table[Speed],(Data_Table[Headway]>= 4)),0.5),2),\"-\")","v":"-"},{"$f":"IFERROR(ROUND(AVERAGEIFS(Data_Table[Speed],Data_Table[Headway],\">=\" & 4),2),\"-\")","v":"-"},{"$f":"IFERROR(ROUND(PERCENTILE(_xlfn._xlws.FILTER(Data_Table[Speed],(Data_Table[Headway]>= 4)),0.85),2),\"-\")","v":"-"}]
[21,{"$f":"ImportData!$B$10+7*QUOTIENT(A25,24*60*7/ImportData!$B$8)+MOD(1+QUOTIENT(A25,24*60/ImportData!$B$8)-ImportData!$E$10,7)+TIME(0,ImportData!$B$8*A25,0)","v":"2023-10-02T21:00:00"},{"$f":"'Dir1'!C25+'Dir2'!C25","v":0},{"$f":"'Dir1'!D25+'Dir2'!D25","v":0},{"$f":"'Dir1'!E25+'Dir2'!E25","v":0},{"$f":"'Dir1'!F25+'Dir2'!F25","v":0},{"$f":"'Dir1'!G25+'Dir2'!G25","v":0},{"$f":"'Dir1'!H25+'Dir2'!H25","v":0},{"$f":"'Dir1'!I25+'Dir2'!I25","v":0},{"$f":"'Dir1'!J25+'Dir2'!J25","v":0},{"$f":"'Dir1'!K25+'Dir2'!K25","v":0},{"$f":"'Dir1'!L25+'Dir2'!L25","v":0},{"$f":"'Dir1'!M25+'Dir2'!M25","v":0},{"$f":"'Dir1'!N25+'Dir2'!N25","v":0},{"$f":"'Dir1'!O25+'Dir2'!O25","v":0},{"$f":"'Dir1'!P25+'Dir2'!N25","v":0},{"$f":"'Dir1'!Q25+'Dir2'!O25","v":0},{"$f":"'Dir1'!R25+'Dir2'!R25","v":0},{"$f":"'Dir1'!S25+'Dir2'!S25","v":0},{"$f":"'Dir1'!T25+'Dir2'!T25","v":0},{"$f":"'Dir1'!U25+'Dir2'!U25","v":0},{"$f":"'Dir1'!V25+'Dir2'!V25","v":0},{"$f":"'Dir1'!W25+'Dir2'!W25","v":0},{"$f":"'Dir1'!X25+'Dir2'!X25","v":0},{"$f":"'Dir1'!Y25+'Dir2'!Y25","v":0},{"$f":"'Dir1'!Z25+'Dir2'!Z25","v":0},{"$f":"'Dir1'!AA25+'Dir2'!AA25","v":0},{"$f":"'Dir1'!AB25+'Dir2'!AB25","v":0},{"$f":"'Dir1'!AC25+'Dir2'!AC25","v":0},{"$f":"'Dir1'!AD25+'Dir2'!AD25","v":0},{"$f":"'Dir1'!AE25+'Dir2'!AE25","v":0},{"$f":"'Dir1'!AF25+'Dir2'!AF25","v":0},{"$f":"'Dir1'!AG25+'Dir2'!AG25","v":0},{"$f":"'Dir1'!AH25+'Dir2'!AH25","v":0},{"$f":"'Dir1'!AI25+'Dir2'!AI25","v":0},{"$f":"'Dir1'!AJ25+'Dir2'!AJ25","v":0},{"$f":"'Dir1'!AK25+'Dir2'!AK25","v":0},{"$f":"'Dir1'!AL25+'Dir2'!AL25","v":0},"-",{"$f":"IFERROR(ROUND(PERCENTILE(_xlfn._xlws.FILTER(Data_Table[Speed],(Data_Table[Period]=$B25)*(SUM(C25:N25)>=10)),0.85),2),\"-\")","v":"-"}]
[22,{"$f":"ImportData!$B$10+7*QUOTIENT(A26,24*60*7/ImportData!$B$8)+MOD(1+QUOTIENT(A26,24*60/ImportData!$B$8)-ImportData!$E$10,7)+TIME(0,ImportData!$B$8*A26,0)","v":"2023-10-02T22:00:00"},{"$f":"'Dir1'!C26+'Dir2'!C26","v":0},{"$f":"'Dir1'!D26+'Dir2'!D26","v":0},{"$f":"'Dir1'!E26+'Dir2'!E26","v":0},{"$f":"'Dir1'!F26+'Dir2'!F26","v":0},{"$f":"'Dir1'!G26+'Dir2'!G26","v":0},{"$f":"'Dir1'!H26+'Dir2'!H26","v":0},{"$f":"'Dir1'!I26+'Dir2'!I26","v":0},{"$f":"'Dir1'!J26+'Dir2'!J26","v":0},{"$f":"'Dir1'!K26+'Dir2'!K26","v":0},{"$f":"'Dir1'!L26+'Dir2'!L26","v":0},{"$f":"'Dir1'!M26+'Dir2'!M26","v":0},{"$f":"'Dir1'!N26+'Dir2'!N26","v":0},{"$f":"'Dir1'!O26+'Dir2'!O26","v":0},{"$f":"'Dir1'!P26+'Dir2'!N26","v":0},{"$f":"'Dir1'!Q26+'Dir2'!O26","v":0},{"$f":"'Dir1'!R26+'Dir2'!R26","v":0},{"$f":"'Dir1'!S26+'Dir2'!S26","v":0},{"$f":"'Dir1'!T26+'Dir2'!T26","v":0},{"$f":"'Dir1'!U26+'Dir2'!U26","v":0},{"$f":"'Dir1'!V26+'Dir2'!V26","v":0},{"$f":"'Dir1'!W26+'Dir2'!W26","v":0},{"$f":"'Dir1'!X26+'Dir2'!X26","v":0},{"$f":"'Dir1'!Y26+'Dir2'!Y26","v":0},{"$f":"'Dir1'!Z26+'Dir2'!Z26","v":0},{"$f":"'Dir1'!AA26+'Dir2'!AA26","v":0},{"$f":"'Dir1'!AB26+'Dir2'!AB26","v":0},{"$f":"'Dir1'!AC26+'Dir2'!AC26","v":0},{"$f":"'Dir1'!AD26+'Dir2'!AD26","v":0},{"$f":"'Dir1'!AE26+'Dir2'!AE26","v":0},{"$f":"'Dir1'!AF26+'Dir2'!AF26","v":0},{"$f":"'Dir1'!AG26+'Dir2'!AG26","v":0},{"$f":"'Dir1'!AH26+'Dir2'!AH26","v":0},{"$f":"'Dir1'!AI26+'Dir2'!AI26","v":0},{"$f":"'Dir1'!AJ26+'Dir2'!AJ26","v":0},{"$f":"'Dir1'!AK26+'Dir2'!AK26","v":0},{"$f":"'Dir1'!AL26+'Dir2'!AL26","v":0},"-",{"$f":"IFERROR(ROUND(PERCENTILE(_xlfn._xlws.FILTER(Data_Table[Speed],(Data_Table[Period]=$B26)*(SUM(C26:N26)>=10)),0.85),2),\"-\")","v":"-"}]
[23,{"$f":"ImportData!$B$10+7*QUOTIENT(A27,24*60*7/ImportData!$B$8)+MOD(1+QUOTIENT(A27,24*60/ImportData!$B$8)-ImportData!$E$10,7)+TIME(0,ImportData!$B$8*A27,0)","v":"2023-10-02T23:00:00"},{"$f":"'Dir1'!C27+'Dir2'!C27","v":0},{"$f":"'Dir1'!D27+'Dir2'!D27","v":0},{"$f":"'Dir1'!E27+'Dir2'!E27","v":0},{"$f":"'Dir1'!F27+'Dir2'!F27","v":0},{"$f":"'Dir1'!G27+'Dir2'!G27","v":0},{"$f":"'Dir1'!H27+'Dir2'!H27","v":0},{"$f":"'Dir1'!I27+'Dir2'!I27","v":0},{"$f":"'Dir1'!J27+'Dir2'!J27","v":0},{"$f":"'Dir1'!K27+'Dir2'!K27","v":0},{"$f":"'Dir1'!L27+'Dir2'!L27","v":0},{"$f":"'Dir1'!M27+'Dir2'!M27","v":0},{"$f":"'Dir1'!N27+'Dir2'!N27","v":0},{"$f":"'Dir1'!O27+'Dir2'!O27","v":0},{"$f":"'Dir1'!P27+'Dir2'!N27","v":0},{"$f":"'Dir1'!Q27+'Dir2'!O27","v":0},{"$f":"'Dir1'!R27+'Dir2'!R27","v":0},{"$f":"'Dir1'!S27+'Dir2'!S27","v":0},{"$f":"'Dir1'!T27+'Dir2'!T27","v":0},{"$f":"'Dir1'!U27+'Dir2'!U27","v":0},{"$f":"'Dir1'!V27+'Dir2'!V27","v":0},{"$f":"'Dir1'!W27+'Dir2'!W27","v":0},{"$f":"'Dir1'!X27+'Dir2'!X27","v":0},{"$f":"'Dir1'!Y27+'Dir2'!Y27","v":0},{"$f":"'Dir1'!Z27+'Dir2'!Z27","v":0},{"$f":"'Dir1'!AA27+'Dir2'!AA27","v":0},{"$f":"'Dir1'!AB27+'Dir2'!AB27","v":0},{"$f":"'Dir1'!AC27+'Dir2'!AC27","v":0},{"$f":"'Dir1'!AD27+'Dir2'!AD27","v":0},{"$f":"'Dir1'!AE27+'Dir2'!AE27","v":0},{"$f":"'Dir1'!AF27+'Dir2'!AF27","v":0},{"$f":"'Dir1'!AG27+'Dir2'!AG27","v":0},{"$f":"'Dir1'!AH27+'Dir2'!AH27","v":0},{"$f":"'Dir1'!AI27+'Dir2'!AI27","v":0},{"$f":"'Dir1'!AJ27+'Dir2'!AJ27","v":0},{"$f":"'Dir1'!AK27+'Dir2'!AK27","v":0},{"$f":"'Dir1'!AL27+'Dir2'!AL27","v":0},"-",{"$f":"IFERROR(ROUND(PERCENTILE(_xlfn._xlws.FILTER(Data_Table[Speed],(Data_Table[Period]=$B27)*(SUM(C27:N27)>=10)),0.85),2),\"-\")","v":"-"}]
[24,{"$f":"ImportData!$B$10+7*QUOTIENT(A28,24*60*7/ImportData!$B$8)+MOD(1+QUOTIENT(A28,24*60/ImportData!$B$8)-ImportData!$E$10,7)+TIME(0,ImportData!$B$8*A28,0)","v":"2023-10-03"},{"$f":"'Dir1'!C28+'Dir2'!C28","v":0},{"$f":"'Dir1'!D28+'Dir2'!D28","v":0},{"$f":"'Dir1'!E28+'Dir2'!E28","v":0},{"$f":"'Dir1'!F28+'Dir2'!F28","v":0},{"$f":"'Dir1'!G28+'Dir2'!G28","v":0},{"$f":"'Dir1'!H28+'Dir2'!H28","v":0},{"$f":"'Dir1'!I28+'Dir2'!I28","v":0},{"$f":"'Dir1'!J28+'Dir2'!J28","v":0},{"$f":"'Dir1'!K28+'Dir2'!K28","v":0},{"$f":"'Dir1'!L28+'Dir2'!L28","v":0},{"$f":"'Dir1'!M28+'Dir2'!M28","v":0},{"$f":"'Dir1'!N28+'Dir2'!N28","v":0},{"$f":"'Dir1'!O28+'Dir2'!O28","v":0},{"$f":"'Dir1'!P28+'Dir2'!N28","v":0},{"$f":"'Dir1'!Q28+'Dir2'!O28","v":0},{"$f":"'Dir1'!R28+'Dir2'!R28","v":0},{"$f":"'Dir1'!S28+'Dir2'!S28","v":0},{"$f":"'Dir1'!T28+'Dir2'!T28","v":0},{"$f":"'Dir1'!U28+'Dir2'!U28","v":0},{"$f":"'Dir1'!V28+'Dir2'!V28","v":0},{"$f":"'Dir1'!W28+'Dir2'!W28","v":0},{"$f":"'Dir1'!X28+'Dir2'!X28","v":0},{"$f":"'Dir1'!Y28+'Dir2'!Y28","v":0},{"$f":"'Dir1'!Z28+'Dir2'!Z28","v":0},{"$f":"'Dir1'!AA28+'Dir2'!AA28","v":0},{"$f":"'Dir1'!AB28+'Dir2'!AB28","v":0},{"$f":"'Dir1'!AC28+'Dir2'!AC28","v":0},{"$f":"'Dir1'!AD28+'Dir2'!AD28","v":0},{"$f":"'Dir1'!AE28+'Dir2'!AE28","v":0},{"$f":"'Dir1'!AF28+'Dir2'!AF28","v":0},{"$f":"'Dir1'!AG28+'Dir2'!AG28","v":0},{"$f":"'Dir1'!AH28+'Dir2'!AH28","v":0},{"$f":"'Dir1'!AI28+'Dir2'!AI28","v":0},{"$f":"'Dir1'!AJ28+'Dir2'!AJ28","v":0},{"$f":"'Dir1'!AK28+'Dir2'!AK28","v":0},{"$f":"'Dir1'!AL28+'Dir2'!AL28","v":0},"-",{"$f":"IFERROR(ROUND(PERCENTILE(_xlfn._xlws.FILTER(Data_Table[Speed],(Data_Table[Period]=$B28)*(SUM(C28:N28)>=10)),0.85),2),\"-\")","v":"-"}]
[25,{"$f":"ImportData!$B$10+7*QUOTIENT(A29,24*60*7/ImportData!$B$8)+MOD(1+QUOTIENT(A29,24*60/ImportData!$B$8)-ImportData!$E$10,7)+TIME(0,ImportData!$B$8*A29,0)","v":"2023-10-03T01:00:00"},{"$f":"'Dir1'!C29+'Dir2'!C29","v":0},{"$f":"'Dir1'!D29+'Dir2'!D29","v":0},{"$f":"'Dir1'!E29+'Dir2'!E29","v":0},{"$f":"'Dir1'!F29+'Dir2'!F29","v":0},{"$f":"'Dir1'!G29+'Dir2'!G29","v":0},{"$f":"'Dir1'!H29+'Dir2'!H29","v":0},{"$f":"'Dir1'!I29+'Dir2'!I29","v":0},{"$f":"'Dir1'!J29+'Dir2'!J29","v":0},{"$f":"'Dir1'!K29+'Dir2'!K29","v":0},{"$f":"'Dir1'!L29+'Dir2'!L29","v":0},{"$f":"'Dir1'!M29+'Dir2'!M29","v":0},{"$f":"'Dir1'!N29+'Dir2'!N29","v":0},{"$f":"'Dir1'!O29+'Dir2'!O29","v":0},{"$f":"'Dir1'!P29+'Dir2'!N29","v":0},{"$f":"'Dir1'!Q29+'Dir2'!O29","v":0},{"$f":"'Dir1'!R29+'Dir2'!R29","v":0},{"$f":"'Dir1'!S29+'Dir2'!S29","v":0},{"$f":"'Dir1'!T29+'Dir2'!T29","v":0},{"$f":"'Dir1'!U29+'Dir2'!U29","v":0},{"$f":"'Dir1'!V29+'Dir2'!V29","v":0},{"$f":"'Dir1'!W29+'Dir2'!W29","v":0},{"$f":"'Dir1'!X29+'Dir2'!X29","v":0},{"$f":"'Dir1'!Y29+'Dir2'!Y29","v":0},{"$f":"'Dir1'!Z29+'Dir2'!Z29","v":0},{"$f":"'Dir1'!AA29+'Dir2'!AA29","v":0},{"$f":"'Dir1'!AB29+'Dir2'!AB29","v":0},{"$f":"'Dir1'!AC29+'Dir2'!AC29","v":0},{"$f":"'Dir1'!AD29+'Dir2'!AD29","v":0},{"$f":"'Dir1'!AE29+'Dir2'!AE29","v":0},{"$f":"'Dir1'!AF29+'Dir2'!AF29","v":0},{"$f":"'Dir1'!AG29+'Dir2'!AG29","v":0},{"$f":"'Dir1'!AH29+'Dir2'!AH29","v":0},{"$f":"'Dir1'!AI29+'Dir2'!AI29","v":0},{"$f":"'Dir1'!AJ29+'Dir2'!AJ29","v":0},{"$f":"'Dir1'!AK29+'Dir2'!AK29","v":0},{"$f":"'Dir1'!AL29+'Dir2'!AL29","v":0},"-",{"$f":"IFERROR(ROUND(PERCENTILE(_xlfn._xlws.FILTER(Data_Table[Speed],(Data_Table[Period]=$B29)*(SUM(C29:N29)>=10)),0.85),2),\"-\")","v":"-"}]
[26,{"$f":"ImportData!$B$10+7*QUOTIENT(A30,24*60*7/ImportData!$B$8)+MOD(1+QUOTIENT(A30,24*60/ImportData!$B$8)-ImportData!$E$10,7)+TIME(0,ImportData!$B$8*A30,0)","v":"2023-10-03T02:00:00"},{"$f":"'Dir1'!C30+'Dir2'!C30","v":0},{"$f":"'Dir1'!D30+'Dir2'!D30","v":0},{"$f":"'Dir1'!E30+'Dir2'!E30","v":0},{"$f":"'Dir1'!F30+'Dir2'!F30","v":0},{"$f":"'Dir1'!G30+'Dir2'!G30","v":0},{"$f":"'Dir1'!H30+'Dir2'!H30","v":0},{"$f":"'Dir1'!I30+'Dir2'!I30","v":0},{"$f":"'Dir1'!J30+'Dir2'!J30","v":0},{"$f":"'Dir1'!K30+'Dir2'!K30","v":0},{"$f":"'Dir1'!L30+'Dir2'!L30","v":0},{"$f":"'Dir1'!M30+'Dir2'!M30","v":0},{"$f":"'Dir1'!N30+'Dir2'!N30","v":0},{"$f":"'Dir1'!O30+'Dir2'!O30","v":0},{"$f":"'Dir1'!P30+'Dir2'!N30","v":0},{"$f":"'Dir1'!Q30+'Dir2'!O30","v":0},{"$f":"'Dir1'!R30+'Dir2'!R30","v":0},{"$f":"'Dir1'!S30+'Dir2'!S30","v":0},{"$f":"'Dir1'!T30+'Dir2'!T30","v":0},{"$f":"'Dir1'!U30+'Dir2'!U30","v":0},{"$f":"'Dir1'!V30+'Dir2'!V30","v":0},{"$f":"'Dir1'!W30+'Dir2'!W30","v":0},{"$f":"'Dir1'!X30+'Dir2'!X30","v":0},{"$f":"'Dir1'!Y30+'Dir2'!Y30","v":0},{"$f":"'Dir1'!Z30+'Dir2'!Z30","v":0},{"$f":"'Dir1'!AA30+'Dir2'!AA30","v":0},{"$f":"'Dir1'!AB30+'Dir2'!AB30","v":0},{"$f":"'Dir1'!AC30+'Dir2'!AC30","v":0},{"$f":"'Dir1'!AD30+'Dir2'!AD30","v":0},{"$f":"'Dir1'!AE30+'Dir2'!AE30","v":0},{"$f":"'Dir1'!AF30+'Dir2'!AF30","v":0},{"$f":"'Dir1'!AG30+'Dir2'!AG30","v":0},{"$f":"'Dir1'!AH30+'Dir2'!AH30","v":0},{"$f":"'Dir1'!AI30+'Dir2'!AI30","v":0},{"$f":"'Dir1'!AJ30+'Dir2'!AJ30","v":0},{"$f":"'Dir1'!AK30+'Dir2'!AK30","v":0},{"$f":"'Dir1'!AL30+'Dir2'!AL30","v":0},"-",{"$f":"IFERROR(ROUND(PERCENTILE(_xlfn._xlws.FILTER(Data_Table[Speed],(Data_Table[Period]=$B30)*(SUM(C30:N30)>=10)),0.85),2),\"-\")","v":"-"}]
[27,{"$f":"ImportData!$B$10+7*QUOTIENT(A31,24*60*7/ImportData!$B$8)+MOD(1+QUOTIENT(A31,24*60/ImportData!$B$8)-ImportData!$E$10,7)+TIME(0,ImportData!$B$8*A31,0)","v":"2023-10-03T03:00:00"},{"$f":"'Dir1'!C31+'Dir2'!C31","v":0},{"$f":"'Dir1'!D31+'Dir2'!D31","v":0},{"$f":"'Dir1'!E31+'Dir2'!E31","v":0},{"$f":"'Dir1'!F31+'Dir2'!F31","v":0},{"$f":"'Dir1'!G31+'Dir2'!G31","v":0},{"$f":"'Dir1'!H31+'Dir2'!H31","v":0},{"$f":"'Dir1'!I31+'Dir2'!I31","v":0},{"$f":"'Dir1'!J31+'Dir2'!J31","v":0},{"$f":"'Dir1'!K31+'Dir2'!K31","v":0},{"$f":"'Dir1'!L31+'Dir2'!L31","v":0},{"$f":"'Dir1'!M31+'Dir2'!M31","v":0},{"$f":"'Dir1'!N31+'Dir2'!N31","v":0},{"$f":"'Dir1'!O31+'Dir2'!O31","v":0},{"$f":"'Dir1'!P31+'Dir2'!N31","v":0},{"$f":"'Dir1'!Q31+'Dir2'!O31","v":0},{"$f":"'Dir1'!R31+'Dir2'!R31","v":0},{"$f":"'Dir1'!S31+'Dir2'!S31","v":0},{"$f":"'Dir1'!T31+'Dir2'!T31","v":0},{"$f":"'Dir1'!U31+'Dir2'!U31","v":0},{"$f":"'Dir1'!V31+'Dir2'!V31","v":0},{"$f":"'Dir1'!W31+'Dir2'!W31","v":0},{"$f":"'Dir1'!X31+'Dir2'!X31","v":0},{"$f":"'Dir1'!Y31+'Dir2'!Y31","v":0},{"$f":"'Dir1'!Z31+'Dir2'!Z31","v":0},{"$f":"'Dir1'!AA31+'Dir2'!AA31","v":0},{"$f":"'Dir1'!AB31+'Dir2'!AB31","v":0},{"$f":"'Dir1'!AC31+'Dir2'!AC31","v":0},{"$f":"'Dir1'!AD31+'Dir2'!AD31","v":0},{"$f":"'Dir1'!AE31+'Dir2'!AE31","v":0},{"$f":"'Dir1'!AF31+'Dir2'!AF31","v":0},{"$f":"'Dir1'!AG31+'Dir2'!AG31","v":0},{"$f":"'Dir1'!AH31+'Dir2'!AH31","v":0},{"$f":"'Dir1'!AI31+'Dir2'!AI31","v":0},{"$f":"'Dir1'!AJ31+'Dir2'!AJ31","v":0},{"$f":"'Dir1'!AK31+'Dir2'!AK31","v":0},{"$f":"'Dir1'!AL31+'Dir2'!AL31","v":0},"-",{"$f":"IFERROR(ROUND(PERCENTILE(_xlfn._xlws.FILTER(Data_Table[Speed],(Data_Table[Period]=$B31)*(SUM(C31:N31)>=10)),0.85),2),\"-\")","v":"-"}]
[28,{"$f":"ImportData!$B$10+7*QUOTIENT(A32,24*60*7/ImportData!$B$8)+MOD(1+QUOTIENT(A32,24*60/ImportData!$B$8)-ImportData!$E$10,7)+TIME(0,ImportData!$B$8*A32,0)","v":"2023-10-03T04:00:00"},{"$f":"'Dir1'!C32+'Dir2'!C32","v":0},{"$f":"'Dir1'!D32+'Dir2'!D32","v":0},{"$f":"'Dir1'!E32+'Dir2'!E32","v":0},{"$f":"'Dir1'!F32+'Dir2'!F32","v":0},{"$f":"'Dir1'!G32+'Dir2'!G32","v":0},{"$f":"'Dir1'!H32+'Dir2'!H32","v":0},{"$f":"'Dir1'!I32+'Dir2'!I32","v":0},{"$f":"'Dir1'!J32+'Dir2'!J32","v":0},{"$f":"'Dir1'!K32+'Dir2'!K32","v":0},{"$f":"'Dir1'!L32+'Dir2'!L32","v":0},{"$f":"'Dir1'!M32+'Dir2'!M32","v":0},{"$f":"'Dir1'!N32+'Dir2'!N32","v":0},{"$f":"'Dir1'!O32+'Dir2'!O32","v":0},{"$f":"'Dir1'!P32+'Dir2'!N32","v":0},{"$f":"'Dir1'!Q32+'Dir2'!O32","v":0},{"$f":"'Dir1'!R32+'Dir2'!R32","v":0},{"$f":"'Dir1'!S32+'Dir2'!S32","v":0},{"$f":"'Dir1'!T32+'Dir2'!T32","v":0},{"$f":"'Dir1'!U32+'Dir2'!U32","v":0},{"$f":"'Dir1'!V32+'Dir2'!V32","v":0},{"$f":"'Dir1'!W32+'Dir2'!W32","v":0},{"$f":"'Dir1'!X32+'Dir2'!X32","v":0},{"$f":"'Dir1'!Y32+'Dir2'!Y32","v":0},{"$f":"'Dir1'!Z32+'Dir2'!Z32","v":0},{"$f":"'Dir1'!AA32+'Dir2'!AA32","v":0},{"$f":"'Dir1'!AB32+'Dir2'!AB32","v":0},{"$f":"'Dir1'!AC32+'Dir2'!AC32","v":0},{"$f":"'Dir1'!AD32+'Dir2'!AD32","v":0},{"$f":"'Dir1'!AE32+'Dir2'!AE32","v":0},{"$f":"'Dir1'!AF32+'Dir2'!AF32","v":0},{"$f":"'Dir1'!AG32+'Dir2'!AG32","v":0},{"$f":"'Dir1'!AH32+'Dir2'!AH32","v":0},{"$f":"'Dir1'!AI32+'Dir2'!AI32","v":0},{"$f":"'Dir1'!AJ32+'Dir2'!AJ32","v":0},{"$f":"'Dir1'!AK32+'Dir2'!AK32","v":0},{"$f":"'Dir1'!AL32+'Dir2'!AL32","v":0},"-",{"$f":"IFERROR(ROUND(PERCENTILE(_xlfn._xlws.FILTER(Data_Table[Speed],(Data_Table[Period]=$B32)*(SUM(C32:N32)>=10)),0.85),2),\"-\")","v":"-"}]
[29,{"$f":"ImportData!$B$10+7*QUOTIENT(A33,24*60*7/ImportData!$B$8)+MOD(1+QUOTIENT(A33,24*60/ImportData!$B$8)-ImportData!$E$10,7)+TIME(0,ImportData!$B$8*A33,0)","v":"2023-10-03T05:00:00"},{"$f":"'Dir1'!C33+'Dir2'!C33","v":0},{"$f":"'Dir1'!D33+'Dir2'!D33","v":0},{"$f":"'Dir1'!E33+'Dir2'!E33","v":0},{"$f":"'Dir1'!F33+'Dir2'!F33","v":0},{"$f":"'Dir1'!G33+'Dir2'!G33","v":0},{"$f":"'Dir1'!H33+'Dir2'!H33","v":0},{"$f":"'Dir1'!I33+'Dir2'!I33","v":0},{"$f":"'Dir1'!J33+'Dir2'!J33","v":0},{"$f":"'Dir1'!K33+'Dir2'!K33","v":0},{"$f":"'Dir1'!L33+'Dir2'!L33","v":0},{"$f":"'Dir1'!M33+'Dir2'!M33","v":0},{"$f":"'Dir1'!N33+'Dir2'!N33","v":0},{"$f":"'Dir1'!O33+'Dir2'!O33","v":0},{"$f":"'Dir1'!P33+'Dir2'!N33","v":0},{"$f":"'Dir1'!Q33+'Dir2'!O33","v":0},{"$f":"'Dir1'!R33+'Dir2'!R33","v":0},{"$f":"'Dir1'!S33+'Dir2'!S33","v":0},{"$f":"'Dir1'!T33+'Dir2'!T33","v":0},{"$f":"'Dir1'!U33+'Dir2'!U33","v":0},{"$f":"'Dir1'!V33+'Dir2'!V33","v":0},{"$f":"'Dir1'!W33+'Dir2'!W33","v":0},{"$f":"'Dir1'!X33+'Dir2'!X33","v":0},{"$f":"'Dir1'!Y33+'Dir2'!Y33","v":0},{"$f":"'Dir1'!Z33+'Dir2'!Z33","v":0},{"$f":"'Dir1'!AA33+'Dir2'!AA33","v":0},{"$f":"'Dir1'!AB33+'Dir2'!AB33","v":0},{"$f":"'Dir1'!AC33+'Dir2'!AC33","v":0},{"$f":"'Dir1'!AD33+'Dir2'!AD33","v":0},{"$f":"'Dir1'!AE33+'Dir2'!AE33","v":0},{"$f":"'Dir1'!AF33+'Dir2'!AF33","v":0},{"$f":"'Dir1'!AG33+'Dir2'!AG33","v":0},{"$f":"'Dir1'!AH33+'Dir2'!AH33","v":0},{"$f":"'Dir1'!AI33+'Dir2'!AI33","v":0},{"$f":"'Dir1'!AJ33+'Dir2'!AJ33","v":0},{"$f":"'Dir1'!AK33+'Dir2'!AK33","v":0},{"$f":"'Dir1'!AL33+'Dir2'!AL33","v":0},"-",{"$f":"IFERROR(ROUND(PERCENTILE(_xlfn._xlws.FILTER(Data_Table[Speed],(Data_Table[Period]=$B33)*(SUM(C33:N33)>=10)),0.85),2),\"-\")","v":"-"}]
[30,{"$f":"ImportData!$B$10+7*QUOTIENT(A34,24*60*7/ImportData!$B$8)+MOD(1+QUOTIENT(A34,24*60/ImportData!$B$8)-ImportData!$E$10,7)+TIME(0,ImportData!$B$8*A34,0)","v":"2023-10-03T06:00:00"},{"$f":"'Dir1'!C34+'Dir2'!C34","v":0},{"$f":"'Dir1'!D34+'Dir2'!D34","v":0},{"$f":"'Dir1'!E34+'Dir2'!E34","v":0},{"$f":"'Dir1'!F34+'Dir2'!F34","v":0},{"$f":"'Dir1'!G34+'Dir2'!G34","v":0},{"$f":"'Dir1'!H34+'Dir2'!H34","v":0},{"$f":"'Dir1'!I34+'Dir2'!I34","v":0},{"$f":"'Dir1'!J34+'Dir2'!J34","v":0},{"$f":"'Dir1'!K34+'Dir2'!K34","v":0},{"$f":"'Dir1'!L34+'Dir2'!L34","v":0},{"$f":"'Dir1'!M34+'Dir2'!M34","v":0},{"$f":"'Dir1'!N34+'Dir2'!N34","v":0},{"$f":"'Dir1'!O34+'Dir2'!O34","v":0},{"$f":"'Dir1'!P34+'Dir2'!N34","v":0},{"$f":"'Dir1'!Q34+'Dir2'!O34","v":0},{"$f":"'Dir1'!R34+'Dir2'!R34","v":0},{"$f":"'Dir1'!S34+'Dir2'!S34","v":0},{"$f":"'Dir1'!T34+'Dir2'!T34","v":0},{"$f":"'Dir1'!U34+'Dir2'!U34","v":0},{"$f":"'Dir1'!V34+'Dir2'!V34","v":0},{"$f":"'Dir1'!W34+'Dir2'!W34","v":0},{"$f":"'Dir1'!X34+'Dir2'!X34","v":0},{"$f":"'Dir1'!Y34+'Dir2'!Y34","v":0},{"$f":"'Dir1'!Z34+'Dir2'!Z34","v":0},{"$f":"'Dir1'!AA34+'Dir2'!AA34","v":0},{"$f":"'Dir1'!AB34+'Dir2'!AB34","v":0},{"$f":"'Dir1'!AC34+'Dir2'!AC34","v":0},{"$f":"'Dir1'!AD34+'Dir2'!AD34","v":0},{"$f":"'Dir1'!AE34+'Dir2'!AE34","v":0},{"$f":"'Dir1'!AF34+'Dir2'!AF34","v":0},{"$f":"'Dir1'!AG34+'Dir2'!AG34","v":0},{"$f":"'Dir1'!AH34+'Dir2'!AH34","v":0},{"$f":"'Dir1'!AI34+'Dir2'!AI34","v":0},{"$f":"'Dir1'!AJ34+'Dir2'!AJ34","v":0},{"$f":"'Dir1'!AK34+'Dir2'!AK34","v":0},{"$f":"'Dir1'!AL34+'Dir2'!AL34","v":0},"-",{"$f":"IFERROR(ROUND(PERCENTILE(_xlfn._xlws.FILTER(Data_Table[Speed],(Data_Table[Period]=$B34)*(SUM(C34:N34)>=10)),0.85),2),\"-\")","v":"-"}]
[31,{"$f":"ImportData!$B$10+7*QUOTIENT(A35,24*60*7/ImportData!$B$8)+MOD(1+QUOTIENT(A35,24*60/ImportData!$B$8)-ImportData!$E$10,7)+TIME(0,ImportData!$B$8*A35,0)","v":"2023-10-03T07:00:00"},{"$f":"'Dir1'!C35+'Dir2'!C35","v":0},{"$f":"'Dir1'!D35+'Dir2'!D35","v":0},{"$f":"'Dir1'!E35+'Dir2'!E35","v":0},{"$f":"'Dir1'!F35+'Dir2'!F35","v":0},{"$f":"'Dir1'!G35+'Dir2'!G35","v":0},{"$f":"'Dir1'!H35+'Dir2'!H35","v":0},{"$f":"'Dir1'!I35+'Dir2'!I35","v":0},{"$f":"'Dir1'!J35+'Dir2'!J35","v":0},{"$f":"'Dir1'!K35+'Dir2'!K35","v":0},{"$f":"'Dir1'!L35+'Dir2'!L35","v":0},{"$f":"'Dir1'!M35+'Dir2'!M35","v":0},{"$f":"'Dir1'!N35+'Dir2'!N35","v":0},{"$f":"'Dir1'!O35+'Dir2'!O35","v":0},{"$f":"'Dir1'!P35+'Dir2'!N35","v":0},{"$f":"'Dir1'!Q35+'Dir2'!O35","v":0},{"$f":"'Dir1'!R35+'Dir2'!R35","v":0},{"$f":"'Dir1'!S35+'Dir2'!S35","v":0},{"$f":"'Dir1'!T35+'Dir2'!T35","v":0},{"$f":"'Dir1'!U35+'Dir2'!U35","v":0},{"$f":"'Dir1'!V35+'Dir2'!V35","v":0},{"$f":"'Dir1'!W35+'Dir2'!W35","v":0},{"$f":"'Dir1'!X35+'Dir2'!X35","v":0},{"$f":"'Dir1'!Y35+'Dir2'!Y35","v":0},{"$f":"'Dir1'!Z35+'Dir2'!Z35","v":0},{"$f":"'Dir1'!AA35+'Dir2'!AA35","v":0},{"$f":"'Dir1'!AB35+'Dir2'!AB35","v":0},{"$f":"'Dir1'!AC35+'Dir2'!AC35","v":0},{"$f":"'Dir1'!AD35+'Dir2'!AD35","v":0},{"$f":"'Dir1'!AE35+'Dir2'!AE35","v":0},{"$f":"'Dir1'!AF35+'Dir2'!AF35","v":0},{"$f":"'Dir1'!AG35+'Dir2'!AG35","v":0},{"$f":"'Dir1'!AH35+'Dir2'!AH35","v":0},{"$f":"'Dir1'!AI35+'Dir2'!AI35","v":0},{"$f":"'Dir1'!AJ35+'Dir2'!AJ35","v":0},{"$f":"'Dir1'!AK35+'Dir2'!AK35","v":0},{"$f":"'Dir1'!AL35+'Dir2'!AL35","v":0},"-",{"$f":"IFERROR(ROUND(PERCENTILE(_xlfn._xlws.FILTER(Data_Table[Speed],(Data_Table[Period]=$B35)*(SUM(C35:N35)>=10)),0.85),2),\"-\")","v":"-"}]
[32,{"$f":"ImportData!$B$10+7*QUOTIENT(A36,24*60*7/ImportData!$B$8)+MOD(1+QUOTIENT(A36,24*60/ImportData!$B$8)-ImportData!$E$10,7)+TIME(0,ImportData!$B$8*A36,0)","v":"2023-10-03T08:00:00"},{"$f":"'Dir1'!C36+'Dir2'!C36","v":0},{"$f":"'Dir1'!D36+'Dir2'!D36","v":0},{"$f":"'Dir1'!E36+'Dir2'!E36","v":0},{"$f":"'Dir1'!F36+'Dir2'!F36","v":0},{"$f":"'Dir1'!G36+'Dir2'!G36","v":0},{"$f":"'Dir1'!H36+'Dir2'!H36","v":0},{"$f":"'Dir1'!I36+'Dir2'!I36","v":0},{"$f":"'Dir1'!J36+'Dir2'!J36","v":0},{"$f":"'Dir1'!K36+'Dir2'!K36","v":0},{"$f":"'Dir1'!L36+'Dir2'!L36","v":0},{"$f":"'Dir1'!M36+'Dir2'!M36","v":0},{"$f":"'Dir1'!N36+'Dir2'!N36","v":0},{"$f":"'Dir1'!O36+'Dir2'!O36","v":0},{"$f":"'Dir1'!P36+'Dir2'!N36","v":0},{"$f":"'Dir1'!Q36+'Dir2'!O36","v":0},{"$f":"'Dir1'!R36+'Dir2'!R36","v":0},{"$f":"'Dir1'!S36+'Dir2'!S36","v":0},{"$f":"'Dir1'!T36+'Dir2'!T36","v":0},{"$f":"'Dir1'!U36+'Dir2'!U36","v":0},{"$f":"'Dir1'!V36+'Dir2'!V36","v":0},{"$f":"'Dir1'!W36+'Dir2'!W36","v":0},{"$f":"'Dir1'!X36+'Dir2'!X36","v":0},{"$f":"'Dir1'!Y36+'Dir2'!Y36","v":0},{"$f":"'Dir1'!Z36+'Dir2'!Z36","v":0},{"$f":"'Dir1'!AA36+'Dir2'!AA36","v":0},{"$f":"'Dir1'!AB36+'Dir2'!AB36","v":0},{"$f":"'Dir1'!AC36+'Dir2'!AC36","v":0},{"$f":"'Dir1'!AD36+'Dir2'!AD36","v":0},{"$f":"'Dir1'!AE36+'Dir2'!AE36","v":0},{"$f":"'Dir1'!AF36+'Dir2'!AF36","v":0},{"$f":"'Dir1'!AG36+'Dir2'!AG36","v":0},{"$f":"'Dir1'!AH36+'Dir2'!AH36","v":0},{"$f":"'Dir1'!AI36+'Dir2'!AI36","v":0},{"$f":"'Dir1'!AJ36+'Dir2'!AJ36","v":0},{"$f":"'Dir1'!AK36+'Dir2'!AK36","v":0},{"$f":"'Dir1'!AL36+'Dir2'!AL36","v":0},"-",{"$f":"IFERROR(ROUND(PERCENTILE(_xlfn._xlws.FILTER(Data_Table[Speed],(Data_Table[Period]=$B36)*(SUM(C36:N36)>=10)),0.85),2),\"-\")","v":"-"}]
[33,{"$f":"ImportData!$B$10+7*QUOTIENT(A37,24*60*7/ImportData!$B$8)+MOD(1+QUOTIENT(A37,24*60/ImportData!$B$8)-ImportData!$E$10,7)+TIME(0,ImportData!$B$8*A37,0)","v":"2023-10-03T09:00:00"},{"$f":"'Dir1'!C37+'Dir2'!C37","v":0},{"$f":"'Dir1'!D37+'Dir2'!D37","v":0},{"$f":"'Dir1'!E37+'Dir2'!E37","v":0},{"$f":"'Dir1'!F37+'Dir2'!F37","v":0},{"$f":"'Dir1'!G37+'Dir2'!G37","v":0},{"$f":"'Dir1'!H37+'Dir2'!H37","v":0},{"$f":"'Dir1'!I37+'Dir2'!I37","v":0},{"$f":"'Dir1'!J37+'Dir2'!J37","v":0},{"$f":"'Dir1'!K37+'Dir2'!K37","v":0},{"$f":"'Dir1'!L37+'Dir2'!L37","v":0},{"$f":"'Dir1'!M37+'Dir2'!M37","v":0},{"$f":"'Dir1'!N37+'Dir2'!N37","v":0},{"$f":"'Dir1'!O37+'Dir2'!O37","v":0},{"$f":"'Dir1'!P37+'Dir2'!N37","v":0},{"$f":"'Dir1'!Q37+'Dir2'!O37","v":0},{"$f":"'Dir1'!R37+'Dir2'!R37","v":0},{"$f":"'Dir1'!S37+'Dir2'!S37","v":0},{"$f":"'Dir1'!T37+'Dir2'!T37","v":0},{"$f":"'Dir1'!U37+'Dir2'!U37","v":0},{"$f":"'Dir1'!V37+'Dir2'!V37","v":0},{"$f":"'Dir1'!W37+'Dir2'!W37","v":0},{"$f":"'Dir1'!X37+'Dir2'!X37","v":0},{"$f":"'Dir1'!Y37+'Dir2'!Y37","v":0},{"$f":"'Dir1'!Z37+'Dir2'!Z37","v":0},{"$f":"'Dir1'!AA37+'Dir2'!AA37","v":0},{"$f":"'Dir1'!AB37+'Dir2'!AB37","v":0},{"$f":"'Dir1'!AC37+'Dir2'!AC37","v":0},{"$f":"'Dir1'!AD37+'Dir2'!AD37","v":0},{"$f":"'Dir1'!AE37+'Dir2'!AE37","v":0},{"$f":"'Dir1'!AF37+'Dir2'!AF37","v":0},{"$f":"'Dir1'!AG37+'Dir2'!AG37","v":0},{"$f":"'Dir1'!AH37+'Dir2'!AH37","v":0},{"$f":"'Dir1'!AI37+'Dir2'!AI37","v":0},{"$f":"'Dir1'!AJ37+'Dir2'!AJ37","v":0},{"$f":"'Dir1'!AK37+'Dir2'!AK37","v":0},{"$f":"'Dir1'!AL37+'Dir2'!AL37","v":0},"-",{"$f":"IFERROR(ROUND(PERCENTILE(_xlfn._xlws.FILTER(Data_Table[Speed],(Data_Table[Period]=$B37)*(SUM(C37:N37)>=10)),0.85),2),\"-\")","v":"-"}]
[34,{"$f":"ImportData!$B$10+7*QUOTIENT(A38,24*60*7/ImportData!$B$8)+MOD(1+QUOTIENT(A38,24*60/ImportData!$B$8)-ImportData!$E$10,7)+TIME(0,ImportData!$B$8*A38,0)","v":"2023-10-03T10:00:00"},{"$f":"'Dir1'!C38+'Dir2'!C38","v":0},{"$f":"'Dir1'!D38+'Dir2'!D38","v":0},{"$f":"'Dir1'!E38+'Dir2'!E38","v":0},{"$f":"'Dir1'!F38+'Dir2'!F38","v":0},{"$f":"'Dir1'!G38+'Dir2'!G38","v":0},{"$f":"'Dir1'!H38+'Dir2'!H38","v":0},{"$f":"'Dir1'!I38+'Dir2'!I38","v":0},{"$f":"'Dir1'!J38+'Dir2'!J38","v":0},{"$f":"'Dir1'!K38+'Dir2'!K38","v":0},{"$f":"'Dir1'!L38+'Dir2'!L38","v":0},{"$f":"'Dir1'!M38+'Dir2'!M38","v":0},{"$f":"'Dir1'!N38+'Dir2'!N38","v":0},{"$f":"'Dir1'!O38+'Dir2'!O38","v":0},{"$f":"'Dir1'!P38+'Dir2'!N38","v":0},{"$f":"'Dir1'!Q38+'Dir2'!O38","v":0},{"$f":"'Dir1'!R38+'Dir2'!R38","v":0},{"$f":"'Dir1'!S38+'Dir2'!S38","v":0},{"$f":"'Dir1'!T38+'Dir2'!T38","v":0},{"$f":"'Dir1'!U38+'Dir2'!U38","v":0},{"$f":"'Dir1'!V38+'Dir2'!V38","v":0},{"$f":"'Dir1'!W38+'Dir2'!W38","v":0},{"$f":"'Dir1'!X38+'Dir2'!X38","v":0},{"$f":"'Dir1'!Y38+'Dir2'!Y38","v":0},{"$f":"'Dir1'!Z38+'Dir2'!Z38","v":0},{"$f":"'Dir1'!AA38+'Dir2'!AA38","v":0},{"$f":"'Dir1'!AB38+'Dir2'!AB38","v":0},{"$f":"'Dir1'!AC38+'Dir2'!AC38","v":0},{"$f":"'Dir1'!AD38+'Dir2'!AD38","v":0},{"$f":"'Dir1'!AE38+'Dir2'!AE38","v":0},{"$f":"'Dir1'!AF38+'Dir2'!AF38","v":0},{"$f":"'Dir1'!AG38+'Dir2'!AG38","v":0},{"$f":"'Dir1'!AH38+'Dir2'!AH38","v":0},{"$f":"'Dir1'!AI38+'Dir2'!AI38","v":0},{"$f":"'Dir1'!AJ38+'Dir2'!AJ38","v":0},{"$f":"'Dir1'!AK38+'Dir2'!AK38","v":0},{"$f":"'Dir1'!AL38+'Dir2'!AL38","v":0},"-",{"$f":"IFERROR(ROUND(PERCENTILE(_xlfn._xlws.FILTER(Data_Table[Speed],(Data_Table[Period]=$B38)*(SUM(C38:N38)>=10)),0.85),2),\"-\")","v":"-"}]
[35,{"$f":"ImportData!$B$10+7*QUOTIENT(A39,24*60*7/ImportData!$B$8)+MOD(1+QUOTIENT(A39,24*60/ImportData!$B$8)-ImportData!$E$10,7)+TIME(0,ImportData!$B$8*A39,0)","v":"2023-10-03T11:00:00"},{"$f":"'Dir1'!C39+'Dir2'!C39","v":0},{"$f":"'Dir1'!D39+'Dir2'!D39","v":0},{"$f":"'Dir1'!E39+'Dir2'!E39","v":0},{"$f":"'Dir1'!F39+'Dir2'!F39","v":0},{"$f":"'Dir1'!G39+'Dir2'!G39","v":0},{"$f":"'Dir1'!H39+'Dir2'!H39","v":0},{"$f":"'Dir1'!I39+'Dir2'!I39","v":0},{"$f":"'Dir1'!J39+'Dir2'!J39","v":0},{"$f":"'Dir1'!K39+'Dir2'!K39","v":0},{"$f":"'Dir1'!L39+'Dir2'!L39","v":0},{"$f":"'Dir1'!M39+'Dir2'!M39","v":0},{"$f":"'Dir1'!N39+'Dir2'!N39","v":0},{"$f":"'Dir1'!O39+'Dir2'!O39","v":0},{"$f":"'Dir1'!P39+'Dir2'!N39","v":0},{"$f":"'Dir1'!Q39+'Dir2'!O39","v":0},{"$f":"'Dir1'!R39+'Dir2'!R39","v":0},{"$f":"'Dir1'!S39+'Dir2'!S39","v":0},{"$f":"'Dir1'!T39+'Dir2'!T39","v":0},{"$f":"'Dir1'!U39+'Dir2'!U39","v":0},{"$f":"'Dir1'!V39+'Dir2'!V39","v":0},{"$f":"'Dir1'!W39+'Dir2'!W39","v":0},{"$f":"'Dir1'!X39+'Dir2'!X39","v":0},{"$f":"'Dir1'!Y39+'Dir2'!Y39","v":0},{"$f":"'Dir1'!Z39+'Dir2'!Z39","v":0},{"$f":"'Dir1'!AA39+'Dir2'!AA39","v":0},{"$f":"'Dir1'!AB39+'Dir2'!AB39","v":0},{"$f":"'Dir1'!AC39+'Dir2'!AC39","v":0},{"$f":"'Dir1'!AD39+'Dir2'!AD39","v":0},{"$f":"'Dir1'!AE39+'Dir2'!AE39","v":0},{"$f":"'Dir1'!AF39+'Dir2'!AF39","v":0},{"$f":"'Dir1'!AG39+'Dir2'!AG39","v":0},{"$f":"'Dir1'!AH39+'Dir2'!AH39","v":0},{"$f":"'Dir1'!AI39+'Dir2'!AI39","v":0},{"$f":"'Dir1'!AJ39+'Dir2'!AJ39","v":0},{"$f":"'Dir1'!AK39+'Dir2'!AK39","v":0},{"$f":"'Dir1'!AL39+'Dir2'!AL39","v":0},"-",{"$f":"IFERROR(ROUND(PERCENTILE(_xlfn._xlws.FILTER(Data_Table[Speed],(Data_Table[Period]=$B39)*(SUM(C39:N39)>=10)),0.85),2),\"-\")","v":"-"}]
[36,{"$f":"ImportData!$B$10+7*QUOTIENT(A40,24*60*7/ImportData!$B$8)+MOD(1+QUOTIENT(A40,24*60/ImportData!$B$8)-ImportData!$E$10,7)+TIME(0,ImportData!$B$8*A40,0)","v":"2023-10-03T12:00:00"},{"$f":"'Dir1'!C40+'Dir2'!C40","v":0},{"$f":"'Dir1'!D40+'Dir2'!D40","v":0},{"$f":"'Dir1'!E40+'Dir2'!E40","v":0},{"$f":"'Dir1'!F40+'Dir2'!F40","v":0},{"$f":"'Dir1'!G40+'Dir2'!G40","v":0},{"$f":"'Dir1'!H40+'Dir2'!H40","v":0},{"$f":"'Dir1'!I40+'Dir2'!I40","v":0},{"$f":"'Dir1'!J40+'Dir2'!J40","v":0},{"$f":"'Dir1'!K40+'Dir2'!K40","v":0},{"$f":"'Dir1'!L40+'Dir2'!L40","v":0},{"$f":"'Dir1'!M40+'Dir2'!M40","v":0},{"$f":"'Dir1'!N40+'Dir2'!N40","v":0},{"$f":"'Dir1'!O40+'Dir2'!O40","v":0},{"$f":"'Dir1'!P40+'Dir2'!N40","v":0},{"$f":"'Dir1'!Q40+'Dir2'!O40","v":0},{"$f":"'Dir1'!R40+'Dir2'!R40","v":0},{"$f":"'Dir1'!S40+'Dir2'!S40","v":0},{"$f":"'Dir1'!T40+'Dir2'!T40","v":0},{"$f":"'Dir1'!U40+'Dir2'!U40","v":0},{"$f":"'Dir1'!V40+'Dir2'!V40","v":0},{"$f":"'Dir1'!W40+'Dir2'!W40","v":0},{"$f":"'Dir1'!X40+'Dir2'!X40","v":0},{"$f":"'Dir1'!Y40+'Dir2'!Y40","v":0},{"$f":"'Dir1'!Z40+'Dir2'!Z40","v":0},{"$f":"'Dir1'!AA40+'Dir2'!AA40","v":0},{"$f":"'Dir1'!AB40+'Dir2'!AB40","v":0},{"$f":"'Dir1'!AC40+'Dir2'!AC40","v":0},{"$f":"'Dir1'!AD40+'Dir2'!AD40","v":0},{"$f":"'Dir1'!AE40+'Dir2'!AE40","v":0},{"$f":"'Dir1'!AF40+'Dir2'!AF40","v":0},{"$f":"'Dir1'!AG40+'Dir2'!AG40","v":0},{"$f":"'Dir1'!AH40+'Dir2'!AH40","v":0},{"$f":"'Dir1'!AI40+'Dir2'!AI40","v":0},{"$f":"'Dir1'!AJ40+'Dir2'!AJ40","v":0},{"$f":"'Dir1'!AK40+'Dir2'!AK40","v":0},{"$f":"'Dir1'!AL40+'Dir2'!AL40","v":0},"-",{"$f":"IFERROR(ROUND(PERCENTILE(_xlfn._xlws.FILTER(Data_Table[Speed],(Data_Table[Period]=$B40)*(SUM(C40:N40)>=10)),0.85),2),\"-\")","v":"-"}]
[37,{"$f":"ImportData!$B$10+7*QUOTIENT(A41,24*60*7/ImportData!$B$8)+MOD(1+QUOTIENT(A41,24*60/ImportData!$B$8)-ImportData!$E$10,7)+TIME(0,ImportData!$B$8*A41,0)","v":"2023-10-03T13:00:00"},{"$f":"'Dir1'!C41+'Dir2'!C41","v":0},{"$f":"'Dir1'!D41+'Dir2'!D41","v":0},{"$f":"'Dir1'!E41+'Dir2'!E41","v":0},{"$f":"'Dir1'!F41+'Dir2'!F41","v":0},{"$f":"'Dir1'!G41+'Dir2'!G41","v":0},{"$f":"'Dir1'!H41+'Dir2'!H41","v":0},{"$f":"'Dir1'!I41+'Dir2'!I41","v":0},{"$f":"'Dir1'!J41+'Dir2'!J41","v":0},{"$f":"'Dir1'!K41+'Dir2'!K41","v":0},{"$f":"'Dir1'!L41+'Dir2'!L41","v":0},{"$f":"'Dir1'!M41+'Dir2'!M41","v":0},{"$f":"'Dir1'!N41+'Dir2'!N41","v":0},{"$f":"'Dir1'!O41+'Dir2'!O41","v":0},{"$f":"'Dir1'!P41+'Dir2'!N41","v":0},{"$f":"'Dir1'!Q41+'Dir2'!O41","v":0},{"$f":"'Dir1'!R41+'Dir2'!R41","v":0},{"$f":"'Dir1'!S41+'Dir2'!S41","v":0},{"$f":"'Dir1'!T41+'Dir2'!T41","v":0},{"$f":"'Dir1'!U41+'Dir2'!U41","v":0},{"$f":"'Dir1'!V41+'Dir2'!V41","v":0},{"$f":"'Dir1'!W41+'Dir2'!W41","v":0},{"$f":"'Dir1'!X41+'Dir2'!X41","v":0},{"$f":"'Dir1'!Y41+'Dir2'!Y41","v":0},{"$f":"'Dir1'!Z41+'Dir2'!Z41","v":0},{"$f":"'Dir1'!AA41+'Dir2'!AA41","v":0},{"$f":"'Dir1'!AB41+'Dir2'!AB41","v":0},{"$f":"'Dir1'!AC41+'Dir2'!AC41","v":0},{"$f":"'Dir1'!AD41+'Dir2'!AD41","v":0},{"$f":"'Dir1'!AE41+'Dir2'!AE41","v":0},{"$f":"'Dir1'!AF41+'Dir2'!AF41","v":0},{"$f":"'Dir1'!AG41+'Dir2'!AG41","v":0},{"$f":"'Dir1'!AH41+'Dir2'!AH41","v":0},{"$f":"'Dir1'!AI41+'Dir2'!AI41","v":0},{"$f":"'Dir1'!AJ41+'Dir2'!AJ41","v":0},{"$f":"'Dir1'!AK41+'Dir2'!AK41","v":0},{"$f":"'Dir1'!AL41+'Dir2'!AL41","v":0},"-",{"$f":"IFERROR(ROUND(PERCENTILE(_xlfn._xlws.FILTER(Data_Table[Speed],(Data_Table[Period]=$B41)*(SUM(C41:N41)>=10)),0.85),2),\"-\")","v":"-"}]
[38,{"$f":"ImportData!$B$10+7*QUOTIENT(A42,24*60*7/ImportData!$B$8)+MOD(1+QUOTIENT(A42,24*60/ImportData!$B$8)-ImportData!$E$10,7)+TIME(0,ImportData!$B$8*A42,0)","v":"2023-10-03T14:00:00"},{"$f":"'Dir1'!C42+'Dir2'!C42","v":0},{"$f":"'Dir1'!D42+'Dir2'!D42","v":0},{"$f":"'Dir1'!E42+'Dir2'!E42","v":0},{"$f":"'Dir1'!F42+'Dir2'!F42","v":0},{"$f":"'Dir1'!G42+'Dir2'!G42","v":0},{"$f":"'Dir1'!H42+'Dir2'!H42","v":0},{"$f":"'Dir1'!I42+'Dir2'!I42","v":0},{"$f":"'Dir1'!J42+'Dir2'!J42","v":0},{"$f":"'Dir1'!K42+'Dir2'!K42","v":0},{"$f":"'Dir1'!L42+'Dir2'!L42","v":0},{"$f":"'Dir1'!M42+'Dir2'!M42","v":0},{"$f":"'Dir1'!N42+'Dir2'!N42","v":0},{"$f":"'Dir1'!O42+'Dir2'!O42","v":0},{"$f":"'Dir1'!P42+'Dir2'!N42","v":0},{"$f":"'Dir1'!Q42+'Dir2'!O42","v":0},{"$f":"'Dir1'!R42+'Dir2'!R42","v":0},{"$f":"'Dir1'!S42+'Dir2'!S42","v":0},{"$f":"'Dir1'!T42+'Dir2'!T42","v":0},{"$f":"'Dir1'!U42+'Dir2'!U42","v":0},{"$f":"'Dir1'!V42+'Dir2'!V42","v":0},{"$f":"'Dir1'!W42+'Dir2'!W42","v":0},{"$f":"'Dir1'!X42+'Dir2'!X42","v":0},{"$f":"'Dir1'!Y42+'Dir2'!Y42","v":0},{"$f":"'Dir1'!Z42+'Dir2'!Z42","v":0},{"$f":"'Dir1'!AA42+'Dir2'!AA42","v":0},{"$f":"'Dir1'!AB42+'Dir2'!AB42","v":0},{"$f":"'Dir1'!AC42+'Dir2'!AC42","v":0},{"$f":"'Dir1'!AD42+'Dir2'!AD42","v":0},{"$f":"'Dir1'!AE42+'Dir2'!AE42","v":0},{"$f":"'Dir1'!AF42+'Dir2'!AF42","v":0},{"$f":"'Dir1'!AG42+'Dir2'!AG42","v":0},{"$f":"'Dir1'!AH42+'Dir2'!AH42","v":0},{"$f":"'Dir1'!AI42+'Dir2'!AI42","v":0},{"$f":"'Dir1'!AJ42+'Dir2'!AJ42","v":0},{"$f":"'Dir1'!AK42+'Dir2'!AK42","v":0},{"$f":"'Dir1'!AL42+'Dir2'!AL42","v":0},"-",{"$f":"IFERROR(ROUND(PERCENTILE(_xlfn._xlws.FILTER(Data_Table[Speed],(Data_Table[Period]=$B42)*(SUM(C42:N42)>=10)),0.85),2),\"-\")","v":"-"}]
[39,{"$f":"ImportData!$B$10+7*QUOTIENT(A43,24*60*7/ImportData!$B$8)+MOD(1+QUOTIENT(A43,24*60/ImportData!$B$8)-ImportData!$E$10,7)+TIME(0,ImportData!$B$8*A43,0)","v":"2023-10-03T15:00:00"},{"$f":"'Dir1'!C43+'Dir2'!C43","v":0},{"$f":"'Dir1'!D43+'Dir2'!D43","v":0},{"$f":"'Dir1'!E43+'Dir2'!E43","v":0},{"$f":"'Dir1'!F43+'Dir2'!F43","v":0},{"$f":"'Dir1'!G43+'Dir2'!G43","v":0},{"$f":"'Dir1'!H43+'Dir2'!H43","v":0},{"$f":"'Dir1'!I43+'Dir2'!I43","v":0},{"$f":"'Dir1'!J43+'Dir2'!J43","v":0},{"$f":"'Dir1'!K43+'Dir2'!K43","v":0},{"$f":"'Dir1'!L43+'Dir2'!L43","v":0},{"$f":"'Dir1'!M43+'Dir2'!M43","v":0},{"$f":"'Dir1'!N43+'Dir2'!N43","v":0},{"$f":"'Dir1'!O43+'Dir2'!O43","v":0},{"$f":"'Dir1'!P43+'Dir2'!N43","v":0},{"$f":"'Dir1'!Q43+'Dir2'!O43","v":0},{"$f":"'Dir1'!R43+'Dir2'!R43","v":0},{"$f":"'Dir1'!S43+'Dir2'!S43","v":0},{"$f":"'Dir1'!T43+'Dir2'!T43","v":0},{"$f":"'Dir1'!U43+'Dir2'!U43","v":0},{"$f":"'Dir1'!V43+'Dir2'!V43","v":0},{"$f":"'Dir1'!W43+'Dir2'!W43","v":0},{"$f":"'Dir1'!X43+'Dir2'!X43","v":0},{"$f":"'Dir1'!Y43+'Dir2'!Y43","v":0},{"$f":"'Dir1'!Z43+'Dir2'!Z43","v":0},{"$f":"'Dir1'!AA43+'Dir2'!AA43","v":0},{"$f":"'Dir1'!AB43+'Dir2'!AB43","v":0},{"$f":"'Dir1'!AC43+'Dir2'!AC43","v":0},{"$f":"'Dir1'!AD43+'Dir2'!AD43","v":0},{"$f":"'Dir1'!AE43+'Dir2'!AE43","v":0},{"$f":"'Dir1'!AF43+'Dir2'!AF43","v":0},{"$f":"'Dir1'!AG43+'Dir2'!AG43","v":0},{"$f":"'Dir1'!AH43+'Dir2'!AH43","v":0},{"$f":"'Dir1'!AI43+'Dir2'!AI43","v":0},{"$f":"'Dir1'!AJ43+'Dir2'!AJ43","v":0},{"$f":"'Dir1'!AK43+'Dir2'!AK43","v":0},{"$f":"'Dir1'!AL43+'Dir2'!AL43","v":0},"-",{"$f":"IFERROR(ROUND(PERCENTILE(_xlfn._xlws.FILTER(Data_Table[Speed],(Data_Table[Period]=$B43)*(SUM(C43:N43)>=10)),0.85),2),\"-\")","v":"-"}]
[40,{"$f":"ImportData!$B$10+7*QUOTIENT(A44,24*60*7/ImportData!$B$8)+MOD(1+QUOTIENT(A44,24*60/ImportData!$B$8)-ImportData!$E$10,7)+TIME(0,ImportData!$B$8*A44,0)","v":"2023-10-03T16:00:00"},{"$f":"'Dir1'!C44+'Dir2'!C44","v":0},{"$f":"'Dir1'!D44+'Dir2'!D44","v":0},{"$f":"'Dir1'!E44+'Dir2'!E44","v":0},{"$f":"'Dir1'!F44+'Dir2'!F44","v":0},{"$f":"'Dir1'!G44+'Dir2'!G44","v":0},{"$f":"'Dir1'!H44+'Dir2'!H44","v":0},{"$f":"'Dir1'!I44+'Dir2'!I44","v":0},{"$f":"'Dir1'!J44+'Dir2'!J44","v":0},{"$f":"'Dir1'!K44+'Dir2'!K44","v":0},{"$f":"'Dir1'!L44+'Dir2'!L44","v":0},{"$f":"'Dir1'!M44+'Dir2'!M44","v":0},{"$f":"'Dir1'!N44+'Dir2'!N44","v":0},{"$f":"'Dir1'!O44+'Dir2'!O44","v":0},{"$f":"'Dir1'!P44+'Dir2'!N44","v":0},{"$f":"'Dir1'!Q44+'Dir2'!O44","v":0},{"$f":"'Dir1'!R44+'Dir2'!R44","v":0},{"$f":"'Dir1'!S44+'Dir2'!S44","v":0},{"$f":"'Dir1'!T44+'Dir2'!T44","v":0},{"$f":"'Dir1'!U44+'Dir2'!U44","v":0},{"$f":"'Dir1'!V44+'Dir2'!V44","v":0},{"$f":"'Dir1'!W44+'Dir2'!W44","v":0},{"$f":"'Dir1'!X44+'Dir2'!X44","v":0},{"$f":"'Dir1'!Y44+'Dir2'!Y44","v":0},{"$f":"'Dir1'!Z44+'Dir2'!Z44","v":0},{"$f":"'Dir1'!AA44+'Dir2'!AA44","v":0},{"$f":"'Dir1'!AB44+'Dir2'!AB44","v":0},{"$f":"'Dir1'!AC44+'Dir2'!AC44","v":0},{"$f":"'Dir1'!AD44+'Dir2'!AD44","v":0},{"$f":"'Dir1'!AE44+'Dir2'!AE44","v":0},{"$f":"'Dir1'!AF44+'Dir2'!AF44","v":0},{"$f":"'Dir1'!AG44+'Dir2'!AG44","v":0},{"$f":"'Dir1'!AH44+'Dir2'!AH44","v":0},{"$f":"'Dir1'!AI44+'Dir2'!AI44","v":0},{"$f":"'Dir1'!AJ44+'Dir2'!AJ44","v":0},{"$f":"'Dir1'!AK44+'Dir2'!AK44","v":0},{"$f":"'Dir1'!AL44+'Dir2'!AL44","v":0},"-",{"$f":"IFERROR(ROUND(PERCENTILE(_xlfn._xlws.FILTER(Data_Table[Speed],(Data_Table[Period]=$B44)*(SUM(C44:N44)>=10)),0.85),2),\"-\")","v":"-"}]
[41,{"$f":"ImportData!$B$10+7*QUOTIENT(A45,24*60*7/ImportData!$B$8)+MOD(1+QUOTIENT(A45,24*60/ImportData!$B$8)-ImportData!$E$10,7)+TIME(0,ImportData!$B$8*A45,0)","v":"2023-10-03T17:00:00"},{"$f":"'Dir1'!C45+'Dir2'!C45","v":0},{"$f":"'Dir1'!D45+'Dir2'!D45","v":0},{"$f":"'Dir1'!E45+'Dir2'!E45","v":0},{"$f":"'Dir1'!F45+'Dir2'!F45","v":0},{"$f":"'Dir1'!G45+'Dir2'!G45","v":0},{"$f":"'Dir1'!H45+'Dir2'!H45","v":0},{"$f":"'Dir1'!I45+'Dir2'!I45","v":0},{"$f":"'Dir1'!J45+'Dir2'!J45","v":0},{"$f":"'Dir1'!K45+'Dir2'!K45","v":0},{"$f":"'Dir1'!L45+'Dir2'!L45","v":0},{"$f":"'Dir1'!M45+'Dir2'!M45","v":0},{"$f":"'Dir1'!N45+'Dir2'!N45","v":0},{"$f":"'Dir1'!O45+'Dir2'!O45","v":0},{"$f":"'Dir1'!P45+'Dir2'!N45","v":0},{"$f":"'Dir1'!Q45+'Dir2'!O45","v":0},{"$f":"'Dir1'!R45+'Dir2'!R45","v":0},{"$f":"'Dir1'!S45+'Dir2'!S45","v":0},{"$f":"'Dir1'!T45+'Dir2'!T45","v":0},{"$f":"'Dir1'!U45+'Dir2'!U45","v":0},{"$f":"'Dir1'!V45+'Dir2'!V45","v":0},{"$f":"'Dir1'!W45+'Dir2'!W45","v":0},{"$f":"'Dir1'!X45+'Dir2'!X45","v":0},{"$f":"'Dir1'!Y45+'Dir2'!Y45","v":0},{"$f":"'Dir1'!Z45+'Dir2'!Z45","v":0},{"$f":"'Dir1'!AA45+'Dir2'!AA45","v":0},{"$f":"'Dir1'!AB45+'Dir2'!AB45","v":0},{"$f":"'Dir1'!AC45+'Dir2'!AC45","v":0},{"$f":"'Dir1'!AD45+'Dir2'!AD45","v":0},{"$f":"'Dir1'!AE45+'Dir2'!AE45","v":0},{"$f":"'Dir1'!AF45+'Dir2'!AF45","v":0},{"$f":"'Dir1'!AG45+'Dir2'!AG45","v":0},{"$f":"'Dir1'!AH45+'Dir2'!AH45","v":0},{"$f":"'Dir1'!AI45+'Dir2'!AI45","v":0},{"$f":"'Dir1'!AJ45+'Dir2'!AJ45","v":0},{"$f":"'Dir1'!AK45+'Dir2'!AK45","v":0},{"$f":"'Dir1'!AL45+'Dir2'!AL45","v":0},"-",{"$f":"IFERROR(ROUND(PERCENTILE(_xlfn._xlws.FILTER(Data_Table[Speed],(Data_Table[Period]=$B45)*(SUM(C45:N45)>=10)),0.85),2),\"-\")","v":"-"}]
[42,{"$f":"ImportData!$B$10+7*QUOTIENT(A46,24*60*7/ImportData!$B$8)+MOD(1+QUOTIENT(A46,24*60/ImportData!$B$8)-ImportData!$E$10,7)+TIME(0,ImportData!$B$8*A46,0)","v":"2023-10-03T18:00:00"},{"$f":"'Dir1'!C46+'Dir2'!C46","v":0},{"$f":"'Dir1'!D46+'Dir2'!D46","v":0},{"$f":"'Dir1'!E46+'Dir2'!E46","v":0},{"$f":"'Dir1'!F46+'Dir2'!F46","v":0},{"$f":"'Dir1'!G46+'Dir2'!G46","v":0},{"$f":"'Dir1'!H46+'Dir2'!H46","v":0},{"$f":"'Dir1'!I46+'Dir2'!I46","v":0},{"$f":"'Dir1'!J46+'Dir2'!J46","v":0},{"$f":"'Dir1'!K46+'Dir2'!K46","v":0},{"$f":"'Dir1'!L46+'Dir2'!L46","v":0},{"$f":"'Dir1'!M46+'Dir2'!M46","v":0},{"$f":"'Dir1'!N46+'Dir2'!N46","v":0},{"$f":"'Dir1'!O46+'Dir2'!O46","v":0},{"$f":"'Dir1'!P46+'Dir2'!N46","v":0},{"$f":"'Dir1'!Q46+'Dir2'!O46","v":0},{"$f":"'Dir1'!R46+'Dir2'!R46","v":0},{"$f":"'Dir1'!S46+'Dir2'!S46","v":0},{"$f":"'Dir1'!T46+'Dir2'!T46","v":0},{"$f":"'Dir1'!U46+'Dir2'!U46","v":0},{"$f":"'Dir1'!V46+'Dir2'!V46","v":0},{"$f":"'Dir1'!W46+'Dir2'!W46","v":0},{"$f":"'Dir1'!X46+'Dir2'!X46","v":0},{"$f":"'Dir1'!Y46+'Dir2'!Y46","v":0},{"$f":"'Dir1'!Z46+'Dir2'!Z46","v":0},{"$f":"'Dir1'!AA46+'Dir2'!AA46","v":0},{"$f":"'Dir1'!AB46+'Dir2'!AB46","v":0},{"$f":"'Dir1'!AC46+'Dir2'!AC46","v":0},{"$f":"'Dir1'!AD46+'Dir2'!AD46","v":0},{"$f":"'Dir1'!AE46+'Dir2'!AE46","v":0},{"$f":"'Dir1'!AF46+'Dir2'!AF46","v":0},{"$f":"'Dir1'!AG46+'Dir2'!AG46","v":0},{"$f":"'Dir1'!AH46+'Dir2'!AH46","v":0},{"$f":"'Dir1'!AI46+'Dir2'!AI46","v":0},{"$f":"'Dir1'!AJ46+'Dir2'!AJ46","v":0},{"$f":"'Dir1'!AK46+'Dir2'!AK46","v":0},{"$f":"'Dir1'!AL46+'Dir2'!AL46","v":0},"-",{"$f":"IFERROR(ROUND(PERCENTILE(_xlfn._xlws.FILTER(Data_Table[Speed],(Data_Table[Period]=$B46)*(SUM(C46:N46)>=10)),0.85),2),\"-\")","v":"-"}]
[43,{"$f":"ImportData!$B$10+7*QUOTIENT(A47,24*60*7/ImportData!$B$8)+MOD(1+QUOTIENT(A47,24*60/ImportData!$B$8)-ImportData!$E$10,7)+TIME(0,ImportData!$B$8*A47,0)","v":"2023-10-03T19:00:00"},{"$f":"'Dir1'!C47+'Dir2'!C47","v":0},{"$f":"'Dir1'!D47+'Dir2'!D47","v":0},{"$f":"'Dir1'!E47+'Dir2'!E47","v":0},{"$f":"'Dir1'!F47+'Dir2'!F47","v":0},{"$f":"'Dir1'!G47+'Dir2'!G47","v":0},{"$f":"'Dir1'!H47+'Dir2'!H47","v":0},{"$f":"'Dir1'!I47+'Dir2'!I47","v":0},{"$f":"'Dir1'!J47+'Dir2'!J47","v":0},{"$f":"'Dir1'!K47+'Dir2'!K47","v":0},{"$f":"'Dir1'!L47+'Dir2'!L47","v":0},{"$f":"'Dir1'!M47+'Dir2'!M47","v":0},{"$f":"'Dir1'!N47+'Dir2'!N47","v":0},{"$f":"'Dir1'!O47+'Dir2'!O47","v":0},{"$f":"'Dir1'!P47+'Dir2'!N47","v":0},{"$f":"'Dir1'!Q47+'Dir2'!O47","v":0},{"$f":"'Dir1'!R47+'Dir2'!R47","v":0},{"$f":"'Dir1'!S47+'Dir2'!S47","v":0},{"$f":"'Dir1'!T47+'Dir2'!T47","v":0},{"$f":"'Dir1'!U47+'Dir2'!U47","v":0},{"$f":"'Dir1'!V47+'Dir2'!V47","v":0},{"$f":"'Dir1'!W47+'Dir2'!W47","v":0},{"$f":"'Dir1'!X47+'Dir2'!X47","v":0},{"$f":"'Dir1'!Y47+'Dir2'!Y47","v":0},{"$f":"'Dir1'!Z47+'Dir2'!Z47","v":0},{"$f":"'Dir1'!AA47+'Dir2'!AA47","v":0},{"$f":"'Dir1'!AB47+'Dir2'!AB47","v":0},{"$f":"'Dir1'!AC47+'Dir2'!AC47","v":0},{"$f":"'Dir1'!AD47+'Dir2'!AD47","v":0},{"$f":"'Dir1'!AE47+'Dir2'!AE47","v":0},{"$f":"'Dir1'!AF47+'Dir2'!AF47","v":0},{"$f":"'Dir1'!AG47+'Dir2'!AG47","v":0},{"$f":"'Dir1'!AH47+'Dir2'!AH47","v":0},{"$f":"'Dir1'!AI47+'Dir2'!AI47","v":0},{"$f":"'Dir1'!AJ47+'Dir2'!AJ47","v":0},{"$f":"'Dir1'!AK47+'Dir2'!AK47","v":0},{"$f":"'Dir1'!AL47+'Dir2'!AL47","v":0},"-",{"$f":"IFERROR(ROUND(PERCENTILE(_xlfn._xlws.FILTER(Data_Table[Speed],(Data_Table[Period]=$B47)*(SUM(C47:N47)>=10)),0.85),2),\"-\")","v":"-"}]
[44,{"$f":"ImportData!$B$10+7*QUOTIENT(A48,24*60*7/ImportData!$B$8)+MOD(1+QUOTIENT(A48,24*60/ImportData!$B$8)-ImportData!$E$10,7)+TIME(0,ImportData!$B$8*A48,0)","v":"2023-10-03T20:00:00"},{"$f":"'Dir1'!C48+'Dir2'!C48","v":0},{"$f":"'Dir1'!D48+'Dir2'!D48","v":0},{"$f":"'Dir1'!E48+'Dir2'!E48","v":0},{"$f":"'Dir1'!F48+'Dir2'!F48","v":0},{"$f":"'Dir1'!G48+'Dir2'!G48","v":0},{"$f":"'Dir1'!H48+'Dir2'!H48","v":0},{"$f":"'Dir1'!I48+'Dir2'!I48","v":0},{"$f":"'Dir1'!J48+'Dir2'!J48","v":0},{"$f":"'Dir1'!K48+'Dir2'!K48","v":0},{"$f":"'Dir1'!L48+'Dir2'!L48","v":0},{"$f":"'Dir1'!M48+'Dir2'!M48","v":0},{"$f":"'Dir1'!N48+'Dir2'!N48","v":0},{"$f":"'Dir1'!O48+'Dir2'!O48","v":0},{"$f":"'Dir1'!P48+'Dir2'!N48","v":0},{"$f":"'Dir1'!Q48+'Dir2'!O48","v":0},{"$f":"'Dir1'!R48+'Dir2'!R48","v":0},{"$f":"'Dir1'!S48+'Dir2'!S48","v":0},{"$f":"'Dir1'!T48+'Dir2'!T48","v":0},{"$f":"'Dir1'!U48+'Dir2'!U48","v":0},{"$f":"'Dir1'!V48+'Dir2'!V48","v":0},{"$f":"'Dir1'!W48+'Dir2'!W48","v":0},{"$f":"'Dir1'!X48+'Dir2'!X48","v":0},{"$f":"'Dir1'!Y48+'Dir2'!Y48","v":0},{"$f":"'Dir1'!Z48+'Dir2'!Z48","v":0},{"$f":"'Dir1'!AA48+'Dir2'!AA48","v":0},{"$f":"'Dir1'!AB48+'Dir2'!AB48","v":0},{"$f":"'Dir1'!AC48+'Dir2'!AC48","v":0},{"$f":"'Dir1'!AD48+'Dir2'!AD48","v":0},{"$f":"'Dir1'!AE48+'Dir2'!AE48","v":0},{"$f":"'Dir1'!AF48+'Dir2'!AF48","v":0},{"$f":"'Dir1'!AG48+'Dir2'!AG48","v":0},{"$f":"'Dir1'!AH48+'Dir2'!AH48","v":0},{"$f":"'Dir1'!AI48+'Dir2'!AI48","v":0},{"$f":"'Dir1'!AJ48+'Dir2'!AJ48","v":0},{"$f":"'Dir1'!AK48+'Dir2'!AK48","v":0},{"$f":"'Dir1'!AL48+'Dir2'!AL48","v":0},"-",{"$f":"IFERROR(ROUND(PERCENTILE(_xlfn._xlws.FILTER(Data_Table[Speed],(Data_Table[Period]=$B48)*(SUM(C48:N48)>=10)),0.85),2),\"-\")","v":"-"}]
[45,{"$f":"ImportData!$B$10+7*QUOTIENT(A49,24*60*7/ImportData!$B$8)+MOD(1+QUOTIENT(A49,24*60/ImportData!$B$8)-ImportData!$E$10,7)+TIME(0,ImportData!$B$8*A49,0)","v":"2023-10-03T21:00:00"},{"$f":"'Dir1'!C49+'Dir2'!C49","v":0},{"$f":"'Dir1'!D49+'Dir2'!D49","v":0},{"$f":"'Dir1'!E49+'Dir2'!E49","v":0},{"$f":"'Dir1'!F49+'Dir2'!F49","v":0},{"$f":"'Dir1'!G49+'Dir2'!G49","v":0},{"$f":"'Dir1'!H49+'Dir2'!H49","v":0},{"$f":"'Dir1'!I49+'Dir2'!I49","v":0},{"$f":"'Dir1'!J49+'Dir2'!J49","v":0},{"$f":"'Dir1'!K49+'Dir2'!K49","v":0},{"$f":"'Dir1'!L49+'Dir2'!L49","v":0},{"$f":"'Dir1'!M49+'Dir2'!M49","v":0},{"$f":"'Dir1'!N49+'Dir2'!N49","v":0},{"$f":"'Dir1'!O49+'Dir2'!O49","v":0},{"$f":"'Dir1'!P49+'Dir2'!N49","v":0},{"$f":"'Dir1'!Q49+'Dir2'!O49","v":0},{"$f":"'Dir1'!R49+'Dir2'!R49","v":0},{"$f":"'Dir1'!S49+'Dir2'!S49","v":0},{"$f":"'Dir1'!T49+'Dir2'!T49","v":0},{"$f":"'Dir1'!U49+'Dir2'!U49","v":0},{"$f":"'Dir1'!V49+'Dir2'!V49","v":0},{"$f":"'Dir1'!W49+'Dir2'!W49","v":0},{"$f":"'Dir1'!X49+'Dir2'!X49","v":0},{"$f":"'Dir1'!Y49+'Dir2'!Y49","v":0},{"$f":"'Dir1'!Z49+'Dir2'!Z49","v":0},{"$f":"'Dir1'!AA49+'Dir2'!AA49","v":0},{"$f":"'Dir1'!AB49+'Dir2'!AB49","v":0},{"$f":"'Dir1'!AC49+'Dir2'!AC49","v":0},{"$f":"'Dir1'!AD49+'Dir2'!AD49","v":0},{"$f":"'Dir1'!AE49+'Dir2'!AE49","v":0},{"$f":"'Dir1'!AF49+'Dir2'!AF49","v":0},{"$f":"'Dir1'!AG49+'Dir2'!AG49","v":0},{"$f":"'Dir1'!AH49+'Dir2'!AH49","v":0},{"$f":"'Dir1'!AI49+'Dir2'!AI49","v":0},{"$f":"'Dir1'!AJ49+'Dir2'!AJ49","v":0},{"$f":"'Dir1'!AK49+'Dir2'!AK49","v":0},{"$f":"'Dir1'!AL49+'Dir2'!AL49","v":0},"-",{"$f":"IFERROR(ROUND(PERCENTILE(_xlfn._xlws.FILTER(Data_Table[Speed],(Data_Table[Period]=$B49)*(SUM(C49:N49)>=10)),0.85),2),\"-\")","v":"-"}]
[46,{"$f":"ImportData!$B$10+7*QUOTIENT(A50,24*60*7/ImportData!$B$8)+MOD(1+QUOTIENT(A50,24*60/ImportData!$B$8)-ImportData!$E$10,7)+TIME(0,ImportData!$B$8*A50,0)","v":"2023-10-03T22:00:00"},{"$f":"'Dir1'!C50+'Dir2'!C50","v":0},{"$f":"'Dir1'!D50+'Dir2'!D50","v":0},{"$f":"'Dir1'!E50+'Dir2'!E50","v":0},{"$f":"'Dir1'!F50+'Dir2'!F50","v":0},{"$f":"'Dir1'!G50+'Dir2'!G50","v":0},{"$f":"'Dir1'!H50+'Dir2'!H50","v":0},{"$f":"'Dir1'!I50+'Dir2'!I50","v":0},{"$f":"'Dir1'!J50+'Dir2'!J50","v":0},{"$f":"'Dir1'!K50+'Dir2'!K50","v":0},{"$f":"'Dir1'!L50+'Dir2'!L50","v":0},{"$f":"'Dir1'!M50+'Dir2'!M50","v":0},{"$f":"'Dir1'!N50+'Dir2'!N50","v":0},{"$f":"'Dir1'!O50+'Dir2'!O50","v":0},{"$f":"'Dir1'!P50+'Dir2'!N50","v":0},{"$f":"'Dir1'!Q50+'Dir2'!O50","v":0},{"$f":"'Dir1'!R50+'Dir2'!R50","v":0},{"$f":"'Dir1'!S50+'Dir2'!S50","v":0},{"$f":"'Dir1'!T50+'Dir2'!T50","v":0},{"$f":"'Dir1'!U50+'Dir2'!U50","v":0},{"$f":"'Dir1'!V50+'Dir2'!V50","v":0},{"$f":"'Dir1'!W50+'Dir2'!W50","v":0},{"$f":"'Dir1'!X50+'Dir2'!X50","v":0},{"$f":"'Dir1'!Y50+'Dir2'!Y50","v":0},{"$f":"'Dir1'!Z50+'Dir2'!Z50","v":0},{"$f":"'Dir1'!AA50+'Dir2'!AA50","v":0},{"$f":"'Dir1'!AB50+'Dir2'!AB50","v":0},{"$f":"'Dir1'!AC50+'Dir2'!AC50","v":0},{"$f":"'Dir1'!AD50+'Dir2'!AD50","v":0},{"$f":"'Dir1'!AE50+'Dir2'!AE50","v":0},{"$f":"'Dir1'!AF50+'Dir2'!AF50","v":0},{"$f":"'Dir1'!AG50+'Dir2'!AG50","v":0},{"$f":"'Dir1'!AH50+'Dir2'!AH50","v":0},{"$f":"'Dir1'!AI50+'Dir2'!AI50","v":0},{"$f":"'Dir1'!AJ50+'Dir2'!AJ50","v":0},{"$f":"'Dir1'!AK50+'Dir2'!AK50","v":0},{"$f":"'Dir1'!AL50+'Dir2'!AL50","v":0},"-",{"$f":"IFERROR(ROUND(PERCENTILE(_xlfn._xlws.FILTER(Data_Table[Speed],(Data_Table[Period]=$B50)*(SUM(C50:N50)>=10)),0.85),2),\"-\")","v":"-"}]
[47,{"$f":"ImportData!$B$10+7*QUOTIENT(A51,24*60*7/ImportData!$B$8)+MOD(1+QUOTIENT(A51,24*60/ImportData!$B$8)-ImportData!$E$10,7)+TIME(0,ImportData!$B$8*A51,0)","v":"2023-10-03T23:00:00"},{"$f":"'Dir1'!C51+'Dir2'!C51","v":0},{"$f":"'Dir1'!D51+'Dir2'!D51","v":0},{"$f":"'Dir1'!E51+'Dir2'!E51","v":0},{"$f":"'Dir1'!F51+'Dir2'!F51","v":0},{"$f":"'Dir1'!G51+'Dir2'!G51","v":0},{"$f":"'Dir1'!H51+'Dir2'!H51","v":0},{"$f":"'Dir1'!I51+'Dir2'!I51","v":0},{"$f":"'Dir1'!J51+'Dir2'!J51","v":0},{"$f":"'Dir1'!K51+'Dir2'!K51","v":0},{"$f":"'Dir1'!L51+'Dir2'!L51","v":0},{"$f":"'Dir1'!M51+'Dir2'!M51","v":0},{"$f":"'Dir1'!N51+'Dir2'!N51","v":0},{"$f":"'Dir1'!O51+'Dir2'!O51","v":0},{"$f":"'Dir1'!P51+'Dir2'!N51","v":0},{"$f":"'Dir1'!Q51+'Dir2'!O51","v":0},{"$f":"'Dir1'!R51+'Dir2'!R51","v":0},{"$f":"'Dir1'!S51+'Dir2'!S51","v":0},{"$f":"'Dir1'!T51+'Dir2'!T51","v":0},{"$f":"'Dir1'!U51+'Dir2'!U51","v":0},{"$f":"'Dir1'!V51+'Dir2'!V51","v":0},{"$f":"'Dir1'!W51+'Dir2'!W51","v":0},{"$f":"'Dir1'!X51+'Dir2'!X51","v":0},{"$f":"'Dir1'!Y51+'Dir2'!Y51","v":0},{"$f":"'Dir1'!Z51+'Dir2'!Z51","v":0},{"$f":"'Dir1'!AA51+'Dir2'!AA51","v":0},{"$f":"'Dir1'!AB51+'Dir2'!AB51","v":0},{"$f":"'Dir1'!AC51+'Dir2'!AC51","v":0},{"$f":"'Dir1'!AD51+'Dir2'!AD51","v":0},{"$f":"'Dir1'!AE51+'Dir2'!AE51","v":0},{"$f":"'Dir1'!AF51+'Dir2'!AF51","v":0},{"$f":"'Dir1'!AG51+'Dir2'!AG51","v":0},{"$f":"'Dir1'!AH51+'Dir2'!AH51","v":0},{"$f":"'Dir1'!AI51+'Dir2'!AI51","v":0},{"$f":"'Dir1'!AJ51+'Dir2'!AJ51","v":0},{"$f":"'Dir1'!AK51+'Dir2'!AK51","v":0},{"$f":"'Dir1'!AL51+'Dir2'!AL51","v":0},"-",{"$f":"IFERROR(ROUND(PERCENTILE(_xlfn._xlws.FILTER(Data_Table[Speed],(Data_Table[Period]=$B51)*(SUM(C51:N51)>=10)),0.85),2),\"-\")","v":"-"}]
[48,{"$f":"ImportData!$B$10+7*QUOTIENT(A52,24*60*7/ImportData!$B$8)+MOD(1+QUOTIENT(A52,24*60/ImportData!$B$8)-ImportData!$E$10,7)+TIME(0,ImportData!$B$8*A52,0)","v":"2023-10-04"},{"$f":"'Dir1'!C52+'Dir2'!C52","v":0},{"$f":"'Dir1'!D52+'Dir2'!D52","v":0},{"$f":"'Dir1'!E52+'Dir2'!E52","v":0},{"$f":"'Dir1'!F52+'Dir2'!F52","v":0},{"$f":"'Dir1'!G52+'Dir2'!G52","v":0},{"$f":"'Dir1'!H52+'Dir2'!H52","v":0},{"$f":"'Dir1'!I52+'Dir2'!I52","v":0},{"$f":"'Dir1'!J52+'Dir2'!J52","v":0},{"$f":"'Dir1'!K52+'Dir2'!K52","v":0},{"$f":"'Dir1'!L52+'Dir2'!L52","v":0},{"$f":"'Dir1'!M52+'Dir2'!M52","v":0},{"$f":"'Dir1'!N52+'Dir2'!N52","v":0},{"$f":"'Dir1'!O52+'Dir2'!O52","v":0},{"$f":"'Dir1'!P52+'Dir2'!N52","v":0},{"$f":"'Dir1'!Q52+'Dir2'!O52","v":0},{"$f":"'Dir1'!R52+'Dir2'!R52","v":0},{"$f":"'Dir1'!S52+'Dir2'!S52","v":0},{"$f":"'Dir1'!T52+'Dir2'!T52","v":0},{"$f":"'Dir1'!U52+'Dir2'!U52","v":0},{"$f":"'Dir1'!V52+'Dir2'!V52","v":0},{"$f":"'Dir1'!W52+'Dir2'!W52","v":0},{"$f":"'Dir1'!X52+'Dir2'!X52","v":0},{"$f":"'Dir1'!Y52+'Dir2'!Y52","v":0},{"$f":"'Dir1'!Z52+'Dir2'!Z52","v":0},{"$f":"'Dir1'!AA52+'Dir2'!AA52","v":0},{"$f":"'Dir1'!AB52+'Dir2'!AB52","v":0},{"$f":"'Dir1'!AC52+'Dir2'!AC52","v":0},{"$f":"'Dir1'!AD52+'Dir2'!AD52","v":0},{"$f":"'Dir1'!AE52+'Dir2'!AE52","v":0},{"$f":"'Dir1'!AF52+'Dir2'!AF52","v":0},{"$f":"'Dir1'!AG52+'Dir2'!AG52","v":0},{"$f":"'Dir1'!AH52+'Dir2'!AH52","v":0},{"$f":"'Dir1'!AI52+'Dir2'!AI52","v":0},{"$f":"'Dir1'!AJ52+'Dir2'!AJ52","v":0},{"$f":"'Dir1'!AK52+'Dir2'!AK52","v":0},{"$f":"'Dir1'!AL52+'Dir2'!AL52","v":0},"-",{"$f":"IFERROR(ROUND(PERCENTILE(_xlfn._xlws.FILTER(Data_Table[Speed],(Data_Table[Period]=$B52)*(SUM(C52:N52)>=10)),0.85),2),\"-\")","v":"-"}]
[49,{"$f":"ImportData!$B$10+7*QUOTIENT(A53,24*60*7/ImportData!$B$8)+MOD(1+QUOTIENT(A53,24*60/ImportData!$B$8)-ImportData!$E$10,7)+TIME(0,ImportData!$B$8*A53,0)","v":"2023-10-04T01:00:00"},{"$f":"'Dir1'!C53+'Dir2'!C53","v":0},{"$f":"'Dir1'!D53+'Dir2'!D53","v":0},{"$f":"'Dir1'!E53+'Dir2'!E53","v":0},{"$f":"'Dir1'!F53+'Dir2'!F53","v":0},{"$f":"'Dir1'!G53+'Dir2'!G53","v":0},{"$f":"'Dir1'!H53+'Dir2'!H53","v":0},{"$f":"'Dir1'!I53+'Dir2'!I53","v":0},{"$f":"'Dir1'!J53+'Dir2'!J53","v":0},{"$f":"'Dir1'!K53+'Dir2'!K53","v":0},{"$f":"'Dir1'!L53+'Dir2'!L53","v":0},{"$f":"'Dir1'!M53+'Dir2'!M53","v":0},{"$f":"'Dir1'!N53+'Dir2'!N53","v":0},{"$f":"'Dir1'!O53+'Dir2'!O53","v":0},{"$f":"'Dir1'!P53+'Dir2'!N53","v":0},{"$f":"'Dir1'!Q53+'Dir2'!O53","v":0},{"$f":"'Dir1'!R53+'Dir2'!R53","v":0},{"$f":"'Dir1'!S53+'Dir2'!S53","v":0},{"$f":"'Dir1'!T53+'Dir2'!T53","v":0},{"$f":"'Dir1'!U53+'Dir2'!U53","v":0},{"$f":"'Dir1'!V53+'Dir2'!V53","v":0},{"$f":"'Dir1'!W53+'Dir2'!W53","v":0},{"$f":"'Dir1'!X53+'Dir2'!X53","v":0},{"$f":"'Dir1'!Y53+'Dir2'!Y53","v":0},{"$f":"'Dir1'!Z53+'Dir2'!Z53","v":0},{"$f":"'Dir1'!AA53+'Dir2'!AA53","v":0},{"$f":"'Dir1'!AB53+'Dir2'!AB53","v":0},{"$f":"'Dir1'!AC53+'Dir2'!AC53","v":0},{"$f":"'Dir1'!AD53+'Dir2'!AD53","v":0},{"$f":"'Dir1'!AE53+'Dir2'!AE53","v":0},{"$f":"'Dir1'!AF53+'Dir2'!AF53","v":0},{"$f":"'Dir1'!AG53+'Dir2'!AG53","v":0},{"$f":"'Dir1'!AH53+'Dir2'!AH53","v":0},{"$f":"'Dir1'!AI53+'Dir2'!AI53","v":0},{"$f":"'Dir1'!AJ53+'Dir2'!AJ53","v":0},{"$f":"'Dir1'!AK53+'Dir2'!AK53","v":0},{"$f":"'Dir1'!AL53+'Dir2'!AL53","v":0},"-",{"$f":"IFERROR(ROUND(PERCENTILE(_xlfn._xlws.FILTER(Data_Table[Speed],(Data_Table[Period]=$B53)*(SUM(C53:N53)>=10)),0.85),2),\"-\")","v":"-"}]
[50,{"$f":"ImportData!$B$10+7*QUOTIENT(A54,24*60*7/ImportData!$B$8)+MOD(1+QUOTIENT(A54,24*60/ImportData!$B$8)-ImportData!$E$10,7)+TIME(0,ImportData!$B$8*A54,0)","v":"2023-10-04T02:00:00"},{"$f":"'Dir1'!C54+'Dir2'!C54","v":0},{"$f":"'Dir1'!D54+'Dir2'!D54","v":0},{"$f":"'Dir1'!E54+'Dir2'!E54","v":0},{"$f":"'Dir1'!F54+'Dir2'!F54","v":0},{"$f":"'Dir1'!G54+'Dir2'!G54","v":0},{"$f":"'Dir1'!H54+'Dir2'!H54","v":0},{"$f":"'Dir1'!I54+'Dir2'!I54","v":0},{"$f":"'Dir1'!J54+'Dir2'!J54","v":0},{"$f":"'Dir1'!K54+'Dir2'!K54","v":0},{"$f":"'Dir1'!L54+'Dir2'!L54","v":0},{"$f":"'Dir1'!M54+'Dir2'!M54","v":0},{"$f":"'Dir1'!N54+'Dir2'!N54","v":0},{"$f":"'Dir1'!O54+'Dir2'!O54","v":0},{"$f":"'Dir1'!P54+'Dir2'!N54","v":0},{"$f":"'Dir1'!Q54+'Dir2'!O54","v":0},{"$f":"'Dir1'!R54+'Dir2'!R54","v":0},{"$f":"'Dir1'!S54+'Dir2'!S54","v":0},{"$f":"'Dir1'!T54+'Dir2'!T54","v":0},{"$f":"'Dir1'!U54+'Dir2'!U54","v":0},{"$f":"'Dir1'!V54+'Dir2'!V54","v":0},{"$f":"'Dir1'!W54+'Dir2'!W54","v":0},{"$f":"'Dir1'!X54+'Dir2'!X54","v":0},{"$f":"'Dir1'!Y54+'Dir2'!Y54","v":0},{"$f":"'Dir1'!Z54+'Dir2'!Z54","v":0},{"$f":"'Dir1'!AA54+'Dir2'!AA54","v":0},{"$f":"'Dir1'!AB54+'Dir2'!AB54","v":0},{"$f":"'Dir1'!AC54+'Dir2'!AC54","v":0},{"$f":"'Dir1'!AD54+'Dir2'!AD54","v":0},{"$f":"'Dir1'!AE54+'Dir2'!AE54","v":0},{"$f":"'Dir1'!AF54+'Dir2'!AF54","v":0},{"$f":"'Dir1'!AG54+'Dir2'!AG54","v":0},{"$f":"'Dir1'!AH54+'Dir2'!AH54","v":0},{"$f":"'Dir1'!AI54+'Dir2'!AI54","v":0},{"$f":"'Dir1'!AJ54+'Dir2'!AJ54","v":0},{"$f":"'Dir1'!AK54+'Dir2'!AK54","v":0},{"$f":"'Dir1'!AL54+'Dir2'!AL54","v":0},"-",{"$f":"IFERROR(ROUND(PERCENTILE(_xlfn._xlws.FILTER(Data_Table[Speed],(Data_Table[Period]=$B54)*(SUM(C54:N54)>=10)),0.85),2),\"-\")","v":"-"}]
[51,{"$f":"ImportData!$B$10+7*QUOTIENT(A55,24*60*7/ImportData!$B$8)+MOD(1+QUOTIENT(A55,24*60/ImportData!$B$8)-ImportData!$E$10,7)+TIME(0,ImportData!$B$8*A55,0)","v":"2023-10-04T03:00:00"},{"$f":"'Dir1'!C55+'Dir2'!C55","v":0},{"$f":"'Dir1'!D55+'Dir2'!D55","v":0},{"$f":"'Dir1'!E55+'Dir2'!E55","v":0},{"$f":"'Dir1'!F55+'Dir2'!F55","v":0},{"$f":"'Dir1'!G55+'Dir2'!G55","v":0},{"$f":"'Dir1'!H55+'Dir2'!H55","v":0},{"$f":"'Dir1'!I55+'Dir2'!I55","v":0},{"$f":"'Dir1'!J55+'Dir2'!J55","v":0},{"$f":"'Dir1'!K55+'Dir2'!K55","v":0},{"$f":"'Dir1'!L55+'Dir2'!L55","v":0},{"$f":"'Dir1'!M55+'Dir2'!M55","v":0},{"$f":"'Dir1'!N55+'Dir2'!N55","v":0},{"$f":"'Dir1'!O55+'Dir2'!O55","v":0},{"$f":"'Dir1'!P55+'Dir2'!N55","v":0},{"$f":"'Dir1'!Q55+'Dir2'!O55","v":0},{"$f":"'Dir1'!R55+'Dir2'!R55","v":0},{"$f":"'Dir1'!S55+'Dir2'!S55","v":0},{"$f":"'Dir1'!T55+'Dir2'!T55","v":0},{"$f":"'Dir1'!U55+'Dir2'!U55","v":0},{"$f":"'Dir1'!V55+'Dir2'!V55","v":0},{"$f":"'Dir1'!W55+'Dir2'!W55","v":0},{"$f":"'Dir1'!X55+'Dir2'!X55","v":0},{"$f":"'Dir1'!Y55+'Dir2'!Y55","v":0},{"$f":"'Dir1'!Z55+'Dir2'!Z55","v":0},{"$f":"'Dir1'!AA55+'Dir2'!AA55","v":0},{"$f":"'Dir1'!AB55+'Dir2'!AB55","v":0},{"$f":"'Dir1'!AC55+'Dir2'!AC55","v":0},{"$f":"'Dir1'!AD55+'Dir2'!AD55","v":0},{"$f":"'Dir1'!AE55+'Dir2'!AE55","v":0},{"$f":"'Dir1'!AF55+'Dir2'!AF55","v":0},{"$f":"'Dir1'!AG55+'Dir2'!AG55","v":0},{"$f":"'Dir1'!AH55+'Dir2'!AH55","v":0},{"$f":"'Dir1'!AI55+'Dir2'!AI55","v":0},{"$f":"'Dir1'!AJ55+'Dir2'!AJ55","v":0},{"$f":"'Dir1'!AK55+'Dir2'!AK55","v":0},{"$f":"'Dir1'!AL55+'Dir2'!AL55","v":0},"-",{"$f":"IFERROR(ROUND(PERCENTILE(_xlfn._xlws.FILTER(Data_Table[Speed],(Data_Table[Period]=$B55)*(SUM(C55:N55)>=10)),0.85),2),\"-\")","v":"-"}]
[52,{"$f":"ImportData!$B$10+7*QUOTIENT(A56,24*60*7/ImportData!$B$8)+MOD(1+QUOTIENT(A56,24*60/ImportData!$B$8)-ImportData!$E$10,7)+TIME(0,ImportData!$B$8*A56,0)","v":"2023-10-04T04:00:00"},{"$f":"'Dir1'!C56+'Dir2'!C56","v":0},{"$f":"'Dir1'!D56+'Dir2'!D56","v":0},{"$f":"'Dir1'!E56+'Dir2'!E56","v":0},{"$f":"'Dir1'!F56+'Dir2'!F56","v":0},{"$f":"'Dir1'!G56+'Dir2'!G56","v":0},{"$f":"'Dir1'!H56+'Dir2'!H56","v":0},{"$f":"'Dir1'!I56+'Dir2'!I56","v":0},{"$f":"'Dir1'!J56+'Dir2'!J56","v":0},{"$f":"'Dir1'!K56+'Dir2'!K56","v":0},{"$f":"'Dir1'!L56+'Dir2'!L56","v":0},{"$f":"'Dir1'!M56+'Dir2'!M56","v":0},{"$f":"'Dir1'!N56+'Dir2'!N56","v":0},{"$f":"'Dir1'!O56+'Dir2'!O56","v":0},{"$f":"'Dir1'!P56+'Dir2'!N56","v":0},{"$f":"'Dir1'!Q56+'Dir2'!O56","v":0},{"$f":"'Dir1'!R56+'Dir2'!R56","v":0},{"$f":"'Dir1'!S56+'Dir2'!S56","v":0},{"$f":"'Dir1'!T56+'Dir2'!T56","v":0},{"$f":"'Dir1'!U56+'Dir2'!U56","v":0},{"$f":"'Dir1'!V56+'Dir2'!V56","v":0},{"$f":"'Dir1'!W56+'Dir2'!W56","v":0},{"$f":"'Dir1'!X56+'Dir2'!X56","v":0},{"$f":"'Dir1'!Y56+'Dir2'!Y56","v":0},{"$f":"'Dir1'!Z56+'Dir2'!Z56","v":0},{"$f":"'Dir1'!AA56+'Dir2'!AA56","v":0},{"$f":"'Dir1'!AB56+'Dir2'!AB56","v":0},{"$f":"'Dir1'!AC56+'Dir2'!AC56","v":0},{"$f":"'Dir1'!AD56+'Dir2'!AD56","v":0},{"$f":"'Dir1'!AE56+'Dir2'!AE56","v":0},{"$f":"'Dir1'!AF56+'Dir2'!AF56","v":0},{"$f":"'Dir1'!AG56+'Dir2'!AG56","v":0},{"$f":"'Dir1'!AH56+'Dir2'!AH56","v":0},{"$f":"'Dir1'!AI56+'Dir2'!AI56","v":0},{"$f":"'Dir1'!AJ56+'Dir2'!AJ56","v":0},{"$f":"'Dir1'!AK56+'Dir2'!AK56","v":0},{"$f":"'Dir1'!AL56+'Dir2'!AL56","v":0},"-",{"$f":"IFERROR(ROUND(PERCENTILE(_xlfn._xlws.FILTER(Data_Table[Speed],(Data_Table[Period]=$B56)*(SUM(C56:N56)>=10)),0.85),2),\"-\")","v":"-"}]
[53,{"$f":"ImportData!$B$10+7*QUOTIENT(A57,24*60*7/ImportData!$B$8)+MOD(1+QUOTIENT(A57,24*60/ImportData!$B$8)-ImportData!$E$10,7)+TIME(0,ImportData!$B$8*A57,0)","v":"2023-10-04T05:00:00"},{"$f":"'Dir1'!C57+'Dir2'!C57","v":0},{"$f":"'Dir1'!D57+'Dir2'!D57","v":0},{"$f":"'Dir1'!E57+'Dir2'!E57","v":0},{"$f":"'Dir1'!F57+'Dir2'!F57","v":0},{"$f":"'Dir1'!G57+'Dir2'!G57","v":0},{"$f":"'Dir1'!H57+'Dir2'!H57","v":0},{"$f":"'Dir1'!I57+'Dir2'!I57","v":0},{"$f":"'Dir1'!J57+'Dir2'!J57","v":0},{"$f":"'Dir1'!K57+'Dir2'!K57","v":0},{"$f":"'Dir1'!L57+'Dir2'!L57","v":0},{"$f":"'Dir1'!M57+'Dir2'!M57","v":0},{"$f":"'Dir1'!N57+'Dir2'!N57","v":0},{"$f":"'Dir1'!O57+'Dir2'!O57","v":0},{"$f":"'Dir1'!P57+'Dir2'!N57","v":0},{"$f":"'Dir1'!Q57+'Dir2'!O57","v":0},{"$f":"'Dir1'!R57+'Dir2'!R57","v":0},{"$f":"'Dir1'!S57+'Dir2'!S57","v":0},{"$f":"'Dir1'!T57+'Dir2'!T57","v":0},{"$f":"'Dir1'!U57+'Dir2'!U57","v":0},{"$f":"'Dir1'!V57+'Dir2'!V57","v":0},{"$f":"'Dir1'!W57+'Dir2'!W57","v":0},{"$f":"'Dir1'!X57+'Dir2'!X57","v":0},{"$f":"'Dir1'!Y57+'Dir2'!Y57","v":0},{"$f":"'Dir1'!Z57+'Dir2'!Z57","v":0},{"$f":"'Dir1'!AA57+'Dir2'!AA57","v":0},{"$f":"'Dir1'!AB57+'Dir2'!AB57","v":0},{"$f":"'Dir1'!AC57+'Dir2'!AC57","v":0},{"$f":"'Dir1'!AD57+'Dir2'!AD57","v":0},{"$f":"'Dir1'!AE57+'Dir2'!AE57","v":0},{"$f":"'Dir1'!AF57+'Dir2'!AF57","v":0},{"$f":"'Dir1'!AG57+'Dir2'!AG57","v":0},{"$f":"'Dir1'!AH57+'Dir2'!AH57","v":0},{"$f":"'Dir1'!AI57+'Dir2'!AI57","v":0},{"$f":"'Dir1'!AJ57+'Dir2'!AJ57","v":0},{"$f":"'Dir1'!AK57+'Dir2'!AK57","v":0},{"$f":"'Dir1'!AL57+'Dir2'!AL57","v":0},"-",{"$f":"IFERROR(ROUND(PERCENTILE(_xlfn._xlws.FILTER(Data_Table[Speed],(Data_Table[Period]=$B57)*(SUM(C57:N57)>=10)),0.85),2),\"-\")","v":"-"}]
[54,{"$f":"ImportData!$B$10+7*QUOTIENT(A58,24*60*7/ImportData!$B$8)+MOD(1+QUOTIENT(A58,24*60/ImportData!$B$8)-ImportData!$E$10,7)+TIME(0,ImportData!$B$8*A58,0)","v":"2023-10-04T06:00:00"},{"$f":"'Dir1'!C58+'Dir2'!C58","v":0},{"$f":"'Dir1'!D58+'Dir2'!D58","v":0},{"$f":"'Dir1'!E58+'Dir2'!E58","v":0},{"$f":"'Dir1'!F58+'Dir2'!F58","v":0},{"$f":"'Dir1'!G58+'Dir2'!G58","v":0},{"$f":"'Dir1'!H58+'Dir2'!H58","v":0},{"$f":"'Dir1'!I58+'Dir2'!I58","v":0},{"$f":"'Dir1'!J58+'Dir2'!J58","v":0},{"$f":"'Dir1'!K58+'Dir2'!K58","v":0},{"$f":"'Dir1'!L58+'Dir2'!L58","v":0},{"$f":"'Dir1'!M58+'Dir2'!M58","v":0},{"$f":"'Dir1'!N58+'Dir2'!N58","v":0},{"$f":"'Dir1'!O58+'Dir2'!O58","v":0},{"$f":"'Dir1'!P58+'Dir2'!N58","v":0},{"$f":"'Dir1'!Q58+'Dir2'!O58","v":0},{"$f":"'Dir1'!R58+'Dir2'!R58","v":0},{"$f":"'Dir1'!S58+'Dir2'!S58","v":0},{"$f":"'Dir1'!T58+'Dir2'!T58","v":0},{"$f":"'Dir1'!U58+'Dir2'!U58","v":0},{"$f":"'Dir1'!V58+'Dir2'!V58","v":0},{"$f":"'Dir1'!W58+'Dir2'!W58","v":0},{"$f":"'Dir1'!X58+'Dir2'!X58","v":0},{"$f":"'Dir1'!Y58+'Dir2'!Y58","v":0},{"$f":"'Dir1'!Z58+'Dir2'!Z58","v":0},{"$f":"'Dir1'!AA58+'Dir2'!AA58","v":0},{"$f":"'Dir1'!AB58+'Dir2'!AB58","v":0},{"$f":"'Dir1'!AC58+'Dir2'!AC58","v":0},{"$f":"'Dir1'!AD58+'Dir2'!AD58","v":0},{"$f":"'Dir1'!AE58+'Dir2'!AE58","v":0},{"$f":"'Dir1'!AF58+'Dir2'!AF58","v":0},{"$f":"'Dir1'!AG58+'Dir2'!AG58","v":0},{"$f":"'Dir1'!AH58+'Dir2'!AH58","v":0},{"$f":"'Dir1'!AI58+'Dir2'!AI58","v":0},{"$f":"'Dir1'!AJ58+'Dir2'!AJ58","v":0},{"$f":"'Dir1'!AK58+'Dir2'!AK58","v":0},{"$f":"'Dir1'!AL58+'Dir2'!AL58","v":0},"-",{"$f":"IFERROR(ROUND(PERCENTILE(_xlfn._xlws.FILTER(Data_Table[Speed],(Data_Table[Period]=$B58)*(SUM(C58:N58)>=10)),0.85),2),\"-\")","v":"-"}]
[55,{"$f":"ImportData!$B$10+7*QUOTIENT(A59,24*60*7/ImportData!$B$8)+MOD(1+QUOTIENT(A59,24*60/ImportData!$B$8)-ImportData!$E$10,7)+TIME(0,ImportData!$B$8*A59,0)","v":"2023-10-04T07:00:00"},{"$f":"'Dir1'!C59+'Dir2'!C59","v":0},{"$f":"'Dir1'!D59+'Dir2'!D59","v":0},{"$f":"'Dir1'!E59+'Dir2'!E59","v":0},{"$f":"'Dir1'!F59+'Dir2'!F59","v":0},{"$f":"'Dir1'!G59+'Dir2'!G59","v":0},{"$f":"'Dir1'!H59+'Dir2'!H59","v":0},{"$f":"'Dir1'!I59+'Dir2'!I59","v":0},{"$f":"'Dir1'!J59+'Dir2'!J59","v":0},{"$f":"'Dir1'!K59+'Dir2'!K59","v":0},{"$f":"'Dir1'!L59+'Dir2'!L59","v":0},{"$f":"'Dir1'!M59+'Dir2'!M59","v":0},{"$f":"'Dir1'!N59+'Dir2'!N59","v":0},{"$f":"'Dir1'!O59+'Dir2'!O59","v":0},{"$f":"'Dir1'!P59+'Dir2'!N59","v":0},{"$f":"'Dir1'!Q59+'Dir2'!O59","v":0},{"$f":"'Dir1'!R59+'Dir2'!R59","v":0},{"$f":"'Dir1'!S59+'Dir2'!S59","v":0},{"$f":"'Dir1'!T59+'Dir2'!T59","v":0},{"$f":"'Dir1'!U59+'Dir2'!U59","v":0},{"$f":"'Dir1'!V59+'Dir2'!V59","v":0},{"$f":"'Dir1'!W59+'Dir2'!W59","v":0},{"$f":"'Dir1'!X59+'Dir2'!X59","v":0},{"$f":"'Dir1'!Y59+'Dir2'!Y59","v":0},{"$f":"'Dir1'!Z59+'Dir2'!Z59","v":0},{"$f":"'Dir1'!AA59+'Dir2'!AA59","v":0},{"$f":"'Dir1'!AB59+'Dir2'!AB59","v":0},{"$f":"'Dir1'!AC59+'Dir2'!AC59","v":0},{"$f":"'Dir1'!AD59+'Dir2'!AD59","v":0},{"$f":"'Dir1'!AE59+'Dir2'!AE59","v":0},{"$f":"'Dir1'!AF59+'Dir2'!AF59","v":0},{"$f":"'Dir1'!AG59+'Dir2'!AG59","v":0},{"$f":"'Dir1'!AH59+'Dir2'!AH59","v":0},{"$f":"'Dir1'!AI59+'Dir2'!AI59","v":0},{"$f":"'Dir1'!AJ59+'Dir2'!AJ59","v":0},{"$f":"'Dir1'!AK59+'Dir2'!AK59","v":0},{"$f":"'Dir1'!AL59+'Dir2'!AL59","v":0},"-",{"$f":"IFERROR(ROUND(PERCENTILE(_xlfn._xlws.FILTER(Data_Table[Speed],(Data_Table[Period]=$B59)*(SUM(C59:N59)>=10)),0.85),2),\"-\")","v":"-"}]
[56,{"$f":"ImportData!$B$10+7*QUOTIENT(A60,24*60*7/ImportData!$B$8)+MOD(1+QUOTIENT(A60,24*60/ImportData!$B$8)-ImportData!$E$10,7)+TIME(0,ImportData!$B$8*A60,0)","v":"2023-10-04T08:00:00"},{"$f":"'Dir1'!C60+'Dir2'!C60","v":0},{"$f":"'Dir1'!D60+'Dir2'!D60","v":0},{"$f":"'Dir1'!E60+'Dir2'!E60","v":0},{"$f":"'Dir1'!F60+'Dir2'!F60","v":0},{"$f":"'Dir1'!G60+'Dir2'!G60","v":0},{"$f":"'Dir1'!H60+'Dir2'!H60","v":0},{"$f":"'Dir1'!I60+'Dir2'!I60","v":0},{"$f":"'Dir1'!J60+'Dir2'!J60","v":0},{"$f":"'Dir1'!K60+'Dir2'!K60","v":0},{"$f":"'Dir1'!L60+'Dir2'!L60","v":0},{"$f":"'Dir1'!M60+'Dir2'!M60","v":0},{"$f":"'Dir1'!N60+'Dir2'!N60","v":0},{"$f":"'Dir1'!O60+'Dir2'!O60","v":0},{"$f":"'Dir1'!P60+'Dir2'!N60","v":0},{"$f":"'Dir1'!Q60+'Dir2'!O60","v":0},{"$f":"'Dir1'!R60+'Dir2'!R60","v":0},{"$f":"'Dir1'!S60+'Dir2'!S60","v":0},{"$f":"'Dir1'!T60+'Dir2'!T60","v":0},{"$f":"'Dir1'!U60+'Dir2'!U60","v":0},{"$f":"'Dir1'!V60+'Dir2'!V60","v":0},{"$f":"'Dir1'!W60+'Dir2'!W60","v":0},{"$f":"'Dir1'!X60+'Dir2'!X60","v":0},{"$f":"'Dir1'!Y60+'Dir2'!Y60","v":0},{"$f":"'Dir1'!Z60+'Dir2'!Z60","v":0},{"$f":"'Dir1'!AA60+'Dir2'!AA60","v":0},{"$f":"'Dir1'!AB60+'Dir2'!AB60","v":0},{"$f":"'Dir1'!AC60+'Dir2'!AC60","v":0},{"$f":"'Dir1'!AD60+'Dir2'!AD60","v":0},{"$f":"'Dir1'!AE60+'Dir2'!AE60","v":0},{"$f":"'Dir1'!AF60+'Dir2'!AF60","v":0},{"$f":"'Dir1'!AG60+'Dir2'!AG60","v":0},{"$f":"'Dir1'!AH60+'Dir2'!AH60","v":0},{"$f":"'Dir1'!AI60+'Dir2'!AI60","v":0},{"$f":"'Dir1'!AJ60+'Dir2'!AJ60","v":0},{"$f":"'Dir1'!AK60+'Dir2'!AK60","v":0},{"$f":"'Dir1'!AL60+'Dir2'!AL60","v":0},"-",{"$f":"IFERROR(ROUND(PERCENTILE(_xlfn._xlws.FILTER(Data_Table[Speed],(Data_Table[Period]=$B60)*(SUM(C60:N60)>=10)),0.85),2),\"-\")","v":"-"}]
[57,{"$f":"ImportData!$B$10+7*QUOTIENT(A61,24*60*7/ImportData!$B$8)+MOD(1+QUOTIENT(A61,24*60/ImportData!$B$8)-ImportData!$E$10,7)+TIME(0,ImportData!$B$8*A61,0)","v":"2023-10-04T09:00:00"},{"$f":"'Dir1'!C61+'Dir2'!C61","v":0},{"$f":"'Dir1'!D61+'Dir2'!D61","v":0},{"$f":"'Dir1'!E61+'Dir2'!E61","v":0},{"$f":"'Dir1'!F61+'Dir2'!F61","v":0},{"$f":"'Dir1'!G61+'Dir2'!G61","v":0},{"$f":"'Dir1'!H61+'Dir2'!H61","v":0},{"$f":"'Dir1'!I61+'Dir2'!I61","v":0},{"$f":"'Dir1'!J61+'Dir2'!J61","v":0},{"$f":"'Dir1'!K61+'Dir2'!K61","v":0},{"$f":"'Dir1'!L61+'Dir2'!L61","v":0},{"$f":"'Dir1'!M61+'Dir2'!M61","v":0},{"$f":"'Dir1'!N61+'Dir2'!N61","v":0},{"$f":"'Dir1'!O61+'Dir2'!O61","v":0},{"$f":"'Dir1'!P61+'Dir2'!N61","v":0},{"$f":"'Dir1'!Q61+'Dir2'!O61","v":0},{"$f":"'Dir1'!R61+'Dir2'!R61","v":0},{"$f":"'Dir1'!S61+'Dir2'!S61","v":0},{"$f":"'Dir1'!T61+'Dir2'!T61","v":0},{"$f":"'Dir1'!U61+'Dir2'!U61","v":0},{"$f":"'Dir1'!V61+'Dir2'!V61","v":0},{"$f":"'Dir1'!W61+'Dir2'!W61","v":0},{"$f":"'Dir1'!X61+'Dir2'!X61","v":0},{"$f":"'Dir1'!Y61+'Dir2'!Y61","v":0},{"$f":"'Dir1'!Z61+'Dir2'!Z61","v":0},{"$f":"'Dir1'!AA61+'Dir2'!AA61","v":0},{"$f":"'Dir1'!AB61+'Dir2'!AB61","v":0},{"$f":"'Dir1'!AC61+'Dir2'!AC61","v":0},{"$f":"'Dir1'!AD61+'Dir2'!AD61","v":0},{"$f":"'Dir1'!AE61+'Dir2'!AE61","v":0},{"$f":"'Dir1'!AF61+'Dir2'!AF61","v":0},{"$f":"'Dir1'!AG61+'Dir2'!AG61","v":0},{"$f":"'Dir1'!AH61+'Dir2'!AH61","v":0},{"$f":"'Dir1'!AI61+'Dir2'!AI61","v":0},{"$f":"'Dir1'!AJ61+'Dir2'!AJ61","v":0},{"$f":"'Dir1'!AK61+'Dir2'!AK61","v":0},{"$f":"'Dir1'!AL61+'Dir2'!AL61","v":0},"-",{"$f":"IFERROR(ROUND(PERCENTILE(_xlfn._xlws.FILTER(Data_Table[Speed],(Data_Table[Period]=$B61)*(SUM(C61:N61)>=10)),0.85),2),\"-\")","v":"-"}]
[58,{"$f":"ImportData!$B$10+7*QUOTIENT(A62,24*60*7/ImportData!$B$8)+MOD(1+QUOTIENT(A62,24*60/ImportData!$B$8)-ImportData!$E$10,7)+TIME(0,ImportData!$B$8*A62,0)","v":"2023-10-04T10:00:00"},{"$f":"'Dir1'!C62+'Dir2'!C62","v":0},{"$f":"'Dir1'!D62+'Dir2'!D62","v":0},{"$f":"'Dir1'!E62+'Dir2'!E62","v":0},{"$f":"'Dir1'!F62+'Dir2'!F62","v":0},{"$f":"'Dir1'!G62+'Dir2'!G62","v":0},{"$f":"'Dir1'!H62+'Dir2'!H62","v":0},{"$f":"'Dir1'!I62+'Dir2'!I62","v":0},{"$f":"'Dir1'!J62+'Dir2'!J62","v":0},{"$f":"'Dir1'!K62+'Dir2'!K62","v":0},{"$f":"'Dir1'!L62+'Dir2'!L62","v":0},{"$f":"'Dir1'!M62+'Dir2'!M62","v":0},{"$f":"'Dir1'!N62+'Dir2'!N62","v":0},{"$f":"'Dir1'!O62+'Dir2'!O62","v":0},{"$f":"'Dir1'!P62+'Dir2'!N62","v":0},{"$f":"'Dir1'!Q62+'Dir2'!O62","v":0},{"$f":"'Dir1'!R62+'Dir2'!R62","v":0},{"$f":"'Dir1'!S62+'Dir2'!S62","v":0},{"$f":"'Dir1'!T62+'Dir2'!T62","v":0},{"$f":"'Dir1'!U62+'Dir2'!U62","v":0},{"$f":"'Dir1'!V62+'Dir2'!V62","v":0},{"$f":"'Dir1'!W62+'Dir2'!W62","v":0},{"$f":"'Dir1'!X62+'Dir2'!X62","v":0},{"$f":"'Dir1'!Y62+'Dir2'!Y62","v":0},{"$f":"'Dir1'!Z62+'Dir2'!Z62","v":0},{"$f":"'Dir1'!AA62+'Dir2'!AA62","v":0},{"$f":"'Dir1'!AB62+'Dir2'!AB62","v":0},{"$f":"'Dir1'!AC62+'Dir2'!AC62","v":0},{"$f":"'Dir1'!AD62+'Dir2'!AD62","v":0},{"$f":"'Dir1'!AE62+'Dir2'!AE62","v":0},{"$f":"'Dir1'!AF62+'Dir2'!AF62","v":0},{"$f":"'Dir1'!AG62+'Dir2'!AG62","v":0},{"$f":"'Dir1'!AH62+'Dir2'!AH62","v":0},{"$f":"'Dir1'!AI62+'Dir2'!AI62","v":0},{"$f":"'Dir1'!AJ62+'Dir2'!AJ62","v":0},{"$f":"'Dir1'!AK62+'Dir2'!AK62","v":0},{"$f":"'Dir1'!AL62+'Dir2'!AL62","v":0},"-",{"$f":"IFERROR(ROUND(PERCENTILE(_xlfn._xlws.FILTER(Data_Table[Speed],(Data_Table[Period]=$B62)*(SUM(C62:N62)>=10)),0.85),2),\"-\")","v":"-"}]
[59,{"$f":"ImportData!$B$10+7*QUOTIENT(A63,24*60*7/ImportData!$B$8)+MOD(1+QUOTIENT(A63,24*60/ImportData!$B$8)-ImportData!$E$10,7)+TIME(0,ImportData!$B$8*A63,0)","v":"2023-10-04T11:00:00"},{"$f":"'Dir1'!C63+'Dir2'!C63","v":0},{"$f":"'Dir1'!D63+'Dir2'!D63","v":0},{"$f":"'Dir1'!E63+'Dir2'!E63","v":0},{"$f":"'Dir1'!F63+'Dir2'!F63","v":0},{"$f":"'Dir1'!G63+'Dir2'!G63","v":0},{"$f":"'Dir1'!H63+'Dir2'!H63","v":0},{"$f":"'Dir1'!I63+'Dir2'!I63","v":0},{"$f":"'Dir1'!J63+'Dir2'!J63","v":0},{"$f":"'Dir1'!K63+'Dir2'!K63","v":0},{"$f":"'Dir1'!L63+'Dir2'!L63","v":0},{"$f":"'Dir1'!M63+'Dir2'!M63","v":0},{"$f":"'Dir1'!N63+'Dir2'!N63","v":0},{"$f":"'Dir1'!O63+'Dir2'!O63","v":0},{"$f":"'Dir1'!P63+'Dir2'!N63","v":0},{"$f":"'Dir1'!Q63+'Dir2'!O63","v":0},{"$f":"'Dir1'!R63+'Dir2'!R63","v":0},{"$f":"'Dir1'!S63+'Dir2'!S63","v":0},{"$f":"'Dir1'!T63+'Dir2'!T63","v":0},{"$f":"'Dir1'!U63+'Dir2'!U63","v":0},{"$f":"'Dir1'!V63+'Dir2'!V63","v":0},{"$f":"'Dir1'!W63+'Dir2'!W63","v":0},{"$f":"'Dir1'!X63+'Dir2'!X63","v":0},{"$f":"'Dir1'!Y63+'Dir2'!Y63","v":0},{"$f":"'Dir1'!Z63+'Dir2'!Z63","v":0},{"$f":"'Dir1'!AA63+'Dir2'!AA63","v":0},{"$f":"'Dir1'!AB63+'Dir2'!AB63","v":0},{"$f":"'Dir1'!AC63+'Dir2'!AC63","v":0},{"$f":"'Dir1'!AD63+'Dir2'!AD63","v":0},{"$f":"'Dir1'!AE63+'Dir2'!AE63","v":0},{"$f":"'Dir1'!AF63+'Dir2'!AF63","v":0},{"$f":"'Dir1'!AG63+'Dir2'!AG63","v":0},{"$f":"'Dir1'!AH63+'Dir2'!AH63","v":0},{"$f":"'Dir1'!AI63+'Dir2'!AI63","v":0},{"$f":"'Dir1'!AJ63+'Dir2'!AJ63","v":0},{"$f":"'Dir1'!AK63+'Dir2'!AK63","v":0},{"$f":"'Dir1'!AL63+'Dir2'!AL63","v":0},"-",{"$f":"IFERROR(ROUND(PERCENTILE(_xlfn._xlws.FILTER(Data_Table[Speed],(Data_Table[Period]=$B63)*(SUM(C63:N63)>=10)),0.85),2),\"-\")","v":"-"}]
[60,{"$f":"ImportData!$B$10+7*QUOTIENT(A64,24*60*7/ImportData!$B$8)+MOD(1+QUOTIENT(A64,24*60/ImportData!$B$8)-ImportData!$E$10,7)+TIME(0,ImportData!$B$8*A64,0)","v":"2023-10-04T12:00:00"},{"$f":"'Dir1'!C64+'Dir2'!C64","v":0},{"$f":"'Dir1'!D64+'Dir2'!D64","v":0},{"$f":"'Dir1'!E64+'Dir2'!E64","v":0},{"$f":"'Dir1'!F64+'Dir2'!F64","v":0},{"$f":"'Dir1'!G64+'Dir2'!G64","v":0},{"$f":"'Dir1'!H64+'Dir2'!H64","v":0},{"$f":"'Dir1'!I64+'Dir2'!I64","v":0},{"$f":"'Dir1'!J64+'Dir2'!J64","v":0},{"$f":"'Dir1'!K64+'Dir2'!K64","v":0},{"$f":"'Dir1'!L64+'Dir2'!L64","v":0},{"$f":"'Dir1'!M64+'Dir2'!M64","v":0},{"$f":"'Dir1'!N64+'Dir2'!N64","v":0},{"$f":"'Dir1'!O64+'Dir2'!O64","v":0},{"$f":"'Dir1'!P64+'Dir2'!N64","v":0},{"$f":"'Dir1'!Q64+'Dir2'!O64","v":0},{"$f":"'Dir1'!R64+'Dir2'!R64","v":0},{"$f":"'Dir1'!S64+'Dir2'!S64","v":0},{"$f":"'Dir1'!T64+'Dir2'!T64","v":0},{"$f":"'Dir1'!U64+'Dir2'!U64","v":0},{"$f":"'Dir1'!V64+'Dir2'!V64","v":0},{"$f":"'Dir1'!W64+'Dir2'!W64","v":0},{"$f":"'Dir1'!X64+'Dir2'!X64","v":0},{"$f":"'Dir1'!Y64+'Dir2'!Y64","v":0},{"$f":"'Dir1'!Z64+'Dir2'!Z64","v":0},{"$f":"'Dir1'!AA64+'Dir2'!AA64","v":0},{"$f":"'Dir1'!AB64+'Dir2'!AB64","v":0},{"$f":"'Dir1'!AC64+'Dir2'!AC64","v":0},{"$f":"'Dir1'!AD64+'Dir2'!AD64","v":0},{"$f":"'Dir1'!AE64+'Dir2'!AE64","v":0},{"$f":"'Dir1'!AF64+'Dir2'!AF64","v":0},{"$f":"'Dir1'!AG64+'Dir2'!AG64","v":0},{"$f":"'Dir1'!AH64+'Dir2'!AH64","v":0},{"$f":"'Dir1'!AI64+'Dir2'!AI64","v":0},{"$f":"'Dir1'!AJ64+'Dir2'!AJ64","v":0},{"$f":"'Dir1'!AK64+'Dir2'!AK64","v":0},{"$f":"'Dir1'!AL64+'Dir2'!AL64","v":0},"-",{"$f":"IFERROR(ROUND(PERCENTILE(_xlfn._xlws.FILTER(Data_Table[Speed],(Data_Table[Period]=$B64)*(SUM(C64:N64)>=10)),0.85),2),\"-\")","v":"-"}]
[61,{"$f":"ImportData!$B$10+7*QUOTIENT(A65,24*60*7/ImportData!$B$8)+MOD(1+QUOTIENT(A65,24*60/ImportData!$B$8)-ImportData!$E$10,7)+TIME(0,ImportData!$B$8*A65,0)","v":"2023-10-04T13:00:00"},{"$f":"'Dir1'!C65+'Dir2'!C65","v":0},{"$f":"'Dir1'!D65+'Dir2'!D65","v":0},{"$f":"'Dir1'!E65+'Dir2'!E65","v":0},{"$f":"'Dir1'!F65+'Dir2'!F65","v":0},{"$f":"'Dir1'!G65+'Dir2'!G65","v":0},{"$f":"'Dir1'!H65+'Dir2'!H65","v":0},{"$f":"'Dir1'!I65+'Dir2'!I65","v":0},{"$f":"'Dir1'!J65+'Dir2'!J65","v":0},{"$f":"'Dir1'!K65+'Dir2'!K65","v":0},{"$f":"'Dir1'!L65+'Dir2'!L65","v":0},{"$f":"'Dir1'!M65+'Dir2'!M65","v":0},{"$f":"'Dir1'!N65+'Dir2'!N65","v":0},{"$f":"'Dir1'!O65+'Dir2'!O65","v":0},{"$f":"'Dir1'!P65+'Dir2'!N65","v":0},{"$f":"'Dir1'!Q65+'Dir2'!O65","v":0},{"$f":"'Dir1'!R65+'Dir2'!R65","v":0},{"$f":"'Dir1'!S65+'Dir2'!S65","v":0},{"$f":"'Dir1'!T65+'Dir2'!T65","v":0},{"$f":"'Dir1'!U65+'Dir2'!U65","v":0},{"$f":"'Dir1'!V65+'Dir2'!V65","v":0},{"$f":"'Dir1'!W65+'Dir2'!W65","v":0},{"$f":"'Dir1'!X65+'Dir2'!X65","v":0},{"$f":"'Dir1'!Y65+'Dir2'!Y65","v":0},{"$f":"'Dir1'!Z65+'Dir2'!Z65","v":0},{"$f":"'Dir1'!AA65+'Dir2'!AA65","v":0},{"$f":"'Dir1'!AB65+'Dir2'!AB65","v":0},{"$f":"'Dir1'!AC65+'Dir2'!AC65","v":0},{"$f":"'Dir1'!AD65+'Dir2'!AD65","v":0},{"$f":"'Dir1'!AE65+'Dir2'!AE65","v":0},{"$f":"'Dir1'!AF65+'Dir2'!AF65","v":0},{"$f":"'Dir1'!AG65+'Dir2'!AG65","v":0},{"$f":"'Dir1'!AH65+'Dir2'!AH65","v":0},{"$f":"'Dir1'!AI65+'Dir2'!AI65","v":0},{"$f":"'Dir1'!AJ65+'Dir2'!AJ65","v":0},{"$f":"'Dir1'!AK65+'Dir2'!AK65","v":0},{"$f":"'Dir1'!AL65+'Dir2'!AL65","v":0},"-",{"$f":"IFERROR(ROUND(PERCENTILE(_xlfn._xlws.FILTER(Data_Table[Speed],(Data_Table[Period]=$B65)*(SUM(C65:N65)>=10)),0.85),2),\"-\")","v":"-"}]
[62,{"$f":"ImportData!$B$10+7*QUOTIENT(A66,24*60*7/ImportData!$B$8)+MOD(1+QUOTIENT(A66,24*60/ImportData!$B$8)-ImportData!$E$10,7)+TIME(0,ImportData!$B$8*A66,0)","v":"2023-10-04T14:00:00"},{"$f":"'Dir1'!C66+'Dir2'!C66","v":0},{"$f":"'Dir1'!D66+'Dir2'!D66","v":0},{"$f":"'Dir1'!E66+'Dir2'!E66","v":0},{"$f":"'Dir1'!F66+'Dir2'!F66","v":0},{"$f":"'Dir1'!G66+'Dir2'!G66","v":0},{"$f":"'Dir1'!H66+'Dir2'!H66","v":0},{"$f":"'Dir1'!I66+'Dir2'!I66","v":0},{"$f":"'Dir1'!J66+'Dir2'!J66","v":0},{"$f":"'Dir1'!K66+'Dir2'!K66","v":0},{"$f":"'Dir1'!L66+'Dir2'!L66","v":0},{"$f":"'Dir1'!M66+'Dir2'!M66","v":0},{"$f":"'Dir1'!N66+'Dir2'!N66","v":0},{"$f":"'Dir1'!O66+'Dir2'!O66","v":0},{"$f":"'Dir1'!P66+'Dir2'!N66","v":0},{"$f":"'Dir1'!Q66+'Dir2'!O66","v":0},{"$f":"'Dir1'!R66+'Dir2'!R66","v":0},{"$f":"'Dir1'!S66+'Dir2'!S66","v":0},{"$f":"'Dir1'!T66+'Dir2'!T66","v":0},{"$f":"'Dir1'!U66+'Dir2'!U66","v":0},{"$f":"'Dir1'!V66+'Dir2'!V66","v":0},{"$f":"'Dir1'!W66+'Dir2'!W66","v":0},{"$f":"'Dir1'!X66+'Dir2'!X66","v":0},{"$f":"'Dir1'!Y66+'Dir2'!Y66","v":0},{"$f":"'Dir1'!Z66+'Dir2'!Z66","v":0},{"$f":"'Dir1'!AA66+'Dir2'!AA66","v":0},{"$f":"'Dir1'!AB66+'Dir2'!AB66","v":0},{"$f":"'Dir1'!AC66+'Dir2'!AC66","v":0},{"$f":"'Dir1'!AD66+'Dir2'!AD66","v":0},{"$f":"'Dir1'!AE66+'Dir2'!AE66","v":0},{"$f":"'Dir1'!AF66+'Dir2'!AF66","v":0},{"$f":"'Dir1'!AG66+'Dir2'!AG66","v":0},{"$f":"'Dir1'!AH66+'Dir2'!AH66","v":0},{"$f":"'Dir1'!AI66+'Dir2'!AI66","v":0},{"$f":"'Dir1'!AJ66+'Dir2'!AJ66","v":0},{"$f":"'Dir1'!AK66+'Dir2'!AK66","v":0},{"$f":"'Dir1'!AL66+'Dir2'!AL66","v":0},"-",{"$f":"IFERROR(ROUND(PERCENTILE(_xlfn._xlws.FILTER(Data_Table[Speed],(Data_Table[Period]=$B66)*(SUM(C66:N66)>=10)),0.85),2),\"-\")","v":"-"}]
[63,{"$f":"ImportData!$B$10+7*QUOTIENT(A67,24*60*7/ImportData!$B$8)+MOD(1+QUOTIENT(A67,24*60/ImportData!$B$8)-ImportData!$E$10,7)+TIME(0,ImportData!$B$8*A67,0)","v":"2023-10-04T15:00:00"},{"$f":"'Dir1'!C67+'Dir2'!C67","v":0},{"$f":"'Dir1'!D67+'Dir2'!D67","v":0},{"$f":"'Dir1'!E67+'Dir2'!E67","v":0},{"$f":"'Dir1'!F67+'Dir2'!F67","v":0},{"$f":"'Dir1'!G67+'Dir2'!G67","v":0},{"$f":"'Dir1'!H67+'Dir2'!H67","v":0},{"$f":"'Dir1'!I67+'Dir2'!I67","v":0},{"$f":"'Dir1'!J67+'Dir2'!J67","v":0},{"$f":"'Dir1'!K67+'Dir2'!K67","v":0},{"$f":"'Dir1'!L67+'Dir2'!L67","v":0},{"$f":"'Dir1'!M67+'Dir2'!M67","v":0},{"$f":"'Dir1'!N67+'Dir2'!N67","v":0},{"$f":"'Dir1'!O67+'Dir2'!O67","v":0},{"$f":"'Dir1'!P67+'Dir2'!N67","v":0},{"$f":"'Dir1'!Q67+'Dir2'!O67","v":0},{"$f":"'Dir1'!R67+'Dir2'!R67","v":0},{"$f":"'Dir1'!S67+'Dir2'!S67","v":0},{"$f":"'Dir1'!T67+'Dir2'!T67","v":0},{"$f":"'Dir1'!U67+'Dir2'!U67","v":0},{"$f":"'Dir1'!V67+'Dir2'!V67","v":0},{"$f":"'Dir1'!W67+'Dir2'!W67","v":0},{"$f":"'Dir1'!X67+'Dir2'!X67","v":0},{"$f":"'Dir1'!Y67+'Dir2'!Y67","v":0},{"$f":"'Dir1'!Z67+'Dir2'!Z67","v":0},{"$f":"'Dir1'!AA67+'Dir2'!AA67","v":0},{"$f":"'Dir1'!AB67+'Dir2'!AB67","v":0},{"$f":"'Dir1'!AC67+'Dir2'!AC67","v":0},{"$f":"'Dir1'!AD67+'Dir2'!AD67","v":0},{"$f":"'Dir1'!AE67+'Dir2'!AE67","v":0},{"$f":"'Dir1'!AF67+'Dir2'!AF67","v":0},{"$f":"'Dir1'!AG67+'Dir2'!AG67","v":0},{"$f":"'Dir1'!AH67+'Dir2'!AH67","v":0},{"$f":"'Dir1'!AI67+'Dir2'!AI67","v":0},{"$f":"'Dir1'!AJ67+'Dir2'!AJ67","v":0},{"$f":"'Dir1'!AK67+'Dir2'!AK67","v":0},{"$f":"'Dir1'!AL67+'Dir2'!AL67","v":0},"-",{"$f":"IFERROR(ROUND(PERCENTILE(_xlfn._xlws.FILTER(Data_Table[Speed],(Data_Table[Period]=$B67)*(SUM(C67:N67)>=10)),0.85),2),\"-\")","v":"-"}]
[64,{"$f":"ImportData!$B$10+7*QUOTIENT(A68,24*60*7/ImportData!$B$8)+MOD(1+QUOTIENT(A68,24*60/ImportData!$B$8)-ImportData!$E$10,7)+TIME(0,ImportData!$B$8*A68,0)","v":"2023-10-04T16:00:00"},{"$f":"'Dir1'!C68+'Dir2'!C68","v":0},{"$f":"'Dir1'!D68+'Dir2'!D68","v":0},{"$f":"'Dir1'!E68+'Dir2'!E68","v":0},{"$f":"'Dir1'!F68+'Dir2'!F68","v":0},{"$f":"'Dir1'!G68+'Dir2'!G68","v":0},{"$f":"'Dir1'!H68+'Dir2'!H68","v":0},{"$f":"'Dir1'!I68+'Dir2'!I68","v":0},{"$f":"'Dir1'!J68+'Dir2'!J68","v":0},{"$f":"'Dir1'!K68+'Dir2'!K68","v":0},{"$f":"'Dir1'!L68+'Dir2'!L68","v":0},{"$f":"'Dir1'!M68+'Dir2'!M68","v":0},{"$f":"'Dir1'!N68+'Dir2'!N68","v":0},{"$f":"'Dir1'!O68+'Dir2'!O68","v":0},{"$f":"'Dir1'!P68+'Dir2'!N68","v":0},{"$f":"'Dir1'!Q68+'Dir2'!O68","v":0},{"$f":"'Dir1'!R68+'Dir2'!R68","v":0},{"$f":"'Dir1'!S68+'Dir2'!S68","v":0},{"$f":"'Dir1'!T68+'Dir2'!T68","v":0},{"$f":"'Dir1'!U68+'Dir2'!U68","v":0},{"$f":"'Dir1'!V68+'Dir2'!V68","v":0},{"$f":"'Dir1'!W68+'Dir2'!W68","v":0},{"$f":"'Dir1'!X68+'Dir2'!X68","v":0},{"$f":"'Dir1'!Y68+'Dir2'!Y68","v":0},{"$f":"'Dir1'!Z68+'Dir2'!Z68","v":0},{"$f":"'Dir1'!AA68+'Dir2'!AA68","v":0},{"$f":"'Dir1'!AB68+'Dir2'!AB68","v":0},{"$f":"'Dir1'!AC68+'Dir2'!AC68","v":0},{"$f":"'Dir1'!AD68+'Dir2'!AD68","v":0},{"$f":"'Dir1'!AE68+'Dir2'!AE68","v":0},{"$f":"'Dir1'!AF68+'Dir2'!AF68","v":0},{"$f":"'Dir1'!AG68+'Dir2'!AG68","v":0},{"$f":"'Dir1'!AH68+'Dir2'!AH68","v":0},{"$f":"'Dir1'!AI68+'Dir2'!AI68","v":0},{"$f":"'Dir1'!AJ68+'Dir2'!AJ68","v":0},{"$f":"'Dir1'!AK68+'Dir2'!AK68","v":0},{"$f":"'Dir1'!AL68+'Dir2'!AL68","v":0},"-",{"$f":"IFERROR(ROUND(PERCENTILE(_xlfn._xlws.FILTER(Data_Table[Speed],(Data_Table[Period]=$B68)*(SUM(C68:N68)>=10)),0.85),2),\"-\")","v":"-"}]
[65,{"$f":"ImportData!$B$10+7*QUOTIENT(A69,24*60*7/ImportData!$B$8)+MOD(1+QUOTIENT(A69,24*60/ImportData!$B$8)-ImportData!$E$10,7)+TIME(0,ImportData!$B$8*A69,0)","v":"2023-10-04T17:00:00"},{"$f":"'Dir1'!C69+'Dir2'!C69","v":0},{"$f":"'Dir1'!D69+'Dir2'!D69","v":0},{"$f":"'Dir1'!E69+'Dir2'!E69","v":0},{"$f":"'Dir1'!F69+'Dir2'!F69","v":0},{"$f":"'Dir1'!G69+'Dir2'!G69","v":0},{"$f":"'Dir1'!H69+'Dir2'!H69","v":0},{"$f":"'Dir1'!I69+'Dir2'!I69","v":0},{"$f":"'Dir1'!J69+'Dir2'!J69","v":0},{"$f":"'Dir1'!K69+'Dir2'!K69","v":0},{"$f":"'Dir1'!L69+'Dir2'!L69","v":0},{"$f":"'Dir1'!M69+'Dir2'!M69","v":0},{"$f":"'Dir1'!N69+'Dir2'!N69","v":0},{"$f":"'Dir1'!O69+'Dir2'!O69","v":0},{"$f":"'Dir1'!P69+'Dir2'!N69","v":0},{"$f":"'Dir1'!Q69+'Dir2'!O69","v":0},{"$f":"'Dir1'!R69+'Dir2'!R69","v":0},{"$f":"'Dir1'!S69+'Dir2'!S69","v":0},{"$f":"'Dir1'!T69+'Dir2'!T69","v":0},{"$f":"'Dir1'!U69+'Dir2'!U69","v":0},{"$f":"'Dir1'!V69+'Dir2'!V69","v":0},{"$f":"'Dir1'!W69+'Dir2'!W69","v":0},{"$f":"'Dir1'!X69+'Dir2'!X69","v":0},{"$f":"'Dir1'!Y69+'Dir2'!Y69","v":0},{"$f":"'Dir1'!Z69+'Dir2'!Z69","v":0},{"$f":"'Dir1'!AA69+'Dir2'!AA69","v":0},{"$f":"'Dir1'!AB69+'Dir2'!AB69","v":0},{"$f":"'Dir1'!AC69+'Dir2'!AC69","v":0},{"$f":"'Dir1'!AD69+'Dir2'!AD69","v":0},{"$f":"'Dir1'!AE69+'Dir2'!AE69","v":0},{"$f":"'Dir1'!AF69+'Dir2'!AF69","v":0},{"$f":"'Dir1'!AG69+'Dir2'!AG69","v":0},{"$f":"'Dir1'!AH69+'Dir2'!AH69","v":0},{"$f":"'Dir1'!AI69+'Dir2'!AI69","v":0},{"$f":"'Dir1'!AJ69+'Dir2'!AJ69","v":0},{"$f":"'Dir1'!AK69+'Dir2'!AK69","v":0},{"$f":"'Dir1'!AL69+'Dir2'!AL69","v":0},"-",{"$f":"IFERROR(ROUND(PERCENTILE(_xlfn._xlws.FILTER(Data_Table[Speed],(Data_Table[Period]=$B69)*(SUM(C69:N69)>=10)),0.85),2),\"-\")","v":"-"}]
[66,{"$f":"ImportData!$B$10+7*QUOTIENT(A70,24*60*7/ImportData!$B$8)+MOD(1+QUOTIENT(A70,24*60/ImportData!$B$8)-ImportData!$E$10,7)+TIME(0,ImportData!$B$8*A70,0)","v":"2023-10-04T18:00:00"},{"$f":"'Dir1'!C70+'Dir2'!C70","v":0},{"$f":"'Dir1'!D70+'Dir2'!D70","v":0},{"$f":"'Dir1'!E70+'Dir2'!E70","v":0},{"$f":"'Dir1'!F70+'Dir2'!F70","v":0},{"$f":"'Dir1'!G70+'Dir2'!G70","v":0},{"$f":"'Dir1'!H70+'Dir2'!H70","v":0},{"$f":"'Dir1'!I70+'Dir2'!I70","v":0},{"$f":"'Dir1'!J70+'Dir2'!J70","v":0},{"$f":"'Dir1'!K70+'Dir2'!K70","v":0},{"$f":"'Dir1'!L70+'Dir2'!L70","v":0},{"$f":"'Dir1'!M70+'Dir2'!M70","v":0},{"$f":"'Dir1'!N70+'Dir2'!N70","v":0},{"$f":"'Dir1'!O70+'Dir2'!O70","v":0},{"$f":"'Dir1'!P70+'Dir2'!N70","v":0},{"$f":"'Dir1'!Q70+'Dir2'!O70","v":0},{"$f":"'Dir1'!R70+'Dir2'!R70","v":0},{"$f":"'Dir1'!S70+'Dir2'!S70","v":0},{"$f":"'Dir1'!T70+'Dir2'!T70","v":0},{"$f":"'Dir1'!U70+'Dir2'!U70","v":0},{"$f":"'Dir1'!V70+'Dir2'!V70","v":0},{"$f":"'Dir1'!W70+'Dir2'!W70","v":0},{"$f":"'Dir1'!X70+'Dir2'!X70","v":0},{"$f":"'Dir1'!Y70+'Dir2'!Y70","v":0},{"$f":"'Dir1'!Z70+'Dir2'!Z70","v":0},{"$f":"'Dir1'!AA70+'Dir2'!AA70","v":0},{"$f":"'Dir1'!AB70+'Dir2'!AB70","v":0},{"$f":"'Dir1'!AC70+'Dir2'!AC70","v":0},{"$f":"'Dir1'!AD70+'Dir2'!AD70","v":0},{"$f":"'Dir1'!AE70+'Dir2'!AE70","v":0},{"$f":"'Dir1'!AF70+'Dir2'!AF70","v":0},{"$f":"'Dir1'!AG70+'Dir2'!AG70","v":0},{"$f":"'Dir1'!AH70+'Dir2'!AH70","v":0},{"$f":"'Dir1'!AI70+'Dir2'!AI70","v":0},{"$f":"'Dir1'!AJ70+'Dir2'!AJ70","v":0},{"$f":"'Dir1'!AK70+'Dir2'!AK70","v":0},{"$f":"'Dir1'!AL70+'Dir2'!AL70","v":0},"-",{"$f":"IFERROR(ROUND(PERCENTILE(_xlfn._xlws.FILTER(Data_Table[Speed],(Data_Table[Period]=$B70)*(SUM(C70:N70)>=10)),0.85),2),\"-\")","v":"-"}]
[67,{"$f":"ImportData!$B$10+7*QUOTIENT(A71,24*60*7/ImportData!$B$8)+MOD(1+QUOTIENT(A71,24*60/ImportData!$B$8)-ImportData!$E$10,7)+TIME(0,ImportData!$B$8*A71,0)","v":"2023-10-04T19:00:00"},{"$f":"'Dir1'!C71+'Dir2'!C71","v":0},{"$f":"'Dir1'!D71+'Dir2'!D71","v":0},{"$f":"'Dir1'!E71+'Dir2'!E71","v":0},{"$f":"'Dir1'!F71+'Dir2'!F71","v":0},{"$f":"'Dir1'!G71+'Dir2'!G71","v":0},{"$f":"'Dir1'!H71+'Dir2'!H71","v":0},{"$f":"'Dir1'!I71+'Dir2'!I71","v":0},{"$f":"'Dir1'!J71+'Dir2'!J71","v":0},{"$f":"'Dir1'!K71+'Dir2'!K71","v":0},{"$f":"'Dir1'!L71+'Dir2'!L71","v":0},{"$f":"'Dir1'!M71+'Dir2'!M71","v":0},{"$f":"'Dir1'!N71+'Dir2'!N71","v":0},{"$f":"'Dir1'!O71+'Dir2'!O71","v":0},{"$f":"'Dir1'!P71+'Dir2'!N71","v":0},{"$f":"'Dir1'!Q71+'Dir2'!O71","v":0},{"$f":"'Dir1'!R71+'Dir2'!R71","v":0},{"$f":"'Dir1'!S71+'Dir2'!S71","v":0},{"$f":"'Dir1'!T71+'Dir2'!T71","v":0},{"$f":"'Dir1'!U71+'Dir2'!U71","v":0},{"$f":"'Dir1'!V71+'Dir2'!V71","v":0},{"$f":"'Dir1'!W71+'Dir2'!W71","v":0},{"$f":"'Dir1'!X71+'Dir2'!X71","v":0},{"$f":"'Dir1'!Y71+'Dir2'!Y71","v":0},{"$f":"'Dir1'!Z71+'Dir2'!Z71","v":0},{"$f":"'Dir1'!AA71+'Dir2'!AA71","v":0},{"$f":"'Dir1'!AB71+'Dir2'!AB71","v":0},{"$f":"'Dir1'!AC71+'Dir2'!AC71","v":0},{"$f":"'Dir1'!AD71+'Dir2'!AD71","v":0},{"$f":"'Dir1'!AE71+'Dir2'!AE71","v":0},{"$f":"'Dir1'!AF71+'Dir2'!AF71","v":0},{"$f":"'Dir1'!AG71+'Dir2'!AG71","v":0},{"$f":"'Dir1'!AH71+'Dir2'!AH71","v":0},{"$f":"'Dir1'!AI71+'Dir2'!AI71","v":0},{"$f":"'Dir1'!AJ71+'Dir2'!AJ71","v":0},{"$f":"'Dir1'!AK71+'Dir2'!AK71","v":0},{"$f":"'Dir1'!AL71+'Dir2'!AL71","v":0},"-",{"$f":"IFERROR(ROUND(PERCENTILE(_xlfn._xlws.FILTER(Data_Table[Speed],(Data_Table[Period]=$B71)*(SUM(C71:N71)>=10)),0.85),2),\"-\")","v":"-"}]
[68,{"$f":"ImportData!$B$10+7*QUOTIENT(A72,24*60*7/ImportData!$B$8)+MOD(1+QUOTIENT(A72,24*60/ImportData!$B$8)-ImportData!$E$10,7)+TIME(0,ImportData!$B$8*A72,0)","v":"2023-10-04T20:00:00"},{"$f":"'Dir1'!C72+'Dir2'!C72","v":0},{"$f":"'Dir1'!D72+'Dir2'!D72","v":0},{"$f":"'Dir1'!E72+'Dir2'!E72","v":0},{"$f":"'Dir1'!F72+'Dir2'!F72","v":0},{"$f":"'Dir1'!G72+'Dir2'!G72","v":0},{"$f":"'Dir1'!H72+'Dir2'!H72","v":0},{"$f":"'Dir1'!I72+'Dir2'!I72","v":0},{"$f":"'Dir1'!J72+'Dir2'!J72","v":0},{"$f":"'Dir1'!K72+'Dir2'!K72","v":0},{"$f":"'Dir1'!L72+'Dir2'!L72","v":0},{"$f":"'Dir1'!M72+'Dir2'!M72","v":0},{"$f":"'Dir1'!N72+'Dir2'!N72","v":0},{"$f":"'Dir1'!O72+'Dir2'!O72","v":0},{"$f":"'Dir1'!P72+'Dir2'!N72","v":0},{"$f":"'Dir1'!Q72+'Dir2'!O72","v":0},{"$f":"'Dir1'!R72+'Dir2'!R72","v":0},{"$f":"'Dir1'!S72+'Dir2'!S72","v":0},{"$f":"'Dir1'!T72+'Dir2'!T72","v":0},{"$f":"'Dir1'!U72+'Dir2'!U72","v":0},{"$f":"'Dir1'!V72+'Dir2'!V72","v":0},{"$f":"'Dir1'!W72+'Dir2'!W72","v":0},{"$f":"'Dir1'!X72+'Dir2'!X72","v":0},{"$f":"'Dir1'!Y72+'Dir2'!Y72","v":0},{"$f":"'Dir1'!Z72+'Dir2'!Z72","v":0},{"$f":"'Dir1'!AA72+'Dir2'!AA72","v":0},{"$f":"'Dir1'!AB72+'Dir2'!AB72","v":0},{"$f":"'Dir1'!AC72+'Dir2'!AC72","v":0},{"$f":"'Dir1'!AD72+'Dir2'!AD72","v":0},{"$f":"'Dir1'!AE72+'Dir2'!AE72","v":0},{"$f":"'Dir1'!AF72+'Dir2'!AF72","v":0},{"$f":"'Dir1'!AG72+'Dir2'!AG72","v":0},{"$f":"'Dir1'!AH72+'Dir2'!AH72","v":0},{"$f":"'Dir1'!AI72+'Dir2'!AI72","v":0},{"$f":"'Dir1'!AJ72+'Dir2'!AJ72","v":0},{"$f":"'Dir1'!AK72+'Dir2'!AK72","v":0},{"$f":"'Dir1'!AL72+'Dir2'!AL72","v":0},"-",{"$f":"IFERROR(ROUND(PERCENTILE(_xlfn._xlws.FILTER(Data_Table[Speed],(Data_Table[Period]=$B72)*(SUM(C72:N72)>=10)),0.85),2),\"-\")","v":"-"}]
[69,{"$f":"ImportData!$B$10+7*QUOTIENT(A73,24*60*7/ImportData!$B$8)+MOD(1+QUOTIENT(A73,24*60/ImportData!$B$8)-ImportData!$E$10,7)+TIME(0,ImportData!$B$8*A73,0)","v":"2023-10-04T21:00:00"},{"$f":"'Dir1'!C73+'Dir2'!C73","v":0},{"$f":"'Dir1'!D73+'Dir2'!D73","v":0},{"$f":"'Dir1'!E73+'Dir2'!E73","v":0},{"$f":"'Dir1'!F73+'Dir2'!F73","v":0},{"$f":"'Dir1'!G73+'Dir2'!G73","v":0},{"$f":"'Dir1'!H73+'Dir2'!H73","v":0},{"$f":"'Dir1'!I73+'Dir2'!I73","v":0},{"$f":"'Dir1'!J73+'Dir2'!J73","v":0},{"$f":"'Dir1'!K73+'Dir2'!K73","v":0},{"$f":"'Dir1'!L73+'Dir2'!L73","v":0},{"$f":"'Dir1'!M73+'Dir2'!M73","v":0},{"$f":"'Dir1'!N73+'Dir2'!N73","v":0},{"$f":"'Dir1'!O73+'Dir2'!O73","v":0},{"$f":"'Dir1'!P73+'Dir2'!N73","v":0},{"$f":"'Dir1'!Q73+'Dir2'!O73","v":0},{"$f":"'Dir1'!R73+'Dir2'!R73","v":0},{"$f":"'Dir1'!S73+'Dir2'!S73","v":0},{"$f":"'Dir1'!T73+'Dir2'!T73","v":0},{"$f":"'Dir1'!U73+'Dir2'!U73","v":0},{"$f":"'Dir1'!V73+'Dir2'!V73","v":0},{"$f":"'Dir1'!W73+'Dir2'!W73","v":0},{"$f":"'Dir1'!X73+'Dir2'!X73","v":0},{"$f":"'Dir1'!Y73+'Dir2'!Y73","v":0},{"$f":"'Dir1'!Z73+'Dir2'!Z73","v":0},{"$f":"'Dir1'!AA73+'Dir2'!AA73","v":0},{"$f":"'Dir1'!AB73+'Dir2'!AB73","v":0},{"$f":"'Dir1'!AC73+'Dir2'!AC73","v":0},{"$f":"'Dir1'!AD73+'Dir2'!AD73","v":0},{"$f":"'Dir1'!AE73+'Dir2'!AE73","v":0},{"$f":"'Dir1'!AF73+'Dir2'!AF73","v":0},{"$f":"'Dir1'!AG73+'Dir2'!AG73","v":0},{"$f":"'Dir1'!AH73+'Dir2'!AH73","v":0},{"$f":"'Dir1'!AI73+'Dir2'!AI73","v":0},{"$f":"'Dir1'!AJ73+'Dir2'!AJ73","v":0},{"$f":"'Dir1'!AK73+'Dir2'!AK73","v":0},{"$f":"'Dir1'!AL73+'Dir2'!AL73","v":0},"-",{"$f":"IFERROR(ROUND(PERCENTILE(_xlfn._xlws.FILTER(Data_Table[Speed],(Data_Table[Period]=$B73)*(SUM(C73:N73)>=10)),0.85),2),\"-\")","v":"-"}]
[70,{"$f":"ImportData!$B$10+7*QUOTIENT(A74,24*60*7/ImportData!$B$8)+MOD(1+QUOTIENT(A74,24*60/ImportData!$B$8)-ImportData!$E$10,7)+TIME(0,ImportData!$B$8*A74,0)","v":"2023-10-04T22:00:00"},{"$f":"'Dir1'!C74+'Dir2'!C74","v":0},{"$f":"'Dir1'!D74+'Dir2'!D74","v":0},{"$f":"'Dir1'!E74+'Dir2'!E74","v":0},{"$f":"'Dir1'!F74+'Dir2'!F74","v":0},{"$f":"'Dir1'!G74+'Dir2'!G74","v":0},{"$f":"'Dir1'!H74+'Dir2'!H74","v":0},{"$f":"'Dir1'!I74+'Dir2'!I74","v":0},{"$f":"'Dir1'!J74+'Dir2'!J74","v":0},{"$f":"'Dir1'!K74+'Dir2'!K74","v":0},{"$f":"'Dir1'!L74+'Dir2'!L74","v":0},{"$f":"'Dir1'!M74+'Dir2'!M74","v":0},{"$f":"'Dir1'!N74+'Dir2'!N74","v":0},{"$f":"'Dir1'!O74+'Dir2'!O74","v":0},{"$f":"'Dir1'!P74+'Dir2'!N74","v":0},{"$f":"'Dir1'!Q74+'Dir2'!O74","v":0},{"$f":"'Dir1'!R74+'Dir2'!R74","v":0},{"$f":"'Dir1'!S74+'Dir2'!S74","v":0},{"$f":"'Dir1'!T74+'Dir2'!T74","v":0},{"$f":"'Dir1'!U74+'Dir2'!U74","v":0},{"$f":"'Dir1'!V74+'Dir2'!V74","v":0},{"$f":"'Dir1'!W74+'Dir2'!W74","v":0},{"$f":"'Dir1'!X74+'Dir2'!X74","v":0},{"$f":"'Dir1'!Y74+'Dir2'!Y74","v":0},{"$f":"'Dir1'!Z74+'Dir2'!Z74","v":0},{"$f":"'Dir1'!AA74+'Dir2'!AA74","v":0},{"$f":"'Dir1'!AB74+'Dir2'!AB74","v":0},{"$f":"'Dir1'!AC74+'Dir2'!AC74","v":0},{"$f":"'Dir1'!AD74+'Dir2'!AD74","v":0},{"$f":"'Dir1'!AE74+'Dir2'!AE74","v":0},{"$f":"'Dir1'!AF74+'Dir2'!AF74","v":0},{"$f":"'Dir1'!AG74+'Dir2'!AG74","v":0},{"$f":"'Dir1'!AH74+'Dir2'!AH74","v":0},{"$f":"'Dir1'!AI74+'Dir2'!AI74","v":0},{"$f":"'Dir1'!AJ74+'Dir2'!AJ74","v":0},{"$f":"'Dir1'!AK74+'Dir2'!AK74","v":0},{"$f":"'Dir1'!AL74+'Dir2'!AL74","v":0},"-",{"$f":"IFERROR(ROUND(PERCENTILE(_xlfn._xlws.FILTER(Data_Table[Speed],(Data_Table[Period]=$B74)*(SUM(C74:N74)>=10)),0.85),2),\"-\")","v":"-"}]
[71,{"$f":"ImportData!$B$10+7*QUOTIENT(A75,24*60*7/ImportData!$B$8)+MOD(1+QUOTIENT(A75,24*60/ImportData!$B$8)-ImportData!$E$10,7)+TIME(0,ImportData!$B$8*A75,0)","v":"2023-10-04T23:00:00"},{"$f":"'Dir1'!C75+'Dir2'!C75","v":0},{"$f":"'Dir1'!D75+'Dir2'!D75","v":0},{"$f":"'Dir1'!E75+'Dir2'!E75","v":0},{"$f":"'Dir1'!F75+'Dir2'!F75","v":0},{"$f":"'Dir1'!G75+'Dir2'!G75","v":0},{"$f":"'Dir1'!H75+'Dir2'!H75","v":0},{"$f":"'Dir1'!I75+'Dir2'!I75","v":0},{"$f":"'Dir1'!J75+'Dir2'!J75","v":0},{"$f":"'Dir1'!K75+'Dir2'!K75","v":0},{"$f":"'Dir1'!L75+'Dir2'!L75","v":0},{"$f":"'Dir1'!M75+'Dir2'!M75","v":0},{"$f":"'Dir1'!N75+'Dir2'!N75","v":0},{"$f":"'Dir1'!O75+'Dir2'!O75","v":0},{"$f":"'Dir1'!P75+'Dir2'!N75","v":0},{"$f":"'Dir1'!Q75+'Dir2'!O75","v":0},{"$f":"'Dir1'!R75+'Dir2'!R75","v":0},{"$f":"'Dir1'!S75+'Dir2'!S75","v":0},{"$f":"'Dir1'!T75+'Dir2'!T75","v":0},{"$f":"'Dir1'!U75+'Dir2'!U75","v":0},{"$f":"'Dir1'!V75+'Dir2'!V75","v":0},{"$f":"'Dir1'!W75+'Dir2'!W75","v":0},{"$f":"'Dir1'!X75+'Dir2'!X75","v":0},{"$f":"'Dir1'!Y75+'Dir2'!Y75","v":0},{"$f":"'Dir1'!Z75+'Dir2'!Z75","v":0},{"$f":"'Dir1'!AA75+'Dir2'!AA75","v":0},{"$f":"'Dir1'!AB75+'Dir2'!AB75","v":0},{"$f":"'Dir1'!AC75+'Dir2'!AC75","v":0},{"$f":"'Dir1'!AD75+'Dir2'!AD75","v":0},{"$f":"'Dir1'!AE75+'Dir2'!AE75","v":0},{"$f":"'Dir1'!AF75+'Dir2'!AF75","v":0},{"$f":"'Dir1'!AG75+'Dir2'!AG75","v":0},{"$f":"'Dir1'!AH75+'Dir2'!AH75","v":0},{"$f":"'Dir1'!AI75+'Dir2'!AI75","v":0},{"$f":"'Dir1'!AJ75+'Dir2'!AJ75","v":0},{"$f":"'Dir1'!AK75+'Dir2'!AK75","v":0},{"$f":"'Dir1'!AL75+'Dir2'!AL75","v":0},"-",{"$f":"IFERROR(ROUND(PERCENTILE(_xlfn._xlws.FILTER(Data_Table[Speed],(Data_Table[Period]=$B75)*(SUM(C75:N75)>=10)),0.85),2),\"-\")","v":"-"}]
[72,{"$f":"ImportData!$B$10+7*QUOTIENT(A76,24*60*7/ImportData!$B$8)+MOD(1+QUOTIENT(A76,24*60/ImportData!$B$8)-ImportData!$E$10,7)+TIME(0,ImportData!$B$8*A76,0)","v":"2023-09-28"},{"$f":"'Dir1'!C76+'Dir2'!C76","v":0},{"$f":"'Dir1'!D76+'Dir2'!D76","v":0},{"$f":"'Dir1'!E76+'Dir2'!E76","v":0},{"$f":"'Dir1'!F76+'Dir2'!F76","v":0},{"$f":"'Dir1'!G76+'Dir2'!G76","v":0},{"$f":"'Dir1'!H76+'Dir2'!H76","v":0},{"$f":"'Dir1'!I76+'Dir2'!I76","v":0},{"$f":"'Dir1'!J76+'Dir2'!J76","v":0},{"$f":"'Dir1'!K76+'Dir2'!K76","v":0},{"$f":"'Dir1'!L76+'Dir2'!L76","v":0},{"$f":"'Dir1'!M76+'Dir2'!M76","v":0},{"$f":"'Dir1'!N76+'Dir2'!N76","v":0},{"$f":"'Dir1'!O76+'Dir2'!O76","v":0},{"$f":"'Dir1'!P76+'Dir2'!N76","v":0},{"$f":"'Dir1'!Q76+'Dir2'!O76","v":0},{"$f":"'Dir1'!R76+'Dir2'!R76","v":0},{"$f":"'Dir1'!S76+'Dir2'!S76","v":0},{"$f":"'Dir1'!T76+'Dir2'!T76","v":0},{"$f":"'Dir1'!U76+'Dir2'!U76","v":0},{"$f":"'Dir1'!V76+'Dir2'!V76","v":0},{"$f":"'Dir1'!W76+'Dir2'!W76","v":0},{"$f":"'Dir1'!X76+'Dir2'!X76","v":0},{"$f":"'Dir1'!Y76+'Dir2'!Y76","v":0},{"$f":"'Dir1'!Z76+'Dir2'!Z76","v":0},{"$f":"'Dir1'!AA76+'Dir2'!AA76","v":0},{"$f":"'Dir1'!AB76+'Dir2'!AB76","v":0},{"$f":"'Dir1'!AC76+'Dir2'!AC76","v":0},{"$f":"'Dir1'!AD76+'Dir2'!AD76","v":0},{"$f":"'Dir1'!AE76+'Dir2'!AE76","v":0},{"$f":"'Dir1'!AF76+'Dir2'!AF76","v":0},{"$f":"'Dir1'!AG76+'Dir2'!AG76","v":0},{"$f":"'Dir1'!AH76+'Dir2'!AH76","v":0},{"$f":"'Dir1'!AI76+'Dir2'!AI76","v":0},{"$f":"'Dir1'!AJ76+'Dir2'!AJ76","v":0},{"$f":"'Dir1'!AK76+'Dir2'!AK76","v":0},{"$f":"'Dir1'!AL76+'Dir2'!AL76","v":0},"-",{"$f":"IFERROR(ROUND(PERCENTILE(_xlfn._xlws.FILTER(Data_Table[Speed],(Data_Table[Period]=$B76)*(SUM(C76:N76)>=10)),0.85),2),\"-\")","v":"-"}]
[73,{"$f":"ImportData!$B$10+7*QUOTIENT(A77,24*60*7/ImportData!$B$8)+MOD(1+QUOTIENT(A77,24*60/ImportData!$B$8)-ImportData!$E$10,7)+TIME(0,ImportData!$B$8*A77,0)","v":"2023-09-28T01:00:00"},{"$f":"'Dir1'!C77+'Dir2'!C77","v":0},{"$f":"'Dir1'!D77+'Dir2'!D77","v":0},{"$f":"'Dir1'!E77+'Dir2'!E77","v":0},{"$f":"'Dir1'!F77+'Dir2'!F77","v":0},{"$f":"'Dir1'!G77+'Dir2'!G77","v":0},{"$f":"'Dir1'!H77+'Dir2'!H77","v":0},{"$f":"'Dir1'!I77+'Dir2'!I77","v":0},{"$f":"'Dir1'!J77+'Dir2'!J77","v":0},{"$f":"'Dir1'!K77+'Dir2'!K77","v":0},{"$f":"'Dir1'!L77+'Dir2'!L77","v":0},{"$f":"'Dir1'!M77+'Dir2'!M77","v":0},{"$f":"'Dir1'!N77+'Dir2'!N77","v":0},{"$f":"'Dir1'!O77+'Dir2'!O77","v":0},{"$f":"'Dir1'!P77+'Dir2'!N77","v":0},{"$f":"'Dir1'!Q77+'Dir2'!O77","v":0},{"$f":"'Dir1'!R77+'Dir2'!R77","v":0},{"$f":"'Dir1'!S77+'Dir2'!S77","v":0},{"$f":"'Dir1'!T77+'Dir2'!T77","v":0},{"$f":"'Dir1'!U77+'Dir2'!U77","v":0},{"$f":"'Dir1'!V77+'Dir2'!V77","v":0},{"$f":"'Dir1'!W77+'Dir2'!W77","v":0},{"$f":"'Dir1'!X77+'Dir2'!X77","v":0},{"$f":"'Dir1'!Y77+'Dir2'!Y77","v":0},{"$f":"'Dir1'!Z77+'Dir2'!Z77","v":0},{"$f":"'Dir1'!AA77+'Dir2'!AA77","v":0},{"$f":"'Dir1'!AB77+'Dir2'!AB77","v":0},{"$f":"'Dir1'!AC77+'Dir2'!AC77","v":0},{"$f":"'Dir1'!AD77+'Dir2'!AD77","v":0},{"$f":"'Dir1'!AE77+'Dir2'!AE77","v":0},{"$f":"'Dir1'!AF77+'Dir2'!AF77","v":0},{"$f":"'Dir1'!AG77+'Dir2'!AG77","v":0},{"$f":"'Dir1'!AH77+'Dir2'!AH77","v":0},{"$f":"'Dir1'!AI77+'Dir2'!AI77","v":0},{"$f":"'Dir1'!AJ77+'Dir2'!AJ77","v":0},{"$f":"'Dir1'!AK77+'Dir2'!AK77","v":0},{"$f":"'Dir1'!AL77+'Dir2'!AL77","v":0},"-",{"$f":"IFERROR(ROUND(PERCENTILE(_xlfn._xlws.FILTER(Data_Table[Speed],(Data_Table[Period]=$B77)*(SUM(C77:N77)>=10)),0.85),2),\"-\")","v":"-"}]
[74,{"$f":"ImportData!$B$10+7*QUOTIENT(A78,24*60*7/ImportData!$B$8)+MOD(1+QUOTIENT(A78,24*60/ImportData!$B$8)-ImportData!$E$10,7)+TIME(0,ImportData!$B$8*A78,0)","v":"2023-09-28T02:00:00"},{"$f":"'Dir1'!C78+'Dir2'!C78","v":0},{"$f":"'Dir1'!D78+'Dir2'!D78","v":0},{"$f":"'Dir1'!E78+'Dir2'!E78","v":0},{"$f":"'Dir1'!F78+'Dir2'!F78","v":0},{"$f":"'Dir1'!G78+'Dir2'!G78","v":0},{"$f":"'Dir1'!H78+'Dir2'!H78","v":0},{"$f":"'Dir1'!I78+'Dir2'!I78","v":0},{"$f":"'Dir1'!J78+'Dir2'!J78","v":0},{"$f":"'Dir1'!K78+'Dir2'!K78","v":0},{"$f":"'Dir1'!L78+'Dir2'!L78","v":0},{"$f":"'Dir1'!M78+'Dir2'!M78","v":0},{"$f":"'Dir1'!N78+'Dir2'!N78","v":0},{"$f":"'Dir1'!O78+'Dir2'!O78","v":0},{"$f":"'Dir1'!P78+'Dir2'!N78","v":0},{"$f":"'Dir1'!Q78+'Dir2'!O78","v":0},{"$f":"'Dir1'!R78+'Dir2'!R78","v":0},{"$f":"'Dir1'!S78+'Dir2'!S78","v":0},{"$f":"'Dir1'!T78+'Dir2'!T78","v":0},{"$f":"'Dir1'!U78+'Dir2'!U78","v":0},{"$f":"'Dir1'!V78+'Dir2'!V78","v":0},{"$f":"'Dir1'!W78+'Dir2'!W78","v":0},{"$f":"'Dir1'!X78+'Dir2'!X78","v":0},{"$f":"'Dir1'!Y78+'Dir2'!Y78","v":0},{"$f":"'Dir1'!Z78+'Dir2'!Z78","v":0},{"$f":"'Dir1'!AA78+'Dir2'!AA78","v":0},{"$f":"'Dir1'!AB78+'Dir2'!AB78","v":0},{"$f":"'Dir1'!AC78+'Dir2'!AC78","v":0},{"$f":"'Dir1'!AD78+'Dir2'!AD78","v":0},{"$f":"'Dir1'!AE78+'Dir2'!AE78","v":0},{"$f":"'Dir1'!AF78+'Dir2'!AF78","v":0},{"$f":"'Dir1'!AG78+'Dir2'!AG78","v":0},{"$f":"'Dir1'!AH78+'Dir2'!AH78","v":0},{"$f":"'Dir1'!AI78+'Dir2'!AI78","v":0},{"$f":"'Dir1'!AJ78+'Dir2'!AJ78","v":0},{"$f":"'Dir1'!AK78+'Dir2'!AK78","v":0},{"$f":"'Dir1'!AL78+'Dir2'!AL78","v":0},"-",{"$f":"IFERROR(ROUND(PERCENTILE(_xlfn._xlws.FILTER(Data_Table[Speed],(Data_Table[Period]=$B78)*(SUM(C78:N78)>=10)),0.85),2),\"-\")","v":"-"}]
[75,{"$f":"ImportData!$B$10+7*QUOTIENT(A79,24*60*7/ImportData!$B$8)+MOD(1+QUOTIENT(A79,24*60/ImportData!$B$8)-ImportData!$E$10,7)+TIME(0,ImportData!$B$8*A79,0)","v":"2023-09-28T03:00:00"},{"$f":"'Dir1'!C79+'Dir2'!C79","v":0},{"$f":"'Dir1'!D79+'Dir2'!D79","v":0},{"$f":"'Dir1'!E79+'Dir2'!E79","v":0},{"$f":"'Dir1'!F79+'Dir2'!F79","v":0},{"$f":"'Dir1'!G79+'Dir2'!G79","v":0},{"$f":"'Dir1'!H79+'Dir2'!H79","v":0},{"$f":"'Dir1'!I79+'Dir2'!I79","v":0},{"$f":"'Dir1'!J79+'Dir2'!J79","v":0},{"$f":"'Dir1'!K79+'Dir2'!K79","v":0},{"$f":"'Dir1'!L79+'Dir2'!L79","v":0},{"$f":"'Dir1'!M79+'Dir2'!M79","v":0},{"$f":"'Dir1'!N79+'Dir2'!N79","v":0},{"$f":"'Dir1'!O79+'Dir2'!O79","v":0},{"$f":"'Dir1'!P79+'Dir2'!N79","v":0},{"$f":"'Dir1'!Q79+'Dir2'!O79","v":0},{"$f":"'Dir1'!R79+'Dir2'!R79","v":0},{"$f":"'Dir1'!S79+'Dir2'!S79","v":0},{"$f":"'Dir1'!T79+'Dir2'!T79","v":0},{"$f":"'Dir1'!U79+'Dir2'!U79","v":0},{"$f":"'Dir1'!V79+'Dir2'!V79","v":0},{"$f":"'Dir1'!W79+'Dir2'!W79","v":0},{"$f":"'Dir1'!X79+'Dir2'!X79","v":0},{"$f":"'Dir1'!Y79+'Dir2'!Y79","v":0},{"$f":"'Dir1'!Z79+'Dir2'!Z79","v":0},{"$f":"'Dir1'!AA79+'Dir2'!AA79","v":0},{"$f":"'Dir1'!AB79+'Dir2'!AB79","v":0},{"$f":"'Dir1'!AC79+'Dir2'!AC79","v":0},{"$f":"'Dir1'!AD79+'Dir2'!AD79","v":0},{"$f":"'Dir1'!AE79+'Dir2'!AE79","v":0},{"$f":"'Dir1'!AF79+'Dir2'!AF79","v":0},{"$f":"'Dir1'!AG79+'Dir2'!AG79","v":0},{"$f":"'Dir1'!AH79+'Dir2'!AH79","v":0},{"$f":"'Dir1'!AI79+'Dir2'!AI79","v":0},{"$f":"'Dir1'!AJ79+'Dir2'!AJ79","v":0},{"$f":"'Dir1'!AK79+'Dir2'!AK79","v":0},{"$f":"'Dir1'!AL79+'Dir2'!AL79","v":0},"-",{"$f":"IFERROR(ROUND(PERCENTILE(_xlfn._xlws.FILTER(Data_Table[Speed],(Data_Table[Period]=$B79)*(SUM(C79:N79)>=10)),0.85),2),\"-\")","v":"-"}]
[76,{"$f":"ImportData!$B$10+7*QUOTIENT(A80,24*60*7/ImportData!$B$8)+MOD(1+QUOTIENT(A80,24*60/ImportData!$B$8)-ImportData!$E$10,7)+TIME(0,ImportData!$B$8*A80,0)","v":"2023-09-28T04:00:00"},{"$f":"'Dir1'!C80+'Dir2'!C80","v":0},{"$f":"'Dir1'!D80+'Dir2'!D80","v":0},{"$f":"'Dir1'!E80+'Dir2'!E80","v":0},{"$f":"'Dir1'!F80+'Dir2'!F80","v":0},{"$f":"'Dir1'!G80+'Dir2'!G80","v":0},{"$f":"'Dir1'!H80+'Dir2'!H80","v":0},{"$f":"'Dir1'!I80+'Dir2'!I80","v":0},{"$f":"'Dir1'!J80+'Dir2'!J80","v":0},{"$f":"'Dir1'!K80+'Dir2'!K80","v":0},{"$f":"'Dir1'!L80+'Dir2'!L80","v":0},{"$f":"'Dir1'!M80+'Dir2'!M80","v":0},{"$f":"'Dir1'!N80+'Dir2'!N80","v":0},{"$f":"'Dir1'!O80+'Dir2'!O80","v":0},{"$f":"'Dir1'!P80+'Dir2'!N80","v":0},{"$f":"'Dir1'!Q80+'Dir2'!O80","v":0},{"$f":"'Dir1'!R80+'Dir2'!R80","v":0},{"$f":"'Dir1'!S80+'Dir2'!S80","v":0},{"$f":"'Dir1'!T80+'Dir2'!T80","v":0},{"$f":"'Dir1'!U80+'Dir2'!U80","v":0},{"$f":"'Dir1'!V80+'Dir2'!V80","v":0},{"$f":"'Dir1'!W80+'Dir2'!W80","v":0},{"$f":"'Dir1'!X80+'Dir2'!X80","v":0},{"$f":"'Dir1'!Y80+'Dir2'!Y80","v":0},{"$f":"'Dir1'!Z80+'Dir2'!Z80","v":0},{"$f":"'Dir1'!AA80+'Dir2'!AA80","v":0},{"$f":"'Dir1'!AB80+'Dir2'!AB80","v":0},{"$f":"'Dir1'!AC80+'Dir2'!AC80","v":0},{"$f":"'Dir1'!AD80+'Dir2'!AD80","v":0},{"$f":"'Dir1'!AE80+'Dir2'!AE80","v":0},{"$f":"'Dir1'!AF80+'Dir2'!AF80","v":0},{"$f":"'Dir1'!AG80+'Dir2'!AG80","v":0},{"$f":"'Dir1'!AH80+'Dir2'!AH80","v":0},{"$f":"'Dir1'!AI80+'Dir2'!AI80","v":0},{"$f":"'Dir1'!AJ80+'Dir2'!AJ80","v":0},{"$f":"'Dir1'!AK80+'Dir2'!AK80","v":0},{"$f":"'Dir1'!AL80+'Dir2'!AL80","v":0},"-",{"$f":"IFERROR(ROUND(PERCENTILE(_xlfn._xlws.FILTER(Data_Table[Speed],(Data_Table[Period]=$B80)*(SUM(C80:N80)>=10)),0.85),2),\"-\")","v":"-"}]
[77,{"$f":"ImportData!$B$10+7*QUOTIENT(A81,24*60*7/ImportData!$B$8)+MOD(1+QUOTIENT(A81,24*60/ImportData!$B$8)-ImportData!$E$10,7)+TIME(0,ImportData!$B$8*A81,0)","v":"2023-09-28T05:00:00"},{"$f":"'Dir1'!C81+'Dir2'!C81","v":0},{"$f":"'Dir1'!D81+'Dir2'!D81","v":0},{"$f":"'Dir1'!E81+'Dir2'!E81","v":0},{"$f":"'Dir1'!F81+'Dir2'!F81","v":0},{"$f":"'Dir1'!G81+'Dir2'!G81","v":0},{"$f":"'Dir1'!H81+'Dir2'!H81","v":0},{"$f":"'Dir1'!I81+'Dir2'!I81","v":0},{"$f":"'Dir1'!J81+'Dir2'!J81","v":0},{"$f":"'Dir1'!K81+'Dir2'!K81","v":0},{"$f":"'Dir1'!L81+'Dir2'!L81","v":0},{"$f":"'Dir1'!M81+'Dir2'!M81","v":0},{"$f":"'Dir1'!N81+'Dir2'!N81","v":0},{"$f":"'Dir1'!O81+'Dir2'!O81","v":0},{"$f":"'Dir1'!P81+'Dir2'!N81","v":0},{"$f":"'Dir1'!Q81+'Dir2'!O81","v":0},{"$f":"'Dir1'!R81+'Dir2'!R81","v":0},{"$f":"'Dir1'!S81+'Dir2'!S81","v":0},{"$f":"'Dir1'!T81+'Dir2'!T81","v":0},{"$f":"'Dir1'!U81+'Dir2'!U81","v":0},{"$f":"'Dir1'!V81+'Dir2'!V81","v":0},{"$f":"'Dir1'!W81+'Dir2'!W81","v":0},{"$f":"'Dir1'!X81+'Dir2'!X81","v":0},{"$f":"'Dir1'!Y81+'Dir2'!Y81","v":0},{"$f":"'Dir1'!Z81+'Dir2'!Z81","v":0},{"$f":"'Dir1'!AA81+'Dir2'!AA81","v":0},{"$f":"'Dir1'!AB81+'Dir2'!AB81","v":0},{"$f":"'Dir1'!AC81+'Dir2'!AC81","v":0},{"$f":"'Dir1'!AD81+'Dir2'!AD81","v":0},{"$f":"'Dir1'!AE81+'Dir2'!AE81","v":0},{"$f":"'Dir1'!AF81+'Dir2'!AF81","v":0},{"$f":"'Dir1'!AG81+'Dir2'!AG81","v":0},{"$f":"'Dir1'!AH81+'Dir2'!AH81","v":0},{"$f":"'Dir1'!AI81+'Dir2'!AI81","v":0},{"$f":"'Dir1'!AJ81+'Dir2'!AJ81","v":0},{"$f":"'Dir1'!AK81+'Dir2'!AK81","v":0},{"$f":"'Dir1'!AL81+'Dir2'!AL81","v":0},"-",{"$f":"IFERROR(ROUND(PERCENTILE(_xlfn._xlws.FILTER(Data_Table[Speed],(Data_Table[Period]=$B81)*(SUM(C81:N81)>=10)),0.85),2),\"-\")","v":"-"}]
[78,{"$f":"ImportData!$B$10+7*QUOTIENT(A82,24*60*7/ImportData!$B$8)+MOD(1+QUOTIENT(A82,24*60/ImportData!$B$8)-ImportData!$E$10,7)+TIME(0,ImportData!$B$8*A82,0)","v":"2023-09-28T06:00:00"},{"$f":"'Dir1'!C82+'Dir2'!C82","v":0},{"$f":"'Dir1'!D82+'Dir2'!D82","v":0},{"$f":"'Dir1'!E82+'Dir2'!E82","v":0},{"$f":"'Dir1'!F82+'Dir2'!F82","v":0},{"$f":"'Dir1'!G82+'Dir2'!G82","v":0},{"$f":"'Dir1'!H82+'Dir2'!H82","v":0},{"$f":"'Dir1'!I82+'Dir2'!I82","v":0},{"$f":"'Dir1'!J82+'Dir2'!J82","v":0},{"$f":"'Dir1'!K82+'Dir2'!K82","v":0},{"$f":"'Dir1'!L82+'Dir2'!L82","v":0},{"$f":"'Dir1'!M82+'Dir2'!M82","v":0},{"$f":"'Dir1'!N82+'Dir2'!N82","v":0},{"$f":"'Dir1'!O82+'Dir2'!O82","v":0},{"$f":"'Dir1'!P82+'Dir2'!N82","v":0},{"$f":"'Dir1'!Q82+'Dir2'!O82","v":0},{"$f":"'Dir1'!R82+'Dir2'!R82","v":0},{"$f":"'Dir1'!S82+'Dir2'!S82","v":0},{"$f":"'Dir1'!T82+'Dir2'!T82","v":0},{"$f":"'Dir1'!U82+'Dir2'!U82","v":0},{"$f":"'Dir1'!V82+'Dir2'!V82","v":0},{"$f":"'Dir1'!W82+'Dir2'!W82","v":0},{"$f":"'Dir1'!X82+'Dir2'!X82","v":0},{"$f":"'Dir1'!Y82+'Dir2'!Y82","v":0},{"$f":"'Dir1'!Z82+'Dir2'!Z82","v":0},{"$f":"'Dir1'!AA82+'Dir2'!AA82","v":0},{"$f":"'Dir1'!AB82+'Dir2'!AB82","v":0},{"$f":"'Dir1'!AC82+'Dir2'!AC82","v":0},{"$f":"'Dir1'!AD82+'Dir2'!AD82","v":0},{"$f":"'Dir1'!AE82+'Dir2'!AE82","v":0},{"$f":"'Dir1'!AF82+'Dir2'!AF82","v":0},{"$f":"'Dir1'!AG82+'Dir2'!AG82","v":0},{"$f":"'Dir1'!AH82+'Dir2'!AH82","v":0},{"$f":"'Dir1'!AI82+'Dir2'!AI82","v":0},{"$f":"'Dir1'!AJ82+'Dir2'!AJ82","v":0},{"$f":"'Dir1'!AK82+'Dir2'!AK82","v":0},{"$f":"'Dir1'!AL82+'Dir2'!AL82","v":0},"-",{"$f":"IFERROR(ROUND(PERCENTILE(_xlfn._xlws.FILTER(Data_Table[Speed],(Data_Table[Period]=$B82)*(SUM(C82:N82)>=10)),0.85),2),\"-\")","v":"-"}]
[79,{"$f":"ImportData!$B$10+7*QUOTIENT(A83,24*60*7/ImportData!$B$8)+MOD(1+QUOTIENT(A83,24*60/ImportData!$B$8)-ImportData!$E$10,7)+TIME(0,ImportData!$B$8*A83,0)","v":"2023-09-28T07:00:00"},{"$f":"'Dir1'!C83+'Dir2'!C83","v":0},{"$f":"'Dir1'!D83+'Dir2'!D83","v":0},{"$f":"'Dir1'!E83+'Dir2'!E83","v":0},{"$f":"'Dir1'!F83+'Dir2'!F83","v":0},{"$f":"'Dir1'!G83+'Dir2'!G83","v":0},{"$f":"'Dir1'!H83+'Dir2'!H83","v":0},{"$f":"'Dir1'!I83+'Dir2'!I83","v":0},{"$f":"'Dir1'!J83+'Dir2'!J83","v":0},{"$f":"'Dir1'!K83+'Dir2'!K83","v":0},{"$f":"'Dir1'!L83+'Dir2'!L83","v":0},{"$f":"'Dir1'!M83+'Dir2'!M83","v":0},{"$f":"'Dir1'!N83+'Dir2'!N83","v":0},{"$f":"'Dir1'!O83+'Dir2'!O83","v":0},{"$f":"'Dir1'!P83+'Dir2'!N83","v":0},{"$f":"'Dir1'!Q83+'Dir2'!O83","v":0},{"$f":"'Dir1'!R83+'Dir2'!R83","v":0},{"$f":"'Dir1'!S83+'Dir2'!S83","v":0},{"$f":"'Dir1'!T83+'Dir2'!T83","v":0},{"$f":"'Dir1'!U83+'Dir2'!U83","v":0},{"$f":"'Dir1'!V83+'Dir2'!V83","v":0},{"$f":"'Dir1'!W83+'Dir2'!W83","v":0},{"$f":"'Dir1'!X83+'Dir2'!X83","v":0},{"$f":"'Dir1'!Y83+'Dir2'!Y83","v":0},{"$f":"'Dir1'!Z83+'Dir2'!Z83","v":0},{"$f":"'Dir1'!AA83+'Dir2'!AA83","v":0},{"$f":"'Dir1'!AB83+'Dir2'!AB83","v":0},{"$f":"'Dir1'!AC83+'Dir2'!AC83","v":0},{"$f":"'Dir1'!AD83+'Dir2'!AD83","v":0},{"$f":"'Dir1'!AE83+'Dir2'!AE83","v":0},{"$f":"'Dir1'!AF83+'Dir2'!AF83","v":0},{"$f":"'Dir1'!AG83+'Dir2'!AG83","v":0},{"$f":"'Dir1'!AH83+'Dir2'!AH83","v":0},{"$f":"'Dir1'!AI83+'Dir2'!AI83","v":0},{"$f":"'Dir1'!AJ83+'Dir2'!AJ83","v":0},{"$f":"'Dir1'!AK83+'Dir2'!AK83","v":0},{"$f":"'Dir1'!AL83+'Dir2'!AL83","v":0},"-",{"$f":"IFERROR(ROUND(PERCENTILE(_xlfn._xlws.FILTER(Data_Table[Speed],(Data_Table[Period]=$B83)*(SUM(C83:N83)>=10)),0.85),2),\"-\")","v":"-"}]
[80,{"$f":"ImportData!$B$10+7*QUOTIENT(A84,24*60*7/ImportData!$B$8)+MOD(1+QUOTIENT(A84,24*60/ImportData!$B$8)-ImportData!$E$10,7)+TIME(0,ImportData!$B$8*A84,0)","v":"2023-09-28T08:00:00"},{"$f":"'Dir1'!C84+'Dir2'!C84","v":0},{"$f":"'Dir1'!D84+'Dir2'!D84","v":0},{"$f":"'Dir1'!E84+'Dir2'!E84","v":0},{"$f":"'Dir1'!F84+'Dir2'!F84","v":0},{"$f":"'Dir1'!G84+'Dir2'!G84","v":0},{"$f":"'Dir1'!H84+'Dir2'!H84","v":0},{"$f":"'Dir1'!I84+'Dir2'!I84","v":0},{"$f":"'Dir1'!J84+'Dir2'!J84","v":0},{"$f":"'Dir1'!K84+'Dir2'!K84","v":0},{"$f":"'Dir1'!L84+'Dir2'!L84","v":0},{"$f":"'Dir1'!M84+'Dir2'!M84","v":0},{"$f":"'Dir1'!N84+'Dir2'!N84","v":0},{"$f":"'Dir1'!O84+'Dir2'!O84","v":0},{"$f":"'Dir1'!P84+'Dir2'!N84","v":0},{"$f":"'Dir1'!Q84+'Dir2'!O84","v":0},{"$f":"'Dir1'!R84+'Dir2'!R84","v":0},{"$f":"'Dir1'!S84+'Dir2'!S84","v":0},{"$f":"'Dir1'!T84+'Dir2'!T84","v":0},{"$f":"'Dir1'!U84+'Dir2'!U84","v":0},{"$f":"'Dir1'!V84+'Dir2'!V84","v":0},{"$f":"'Dir1'!W84+'Dir2'!W84","v":0},{"$f":"'Dir1'!X84+'Dir2'!X84","v":0},{"$f":"'Dir1'!Y84+'Dir2'!Y84","v":0},{"$f":"'Dir1'!Z84+'Dir2'!Z84","v":0},{"$f":"'Dir1'!AA84+'Dir2'!AA84","v":0},{"$f":"'Dir1'!AB84+'Dir2'!AB84","v":0},{"$f":"'Dir1'!AC84+'Dir2'!AC84","v":0},{"$f":"'Dir1'!AD84+'Dir2'!AD84","v":0},{"$f":"'Dir1'!AE84+'Dir2'!AE84","v":0},{"$f":"'Dir1'!AF84+'Dir2'!AF84","v":0},{"$f":"'Dir1'!AG84+'Dir2'!AG84","v":0},{"$f":"'Dir1'!AH84+'Dir2'!AH84","v":0},{"$f":"'Dir1'!AI84+'Dir2'!AI84","v":0},{"$f":"'Dir1'!AJ84+'Dir2'!AJ84","v":0},{"$f":"'Dir1'!AK84+'Dir2'!AK84","v":0},{"$f":"'Dir1'!AL84+'Dir2'!AL84","v":0},"-",{"$f":"IFERROR(ROUND(PERCENTILE(_xlfn._xlws.FILTER(Data_Table[Speed],(Data_Table[Period]=$B84)*(SUM(C84:N84)>=10)),0.85),2),\"-\")","v":"-"}]
[81,{"$f":"ImportData!$B$10+7*QUOTIENT(A85,24*60*7/ImportData!$B$8)+MOD(1+QUOTIENT(A85,24*60/ImportData!$B$8)-ImportData!$E$10,7)+TIME(0,ImportData!$B$8*A85,0)","v":"2023-09-28T09:00:00"},{"$f":"'Dir1'!C85+'Dir2'!C85","v":0},{"$f":"'Dir1'!D85+'Dir2'!D85","v":0},{"$f":"'Dir1'!E85+'Dir2'!E85","v":0},{"$f":"'Dir1'!F85+'Dir2'!F85","v":0},{"$f":"'Dir1'!G85+'Dir2'!G85","v":0},{"$f":"'Dir1'!H85+'Dir2'!H85","v":0},{"$f":"'Dir1'!I85+'Dir2'!I85","v":0},{"$f":"'Dir1'!J85+'Dir2'!J85","v":0},{"$f":"'Dir1'!K85+'Dir2'!K85","v":0},{"$f":"'Dir1'!L85+'Dir2'!L85","v":0},{"$f":"'Dir1'!M85+'Dir2'!M85","v":0},{"$f":"'Dir1'!N85+'Dir2'!N85","v":0},{"$f":"'Dir1'!O85+'Dir2'!O85","v":0},{"$f":"'Dir1'!P85+'Dir2'!N85","v":0},{"$f":"'Dir1'!Q85+'Dir2'!O85","v":0},{"$f":"'Dir1'!R85+'Dir2'!R85","v":0},{"$f":"'Dir1'!S85+'Dir2'!S85","v":0},{"$f":"'Dir1'!T85+'Dir2'!T85","v":0},{"$f":"'Dir1'!U85+'Dir2'!U85","v":0},{"$f":"'Dir1'!V85+'Dir2'!V85","v":0},{"$f":"'Dir1'!W85+'Dir2'!W85","v":0},{"$f":"'Dir1'!X85+'Dir2'!X85","v":0},{"$f":"'Dir1'!Y85+'Dir2'!Y85","v":0},{"$f":"'Dir1'!Z85+'Dir2'!Z85","v":0},{"$f":"'Dir1'!AA85+'Dir2'!AA85","v":0},{"$f":"'Dir1'!AB85+'Dir2'!AB85","v":0},{"$f":"'Dir1'!AC85+'Dir2'!AC85","v":0},{"$f":"'Dir1'!AD85+'Dir2'!AD85","v":0},{"$f":"'Dir1'!AE85+'Dir2'!AE85","v":0},{"$f":"'Dir1'!AF85+'Dir2'!AF85","v":0},{"$f":"'Dir1'!AG85+'Dir2'!AG85","v":0},{"$f":"'Dir1'!AH85+'Dir2'!AH85","v":0},{"$f":"'Dir1'!AI85+'Dir2'!AI85","v":0},{"$f":"'Dir1'!AJ85+'Dir2'!AJ85","v":0},{"$f":"'Dir1'!AK85+'Dir2'!AK85","v":0},{"$f":"'Dir1'!AL85+'Dir2'!AL85","v":0},"-",{"$f":"IFERROR(ROUND(PERCENTILE(_xlfn._xlws.FILTER(Data_Table[Speed],(Data_Table[Period]=$B85)*(SUM(C85:N85)>=10)),0.85),2),\"-\")","v":"-"}]
[82,{"$f":"ImportData!$B$10+7*QUOTIENT(A86,24*60*7/ImportData!$B$8)+MOD(1+QUOTIENT(A86,24*60/ImportData!$B$8)-ImportData!$E$10,7)+TIME(0,ImportData!$B$8*A86,0)","v":"2023-09-28T10:00:00"},{"$f":"'Dir1'!C86+'Dir2'!C86","v":0},{"$f":"'Dir1'!D86+'Dir2'!D86","v":0},{"$f":"'Dir1'!E86+'Dir2'!E86","v":0},{"$f":"'Dir1'!F86+'Dir2'!F86","v":0},{"$f":"'Dir1'!G86+'Dir2'!G86","v":0},{"$f":"'Dir1'!H86+'Dir2'!H86","v":0},{"$f":"'Dir1'!I86+'Dir2'!I86","v":0},{"$f":"'Dir1'!J86+'Dir2'!J86","v":0},{"$f":"'Dir1'!K86+'Dir2'!K86","v":0},{"$f":"'Dir1'!L86+'Dir2'!L86","v":0},{"$f":"'Dir1'!M86+'Dir2'!M86","v":0},{"$f":"'Dir1'!N86+'Dir2'!N86","v":0},{"$f":"'Dir1'!O86+'Dir2'!O86","v":0},{"$f":"'Dir1'!P86+'Dir2'!N86","v":0},{"$f":"'Dir1'!Q86+'Dir2'!O86","v":0},{"$f":"'Dir1'!R86+'Dir2'!R86","v":0},{"$f":"'Dir1'!S86+'Dir2'!S86","v":0},{"$f":"'Dir1'!T86+'Dir2'!T86","v":0},{"$f":"'Dir1'!U86+'Dir2'!U86","v":0},{"$f":"'Dir1'!V86+'Dir2'!V86","v":0},{"$f":"'Dir1'!W86+'Dir2'!W86","v":0},{"$f":"'Dir1'!X86+'Dir2'!X86","v":0},{"$f":"'Dir1'!Y86+'Dir2'!Y86","v":0},{"$f":"'Dir1'!Z86+'Dir2'!Z86","v":0},{"$f":"'Dir1'!AA86+'Dir2'!AA86","v":0},{"$f":"'Dir1'!AB86+'Dir2'!AB86","v":0},{"$f":"'Dir1'!AC86+'Dir2'!AC86","v":0},{"$f":"'Dir1'!AD86+'Dir2'!AD86","v":0},{"$f":"'Dir1'!AE86+'Dir2'!AE86","v":0},{"$f":"'Dir1'!AF86+'Dir2'!AF86","v":0},{"$f":"'Dir1'!AG86+'Dir2'!AG86","v":0},{"$f":"'Dir1'!AH86+'Dir2'!AH86","v":0},{"$f":"'Dir1'!AI86+'Dir2'!AI86","v":0},{"$f":"'Dir1'!AJ86+'Dir2'!AJ86","v":0},{"$f":"'Dir1'!AK86+'Dir2'!AK86","v":0},{"$f":"'Dir1'!AL86+'Dir2'!AL86","v":0},"-",{"$f":"IFERROR(ROUND(PERCENTILE(_xlfn._xlws.FILTER(Data_Table[Speed],(Data_Table[Period]=$B86)*(SUM(C86:N86)>=10)),0.85),2),\"-\")","v":"-"}]
[83,{"$f":"ImportData!$B$10+7*QUOTIENT(A87,24*60*7/ImportData!$B$8)+MOD(1+QUOTIENT(A87,24*60/ImportData!$B$8)-ImportData!$E$10,7)+TIME(0,ImportData!$B$8*A87,0)","v":"2023-09-28T11:00:00"},{"$f":"'Dir1'!C87+'Dir2'!C87","v":0},{"$f":"'Dir1'!D87+'Dir2'!D87","v":0},{"$f":"'Dir1'!E87+'Dir2'!E87","v":0},{"$f":"'Dir1'!F87+'Dir2'!F87","v":0},{"$f":"'Dir1'!G87+'Dir2'!G87","v":0},{"$f":"'Dir1'!H87+'Dir2'!H87","v":0},{"$f":"'Dir1'!I87+'Dir2'!I87","v":0},{"$f":"'Dir1'!J87+'Dir2'!J87","v":0},{"$f":"'Dir1'!K87+'Dir2'!K87","v":0},{"$f":"'Dir1'!L87+'Dir2'!L87","v":0},{"$f":"'Dir1'!M87+'Dir2'!M87","v":0},{"$f":"'Dir1'!N87+'Dir2'!N87","v":0},{"$f":"'Dir1'!O87+'Dir2'!O87","v":0},{"$f":"'Dir1'!P87+'Dir2'!N87","v":0},{"$f":"'Dir1'!Q87+'Dir2'!O87","v":0},{"$f":"'Dir1'!R87+'Dir2'!R87","v":0},{"$f":"'Dir1'!S87+'Dir2'!S87","v":0},{"$f":"'Dir1'!T87+'Dir2'!T87","v":0},{"$f":"'Dir1'!U87+'Dir2'!U87","v":0},{"$f":"'Dir1'!V87+'Dir2'!V87","v":0},{"$f":"'Dir1'!W87+'Dir2'!W87","v":0},{"$f":"'Dir1'!X87+'Dir2'!X87","v":0},{"$f":"'Dir1'!Y87+'Dir2'!Y87","v":0},{"$f":"'Dir1'!Z87+'Dir2'!Z87","v":0},{"$f":"'Dir1'!AA87+'Dir2'!AA87","v":0},{"$f":"'Dir1'!AB87+'Dir2'!AB87","v":0},{"$f":"'Dir1'!AC87+'Dir2'!AC87","v":0},{"$f":"'Dir1'!AD87+'Dir2'!AD87","v":0},{"$f":"'Dir1'!AE87+'Dir2'!AE87","v":0},{"$f":"'Dir1'!AF87+'Dir2'!AF87","v":0},{"$f":"'Dir1'!AG87+'Dir2'!AG87","v":0},{"$f":"'Dir1'!AH87+'Dir2'!AH87","v":0},{"$f":"'Dir1'!AI87+'Dir2'!AI87","v":0},{"$f":"'Dir1'!AJ87+'Dir2'!AJ87","v":0},{"$f":"'Dir1'!AK87+'Dir2'!AK87","v":0},{"$f":"'Dir1'!AL87+'Dir2'!AL87","v":0},"-",{"$f":"IFERROR(ROUND(PERCENTILE(_xlfn._xlws.FILTER(Data_Table[Speed],(Data_Table[Period]=$B87)*(SUM(C87:N87)>=10)),0.85),2),\"-\")","v":"-"}]
[84,{"$f":"ImportData!$B$10+7*QUOTIENT(A88,24*60*7/ImportData!$B$8)+MOD(1+QUOTIENT(A88,24*60/ImportData!$B$8)-ImportData!$E$10,7)+TIME(0,ImportData!$B$8*A88,0)","v":"2023-09-28T12:00:00"},{"$f":"'Dir1'!C88+'Dir2'!C88","v":0},{"$f":"'Dir1'!D88+'Dir2'!D88","v":0},{"$f":"'Dir1'!E88+'Dir2'!E88","v":0},{"$f":"'Dir1'!F88+'Dir2'!F88","v":0},{"$f":"'Dir1'!G88+'Dir2'!G88","v":0},{"$f":"'Dir1'!H88+'Dir2'!H88","v":0},{"$f":"'Dir1'!I88+'Dir2'!I88","v":0},{"$f":"'Dir1'!J88+'Dir2'!J88","v":0},{"$f":"'Dir1'!K88+'Dir2'!K88","v":0},{"$f":"'Dir1'!L88+'Dir2'!L88","v":0},{"$f":"'Dir1'!M88+'Dir2'!M88","v":0},{"$f":"'Dir1'!N88+'Dir2'!N88","v":0},{"$f":"'Dir1'!O88+'Dir2'!O88","v":0},{"$f":"'Dir1'!P88+'Dir2'!N88","v":0},{"$f":"'Dir1'!Q88+'Dir2'!O88","v":0},{"$f":"'Dir1'!R88+'Dir2'!R88","v":0},{"$f":"'Dir1'!S88+'Dir2'!S88","v":0},{"$f":"'Dir1'!T88+'Dir2'!T88","v":0},{"$f":"'Dir1'!U88+'Dir2'!U88","v":0},{"$f":"'Dir1'!V88+'Dir2'!V88","v":0},{"$f":"'Dir1'!W88+'Dir2'!W88","v":0},{"$f":"'Dir1'!X88+'Dir2'!X88","v":0},{"$f":"'Dir1'!Y88+'Dir2'!Y88","v":0},{"$f":"'Dir1'!Z88+'Dir2'!Z88","v":0},{"$f":"'Dir1'!AA88+'Dir2'!AA88","v":0},{"$f":"'Dir1'!AB88+'Dir2'!AB88","v":0},{"$f":"'Dir1'!AC88+'Dir2'!AC88","v":0},{"$f":"'Dir1'!AD88+'Dir2'!AD88","v":0},{"$f":"'Dir1'!AE88+'Dir2'!AE88","v":0},{"$f":"'Dir1'!AF88+'Dir2'!AF88","v":0},{"$f":"'Dir1'!AG88+'Dir2'!AG88","v":0},{"$f":"'Dir1'!AH88+'Dir2'!AH88","v":0},{"$f":"'Dir1'!AI88+'Dir2'!AI88","v":0},{"$f":"'Dir1'!AJ88+'Dir2'!AJ88","v":0},{"$f":"'Dir1'!AK88+'Dir2'!AK88","v":0},{"$f":"'Dir1'!AL88+'Dir2'!AL88","v":0},"-",{"$f":"IFERROR(ROUND(PERCENTILE(_xlfn._xlws.FILTER(Data_Table[Speed],(Data_Table[Period]=$B88)*(SUM(C88:N88)>=10)),0.85),2),\"-\")","v":"-"}]
[85,{"$f":"ImportData!$B$10+7*QUOTIENT(A89,24*60*7/ImportData!$B$8)+MOD(1+QUOTIENT(A89,24*60/ImportData!$B$8)-ImportData!$E$10,7)+TIME(0,ImportData!$B$8*A89,0)","v":"2023-09-28T13:00:00"},{"$f":"'Dir1'!C89+'Dir2'!C89","v":0},{"$f":"'Dir1'!D89+'Dir2'!D89","v":0},{"$f":"'Dir1'!E89+'Dir2'!E89","v":0},{"$f":"'Dir1'!F89+'Dir2'!F89","v":0},{"$f":"'Dir1'!G89+'Dir2'!G89","v":0},{"$f":"'Dir1'!H89+'Dir2'!H89","v":0},{"$f":"'Dir1'!I89+'Dir2'!I89","v":0},{"$f":"'Dir1'!J89+'Dir2'!J89","v":0},{"$f":"'Dir1'!K89+'Dir2'!K89","v":0},{"$f":"'Dir1'!L89+'Dir2'!L89","v":0},{"$f":"'Dir1'!M89+'Dir2'!M89","v":0},{"$f":"'Dir1'!N89+'Dir2'!N89","v":0},{"$f":"'Dir1'!O89+'Dir2'!O89","v":0},{"$f":"'Dir1'!P89+'Dir2'!N89","v":0},{"$f":"'Dir1'!Q89+'Dir2'!O89","v":0},{"$f":"'Dir1'!R89+'Dir2'!R89","v":0},{"$f":"'Dir1'!S89+'Dir2'!S89","v":0},{"$f":"'Dir1'!T89+'Dir2'!T89","v":0},{"$f":"'Dir1'!U89+'Dir2'!U89","v":0},{"$f":"'Dir1'!V89+'Dir2'!V89","v":0},{"$f":"'Dir1'!W89+'Dir2'!W89","v":0},{"$f":"'Dir1'!X89+'Dir2'!X89","v":0},{"$f":"'Dir1'!Y89+'Dir2'!Y89","v":0},{"$f":"'Dir1'!Z89+'Dir2'!Z89","v":0},{"$f":"'Dir1'!AA89+'Dir2'!AA89","v":0},{"$f":"'Dir1'!AB89+'Dir2'!AB89","v":0},{"$f":"'Dir1'!AC89+'Dir2'!AC89","v":0},{"$f":"'Dir1'!AD89+'Dir2'!AD89","v":0},{"$f":"'Dir1'!AE89+'Dir2'!AE89","v":0},{"$f":"'Dir1'!AF89+'Dir2'!AF89","v":0},{"$f":"'Dir1'!AG89+'Dir2'!AG89","v":0},{"$f":"'Dir1'!AH89+'Dir2'!AH89","v":0},{"$f":"'Dir1'!AI89+'Dir2'!AI89","v":0},{"$f":"'Dir1'!AJ89+'Dir2'!AJ89","v":0},{"$f":"'Dir1'!AK89+'Dir2'!AK89","v":0},{"$f":"'Dir1'!AL89+'Dir2'!AL89","v":0},"-",{"$f":"IFERROR(ROUND(PERCENTILE(_xlfn._xlws.FILTER(Data_Table[Speed],(Data_Table[Period]=$B89)*(SUM(C89:N89)>=10)),0.85),2),\"-\")","v":"-"}]
[86,{"$f":"ImportData!$B$10+7*QUOTIENT(A90,24*60*7/ImportData!$B$8)+MOD(1+QUOTIENT(A90,24*60/ImportData!$B$8)-ImportData!$E$10,7)+TIME(0,ImportData!$B$8*A90,0)","v":"2023-09-28T14:00:00"},{"$f":"'Dir1'!C90+'Dir2'!C90","v":0},{"$f":"'Dir1'!D90+'Dir2'!D90","v":0},{"$f":"'Dir1'!E90+'Dir2'!E90","v":0},{"$f":"'Dir1'!F90+'Dir2'!F90","v":0},{"$f":"'Dir1'!G90+'Dir2'!G90","v":0},{"$f":"'Dir1'!H90+'Dir2'!H90","v":0},{"$f":"'Dir1'!I90+'Dir2'!I90","v":0},{"$f":"'Dir1'!J90+'Dir2'!J90","v":0},{"$f":"'Dir1'!K90+'Dir2'!K90","v":0},{"$f":"'Dir1'!L90+'Dir2'!L90","v":0},{"$f":"'Dir1'!M90+'Dir2'!M90","v":0},{"$f":"'Dir1'!N90+'Dir2'!N90","v":0},{"$f":"'Dir1'!O90+'Dir2'!O90","v":0},{"$f":"'Dir1'!P90+'Dir2'!N90","v":0},{"$f":"'Dir1'!Q90+'Dir2'!O90","v":0},{"$f":"'Dir1'!R90+'Dir2'!R90","v":0},{"$f":"'Dir1'!S90+'Dir2'!S90","v":0},{"$f":"'Dir1'!T90+'Dir2'!T90","v":0},{"$f":"'Dir1'!U90+'Dir2'!U90","v":0},{"$f":"'Dir1'!V90+'Dir2'!V90","v":0},{"$f":"'Dir1'!W90+'Dir2'!W90","v":0},{"$f":"'Dir1'!X90+'Dir2'!X90","v":0},{"$f":"'Dir1'!Y90+'Dir2'!Y90","v":0},{"$f":"'Dir1'!Z90+'Dir2'!Z90","v":0},{"$f":"'Dir1'!AA90+'Dir2'!AA90","v":0},{"$f":"'Dir1'!AB90+'Dir2'!AB90","v":0},{"$f":"'Dir1'!AC90+'Dir2'!AC90","v":0},{"$f":"'Dir1'!AD90+'Dir2'!AD90","v":0},{"$f":"'Dir1'!AE90+'Dir2'!AE90","v":0},{"$f":"'Dir1'!AF90+'Dir2'!AF90","v":0},{"$f":"'Dir1'!AG90+'Dir2'!AG90","v":0},{"$f":"'Dir1'!AH90+'Dir2'!AH90","v":0},{"$f":"'Dir1'!AI90+'Dir2'!AI90","v":0},{"$f":"'Dir1'!AJ90+'Dir2'!AJ90","v":0},{"$f":"'Dir1'!AK90+'Dir2'!AK90","v":0},{"$f":"'Dir1'!AL90+'Dir2'!AL90","v":0},"-",{"$f":"IFERROR(ROUND(PERCENTILE(_xlfn._xlws.FILTER(Data_Table[Speed],(Data_Table[Period]=$B90)*(SUM(C90:N90)>=10)),0.85),2),\"-\")","v":"-"}]
[87,{"$f":"ImportData!$B$10+7*QUOTIENT(A91,24*60*7/ImportData!$B$8)+MOD(1+QUOTIENT(A91,24*60/ImportData!$B$8)-ImportData!$E$10,7)+TIME(0,ImportData!$B$8*A91,0)","v":"2023-09-28T15:00:00"},{"$f":"'Dir1'!C91+'Dir2'!C91","v":0},{"$f":"'Dir1'!D91+'Dir2'!D91","v":0},{"$f":"'Dir1'!E91+'Dir2'!E91","v":0},{"$f":"'Dir1'!F91+'Dir2'!F91","v":0},{"$f":"'Dir1'!G91+'Dir2'!G91","v":0},{"$f":"'Dir1'!H91+'Dir2'!H91","v":0},{"$f":"'Dir1'!I91+'Dir2'!I91","v":0},{"$f":"'Dir1'!J91+'Dir2'!J91","v":0},{"$f":"'Dir1'!K91+'Dir2'!K91","v":0},{"$f":"'Dir1'!L91+'Dir2'!L91","v":0},{"$f":"'Dir1'!M91+'Dir2'!M91","v":0},{"$f":"'Dir1'!N91+'Dir2'!N91","v":0},{"$f":"'Dir1'!O91+'Dir2'!O91","v":0},{"$f":"'Dir1'!P91+'Dir2'!N91","v":0},{"$f":"'Dir1'!Q91+'Dir2'!O91","v":0},{"$f":"'Dir1'!R91+'Dir2'!R91","v":0},{"$f":"'Dir1'!S91+'Dir2'!S91","v":0},{"$f":"'Dir1'!T91+'Dir2'!T91","v":0},{"$f":"'Dir1'!U91+'Dir2'!U91","v":0},{"$f":"'Dir1'!V91+'Dir2'!V91","v":0},{"$f":"'Dir1'!W91+'Dir2'!W91","v":0},{"$f":"'Dir1'!X91+'Dir2'!X91","v":0},{"$f":"'Dir1'!Y91+'Dir2'!Y91","v":0},{"$f":"'Dir1'!Z91+'Dir2'!Z91","v":0},{"$f":"'Dir1'!AA91+'Dir2'!AA91","v":0},{"$f":"'Dir1'!AB91+'Dir2'!AB91","v":0},{"$f":"'Dir1'!AC91+'Dir2'!AC91","v":0},{"$f":"'Dir1'!AD91+'Dir2'!AD91","v":0},{"$f":"'Dir1'!AE91+'Dir2'!AE91","v":0},{"$f":"'Dir1'!AF91+'Dir2'!AF91","v":0},{"$f":"'Dir1'!AG91+'Dir2'!AG91","v":0},{"$f":"'Dir1'!AH91+'Dir2'!AH91","v":0},{"$f":"'Dir1'!AI91+'Dir2'!AI91","v":0},{"$f":"'Dir1'!AJ91+'Dir2'!AJ91","v":0},{"$f":"'Dir1'!AK91+'Dir2'!AK91","v":0},{"$f":"'Dir1'!AL91+'Dir2'!AL91","v":0},"-",{"$f":"IFERROR(ROUND(PERCENTILE(_xlfn._xlws.FILTER(Data_Table[Speed],(Data_Table[Period]=$B91)*(SUM(C91:N91)>=10)),0.85),2),\"-\")","v":"-"}]
[88,{"$f":"ImportData!$B$10+7*QUOTIENT(A92,24*60*7/ImportData!$B$8)+MOD(1+QUOTIENT(A92,24*60/ImportData!$B$8)-ImportData!$E$10,7)+TIME(0,ImportData!$B$8*A92,0)","v":"2023-09-28T16:00:00"},{"$f":"'Dir1'!C92+'Dir2'!C92","v":0},{"$f":"'Dir1'!D92+'Dir2'!D92","v":0},{"$f":"'Dir1'!E92+'Dir2'!E92","v":0},{"$f":"'Dir1'!F92+'Dir2'!F92","v":0},{"$f":"'Dir1'!G92+'Dir2'!G92","v":0},{"$f":"'Dir1'!H92+'Dir2'!H92","v":0},{"$f":"'Dir1'!I92+'Dir2'!I92","v":0},{"$f":"'Dir1'!J92+'Dir2'!J92","v":0},{"$f":"'Dir1'!K92+'Dir2'!K92","v":0},{"$f":"'Dir1'!L92+'Dir2'!L92","v":0},{"$f":"'Dir1'!M92+'Dir2'!M92","v":0},{"$f":"'Dir1'!N92+'Dir2'!N92","v":0},{"$f":"'Dir1'!O92+'Dir2'!O92","v":0},{"$f":"'Dir1'!P92+'Dir2'!N92","v":0},{"$f":"'Dir1'!Q92+'Dir2'!O92","v":0},{"$f":"'Dir1'!R92+'Dir2'!R92","v":0},{"$f":"'Dir1'!S92+'Dir2'!S92","v":0},{"$f":"'Dir1'!T92+'Dir2'!T92","v":0},{"$f":"'Dir1'!U92+'Dir2'!U92","v":0},{"$f":"'Dir1'!V92+'Dir2'!V92","v":0},{"$f":"'Dir1'!W92+'Dir2'!W92","v":0},{"$f":"'Dir1'!X92+'Dir2'!X92","v":0},{"$f":"'Dir1'!Y92+'Dir2'!Y92","v":0},{"$f":"'Dir1'!Z92+'Dir2'!Z92","v":0},{"$f":"'Dir1'!AA92+'Dir2'!AA92","v":0},{"$f":"'Dir1'!AB92+'Dir2'!AB92","v":0},{"$f":"'Dir1'!AC92+'Dir2'!AC92","v":0},{"$f":"'Dir1'!AD92+'Dir2'!AD92","v":0},{"$f":"'Dir1'!AE92+'Dir2'!AE92","v":0},{"$f":"'Dir1'!AF92+'Dir2'!AF92","v":0},{"$f":"'Dir1'!AG92+'Dir2'!AG92","v":0},{"$f":"'Dir1'!AH92+'Dir2'!AH92","v":0},{"$f":"'Dir1'!AI92+'Dir2'!AI92","v":0},{"$f":"'Dir1'!AJ92+'Dir2'!AJ92","v":0},{"$f":"'Dir1'!AK92+'Dir2'!AK92","v":0},{"$f":"'Dir1'!AL92+'Dir2'!AL92","v":0},"-",{"$f":"IFERROR(ROUND(PERCENTILE(_xlfn._xlws.FILTER(Data_Table[Speed],(Data_Table[Period]=$B92)*(SUM(C92:N92)>=10)),0.85),2),\"-\")","v":"-"}]
[89,{"$f":"ImportData!$B$10+7*QUOTIENT(A93,24*60*7/ImportData!$B$8)+MOD(1+QUOTIENT(A93,24*60/ImportData!$B$8)-ImportData!$E$10,7)+TIME(0,ImportData!$B$8*A93,0)","v":"2023-09-28T17:00:00"},{"$f":"'Dir1'!C93+'Dir2'!C93","v":0},{"$f":"'Dir1'!D93+'Dir2'!D93","v":0},{"$f":"'Dir1'!E93+'Dir2'!E93","v":0},{"$f":"'Dir1'!F93+'Dir2'!F93","v":0},{"$f":"'Dir1'!G93+'Dir2'!G93","v":0},{"$f":"'Dir1'!H93+'Dir2'!H93","v":0},{"$f":"'Dir1'!I93+'Dir2'!I93","v":0},{"$f":"'Dir1'!J93+'Dir2'!J93","v":0},{"$f":"'Dir1'!K93+'Dir2'!K93","v":0},{"$f":"'Dir1'!L93+'Dir2'!L93","v":0},{"$f":"'Dir1'!M93+'Dir2'!M93","v":0},{"$f":"'Dir1'!N93+'Dir2'!N93","v":0},{"$f":"'Dir1'!O93+'Dir2'!O93","v":0},{"$f":"'Dir1'!P93+'Dir2'!N93","v":0},{"$f":"'Dir1'!Q93+'Dir2'!O93","v":0},{"$f":"'Dir1'!R93+'Dir2'!R93","v":0},{"$f":"'Dir1'!S93+'Dir2'!S93","v":0},{"$f":"'Dir1'!T93+'Dir2'!T93","v":0},{"$f":"'Dir1'!U93+'Dir2'!U93","v":0},{"$f":"'Dir1'!V93+'Dir2'!V93","v":0},{"$f":"'Dir1'!W93+'Dir2'!W93","v":0},{"$f":"'Dir1'!X93+'Dir2'!X93","v":0},{"$f":"'Dir1'!Y93+'Dir2'!Y93","v":0},{"$f":"'Dir1'!Z93+'Dir2'!Z93","v":0},{"$f":"'Dir1'!AA93+'Dir2'!AA93","v":0},{"$f":"'Dir1'!AB93+'Dir2'!AB93","v":0},{"$f":"'Dir1'!AC93+'Dir2'!AC93","v":0},{"$f":"'Dir1'!AD93+'Dir2'!AD93","v":0},{"$f":"'Dir1'!AE93+'Dir2'!AE93","v":0},{"$f":"'Dir1'!AF93+'Dir2'!AF93","v":0},{"$f":"'Dir1'!AG93+'Dir2'!AG93","v":0},{"$f":"'Dir1'!AH93+'Dir2'!AH93","v":0},{"$f":"'Dir1'!AI93+'Dir2'!AI93","v":0},{"$f":"'Dir1'!AJ93+'Dir2'!AJ93","v":0},{"$f":"'Dir1'!AK93+'Dir2'!AK93","v":0},{"$f":"'Dir1'!AL93+'Dir2'!AL93","v":0},"-",{"$f":"IFERROR(ROUND(PERCENTILE(_xlfn._xlws.FILTER(Data_Table[Speed],(Data_Table[Period]=$B93)*(SUM(C93:N93)>=10)),0.85),2),\"-\")","v":"-"}]
[90,{"$f":"ImportData!$B$10+7*QUOTIENT(A94,24*60*7/ImportData!$B$8)+MOD(1+QUOTIENT(A94,24*60/ImportData!$B$8)-ImportData!$E$10,7)+TIME(0,ImportData!$B$8*A94,0)","v":"2023-09-28T18:00:00"},{"$f":"'Dir1'!C94+'Dir2'!C94","v":0},{"$f":"'Dir1'!D94+'Dir2'!D94","v":0},{"$f":"'Dir1'!E94+'Dir2'!E94","v":0},{"$f":"'Dir1'!F94+'Dir2'!F94","v":0},{"$f":"'Dir1'!G94+'Dir2'!G94","v":0},{"$f":"'Dir1'!H94+'Dir2'!H94","v":0},{"$f":"'Dir1'!I94+'Dir2'!I94","v":0},{"$f":"'Dir1'!J94+'Dir2'!J94","v":0},{"$f":"'Dir1'!K94+'Dir2'!K94","v":0},{"$f":"'Dir1'!L94+'Dir2'!L94","v":0},{"$f":"'Dir1'!M94+'Dir2'!M94","v":0},{"$f":"'Dir1'!N94+'Dir2'!N94","v":0},{"$f":"'Dir1'!O94+'Dir2'!O94","v":0},{"$f":"'Dir1'!P94+'Dir2'!N94","v":0},{"$f":"'Dir1'!Q94+'Dir2'!O94","v":0},{"$f":"'Dir1'!R94+'Dir2'!R94","v":0},{"$f":"'Dir1'!S94+'Dir2'!S94","v":0},{"$f":"'Dir1'!T94+'Dir2'!T94","v":0},{"$f":"'Dir1'!U94+'Dir2'!U94","v":0},{"$f":"'Dir1'!V94+'Dir2'!V94","v":0},{"$f":"'Dir1'!W94+'Dir2'!W94","v":0},{"$f":"'Dir1'!X94+'Dir2'!X94","v":0},{"$f":"'Dir1'!Y94+'Dir2'!Y94","v":0},{"$f":"'Dir1'!Z94+'Dir2'!Z94","v":0},{"$f":"'Dir1'!AA94+'Dir2'!AA94","v":0},{"$f":"'Dir1'!AB94+'Dir2'!AB94","v":0},{"$f":"'Dir1'!AC94+'Dir2'!AC94","v":0},{"$f":"'Dir1'!AD94+'Dir2'!AD94","v":0},{"$f":"'Dir1'!AE94+'Dir2'!AE94","v":0},{"$f":"'Dir1'!AF94+'Dir2'!AF94","v":0},{"$f":"'Dir1'!AG94+'Dir2'!AG94","v":0},{"$f":"'Dir1'!AH94+'Dir2'!AH94","v":0},{"$f":"'Dir1'!AI94+'Dir2'!AI94","v":0},{"$f":"'Dir1'!AJ94+'Dir2'!AJ94","v":0},{"$f":"'Dir1'!AK94+'Dir2'!AK94","v":0},{"$f":"'Dir1'!AL94+'Dir2'!AL94","v":0},"-",{"$f":"IFERROR(ROUND(PERCENTILE(_xlfn._xlws.FILTER(Data_Table[Speed],(Data_Table[Period]=$B94)*(SUM(C94:N94)>=10)),0.85),2),\"-\")","v":"-"}]
[91,{"$f":"ImportData!$B$10+7*QUOTIENT(A95,24*60*7/ImportData!$B$8)+MOD(1+QUOTIENT(A95,24*60/ImportData!$B$8)-ImportData!$E$10,7)+TIME(0,ImportData!$B$8*A95,0)","v":"2023-09-28T19:00:00"},{"$f":"'Dir1'!C95+'Dir2'!C95","v":0},{"$f":"'Dir1'!D95+'Dir2'!D95","v":0},{"$f":"'Dir1'!E95+'Dir2'!E95","v":0},{"$f":"'Dir1'!F95+'Dir2'!F95","v":0},{"$f":"'Dir1'!G95+'Dir2'!G95","v":0},{"$f":"'Dir1'!H95+'Dir2'!H95","v":0},{"$f":"'Dir1'!I95+'Dir2'!I95","v":0},{"$f":"'Dir1'!J95+'Dir2'!J95","v":0},{"$f":"'Dir1'!K95+'Dir2'!K95","v":0},{"$f":"'Dir1'!L95+'Dir2'!L95","v":0},{"$f":"'Dir1'!M95+'Dir2'!M95","v":0},{"$f":"'Dir1'!N95+'Dir2'!N95","v":0},{"$f":"'Dir1'!O95+'Dir2'!O95","v":0},{"$f":"'Dir1'!P95+'Dir2'!N95","v":0},{"$f":"'Dir1'!Q95+'Dir2'!O95","v":0},{"$f":"'Dir1'!R95+'Dir2'!R95","v":0},{"$f":"'Dir1'!S95+'Dir2'!S95","v":0},{"$f":"'Dir1'!T95+'Dir2'!T95","v":0},{"$f":"'Dir1'!U95+'Dir2'!U95","v":0},{"$f":"'Dir1'!V95+'Dir2'!V95","v":0},{"$f":"'Dir1'!W95+'Dir2'!W95","v":0},{"$f":"'Dir1'!X95+'Dir2'!X95","v":0},{"$f":"'Dir1'!Y95+'Dir2'!Y95","v":0},{"$f":"'Dir1'!Z95+'Dir2'!Z95","v":0},{"$f":"'Dir1'!AA95+'Dir2'!AA95","v":0},{"$f":"'Dir1'!AB95+'Dir2'!AB95","v":0},{"$f":"'Dir1'!AC95+'Dir2'!AC95","v":0},{"$f":"'Dir1'!AD95+'Dir2'!AD95","v":0},{"$f":"'Dir1'!AE95+'Dir2'!AE95","v":0},{"$f":"'Dir1'!AF95+'Dir2'!AF95","v":0},{"$f":"'Dir1'!AG95+'Dir2'!AG95","v":0},{"$f":"'Dir1'!AH95+'Dir2'!AH95","v":0},{"$f":"'Dir1'!AI95+'Dir2'!AI95","v":0},{"$f":"'Dir1'!AJ95+'Dir2'!AJ95","v":0},{"$f":"'Dir1'!AK95+'Dir2'!AK95","v":0},{"$f":"'Dir1'!AL95+'Dir2'!AL95","v":0},"-",{"$f":"IFERROR(ROUND(PERCENTILE(_xlfn._xlws.FILTER(Data_Table[Speed],(Data_Table[Period]=$B95)*(SUM(C95:N95)>=10)),0.85),2),\"-\")","v":"-"}]
[92,{"$f":"ImportData!$B$10+7*QUOTIENT(A96,24*60*7/ImportData!$B$8)+MOD(1+QUOTIENT(A96,24*60/ImportData!$B$8)-ImportData!$E$10,7)+TIME(0,ImportData!$B$8*A96,0)","v":"2023-09-28T20:00:00"},{"$f":"'Dir1'!C96+'Dir2'!C96","v":0},{"$f":"'Dir1'!D96+'Dir2'!D96","v":0},{"$f":"'Dir1'!E96+'Dir2'!E96","v":0},{"$f":"'Dir1'!F96+'Dir2'!F96","v":0},{"$f":"'Dir1'!G96+'Dir2'!G96","v":0},{"$f":"'Dir1'!H96+'Dir2'!H96","v":0},{"$f":"'Dir1'!I96+'Dir2'!I96","v":0},{"$f":"'Dir1'!J96+'Dir2'!J96","v":0},{"$f":"'Dir1'!K96+'Dir2'!K96","v":0},{"$f":"'Dir1'!L96+'Dir2'!L96","v":0},{"$f":"'Dir1'!M96+'Dir2'!M96","v":0},{"$f":"'Dir1'!N96+'Dir2'!N96","v":0},{"$f":"'Dir1'!O96+'Dir2'!O96","v":0},{"$f":"'Dir1'!P96+'Dir2'!N96","v":0},{"$f":"'Dir1'!Q96+'Dir2'!O96","v":0},{"$f":"'Dir1'!R96+'Dir2'!R96","v":0},{"$f":"'Dir1'!S96+'Dir2'!S96","v":0},{"$f":"'Dir1'!T96+'Dir2'!T96","v":0},{"$f":"'Dir1'!U96+'Dir2'!U96","v":0},{"$f":"'Dir1'!V96+'Dir2'!V96","v":0},{"$f":"'Dir1'!W96+'Dir2'!W96","v":0},{"$f":"'Dir1'!X96+'Dir2'!X96","v":0},{"$f":"'Dir1'!Y96+'Dir2'!Y96","v":0},{"$f":"'Dir1'!Z96+'Dir2'!Z96","v":0},{"$f":"'Dir1'!AA96+'Dir2'!AA96","v":0},{"$f":"'Dir1'!AB96+'Dir2'!AB96","v":0},{"$f":"'Dir1'!AC96+'Dir2'!AC96","v":0},{"$f":"'Dir1'!AD96+'Dir2'!AD96","v":0},{"$f":"'Dir1'!AE96+'Dir2'!AE96","v":0},{"$f":"'Dir1'!AF96+'Dir2'!AF96","v":0},{"$f":"'Dir1'!AG96+'Dir2'!AG96","v":0},{"$f":"'Dir1'!AH96+'Dir2'!AH96","v":0},{"$f":"'Dir1'!AI96+'Dir2'!AI96","v":0},{"$f":"'Dir1'!AJ96+'Dir2'!AJ96","v":0},{"$f":"'Dir1'!AK96+'Dir2'!AK96","v":0},{"$f":"'Dir1'!AL96+'Dir2'!AL96","v":0},"-",{"$f":"IFERROR(ROUND(PERCENTILE(_xlfn._xlws.FILTER(Data_Table[Speed],(Data_Table[Period]=$B96)*(SUM(C96:N96)>=10)),0.85),2),\"-\")","v":"-"}]
[93,{"$f":"ImportData!$B$10+7*QUOTIENT(A97,24*60*7/ImportData!$B$8)+MOD(1+QUOTIENT(A97,24*60/ImportData!$B$8)-ImportData!$E$10,7)+TIME(0,ImportData!$B$8*A97,0)","v":"2023-09-28T21:00:00"},{"$f":"'Dir1'!C97+'Dir2'!C97","v":0},{"$f":"'Dir1'!D97+'Dir2'!D97","v":0},{"$f":"'Dir1'!E97+'Dir2'!E97","v":0},{"$f":"'Dir1'!F97+'Dir2'!F97","v":0},{"$f":"'Dir1'!G97+'Dir2'!G97","v":0},{"$f":"'Dir1'!H97+'Dir2'!H97","v":0},{"$f":"'Dir1'!I97+'Dir2'!I97","v":0},{"$f":"'Dir1'!J97+'Dir2'!J97","v":0},{"$f":"'Dir1'!K97+'Dir2'!K97","v":0},{"$f":"'Dir1'!L97+'Dir2'!L97","v":0},{"$f":"'Dir1'!M97+'Dir2'!M97","v":0},{"$f":"'Dir1'!N97+'Dir2'!N97","v":0},{"$f":"'Dir1'!O97+'Dir2'!O97","v":0},{"$f":"'Dir1'!P97+'Dir2'!N97","v":0},{"$f":"'Dir1'!Q97+'Dir2'!O97","v":0},{"$f":"'Dir1'!R97+'Dir2'!R97","v":0},{"$f":"'Dir1'!S97+'Dir2'!S97","v":0},{"$f":"'Dir1'!T97+'Dir2'!T97","v":0},{"$f":"'Dir1'!U97+'Dir2'!U97","v":0},{"$f":"'Dir1'!V97+'Dir2'!V97","v":0},{"$f":"'Dir1'!W97+'Dir2'!W97","v":0},{"$f":"'Dir1'!X97+'Dir2'!X97","v":0},{"$f":"'Dir1'!Y97+'Dir2'!Y97","v":0},{"$f":"'Dir1'!Z97+'Dir2'!Z97","v":0},{"$f":"'Dir1'!AA97+'Dir2'!AA97","v":0},{"$f":"'Dir1'!AB97+'Dir2'!AB97","v":0},{"$f":"'Dir1'!AC97+'Dir2'!AC97","v":0},{"$f":"'Dir1'!AD97+'Dir2'!AD97","v":0},{"$f":"'Dir1'!AE97+'Dir2'!AE97","v":0},{"$f":"'Dir1'!AF97+'Dir2'!AF97","v":0},{"$f":"'Dir1'!AG97+'Dir2'!AG97","v":0},{"$f":"'Dir1'!AH97+'Dir2'!AH97","v":0},{"$f":"'Dir1'!AI97+'Dir2'!AI97","v":0},{"$f":"'Dir1'!AJ97+'Dir2'!AJ97","v":0},{"$f":"'Dir1'!AK97+'Dir2'!AK97","v":0},{"$f":"'Dir1'!AL97+'Dir2'!AL97","v":0},"-",{"$f":"IFERROR(ROUND(PERCENTILE(_xlfn._xlws.FILTER(Data_Table[Speed],(Data_Table[Period]=$B97)*(SUM(C97:N97)>=10)),0.85),2),\"-\")","v":"-"}]
[94,{"$f":"ImportData!$B$10+7*QUOTIENT(A98,24*60*7/ImportData!$B$8)+MOD(1+QUOTIENT(A98,24*60/ImportData!$B$8)-ImportData!$E$10,7)+TIME(0,ImportData!$B$8*A98,0)","v":"2023-09-28T22:00:00"},{"$f":"'Dir1'!C98+'Dir2'!C98","v":0},{"$f":"'Dir1'!D98+'Dir2'!D98","v":0},{"$f":"'Dir1'!E98+'Dir2'!E98","v":0},{"$f":"'Dir1'!F98+'Dir2'!F98","v":0},{"$f":"'Dir1'!G98+'Dir2'!G98","v":0},{"$f":"'Dir1'!H98+'Dir2'!H98","v":0},{"$f":"'Dir1'!I98+'Dir2'!I98","v":0},{"$f":"'Dir1'!J98+'Dir2'!J98","v":0},{"$f":"'Dir1'!K98+'Dir2'!K98","v":0},{"$f":"'Dir1'!L98+'Dir2'!L98","v":0},{"$f":"'Dir1'!M98+'Dir2'!M98","v":0},{"$f":"'Dir1'!N98+'Dir2'!N98","v":0},{"$f":"'Dir1'!O98+'Dir2'!O98","v":0},{"$f":"'Dir1'!P98+'Dir2'!N98","v":0},{"$f":"'Dir1'!Q98+'Dir2'!O98","v":0},{"$f":"'Dir1'!R98+'Dir2'!R98","v":0},{"$f":"'Dir1'!S98+'Dir2'!S98","v":0},{"$f":"'Dir1'!T98+'Dir2'!T98","v":0},{"$f":"'Dir1'!U98+'Dir2'!U98","v":0},{"$f":"'Dir1'!V98+'Dir2'!V98","v":0},{"$f":"'Dir1'!W98+'Dir2'!W98","v":0},{"$f":"'Dir1'!X98+'Dir2'!X98","v":0},{"$f":"'Dir1'!Y98+'Dir2'!Y98","v":0},{"$f":"'Dir1'!Z98+'Dir2'!Z98","v":0},{"$f":"'Dir1'!AA98+'Dir2'!AA98","v":0},{"$f":"'Dir1'!AB98+'Dir2'!AB98","v":0},{"$f":"'Dir1'!AC98+'Dir2'!AC98","v":0},{"$f":"'Dir1'!AD98+'Dir2'!AD98","v":0},{"$f":"'Dir1'!AE98+'Dir2'!AE98","v":0},{"$f":"'Dir1'!AF98+'Dir2'!AF98","v":0},{"$f":"'Dir1'!AG98+'Dir2'!AG98","v":0},{"$f":"'Dir1'!AH98+'Dir2'!AH98","v":0},{"$f":"'Dir1'!AI98+'Dir2'!AI98","v":0},{"$f":"'Dir1'!AJ98+'Dir2'!AJ98","v":0},{"$f":"'Dir1'!AK98+'Dir2'!AK98","v":0},{"$f":"'Dir1'!AL98+'Dir2'!AL98","v":0},"-",{"$f":"IFERROR(ROUND(PERCENTILE(_xlfn._xlws.FILTER(Data_Table[Speed],(Data_Table[Period]=$B98)*(SUM(C98:N98)>=10)),0.85),2),\"-\")","v":"-"}]
[95,{"$f":"ImportData!$B$10+7*QUOTIENT(A99,24*60*7/ImportData!$B$8)+MOD(1+QUOTIENT(A99,24*60/ImportData!$B$8)-ImportData!$E$10,7)+TIME(0,ImportData!$B$8*A99,0)","v":"2023-09-28T23:00:00"},{"$f":"'Dir1'!C99+'Dir2'!C99","v":0},{"$f":"'Dir1'!D99+'Dir2'!D99","v":0},{"$f":"'Dir1'!E99+'Dir2'!E99","v":0},{"$f":"'Dir1'!F99+'Dir2'!F99","v":0},{"$f":"'Dir1'!G99+'Dir2'!G99","v":0},{"$f":"'Dir1'!H99+'Dir2'!H99","v":0},{"$f":"'Dir1'!I99+'Dir2'!I99","v":0},{"$f":"'Dir1'!J99+'Dir2'!J99","v":0},{"$f":"'Dir1'!K99+'Dir2'!K99","v":0},{"$f":"'Dir1'!L99+'Dir2'!L99","v":0},{"$f":"'Dir1'!M99+'Dir2'!M99","v":0},{"$f":"'Dir1'!N99+'Dir2'!N99","v":0},{"$f":"'Dir1'!O99+'Dir2'!O99","v":0},{"$f":"'Dir1'!P99+'Dir2'!N99","v":0},{"$f":"'Dir1'!Q99+'Dir2'!O99","v":0},{"$f":"'Dir1'!R99+'Dir2'!R99","v":0},{"$f":"'Dir1'!S99+'Dir2'!S99","v":0},{"$f":"'Dir1'!T99+'Dir2'!T99","v":0},{"$f":"'Dir1'!U99+'Dir2'!U99","v":0},{"$f":"'Dir1'!V99+'Dir2'!V99","v":0},{"$f":"'Dir1'!W99+'Dir2'!W99","v":0},{"$f":"'Dir1'!X99+'Dir2'!X99","v":0},{"$f":"'Dir1'!Y99+'Dir2'!Y99","v":0},{"$f":"'Dir1'!Z99+'Dir2'!Z99","v":0},{"$f":"'Dir1'!AA99+'Dir2'!AA99","v":0},{"$f":"'Dir1'!AB99+'Dir2'!AB99","v":0},{"$f":"'Dir1'!AC99+'Dir2'!AC99","v":0},{"$f":"'Dir1'!AD99+'Dir2'!AD99","v":0},{"$f":"'Dir1'!AE99+'Dir2'!AE99","v":0},{"$f":"'Dir1'!AF99+'Dir2'!AF99","v":0},{"$f":"'Dir1'!AG99+'Dir2'!AG99","v":0},{"$f":"'Dir1'!AH99+'Dir2'!AH99","v":0},{"$f":"'Dir1'!AI99+'Dir2'!AI99","v":0},{"$f":"'Dir1'!AJ99+'Dir2'!AJ99","v":0},{"$f":"'Dir1'!AK99+'Dir2'!AK99","v":0},{"$f":"'Dir1'!AL99+'Dir2'!AL99","v":0},"-",{"$f":"IFERROR(ROUND(PERCENTILE(_xlfn._xlws.FILTER(Data_Table[Speed],(Data_Table[Period]=$B99)*(SUM(C99:N99)>=10)),0.85),2),\"-\")","v":"-"}]
[96,{"$f":"ImportData!$B$10+7*QUOTIENT(A100,24*60*7/ImportData!$B$8)+MOD(1+QUOTIENT(A100,24*60/ImportData!$B$8)-ImportData!$E$10,7)+TIME(0,ImportData!$B$8*A100,0)","v":"2023-09-29"},{"$f":"'Dir1'!C100+'Dir2'!C100","v":0},{"$f":"'Dir1'!D100+'Dir2'!D100","v":0},{"$f":"'Dir1'!E100+'Dir2'!E100","v":0},{"$f":"'Dir1'!F100+'Dir2'!F100","v":0},{"$f":"'Dir1'!G100+'Dir2'!G100","v":0},{"$f":"'Dir1'!H100+'Dir2'!H100","v":0},{"$f":"'Dir1'!I100+'Dir2'!I100","v":0},{"$f":"'Dir1'!J100+'Dir2'!J100","v":0},{"$f":"'Dir1'!K100+'Dir2'!K100","v":0},{"$f":"'Dir1'!L100+'Dir2'!L100","v":0},{"$f":"'Dir1'!M100+'Dir2'!M100","v":0},{"$f":"'Dir1'!N100+'Dir2'!N100","v":0},{"$f":"'Dir1'!O100+'Dir2'!O100","v":0},{"$f":"'Dir1'!P100+'Dir2'!N100","v":0},{"$f":"'Dir1'!Q100+'Dir2'!O100","v":0},{"$f":"'Dir1'!R100+'Dir2'!R100","v":0},{"$f":"'Dir1'!S100+'Dir2'!S100","v":0},{"$f":"'Dir1'!T100+'Dir2'!T100","v":0},{"$f":"'Dir1'!U100+'Dir2'!U100","v":0},{"$f":"'Dir1'!V100+'Dir2'!V100","v":0},{"$f":"'Dir1'!W100+'Dir2'!W100","v":0},{"$f":"'Dir1'!X100+'Dir2'!X100","v":0},{"$f":"'Dir1'!Y100+'Dir2'!Y100","v":0},{"$f":"'Dir1'!Z100+'Dir2'!Z100","v":0},{"$f":"'Dir1'!AA100+'Dir2'!AA100","v":0},{"$f":"'Dir1'!AB100+'Dir2'!AB100","v":0},{"$f":"'Dir1'!AC100+'Dir2'!AC100","v":0},{"$f":"'Dir1'!AD100+'Dir2'!AD100","v":0},{"$f":"'Dir1'!AE100+'Dir2'!AE100","v":0},{"$f":"'Dir1'!AF100+'Dir2'!AF100","v":0},{"$f":"'Dir1'!AG100+'Dir2'!AG100","v":0},{"$f":"'Dir1'!AH100+'Dir2'!AH100","v":0},{"$f":"'Dir1'!AI100+'Dir2'!AI100","v":0},{"$f":"'Dir1'!AJ100+'Dir2'!AJ100","v":0},{"$f":"'Dir1'!AK100+'Dir2'!AK100","v":0},{"$f":"'Dir1'!AL100+'Dir2'!AL100","v":0},"-",{"$f":"IFERROR(ROUND(PERCENTILE(_xlfn._xlws.FILTER(Data_Table[Speed],(Data_Table[Period]=$B100)*(SUM(C100:N100)>=10)),0.85),2),\"-\")","v":"-"}]
[97,{"$f":"ImportData!$B$10+7*QUOTIENT(A101,24*60*7/ImportData!$B$8)+MOD(1+QUOTIENT(A101,24*60/ImportData!$B$8)-ImportData!$E$10,7)+TIME(0,ImportData!$B$8*A101,0)","v":"2023-09-29T01:00:00"},{"$f":"'Dir1'!C101+'Dir2'!C101","v":0},{"$f":"'Dir1'!D101+'Dir2'!D101","v":0},{"$f":"'Dir1'!E101+'Dir2'!E101","v":0},{"$f":"'Dir1'!F101+'Dir2'!F101","v":0},{"$f":"'Dir1'!G101+'Dir2'!G101","v":0},{"$f":"'Dir1'!H101+'Dir2'!H101","v":0},{"$f":"'Dir1'!I101+'Dir2'!I101","v":0},{"$f":"'Dir1'!J101+'Dir2'!J101","v":0},{"$f":"'Dir1'!K101+'Dir2'!K101","v":0},{"$f":"'Dir1'!L101+'Dir2'!L101","v":0},{"$f":"'Dir1'!M101+'Dir2'!M101","v":0},{"$f":"'Dir1'!N101+'Dir2'!N101","v":0},{"$f":"'Dir1'!O101+'Dir2'!O101","v":0},{"$f":"'Dir1'!P101+'Dir2'!N101","v":0},{"$f":"'Dir1'!Q101+'Dir2'!O101","v":0},{"$f":"'Dir1'!R101+'Dir2'!R101","v":0},{"$f":"'Dir1'!S101+'Dir2'!S101","v":0},{"$f":"'Dir1'!T101+'Dir2'!T101","v":0},{"$f":"'Dir1'!U101+'Dir2'!U101","v":0},{"$f":"'Dir1'!V101+'Dir2'!V101","v":0},{"$f":"'Dir1'!W101+'Dir2'!W101","v":0},{"$f":"'Dir1'!X101+'Dir2'!X101","v":0},{"$f":"'Dir1'!Y101+'Dir2'!Y101","v":0},{"$f":"'Dir1'!Z101+'Dir2'!Z101","v":0},{"$f":"'Dir1'!AA101+'Dir2'!AA101","v":0},{"$f":"'Dir1'!AB101+'Dir2'!AB101","v":0},{"$f":"'Dir1'!AC101+'Dir2'!AC101","v":0},{"$f":"'Dir1'!AD101+'Dir2'!AD101","v":0},{"$f":"'Dir1'!AE101+'Dir2'!AE101","v":0},{"$f":"'Dir1'!AF101+'Dir2'!AF101","v":0},{"$f":"'Dir1'!AG101+'Dir2'!AG101","v":0},{"$f":"'Dir1'!AH101+'Dir2'!AH101","v":0},{"$f":"'Dir1'!AI101+'Dir2'!AI101","v":0},{"$f":"'Dir1'!AJ101+'Dir2'!AJ101","v":0},{"$f":"'Dir1'!AK101+'Dir2'!AK101","v":0},{"$f":"'Dir1'!AL101+'Dir2'!AL101","v":0},"-",{"$f":"IFERROR(ROUND(PERCENTILE(_xlfn._xlws.FILTER(Data_Table[Speed],(Data_Table[Period]=$B101)*(SUM(C101:N101)>=10)),0.85),2),\"-\")","v":"-"}]
[98,{"$f":"ImportData!$B$10+7*QUOTIENT(A102,24*60*7/ImportData!$B$8)+MOD(1+QUOTIENT(A102,24*60/ImportData!$B$8)-ImportData!$E$10,7)+TIME(0,ImportData!$B$8*A102,0)","v":"2023-09-29T02:00:00"},{"$f":"'Dir1'!C102+'Dir2'!C102","v":0},{"$f":"'Dir1'!D102+'Dir2'!D102","v":0},{"$f":"'Dir1'!E102+'Dir2'!E102","v":0},{"$f":"'Dir1'!F102+'Dir2'!F102","v":0},{"$f":"'Dir1'!G102+'Dir2'!G102","v":0},{"$f":"'Dir1'!H102+'Dir2'!H102","v":0},{"$f":"'Dir1'!I102+'Dir2'!I102","v":0},{"$f":"'Dir1'!J102+'Dir2'!J102","v":0},{"$f":"'Dir1'!K102+'Dir2'!K102","v":0},{"$f":"'Dir1'!L102+'Dir2'!L102","v":0},{"$f":"'Dir1'!M102+'Dir2'!M102","v":0},{"$f":"'Dir1'!N102+'Dir2'!N102","v":0},{"$f":"'Dir1'!O102+'Dir2'!O102","v":0},{"$f":"'Dir1'!P102+'Dir2'!N102","v":0},{"$f":"'Dir1'!Q102+'Dir2'!O102","v":0},{"$f":"'Dir1'!R102+'Dir2'!R102","v":0},{"$f":"'Dir1'!S102+'Dir2'!S102","v":0},{"$f":"'Dir1'!T102+'Dir2'!T102","v":0},{"$f":"'Dir1'!U102+'Dir2'!U102","v":0},{"$f":"'Dir1'!V102+'Dir2'!V102","v":0},{"$f":"'Dir1'!W102+'Dir2'!W102","v":0},{"$f":"'Dir1'!X102+'Dir2'!X102","v":0},{"$f":"'Dir1'!Y102+'Dir2'!Y102","v":0},{"$f":"'Dir1'!Z102+'Dir2'!Z102","v":0},{"$f":"'Dir1'!AA102+'Dir2'!AA102","v":0},{"$f":"'Dir1'!AB102+'Dir2'!AB102","v":0},{"$f":"'Dir1'!AC102+'Dir2'!AC102","v":0},{"$f":"'Dir1'!AD102+'Dir2'!AD102","v":0},{"$f":"'Dir1'!AE102+'Dir2'!AE102","v":0},{"$f":"'Dir1'!AF102+'Dir2'!AF102","v":0},{"$f":"'Dir1'!AG102+'Dir2'!AG102","v":0},{"$f":"'Dir1'!AH102+'Dir2'!AH102","v":0},{"$f":"'Dir1'!AI102+'Dir2'!AI102","v":0},{"$f":"'Dir1'!AJ102+'Dir2'!AJ102","v":0},{"$f":"'Dir1'!AK102+'Dir2'!AK102","v":0},{"$f":"'Dir1'!AL102+'Dir2'!AL102","v":0},"-",{"$f":"IFERROR(ROUND(PERCENTILE(_xlfn._xlws.FILTER(Data_Table[Speed],(Data_Table[Period]=$B102)*(SUM(C102:N102)>=10)),0.85),2),\"-\")","v":"-"}]
[99,{"$f":"ImportData!$B$10+7*QUOTIENT(A103,24*60*7/ImportData!$B$8)+MOD(1+QUOTIENT(A103,24*60/ImportData!$B$8)-ImportData!$E$10,7)+TIME(0,ImportData!$B$8*A103,0)","v":"2023-09-29T03:00:00"},{"$f":"'Dir1'!C103+'Dir2'!C103","v":0},{"$f":"'Dir1'!D103+'Dir2'!D103","v":0},{"$f":"'Dir1'!E103+'Dir2'!E103","v":0},{"$f":"'Dir1'!F103+'Dir2'!F103","v":0},{"$f":"'Dir1'!G103+'Dir2'!G103","v":0},{"$f":"'Dir1'!H103+'Dir2'!H103","v":0},{"$f":"'Dir1'!I103+'Dir2'!I103","v":0},{"$f":"'Dir1'!J103+'Dir2'!J103","v":0},{"$f":"'Dir1'!K103+'Dir2'!K103","v":0},{"$f":"'Dir1'!L103+'Dir2'!L103","v":0},{"$f":"'Dir1'!M103+'Dir2'!M103","v":0},{"$f":"'Dir1'!N103+'Dir2'!N103","v":0},{"$f":"'Dir1'!O103+'Dir2'!O103","v":0},{"$f":"'Dir1'!P103+'Dir2'!N103","v":0},{"$f":"'Dir1'!Q103+'Dir2'!O103","v":0},{"$f":"'Dir1'!R103+'Dir2'!R103","v":0},{"$f":"'Dir1'!S103+'Dir2'!S103","v":0},{"$f":"'Dir1'!T103+'Dir2'!T103","v":0},{"$f":"'Dir1'!U103+'Dir2'!U103","v":0},{"$f":"'Dir1'!V103+'Dir2'!V103","v":0},{"$f":"'Dir1'!W103+'Dir2'!W103","v":0},{"$f":"'Dir1'!X103+'Dir2'!X103","v":0},{"$f":"'Dir1'!Y103+'Dir2'!Y103","v":0},{"$f":"'Dir1'!Z103+'Dir2'!Z103","v":0},{"$f":"'Dir1'!AA103+'Dir2'!AA103","v":0},{"$f":"'Dir1'!AB103+'Dir2'!AB103","v":0},{"$f":"'Dir1'!AC103+'Dir2'!AC103","v":0},{"$f":"'Dir1'!AD103+'Dir2'!AD103","v":0},{"$f":"'Dir1'!AE103+'Dir2'!AE103","v":0},{"$f":"'Dir1'!AF103+'Dir2'!AF103","v":0},{"$f":"'Dir1'!AG103+'Dir2'!AG103","v":0},{"$f":"'Dir1'!AH103+'Dir2'!AH103","v":0},{"$f":"'Dir1'!AI103+'Dir2'!AI103","v":0},{"$f":"'Dir1'!AJ103+'Dir2'!AJ103","v":0},{"$f":"'Dir1'!AK103+'Dir2'!AK103","v":0},{"$f":"'Dir1'!AL103+'Dir2'!AL103","v":0},"-",{"$f":"IFERROR(ROUND(PERCENTILE(_xlfn._xlws.FILTER(Data_Table[Speed],(Data_Table[Period]=$B103)*(SUM(C103:N103)>=10)),0.85),2),\"-\")","v":"-"}]
[100,{"$f":"ImportData!$B$10+7*QUOTIENT(A104,24*60*7/ImportData!$B$8)+MOD(1+QUOTIENT(A104,24*60/ImportData!$B$8)-ImportData!$E$10,7)+TIME(0,ImportData!$B$8*A104,0)","v":"2023-09-29T04:00:00"},{"$f":"'Dir1'!C104+'Dir2'!C104","v":0},{"$f":"'Dir1'!D104+'Dir2'!D104","v":0},{"$f":"'Dir1'!E104+'Dir2'!E104","v":0},{"$f":"'Dir1'!F104+'Dir2'!F104","v":0},{"$f":"'Dir1'!G104+'Dir2'!G104","v":0},{"$f":"'Dir1'!H104+'Dir2'!H104","v":0},{"$f":"'Dir1'!I104+'Dir2'!I104","v":0},{"$f":"'Dir1'!J104+'Dir2'!J104","v":0},{"$f":"'Dir1'!K104+'Dir2'!K104","v":0},{"$f":"'Dir1'!L104+'Dir2'!L104","v":0},{"$f":"'Dir1'!M104+'Dir2'!M104","v":0},{"$f":"'Dir1'!N104+'Dir2'!N104","v":0},{"$f":"'Dir1'!O104+'Dir2'!O104","v":0},{"$f":"'Dir1'!P104+'Dir2'!N104","v":0},{"$f":"'Dir1'!Q104+'Dir2'!O104","v":0},{"$f":"'Dir1'!R104+'Dir2'!R104","v":0},{"$f":"'Dir1'!S104+'Dir2'!S104","v":0},{"$f":"'Dir1'!T104+'Dir2'!T104","v":0},{"$f":"'Dir1'!U104+'Dir2'!U104","v":0},{"$f":"'Dir1'!V104+'Dir2'!V104","v":0},{"$f":"'Dir1'!W104+'Dir2'!W104","v":0},{"$f":"'Dir1'!X104+'Dir2'!X104","v":0},{"$f":"'Dir1'!Y104+'Dir2'!Y104","v":0},{"$f":"'Dir1'!Z104+'Dir2'!Z104","v":0},{"$f":"'Dir1'!AA104+'Dir2'!AA104","v":0},{"$f":"'Dir1'!AB104+'Dir2'!AB104","v":0},{"$f":"'Dir1'!AC104+'Dir2'!AC104","v":0},{"$f":"'Dir1'!AD104+'Dir2'!AD104","v":0},{"$f":"'Dir1'!AE104+'Dir2'!AE104","v":0},{"$f":"'Dir1'!AF104+'Dir2'!AF104","v":0},{"$f":"'Dir1'!AG104+'Dir2'!AG104","v":0},{"$f":"'Dir1'!AH104+'Dir2'!AH104","v":0},{"$f":"'Dir1'!AI104+'Dir2'!AI104","v":0},{"$f":"'Dir1'!AJ104+'Dir2'!AJ104","v":0},{"$f":"'Dir1'!AK104+'Dir2'!AK104","v":0},{"$f":"'Dir1'!AL104+'Dir2'!AL104","v":0},"-",{"$f":"IFERROR(ROUND(PERCENTILE(_xlfn._xlws.FILTER(Data_Table[Speed],(Data_Table[Period]=$B104)*(SUM(C104:N104)>=10)),0.85),2),\"-\")","v":"-"}]
[101,{"$f":"ImportData!$B$10+7*QUOTIENT(A105,24*60*7/ImportData!$B$8)+MOD(1+QUOTIENT(A105,24*60/ImportData!$B$8)-ImportData!$E$10,7)+TIME(0,ImportData!$B$8*A105,0)","v":"2023-09-29T05:00:00"},{"$f":"'Dir1'!C105+'Dir2'!C105","v":0},{"$f":"'Dir1'!D105+'Dir2'!D105","v":0},{"$f":"'Dir1'!E105+'Dir2'!E105","v":0},{"$f":"'Dir1'!F105+'Dir2'!F105","v":0},{"$f":"'Dir1'!G105+'Dir2'!G105","v":0},{"$f":"'Dir1'!H105+'Dir2'!H105","v":0},{"$f":"'Dir1'!I105+'Dir2'!I105","v":0},{"$f":"'Dir1'!J105+'Dir2'!J105","v":0},{"$f":"'Dir1'!K105+'Dir2'!K105","v":0},{"$f":"'Dir1'!L105+'Dir2'!L105","v":0},{"$f":"'Dir1'!M105+'Dir2'!M105","v":0},{"$f":"'Dir1'!N105+'Dir2'!N105","v":0},{"$f":"'Dir1'!O105+'Dir2'!O105","v":0},{"$f":"'Dir1'!P105+'Dir2'!N105","v":0},{"$f":"'Dir1'!Q105+'Dir2'!O105","v":0},{"$f":"'Dir1'!R105+'Dir2'!R105","v":0},{"$f":"'Dir1'!S105+'Dir2'!S105","v":0},{"$f":"'Dir1'!T105+'Dir2'!T105","v":0},{"$f":"'Dir1'!U105+'Dir2'!U105","v":0},{"$f":"'Dir1'!V105+'Dir2'!V105","v":0},{"$f":"'Dir1'!W105+'Dir2'!W105","v":0},{"$f":"'Dir1'!X105+'Dir2'!X105","v":0},{"$f":"'Dir1'!Y105+'Dir2'!Y105","v":0},{"$f":"'Dir1'!Z105+'Dir2'!Z105","v":0},{"$f":"'Dir1'!AA105+'Dir2'!AA105","v":0},{"$f":"'Dir1'!AB105+'Dir2'!AB105","v":0},{"$f":"'Dir1'!AC105+'Dir2'!AC105","v":0},{"$f":"'Dir1'!AD105+'Dir2'!AD105","v":0},{"$f":"'Dir1'!AE105+'Dir2'!AE105","v":0},{"$f":"'Dir1'!AF105+'Dir2'!AF105","v":0},{"$f":"'Dir1'!AG105+'Dir2'!AG105","v":0},{"$f":"'Dir1'!AH105+'Dir2'!AH105","v":0},{"$f":"'Dir1'!AI105+'Dir2'!AI105","v":0},{"$f":"'Dir1'!AJ105+'Dir2'!AJ105","v":0},{"$f":"'Dir1'!AK105+'Dir2'!AK105","v":0},{"$f":"'Dir1'!AL105+'Dir2'!AL105","v":0},"-",{"$f":"IFERROR(ROUND(PERCENTILE(_xlfn._xlws.FILTER(Data_Table[Speed],(Data_Table[Period]=$B105)*(SUM(C105:N105)>=10)),0.85),2),\"-\")","v":"-"}]
[102,{"$f":"ImportData!$B$10+7*QUOTIENT(A106,24*60*7/ImportData!$B$8)+MOD(1+QUOTIENT(A106,24*60/ImportData!$B$8)-ImportData!$E$10,7)+TIME(0,ImportData!$B$8*A106,0)","v":"2023-09-29T06:00:00"},{"$f":"'Dir1'!C106+'Dir2'!C106","v":0},{"$f":"'Dir1'!D106+'Dir2'!D106","v":0},{"$f":"'Dir1'!E106+'Dir2'!E106","v":0},{"$f":"'Dir1'!F106+'Dir2'!F106","v":0},{"$f":"'Dir1'!G106+'Dir2'!G106","v":0},{"$f":"'Dir1'!H106+'Dir2'!H106","v":0},{"$f":"'Dir1'!I106+'Dir2'!I106","v":0},{"$f":"'Dir1'!J106+'Dir2'!J106","v":0},{"$f":"'Dir1'!K106+'Dir2'!K106","v":0},{"$f":"'Dir1'!L106+'Dir2'!L106","v":0},{"$f":"'Dir1'!M106+'Dir2'!M106","v":0},{"$f":"'Dir1'!N106+'Dir2'!N106","v":0},{"$f":"'Dir1'!O106+'Dir2'!O106","v":0},{"$f":"'Dir1'!P106+'Dir2'!N106","v":0},{"$f":"'Dir1'!Q106+'Dir2'!O106","v":0},{"$f":"'Dir1'!R106+'Dir2'!R106","v":0},{"$f":"'Dir1'!S106+'Dir2'!S106","v":0},{"$f":"'Dir1'!T106+'Dir2'!T106","v":0},{"$f":"'Dir1'!U106+'Dir2'!U106","v":0},{"$f":"'Dir1'!V106+'Dir2'!V106","v":0},{"$f":"'Dir1'!W106+'Dir2'!W106","v":0},{"$f":"'Dir1'!X106+'Dir2'!X106","v":0},{"$f":"'Dir1'!Y106+'Dir2'!Y106","v":0},{"$f":"'Dir1'!Z106+'Dir2'!Z106","v":0},{"$f":"'Dir1'!AA106+'Dir2'!AA106","v":0},{"$f":"'Dir1'!AB106+'Dir2'!AB106","v":0},{"$f":"'Dir1'!AC106+'Dir2'!AC106","v":0},{"$f":"'Dir1'!AD106+'Dir2'!AD106","v":0},{"$f":"'Dir1'!AE106+'Dir2'!AE106","v":0},{"$f":"'Dir1'!AF106+'Dir2'!AF106","v":0},{"$f":"'Dir1'!AG106+'Dir2'!AG106","v":0},{"$f":"'Dir1'!AH106+'Dir2'!AH106","v":0},{"$f":"'Dir1'!AI106+'Dir2'!AI106","v":0},{"$f":"'Dir1'!AJ106+'Dir2'!AJ106","v":0},{"$f":"'Dir1'!AK106+'Dir2'!AK106","v":0},{"$f":"'Dir1'!AL106+'Dir2'!AL106","v":0},"-",{"$f":"IFERROR(ROUND(PERCENTILE(_xlfn._xlws.FILTER(Data_Table[Speed],(Data_Table[Period]=$B106)*(SUM(C106:N106)>=10)),0.85),2),\"-\")","v":"-"}]
[103,{"$f":"ImportData!$B$10+7*QUOTIENT(A107,24*60*7/ImportData!$B$8)+MOD(1+QUOTIENT(A107,24*60/ImportData!$B$8)-ImportData!$E$10,7)+TIME(0,ImportData!$B$8*A107,0)","v":"2023-09-29T07:00:00"},{"$f":"'Dir1'!C107+'Dir2'!C107","v":0},{"$f":"'Dir1'!D107+'Dir2'!D107","v":0},{"$f":"'Dir1'!E107+'Dir2'!E107","v":0},{"$f":"'Dir1'!F107+'Dir2'!F107","v":0},{"$f":"'Dir1'!G107+'Dir2'!G107","v":0},{"$f":"'Dir1'!H107+'Dir2'!H107","v":0},{"$f":"'Dir1'!I107+'Dir2'!I107","v":0},{"$f":"'Dir1'!J107+'Dir2'!J107","v":0},{"$f":"'Dir1'!K107+'Dir2'!K107","v":0},{"$f":"'Dir1'!L107+'Dir2'!L107","v":0},{"$f":"'Dir1'!M107+'Dir2'!M107","v":0},{"$f":"'Dir1'!N107+'Dir2'!N107","v":0},{"$f":"'Dir1'!O107+'Dir2'!O107","v":0},{"$f":"'Dir1'!P107+'Dir2'!N107","v":0},{"$f":"'Dir1'!Q107+'Dir2'!O107","v":0},{"$f":"'Dir1'!R107+'Dir2'!R107","v":0},{"$f":"'Dir1'!S107+'Dir2'!S107","v":0},{"$f":"'Dir1'!T107+'Dir2'!T107","v":0},{"$f":"'Dir1'!U107+'Dir2'!U107","v":0},{"$f":"'Dir1'!V107+'Dir2'!V107","v":0},{"$f":"'Dir1'!W107+'Dir2'!W107","v":0},{"$f":"'Dir1'!X107+'Dir2'!X107","v":0},{"$f":"'Dir1'!Y107+'Dir2'!Y107","v":0},{"$f":"'Dir1'!Z107+'Dir2'!Z107","v":0},{"$f":"'Dir1'!AA107+'Dir2'!AA107","v":0},{"$f":"'Dir1'!AB107+'Dir2'!AB107","v":0},{"$f":"'Dir1'!AC107+'Dir2'!AC107","v":0},{"$f":"'Dir1'!AD107+'Dir2'!AD107","v":0},{"$f":"'Dir1'!AE107+'Dir2'!AE107","v":0},{"$f":"'Dir1'!AF107+'Dir2'!AF107","v":0},{"$f":"'Dir1'!AG107+'Dir2'!AG107","v":0},{"$f":"'Dir1'!AH107+'Dir2'!AH107","v":0},{"$f":"'Dir1'!AI107+'Dir2'!AI107","v":0},{"$f":"'Dir1'!AJ107+'Dir2'!AJ107","v":0},{"$f":"'Dir1'!AK107+'Dir2'!AK107","v":0},{"$f":"'Dir1'!AL107+'Dir2'!AL107","v":0},"-",{"$f":"IFERROR(ROUND(PERCENTILE(_xlfn._xlws.FILTER(Data_Table[Speed],(Data_Table[Period]=$B107)*(SUM(C107:N107)>=10)),0.85),2),\"-\")","v":"-"}]
[104,{"$f":"ImportData!$B$10+7*QUOTIENT(A108,24*60*7/ImportData!$B$8)+MOD(1+QUOTIENT(A108,24*60/ImportData!$B$8)-ImportData!$E$10,7)+TIME(0,ImportData!$B$8*A108,0)","v":"2023-09-29T08:00:00"},{"$f":"'Dir1'!C108+'Dir2'!C108","v":0},{"$f":"'Dir1'!D108+'Dir2'!D108","v":0},{"$f":"'Dir1'!E108+'Dir2'!E108","v":0},{"$f":"'Dir1'!F108+'Dir2'!F108","v":0},{"$f":"'Dir1'!G108+'Dir2'!G108","v":0},{"$f":"'Dir1'!H108+'Dir2'!H108","v":0},{"$f":"'Dir1'!I108+'Dir2'!I108","v":0},{"$f":"'Dir1'!J108+'Dir2'!J108","v":0},{"$f":"'Dir1'!K108+'Dir2'!K108","v":0},{"$f":"'Dir1'!L108+'Dir2'!L108","v":0},{"$f":"'Dir1'!M108+'Dir2'!M108","v":0},{"$f":"'Dir1'!N108+'Dir2'!N108","v":0},{"$f":"'Dir1'!O108+'Dir2'!O108","v":0},{"$f":"'Dir1'!P108+'Dir2'!N108","v":0},{"$f":"'Dir1'!Q108+'Dir2'!O108","v":0},{"$f":"'Dir1'!R108+'Dir2'!R108","v":0},{"$f":"'Dir1'!S108+'Dir2'!S108","v":0},{"$f":"'Dir1'!T108+'Dir2'!T108","v":0},{"$f":"'Dir1'!U108+'Dir2'!U108","v":0},{"$f":"'Dir1'!V108+'Dir2'!V108","v":0},{"$f":"'Dir1'!W108+'Dir2'!W108","v":0},{"$f":"'Dir1'!X108+'Dir2'!X108","v":0},{"$f":"'Dir1'!Y108+'Dir2'!Y108","v":0},{"$f":"'Dir1'!Z108+'Dir2'!Z108","v":0},{"$f":"'Dir1'!AA108+'Dir2'!AA108","v":0},{"$f":"'Dir1'!AB108+'Dir2'!AB108","v":0},{"$f":"'Dir1'!AC108+'Dir2'!AC108","v":0},{"$f":"'Dir1'!AD108+'Dir2'!AD108","v":0},{"$f":"'Dir1'!AE108+'Dir2'!AE108","v":0},{"$f":"'Dir1'!AF108+'Dir2'!AF108","v":0},{"$f":"'Dir1'!AG108+'Dir2'!AG108","v":0},{"$f":"'Dir1'!AH108+'Dir2'!AH108","v":0},{"$f":"'Dir1'!AI108+'Dir2'!AI108","v":0},{"$f":"'Dir1'!AJ108+'Dir2'!AJ108","v":0},{"$f":"'Dir1'!AK108+'Dir2'!AK108","v":0},{"$f":"'Dir1'!AL108+'Dir2'!AL108","v":0},"-",{"$f":"IFERROR(ROUND(PERCENTILE(_xlfn._xlws.FILTER(Data_Table[Speed],(Data_Table[Period]=$B108)*(SUM(C108:N108)>=10)),0.85),2),\"-\")","v":"-"}]
[105,{"$f":"ImportData!$B$10+7*QUOTIENT(A109,24*60*7/ImportData!$B$8)+MOD(1+QUOTIENT(A109,24*60/ImportData!$B$8)-ImportData!$E$10,7)+TIME(0,ImportData!$B$8*A109,0)","v":"2023-09-29T09:00:00"},{"$f":"'Dir1'!C109+'Dir2'!C109","v":0},{"$f":"'Dir1'!D109+'Dir2'!D109","v":0},{"$f":"'Dir1'!E109+'Dir2'!E109","v":0},{"$f":"'Dir1'!F109+'Dir2'!F109","v":0},{"$f":"'Dir1'!G109+'Dir2'!G109","v":0},{"$f":"'Dir1'!H109+'Dir2'!H109","v":0},{"$f":"'Dir1'!I109+'Dir2'!I109","v":0},{"$f":"'Dir1'!J109+'Dir2'!J109","v":0},{"$f":"'Dir1'!K109+'Dir2'!K109","v":0},{"$f":"'Dir1'!L109+'Dir2'!L109","v":0},{"$f":"'Dir1'!M109+'Dir2'!M109","v":0},{"$f":"'Dir1'!N109+'Dir2'!N109","v":0},{"$f":"'Dir1'!O109+'Dir2'!O109","v":0},{"$f":"'Dir1'!P109+'Dir2'!N109","v":0},{"$f":"'Dir1'!Q109+'Dir2'!O109","v":0},{"$f":"'Dir1'!R109+'Dir2'!R109","v":0},{"$f":"'Dir1'!S109+'Dir2'!S109","v":0},{"$f":"'Dir1'!T109+'Dir2'!T109","v":0},{"$f":"'Dir1'!U109+'Dir2'!U109","v":0},{"$f":"'Dir1'!V109+'Dir2'!V109","v":0},{"$f":"'Dir1'!W109+'Dir2'!W109","v":0},{"$f":"'Dir1'!X109+'Dir2'!X109","v":0},{"$f":"'Dir1'!Y109+'Dir2'!Y109","v":0},{"$f":"'Dir1'!Z109+'Dir2'!Z109","v":0},{"$f":"'Dir1'!AA109+'Dir2'!AA109","v":0},{"$f":"'Dir1'!AB109+'Dir2'!AB109","v":0},{"$f":"'Dir1'!AC109+'Dir2'!AC109","v":0},{"$f":"'Dir1'!AD109+'Dir2'!AD109","v":0},{"$f":"'Dir1'!AE109+'Dir2'!AE109","v":0},{"$f":"'Dir1'!AF109+'Dir2'!AF109","v":0},{"$f":"'Dir1'!AG109+'Dir2'!AG109","v":0},{"$f":"'Dir1'!AH109+'Dir2'!AH109","v":0},{"$f":"'Dir1'!AI109+'Dir2'!AI109","v":0},{"$f":"'Dir1'!AJ109+'Dir2'!AJ109","v":0},{"$f":"'Dir1'!AK109+'Dir2'!AK109","v":0},{"$f":"'Dir1'!AL109+'Dir2'!AL109","v":0},"-",{"$f":"IFERROR(ROUND(PERCENTILE(_xlfn._xlws.FILTER(Data_Table[Speed],(Data_Table[Period]=$B109)*(SUM(C109:N109)>=10)),0.85),2),\"-\")","v":"-"}]
[106,{"$f":"ImportData!$B$10+7*QUOTIENT(A110,24*60*7/ImportData!$B$8)+MOD(1+QUOTIENT(A110,24*60/ImportData!$B$8)-ImportData!$E$10,7)+TIME(0,ImportData!$B$8*A110,0)","v":"2023-09-29T10:00:00"},{"$f":"'Dir1'!C110+'Dir2'!C110","v":0},{"$f":"'Dir1'!D110+'Dir2'!D110","v":0},{"$f":"'Dir1'!E110+'Dir2'!E110","v":0},{"$f":"'Dir1'!F110+'Dir2'!F110","v":0},{"$f":"'Dir1'!G110+'Dir2'!G110","v":0},{"$f":"'Dir1'!H110+'Dir2'!H110","v":0},{"$f":"'Dir1'!I110+'Dir2'!I110","v":0},{"$f":"'Dir1'!J110+'Dir2'!J110","v":0},{"$f":"'Dir1'!K110+'Dir2'!K110","v":0},{"$f":"'Dir1'!L110+'Dir2'!L110","v":0},{"$f":"'Dir1'!M110+'Dir2'!M110","v":0},{"$f":"'Dir1'!N110+'Dir2'!N110","v":0},{"$f":"'Dir1'!O110+'Dir2'!O110","v":0},{"$f":"'Dir1'!P110+'Dir2'!N110","v":0},{"$f":"'Dir1'!Q110+'Dir2'!O110","v":0},{"$f":"'Dir1'!R110+'Dir2'!R110","v":0},{"$f":"'Dir1'!S110+'Dir2'!S110","v":0},{"$f":"'Dir1'!T110+'Dir2'!T110","v":0},{"$f":"'Dir1'!U110+'Dir2'!U110","v":0},{"$f":"'Dir1'!V110+'Dir2'!V110","v":0},{"$f":"'Dir1'!W110+'Dir2'!W110","v":0},{"$f":"'Dir1'!X110+'Dir2'!X110","v":0},{"$f":"'Dir1'!Y110+'Dir2'!Y110","v":0},{"$f":"'Dir1'!Z110+'Dir2'!Z110","v":0},{"$f":"'Dir1'!AA110+'Dir2'!AA110","v":0},{"$f":"'Dir1'!AB110+'Dir2'!AB110","v":0},{"$f":"'Dir1'!AC110+'Dir2'!AC110","v":0},{"$f":"'Dir1'!AD110+'Dir2'!AD110","v":0},{"$f":"'Dir1'!AE110+'Dir2'!AE110","v":0},{"$f":"'Dir1'!AF110+'Dir2'!AF110","v":0},{"$f":"'Dir1'!AG110+'Dir2'!AG110","v":0},{"$f":"'Dir1'!AH110+'Dir2'!AH110","v":0},{"$f":"'Dir1'!AI110+'Dir2'!AI110","v":0},{"$f":"'Dir1'!AJ110+'Dir2'!AJ110","v":0},{"$f":"'Dir1'!AK110+'Dir2'!AK110","v":0},{"$f":"'Dir1'!AL110+'Dir2'!AL110","v":0},"-",{"$f":"IFERROR(ROUND(PERCENTILE(_xlfn._xlws.FILTER(Data_Table[Speed],(Data_Table[Period]=$B110)*(SUM(C110:N110)>=10)),0.85),2),\"-\")","v":"-"}]
[107,{"$f":"ImportData!$B$10+7*QUOTIENT(A111,24*60*7/ImportData!$B$8)+MOD(1+QUOTIENT(A111,24*60/ImportData!$B$8)-ImportData!$E$10,7)+TIME(0,ImportData!$B$8*A111,0)","v":"2023-09-29T11:00:00"},{"$f":"'Dir1'!C111+'Dir2'!C111","v":0},{"$f":"'Dir1'!D111+'Dir2'!D111","v":0},{"$f":"'Dir1'!E111+'Dir2'!E111","v":0},{"$f":"'Dir1'!F111+'Dir2'!F111","v":0},{"$f":"'Dir1'!G111+'Dir2'!G111","v":0},{"$f":"'Dir1'!H111+'Dir2'!H111","v":0},{"$f":"'Dir1'!I111+'Dir2'!I111","v":0},{"$f":"'Dir1'!J111+'Dir2'!J111","v":0},{"$f":"'Dir1'!K111+'Dir2'!K111","v":0},{"$f":"'Dir1'!L111+'Dir2'!L111","v":0},{"$f":"'Dir1'!M111+'Dir2'!M111","v":0},{"$f":"'Dir1'!N111+'Dir2'!N111","v":0},{"$f":"'Dir1'!O111+'Dir2'!O111","v":0},{"$f":"'Dir1'!P111+'Dir2'!N111","v":0},{"$f":"'Dir1'!Q111+'Dir2'!O111","v":0},{"$f":"'Dir1'!R111+'Dir2'!R111","v":0},{"$f":"'Dir1'!S111+'Dir2'!S111","v":0},{"$f":"'Dir1'!T111+'Dir2'!T111","v":0},{"$f":"'Dir1'!U111+'Dir2'!U111","v":0},{"$f":"'Dir1'!V111+'Dir2'!V111","v":0},{"$f":"'Dir1'!W111+'Dir2'!W111","v":0},{"$f":"'Dir1'!X111+'Dir2'!X111","v":0},{"$f":"'Dir1'!Y111+'Dir2'!Y111","v":0},{"$f":"'Dir1'!Z111+'Dir2'!Z111","v":0},{"$f":"'Dir1'!AA111+'Dir2'!AA111","v":0},{"$f":"'Dir1'!AB111+'Dir2'!AB111","v":0},{"$f":"'Dir1'!AC111+'Dir2'!AC111","v":0},{"$f":"'Dir1'!AD111+'Dir2'!AD111","v":0},{"$f":"'Dir1'!AE111+'Dir2'!AE111","v":0},{"$f":"'Dir1'!AF111+'Dir2'!AF111","v":0},{"$f":"'Dir1'!AG111+'Dir2'!AG111","v":0},{"$f":"'Dir1'!AH111+'Dir2'!AH111","v":0},{"$f":"'Dir1'!AI111+'Dir2'!AI111","v":0},{"$f":"'Dir1'!AJ111+'Dir2'!AJ111","v":0},{"$f":"'Dir1'!AK111+'Dir2'!AK111","v":0},{"$f":"'Dir1'!AL111+'Dir2'!AL111","v":0},"-",{"$f":"IFERROR(ROUND(PERCENTILE(_xlfn._xlws.FILTER(Data_Table[Speed],(Data_Table[Period]=$B111)*(SUM(C111:N111)>=10)),0.85),2),\"-\")","v":"-"}]
[108,{"$f":"ImportData!$B$10+7*QUOTIENT(A112,24*60*7/ImportData!$B$8)+MOD(1+QUOTIENT(A112,24*60/ImportData!$B$8)-ImportData!$E$10,7)+TIME(0,ImportData!$B$8*A112,0)","v":"2023-09-29T12:00:00"},{"$f":"'Dir1'!C112+'Dir2'!C112","v":0},{"$f":"'Dir1'!D112+'Dir2'!D112","v":0},{"$f":"'Dir1'!E112+'Dir2'!E112","v":0},{"$f":"'Dir1'!F112+'Dir2'!F112","v":0},{"$f":"'Dir1'!G112+'Dir2'!G112","v":0},{"$f":"'Dir1'!H112+'Dir2'!H112","v":0},{"$f":"'Dir1'!I112+'Dir2'!I112","v":0},{"$f":"'Dir1'!J112+'Dir2'!J112","v":0},{"$f":"'Dir1'!K112+'Dir2'!K112","v":0},{"$f":"'Dir1'!L112+'Dir2'!L112","v":0},{"$f":"'Dir1'!M112+'Dir2'!M112","v":0},{"$f":"'Dir1'!N112+'Dir2'!N112","v":0},{"$f":"'Dir1'!O112+'Dir2'!O112","v":0},{"$f":"'Dir1'!P112+'Dir2'!N112","v":0},{"$f":"'Dir1'!Q112+'Dir2'!O112","v":0},{"$f":"'Dir1'!R112+'Dir2'!R112","v":0},{"$f":"'Dir1'!S112+'Dir2'!S112","v":0},{"$f":"'Dir1'!T112+'Dir2'!T112","v":0},{"$f":"'Dir1'!U112+'Dir2'!U112","v":0},{"$f":"'Dir1'!V112+'Dir2'!V112","v":0},{"$f":"'Dir1'!W112+'Dir2'!W112","v":0},{"$f":"'Dir1'!X112+'Dir2'!X112","v":0},{"$f":"'Dir1'!Y112+'Dir2'!Y112","v":0},{"$f":"'Dir1'!Z112+'Dir2'!Z112","v":0},{"$f":"'Dir1'!AA112+'Dir2'!AA112","v":0},{"$f":"'Dir1'!AB112+'Dir2'!AB112","v":0},{"$f":"'Dir1'!AC112+'Dir2'!AC112","v":0},{"$f":"'Dir1'!AD112+'Dir2'!AD112","v":0},{"$f":"'Dir1'!AE112+'Dir2'!AE112","v":0},{"$f":"'Dir1'!AF112+'Dir2'!AF112","v":0},{"$f":"'Dir1'!AG112+'Dir2'!AG112","v":0},{"$f":"'Dir1'!AH112+'Dir2'!AH112","v":0},{"$f":"'Dir1'!AI112+'Dir2'!AI112","v":0},{"$f":"'Dir1'!AJ112+'Dir2'!AJ112","v":0},{"$f":"'Dir1'!AK112+'Dir2'!AK112","v":0},{"$f":"'Dir1'!AL112+'Dir2'!AL112","v":0},"-",{"$f":"IFERROR(ROUND(PERCENTILE(_xlfn._xlws.FILTER(Data_Table[Speed],(Data_Table[Period]=$B112)*(SUM(C112:N112)>=10)),0.85),2),\"-\")","v":"-"}]
[109,{"$f":"ImportData!$B$10+7*QUOTIENT(A113,24*60*7/ImportData!$B$8)+MOD(1+QUOTIENT(A113,24*60/ImportData!$B$8)-ImportData!$E$10,7)+TIME(0,ImportData!$B$8*A113,0)","v":"2023-09-29T13:00:00"},{"$f":"'Dir1'!C113+'Dir2'!C113","v":0},{"$f":"'Dir1'!D113+'Dir2'!D113","v":0},{"$f":"'Dir1'!E113+'Dir2'!E113","v":0},{"$f":"'Dir1'!F113+'Dir2'!F113","v":0},{"$f":"'Dir1'!G113+'Dir2'!G113","v":0},{"$f":"'Dir1'!H113+'Dir2'!H113","v":0},{"$f":"'Dir1'!I113+'Dir2'!I113","v":0},{"$f":"'Dir1'!J113+'Dir2'!J113","v":0},{"$f":"'Dir1'!K113+'Dir2'!K113","v":0},{"$f":"'Dir1'!L113+'Dir2'!L113","v":0},{"$f":"'Dir1'!M113+'Dir2'!M113","v":0},{"$f":"'Dir1'!N113+'Dir2'!N113","v":0},{"$f":"'Dir1'!O113+'Dir2'!O113","v":0},{"$f":"'Dir1'!P113+'Dir2'!N113","v":0},{"$f":"'Dir1'!Q113+'Dir2'!O113","v":0},{"$f":"'Dir1'!R113+'Dir2'!R113","v":0},{"$f":"'Dir1'!S113+'Dir2'!S113","v":0},{"$f":"'Dir1'!T113+'Dir2'!T113","v":0},{"$f":"'Dir1'!U113+'Dir2'!U113","v":0},{"$f":"'Dir1'!V113+'Dir2'!V113","v":0},{"$f":"'Dir1'!W113+'Dir2'!W113","v":0},{"$f":"'Dir1'!X113+'Dir2'!X113","v":0},{"$f":"'Dir1'!Y113+'Dir2'!Y113","v":0},{"$f":"'Dir1'!Z113+'Dir2'!Z113","v":0},{"$f":"'Dir1'!AA113+'Dir2'!AA113","v":0},{"$f":"'Dir1'!AB113+'Dir2'!AB113","v":0},{"$f":"'Dir1'!AC113+'Dir2'!AC113","v":0},{"$f":"'Dir1'!AD113+'Dir2'!AD113","v":0},{"$f":"'Dir1'!AE113+'Dir2'!AE113","v":0},{"$f":"'Dir1'!AF113+'Dir2'!AF113","v":0},{"$f":"'Dir1'!AG113+'Dir2'!AG113","v":0},{"$f":"'Dir1'!AH113+'Dir2'!AH113","v":0},{"$f":"'Dir1'!AI113+'Dir2'!AI113","v":0},{"$f":"'Dir1'!AJ113+'Dir2'!AJ113","v":0},{"$f":"'Dir1'!AK113+'Dir2'!AK113","v":0},{"$f":"'Dir1'!AL113+'Dir2'!AL113","v":0},"-",{"$f":"IFERROR(ROUND(PERCENTILE(_xlfn._xlws.FILTER(Data_Table[Speed],(Data_Table[Period]=$B113)*(SUM(C113:N113)>=10)),0.85),2),\"-\")","v":"-"}]
[110,{"$f":"ImportData!$B$10+7*QUOTIENT(A114,24*60*7/ImportData!$B$8)+MOD(1+QUOTIENT(A114,24*60/ImportData!$B$8)-ImportData!$E$10,7)+TIME(0,ImportData!$B$8*A114,0)","v":"2023-09-29T14:00:00"},{"$f":"'Dir1'!C114+'Dir2'!C114","v":0},{"$f":"'Dir1'!D114+'Dir2'!D114","v":0},{"$f":"'Dir1'!E114+'Dir2'!E114","v":0},{"$f":"'Dir1'!F114+'Dir2'!F114","v":0},{"$f":"'Dir1'!G114+'Dir2'!G114","v":0},{"$f":"'Dir1'!H114+'Dir2'!H114","v":0},{"$f":"'Dir1'!I114+'Dir2'!I114","v":0},{"$f":"'Dir1'!J114+'Dir2'!J114","v":0},{"$f":"'Dir1'!K114+'Dir2'!K114","v":0},{"$f":"'Dir1'!L114+'Dir2'!L114","v":0},{"$f":"'Dir1'!M114+'Dir2'!M114","v":0},{"$f":"'Dir1'!N114+'Dir2'!N114","v":0},{"$f":"'Dir1'!O114+'Dir2'!O114","v":0},{"$f":"'Dir1'!P114+'Dir2'!N114","v":0},{"$f":"'Dir1'!Q114+'Dir2'!O114","v":0},{"$f":"'Dir1'!R114+'Dir2'!R114","v":0},{"$f":"'Dir1'!S114+'Dir2'!S114","v":0},{"$f":"'Dir1'!T114+'Dir2'!T114","v":0},{"$f":"'Dir1'!U114+'Dir2'!U114","v":0},{"$f":"'Dir1'!V114+'Dir2'!V114","v":0},{"$f":"'Dir1'!W114+'Dir2'!W114","v":0},{"$f":"'Dir1'!X114+'Dir2'!X114","v":0},{"$f":"'Dir1'!Y114+'Dir2'!Y114","v":0},{"$f":"'Dir1'!Z114+'Dir2'!Z114","v":0},{"$f":"'Dir1'!AA114+'Dir2'!AA114","v":0},{"$f":"'Dir1'!AB114+'Dir2'!AB114","v":0},{"$f":"'Dir1'!AC114+'Dir2'!AC114","v":0},{"$f":"'Dir1'!AD114+'Dir2'!AD114","v":0},{"$f":"'Dir1'!AE114+'Dir2'!AE114","v":0},{"$f":"'Dir1'!AF114+'Dir2'!AF114","v":0},{"$f":"'Dir1'!AG114+'Dir2'!AG114","v":0},{"$f":"'Dir1'!AH114+'Dir2'!AH114","v":0},{"$f":"'Dir1'!AI114+'Dir2'!AI114","v":0},{"$f":"'Dir1'!AJ114+'Dir2'!AJ114","v":0},{"$f":"'Dir1'!AK114+'Dir2'!AK114","v":0},{"$f":"'Dir1'!AL114+'Dir2'!AL114","v":0},"-",{"$f":"IFERROR(ROUND(PERCENTILE(_xlfn._xlws.FILTER(Data_Table[Speed],(Data_Table[Period]=$B114)*(SUM(C114:N114)>=10)),0.85),2),\"-\")","v":"-"}]
[111,{"$f":"ImportData!$B$10+7*QUOTIENT(A115,24*60*7/ImportData!$B$8)+MOD(1+QUOTIENT(A115,24*60/ImportData!$B$8)-ImportData!$E$10,7)+TIME(0,ImportData!$B$8*A115,0)","v":"2023-09-29T15:00:00"},{"$f":"'Dir1'!C115+'Dir2'!C115","v":0},{"$f":"'Dir1'!D115+'Dir2'!D115","v":0},{"$f":"'Dir1'!E115+'Dir2'!E115","v":0},{"$f":"'Dir1'!F115+'Dir2'!F115","v":0},{"$f":"'Dir1'!G115+'Dir2'!G115","v":0},{"$f":"'Dir1'!H115+'Dir2'!H115","v":0},{"$f":"'Dir1'!I115+'Dir2'!I115","v":0},{"$f":"'Dir1'!J115+'Dir2'!J115","v":0},{"$f":"'Dir1'!K115+'Dir2'!K115","v":0},{"$f":"'Dir1'!L115+'Dir2'!L115","v":0},{"$f":"'Dir1'!M115+'Dir2'!M115","v":0},{"$f":"'Dir1'!N115+'Dir2'!N115","v":0},{"$f":"'Dir1'!O115+'Dir2'!O115","v":0},{"$f":"'Dir1'!P115+'Dir2'!N115","v":0},{"$f":"'Dir1'!Q115+'Dir2'!O115","v":0},{"$f":"'Dir1'!R115+'Dir2'!R115","v":0},{"$f":"'Dir1'!S115+'Dir2'!S115","v":0},{"$f":"'Dir1'!T115+'Dir2'!T115","v":0},{"$f":"'Dir1'!U115+'Dir2'!U115","v":0},{"$f":"'Dir1'!V115+'Dir2'!V115","v":0},{"$f":"'Dir1'!W115+'Dir2'!W115","v":0},{"$f":"'Dir1'!X115+'Dir2'!X115","v":0},{"$f":"'Dir1'!Y115+'Dir2'!Y115","v":0},{"$f":"'Dir1'!Z115+'Dir2'!Z115","v":0},{"$f":"'Dir1'!AA115+'Dir2'!AA115","v":0},{"$f":"'Dir1'!AB115+'Dir2'!AB115","v":0},{"$f":"'Dir1'!AC115+'Dir2'!AC115","v":0},{"$f":"'Dir1'!AD115+'Dir2'!AD115","v":0},{"$f":"'Dir1'!AE115+'Dir2'!AE115","v":0},{"$f":"'Dir1'!AF115+'Dir2'!AF115","v":0},{"$f":"'Dir1'!AG115+'Dir2'!AG115","v":0},{"$f":"'Dir1'!AH115+'Dir2'!AH115","v":0},{"$f":"'Dir1'!AI115+'Dir2'!AI115","v":0},{"$f":"'Dir1'!AJ115+'Dir2'!AJ115","v":0},{"$f":"'Dir1'!AK115+'Dir2'!AK115","v":0},{"$f":"'Dir1'!AL115+'Dir2'!AL115","v":0},"-",{"$f":"IFERROR(ROUND(PERCENTILE(_xlfn._xlws.FILTER(Data_Table[Speed],(Data_Table[Period]=$B115)*(SUM(C115:N115)>=10)),0.85),2),\"-\")","v":"-"}]
[112,{"$f":"ImportData!$B$10+7*QUOTIENT(A116,24*60*7/ImportData!$B$8)+MOD(1+QUOTIENT(A116,24*60/ImportData!$B$8)-ImportData!$E$10,7)+TIME(0,ImportData!$B$8*A116,0)","v":"2023-09-29T16:00:00"},{"$f":"'Dir1'!C116+'Dir2'!C116","v":0},{"$f":"'Dir1'!D116+'Dir2'!D116","v":0},{"$f":"'Dir1'!E116+'Dir2'!E116","v":0},{"$f":"'Dir1'!F116+'Dir2'!F116","v":0},{"$f":"'Dir1'!G116+'Dir2'!G116","v":0},{"$f":"'Dir1'!H116+'Dir2'!H116","v":0},{"$f":"'Dir1'!I116+'Dir2'!I116","v":0},{"$f":"'Dir1'!J116+'Dir2'!J116","v":0},{"$f":"'Dir1'!K116+'Dir2'!K116","v":0},{"$f":"'Dir1'!L116+'Dir2'!L116","v":0},{"$f":"'Dir1'!M116+'Dir2'!M116","v":0},{"$f":"'Dir1'!N116+'Dir2'!N116","v":0},{"$f":"'Dir1'!O116+'Dir2'!O116","v":0},{"$f":"'Dir1'!P116+'Dir2'!N116","v":0},{"$f":"'Dir1'!Q116+'Dir2'!O116","v":0},{"$f":"'Dir1'!R116+'Dir2'!R116","v":0},{"$f":"'Dir1'!S116+'Dir2'!S116","v":0},{"$f":"'Dir1'!T116+'Dir2'!T116","v":0},{"$f":"'Dir1'!U116+'Dir2'!U116","v":0},{"$f":"'Dir1'!V116+'Dir2'!V116","v":0},{"$f":"'Dir1'!W116+'Dir2'!W116","v":0},{"$f":"'Dir1'!X116+'Dir2'!X116","v":0},{"$f":"'Dir1'!Y116+'Dir2'!Y116","v":0},{"$f":"'Dir1'!Z116+'Dir2'!Z116","v":0},{"$f":"'Dir1'!AA116+'Dir2'!AA116","v":0},{"$f":"'Dir1'!AB116+'Dir2'!AB116","v":0},{"$f":"'Dir1'!AC116+'Dir2'!AC116","v":0},{"$f":"'Dir1'!AD116+'Dir2'!AD116","v":0},{"$f":"'Dir1'!AE116+'Dir2'!AE116","v":0},{"$f":"'Dir1'!AF116+'Dir2'!AF116","v":0},{"$f":"'Dir1'!AG116+'Dir2'!AG116","v":0},{"$f":"'Dir1'!AH116+'Dir2'!AH116","v":0},{"$f":"'Dir1'!AI116+'Dir2'!AI116","v":0},{"$f":"'Dir1'!AJ116+'Dir2'!AJ116","v":0},{"$f":"'Dir1'!AK116+'Dir2'!AK116","v":0},{"$f":"'Dir1'!AL116+'Dir2'!AL116","v":0},"-",{"$f":"IFERROR(ROUND(PERCENTILE(_xlfn._xlws.FILTER(Data_Table[Speed],(Data_Table[Period]=$B116)*(SUM(C116:N116)>=10)),0.85),2),\"-\")","v":"-"}]
[113,{"$f":"ImportData!$B$10+7*QUOTIENT(A117,24*60*7/ImportData!$B$8)+MOD(1+QUOTIENT(A117,24*60/ImportData!$B$8)-ImportData!$E$10,7)+TIME(0,ImportData!$B$8*A117,0)","v":"2023-09-29T17:00:00"},{"$f":"'Dir1'!C117+'Dir2'!C117","v":0},{"$f":"'Dir1'!D117+'Dir2'!D117","v":0},{"$f":"'Dir1'!E117+'Dir2'!E117","v":0},{"$f":"'Dir1'!F117+'Dir2'!F117","v":0},{"$f":"'Dir1'!G117+'Dir2'!G117","v":0},{"$f":"'Dir1'!H117+'Dir2'!H117","v":0},{"$f":"'Dir1'!I117+'Dir2'!I117","v":0},{"$f":"'Dir1'!J117+'Dir2'!J117","v":0},{"$f":"'Dir1'!K117+'Dir2'!K117","v":0},{"$f":"'Dir1'!L117+'Dir2'!L117","v":0},{"$f":"'Dir1'!M117+'Dir2'!M117","v":0},{"$f":"'Dir1'!N117+'Dir2'!N117","v":0},{"$f":"'Dir1'!O117+'Dir2'!O117","v":0},{"$f":"'Dir1'!P117+'Dir2'!N117","v":0},{"$f":"'Dir1'!Q117+'Dir2'!O117","v":0},{"$f":"'Dir1'!R117+'Dir2'!R117","v":0},{"$f":"'Dir1'!S117+'Dir2'!S117","v":0},{"$f":"'Dir1'!T117+'Dir2'!T117","v":0},{"$f":"'Dir1'!U117+'Dir2'!U117","v":0},{"$f":"'Dir1'!V117+'Dir2'!V117","v":0},{"$f":"'Dir1'!W117+'Dir2'!W117","v":0},{"$f":"'Dir1'!X117+'Dir2'!X117","v":0},{"$f":"'Dir1'!Y117+'Dir2'!Y117","v":0},{"$f":"'Dir1'!Z117+'Dir2'!Z117","v":0},{"$f":"'Dir1'!AA117+'Dir2'!AA117","v":0},{"$f":"'Dir1'!AB117+'Dir2'!AB117","v":0},{"$f":"'Dir1'!AC117+'Dir2'!AC117","v":0},{"$f":"'Dir1'!AD117+'Dir2'!AD117","v":0},{"$f":"'Dir1'!AE117+'Dir2'!AE117","v":0},{"$f":"'Dir1'!AF117+'Dir2'!AF117","v":0},{"$f":"'Dir1'!AG117+'Dir2'!AG117","v":0},{"$f":"'Dir1'!AH117+'Dir2'!AH117","v":0},{"$f":"'Dir1'!AI117+'Dir2'!AI117","v":0},{"$f":"'Dir1'!AJ117+'Dir2'!AJ117","v":0},{"$f":"'Dir1'!AK117+'Dir2'!AK117","v":0},{"$f":"'Dir1'!AL117+'Dir2'!AL117","v":0},"-",{"$f":"IFERROR(ROUND(PERCENTILE(_xlfn._xlws.FILTER(Data_Table[Speed],(Data_Table[Period]=$B117)*(SUM(C117:N117)>=10)),0.85),2),\"-\")","v":"-"}]
[114,{"$f":"ImportData!$B$10+7*QUOTIENT(A118,24*60*7/ImportData!$B$8)+MOD(1+QUOTIENT(A118,24*60/ImportData!$B$8)-ImportData!$E$10,7)+TIME(0,ImportData!$B$8*A118,0)","v":"2023-09-29T18:00:00"},{"$f":"'Dir1'!C118+'Dir2'!C118","v":0},{"$f":"'Dir1'!D118+'Dir2'!D118","v":0},{"$f":"'Dir1'!E118+'Dir2'!E118","v":0},{"$f":"'Dir1'!F118+'Dir2'!F118","v":0},{"$f":"'Dir1'!G118+'Dir2'!G118","v":0},{"$f":"'Dir1'!H118+'Dir2'!H118","v":0},{"$f":"'Dir1'!I118+'Dir2'!I118","v":0},{"$f":"'Dir1'!J118+'Dir2'!J118","v":0},{"$f":"'Dir1'!K118+'Dir2'!K118","v":0},{"$f":"'Dir1'!L118+'Dir2'!L118","v":0},{"$f":"'Dir1'!M118+'Dir2'!M118","v":0},{"$f":"'Dir1'!N118+'Dir2'!N118","v":0},{"$f":"'Dir1'!O118+'Dir2'!O118","v":0},{"$f":"'Dir1'!P118+'Dir2'!N118","v":0},{"$f":"'Dir1'!Q118+'Dir2'!O118","v":0},{"$f":"'Dir1'!R118+'Dir2'!R118","v":0},{"$f":"'Dir1'!S118+'Dir2'!S118","v":0},{"$f":"'Dir1'!T118+'Dir2'!T118","v":0},{"$f":"'Dir1'!U118+'Dir2'!U118","v":0},{"$f":"'Dir1'!V118+'Dir2'!V118","v":0},{"$f":"'Dir1'!W118+'Dir2'!W118","v":0},{"$f":"'Dir1'!X118+'Dir2'!X118","v":0},{"$f":"'Dir1'!Y118+'Dir2'!Y118","v":0},{"$f":"'Dir1'!Z118+'Dir2'!Z118","v":0},{"$f":"'Dir1'!AA118+'Dir2'!AA118","v":0},{"$f":"'Dir1'!AB118+'Dir2'!AB118","v":0},{"$f":"'Dir1'!AC118+'Dir2'!AC118","v":0},{"$f":"'Dir1'!AD118+'Dir2'!AD118","v":0},{"$f":"'Dir1'!AE118+'Dir2'!AE118","v":0},{"$f":"'Dir1'!AF118+'Dir2'!AF118","v":0},{"$f":"'Dir1'!AG118+'Dir2'!AG118","v":0},{"$f":"'Dir1'!AH118+'Dir2'!AH118","v":0},{"$f":"'Dir1'!AI118+'Dir2'!AI118","v":0},{"$f":"'Dir1'!AJ118+'Dir2'!AJ118","v":0},{"$f":"'Dir1'!AK118+'Dir2'!AK118","v":0},{"$f":"'Dir1'!AL118+'Dir2'!AL118","v":0},"-",{"$f":"IFERROR(ROUND(PERCENTILE(_xlfn._xlws.FILTER(Data_Table[Speed],(Data_Table[Period]=$B118)*(SUM(C118:N118)>=10)),0.85),2),\"-\")","v":"-"}]
[115,{"$f":"ImportData!$B$10+7*QUOTIENT(A119,24*60*7/ImportData!$B$8)+MOD(1+QUOTIENT(A119,24*60/ImportData!$B$8)-ImportData!$E$10,7)+TIME(0,ImportData!$B$8*A119,0)","v":"2023-09-29T19:00:00"},{"$f":"'Dir1'!C119+'Dir2'!C119","v":0},{"$f":"'Dir1'!D119+'Dir2'!D119","v":0},{"$f":"'Dir1'!E119+'Dir2'!E119","v":0},{"$f":"'Dir1'!F119+'Dir2'!F119","v":0},{"$f":"'Dir1'!G119+'Dir2'!G119","v":0},{"$f":"'Dir1'!H119+'Dir2'!H119","v":0},{"$f":"'Dir1'!I119+'Dir2'!I119","v":0},{"$f":"'Dir1'!J119+'Dir2'!J119","v":0},{"$f":"'Dir1'!K119+'Dir2'!K119","v":0},{"$f":"'Dir1'!L119+'Dir2'!L119","v":0},{"$f":"'Dir1'!M119+'Dir2'!M119","v":0},{"$f":"'Dir1'!N119+'Dir2'!N119","v":0},{"$f":"'Dir1'!O119+'Dir2'!O119","v":0},{"$f":"'Dir1'!P119+'Dir2'!N119","v":0},{"$f":"'Dir1'!Q119+'Dir2'!O119","v":0},{"$f":"'Dir1'!R119+'Dir2'!R119","v":0},{"$f":"'Dir1'!S119+'Dir2'!S119","v":0},{"$f":"'Dir1'!T119+'Dir2'!T119","v":0},{"$f":"'Dir1'!U119+'Dir2'!U119","v":0},{"$f":"'Dir1'!V119+'Dir2'!V119","v":0},{"$f":"'Dir1'!W119+'Dir2'!W119","v":0},{"$f":"'Dir1'!X119+'Dir2'!X119","v":0},{"$f":"'Dir1'!Y119+'Dir2'!Y119","v":0},{"$f":"'Dir1'!Z119+'Dir2'!Z119","v":0},{"$f":"'Dir1'!AA119+'Dir2'!AA119","v":0},{"$f":"'Dir1'!AB119+'Dir2'!AB119","v":0},{"$f":"'Dir1'!AC119+'Dir2'!AC119","v":0},{"$f":"'Dir1'!AD119+'Dir2'!AD119","v":0},{"$f":"'Dir1'!AE119+'Dir2'!AE119","v":0},{"$f":"'Dir1'!AF119+'Dir2'!AF119","v":0},{"$f":"'Dir1'!AG119+'Dir2'!AG119","v":0},{"$f":"'Dir1'!AH119+'Dir2'!AH119","v":0},{"$f":"'Dir1'!AI119+'Dir2'!AI119","v":0},{"$f":"'Dir1'!AJ119+'Dir2'!AJ119","v":0},{"$f":"'Dir1'!AK119+'Dir2'!AK119","v":0},{"$f":"'Dir1'!AL119+'Dir2'!AL119","v":0},"-",{"$f":"IFERROR(ROUND(PERCENTILE(_xlfn._xlws.FILTER(Data_Table[Speed],(Data_Table[Period]=$B119)*(SUM(C119:N119)>=10)),0.85),2),\"-\")","v":"-"}]
[116,{"$f":"ImportData!$B$10+7*QUOTIENT(A120,24*60*7/ImportData!$B$8)+MOD(1+QUOTIENT(A120,24*60/ImportData!$B$8)-ImportData!$E$10,7)+TIME(0,ImportData!$B$8*A120,0)","v":"2023-09-29T20:00:00"},{"$f":"'Dir1'!C120+'Dir2'!C120","v":0},{"$f":"'Dir1'!D120+'Dir2'!D120","v":0},{"$f":"'Dir1'!E120+'Dir2'!E120","v":0},{"$f":"'Dir1'!F120+'Dir2'!F120","v":0},{"$f":"'Dir1'!G120+'Dir2'!G120","v":0},{"$f":"'Dir1'!H120+'Dir2'!H120","v":0},{"$f":"'Dir1'!I120+'Dir2'!I120","v":0},{"$f":"'Dir1'!J120+'Dir2'!J120","v":0},{"$f":"'Dir1'!K120+'Dir2'!K120","v":0},{"$f":"'Dir1'!L120+'Dir2'!L120","v":0},{"$f":"'Dir1'!M120+'Dir2'!M120","v":0},{"$f":"'Dir1'!N120+'Dir2'!N120","v":0},{"$f":"'Dir1'!O120+'Dir2'!O120","v":0},{"$f":"'Dir1'!P120+'Dir2'!N120","v":0},{"$f":"'Dir1'!Q120+'Dir2'!O120","v":0},{"$f":"'Dir1'!R120+'Dir2'!R120","v":0},{"$f":"'Dir1'!S120+'Dir2'!S120","v":0},{"$f":"'Dir1'!T120+'Dir2'!T120","v":0},{"$f":"'Dir1'!U120+'Dir2'!U120","v":0},{"$f":"'Dir1'!V120+'Dir2'!V120","v":0},{"$f":"'Dir1'!W120+'Dir2'!W120","v":0},{"$f":"'Dir1'!X120+'Dir2'!X120","v":0},{"$f":"'Dir1'!Y120+'Dir2'!Y120","v":0},{"$f":"'Dir1'!Z120+'Dir2'!Z120","v":0},{"$f":"'Dir1'!AA120+'Dir2'!AA120","v":0},{"$f":"'Dir1'!AB120+'Dir2'!AB120","v":0},{"$f":"'Dir1'!AC120+'Dir2'!AC120","v":0},{"$f":"'Dir1'!AD120+'Dir2'!AD120","v":0},{"$f":"'Dir1'!AE120+'Dir2'!AE120","v":0},{"$f":"'Dir1'!AF120+'Dir2'!AF120","v":0},{"$f":"'Dir1'!AG120+'Dir2'!AG120","v":0},{"$f":"'Dir1'!AH120+'Dir2'!AH120","v":0},{"$f":"'Dir1'!AI120+'Dir2'!AI120","v":0},{"$f":"'Dir1'!AJ120+'Dir2'!AJ120","v":0},{"$f":"'Dir1'!AK120+'Dir2'!AK120","v":0},{"$f":"'Dir1'!AL120+'Dir2'!AL120","v":0},"-",{"$f":"IFERROR(ROUND(PERCENTILE(_xlfn._xlws.FILTER(Data_Table[Speed],(Data_Table[Period]=$B120)*(SUM(C120:N120)>=10)),0.85),2),\"-\")","v":"-"}]
[117,{"$f":"ImportData!$B$10+7*QUOTIENT(A121,24*60*7/ImportData!$B$8)+MOD(1+QUOTIENT(A121,24*60/ImportData!$B$8)-ImportData!$E$10,7)+TIME(0,ImportData!$B$8*A121,0)","v":"2023-09-29T21:00:00"},{"$f":"'Dir1'!C121+'Dir2'!C121","v":0},{"$f":"'Dir1'!D121+'Dir2'!D121","v":0},{"$f":"'Dir1'!E121+'Dir2'!E121","v":0},{"$f":"'Dir1'!F121+'Dir2'!F121","v":0},{"$f":"'Dir1'!G121+'Dir2'!G121","v":0},{"$f":"'Dir1'!H121+'Dir2'!H121","v":0},{"$f":"'Dir1'!I121+'Dir2'!I121","v":0},{"$f":"'Dir1'!J121+'Dir2'!J121","v":0},{"$f":"'Dir1'!K121+'Dir2'!K121","v":0},{"$f":"'Dir1'!L121+'Dir2'!L121","v":0},{"$f":"'Dir1'!M121+'Dir2'!M121","v":0},{"$f":"'Dir1'!N121+'Dir2'!N121","v":0},{"$f":"'Dir1'!O121+'Dir2'!O121","v":0},{"$f":"'Dir1'!P121+'Dir2'!N121","v":0},{"$f":"'Dir1'!Q121+'Dir2'!O121","v":0},{"$f":"'Dir1'!R121+'Dir2'!R121","v":0},{"$f":"'Dir1'!S121+'Dir2'!S121","v":0},{"$f":"'Dir1'!T121+'Dir2'!T121","v":0},{"$f":"'Dir1'!U121+'Dir2'!U121","v":0},{"$f":"'Dir1'!V121+'Dir2'!V121","v":0},{"$f":"'Dir1'!W121+'Dir2'!W121","v":0},{"$f":"'Dir1'!X121+'Dir2'!X121","v":0},{"$f":"'Dir1'!Y121+'Dir2'!Y121","v":0},{"$f":"'Dir1'!Z121+'Dir2'!Z121","v":0},{"$f":"'Dir1'!AA121+'Dir2'!AA121","v":0},{"$f":"'Dir1'!AB121+'Dir2'!AB121","v":0},{"$f":"'Dir1'!AC121+'Dir2'!AC121","v":0},{"$f":"'Dir1'!AD121+'Dir2'!AD121","v":0},{"$f":"'Dir1'!AE121+'Dir2'!AE121","v":0},{"$f":"'Dir1'!AF121+'Dir2'!AF121","v":0},{"$f":"'Dir1'!AG121+'Dir2'!AG121","v":0},{"$f":"'Dir1'!AH121+'Dir2'!AH121","v":0},{"$f":"'Dir1'!AI121+'Dir2'!AI121","v":0},{"$f":"'Dir1'!AJ121+'Dir2'!AJ121","v":0},{"$f":"'Dir1'!AK121+'Dir2'!AK121","v":0},{"$f":"'Dir1'!AL121+'Dir2'!AL121","v":0},"-",{"$f":"IFERROR(ROUND(PERCENTILE(_xlfn._xlws.FILTER(Data_Table[Speed],(Data_Table[Period]=$B121)*(SUM(C121:N121)>=10)),0.85),2),\"-\")","v":"-"}]
[118,{"$f":"ImportData!$B$10+7*QUOTIENT(A122,24*60*7/ImportData!$B$8)+MOD(1+QUOTIENT(A122,24*60/ImportData!$B$8)-ImportData!$E$10,7)+TIME(0,ImportData!$B$8*A122,0)","v":"2023-09-29T22:00:00"},{"$f":"'Dir1'!C122+'Dir2'!C122","v":0},{"$f":"'Dir1'!D122+'Dir2'!D122","v":0},{"$f":"'Dir1'!E122+'Dir2'!E122","v":0},{"$f":"'Dir1'!F122+'Dir2'!F122","v":0},{"$f":"'Dir1'!G122+'Dir2'!G122","v":0},{"$f":"'Dir1'!H122+'Dir2'!H122","v":0},{"$f":"'Dir1'!I122+'Dir2'!I122","v":0},{"$f":"'Dir1'!J122+'Dir2'!J122","v":0},{"$f":"'Dir1'!K122+'Dir2'!K122","v":0},{"$f":"'Dir1'!L122+'Dir2'!L122","v":0},{"$f":"'Dir1'!M122+'Dir2'!M122","v":0},{"$f":"'Dir1'!N122+'Dir2'!N122","v":0},{"$f":"'Dir1'!O122+'Dir2'!O122","v":0},{"$f":"'Dir1'!P122+'Dir2'!N122","v":0},{"$f":"'Dir1'!Q122+'Dir2'!O122","v":0},{"$f":"'Dir1'!R122+'Dir2'!R122","v":0},{"$f":"'Dir1'!S122+'Dir2'!S122","v":0},{"$f":"'Dir1'!T122+'Dir2'!T122","v":0},{"$f":"'Dir1'!U122+'Dir2'!U122","v":0},{"$f":"'Dir1'!V122+'Dir2'!V122","v":0},{"$f":"'Dir1'!W122+'Dir2'!W122","v":0},{"$f":"'Dir1'!X122+'Dir2'!X122","v":0},{"$f":"'Dir1'!Y122+'Dir2'!Y122","v":0},{"$f":"'Dir1'!Z122+'Dir2'!Z122","v":0},{"$f":"'Dir1'!AA122+'Dir2'!AA122","v":0},{"$f":"'Dir1'!AB122+'Dir2'!AB122","v":0},{"$f":"'Dir1'!AC122+'Dir2'!AC122","v":0},{"$f":"'Dir1'!AD122+'Dir2'!AD122","v":0},{"$f":"'Dir1'!AE122+'Dir2'!AE122","v":0},{"$f":"'Dir1'!AF122+'Dir2'!AF122","v":0},{"$f":"'Dir1'!AG122+'Dir2'!AG122","v":0},{"$f":"'Dir1'!AH122+'Dir2'!AH122","v":0},{"$f":"'Dir1'!AI122+'Dir2'!AI122","v":0},{"$f":"'Dir1'!AJ122+'Dir2'!AJ122","v":0},{"$f":"'Dir1'!AK122+'Dir2'!AK122","v":0},{"$f":"'Dir1'!AL122+'Dir2'!AL122","v":0},"-",{"$f":"IFERROR(ROUND(PERCENTILE(_xlfn._xlws.FILTER(Data_Table[Speed],(Data_Table[Period]=$B122)*(SUM(C122:N122)>=10)),0.85),2),\"-\")","v":"-"}]
[119,{"$f":"ImportData!$B$10+7*QUOTIENT(A123,24*60*7/ImportData!$B$8)+MOD(1+QUOTIENT(A123,24*60/ImportData!$B$8)-ImportData!$E$10,7)+TIME(0,ImportData!$B$8*A123,0)","v":"2023-09-29T23:00:00"},{"$f":"'Dir1'!C123+'Dir2'!C123","v":0},{"$f":"'Dir1'!D123+'Dir2'!D123","v":0},{"$f":"'Dir1'!E123+'Dir2'!E123","v":0},{"$f":"'Dir1'!F123+'Dir2'!F123","v":0},{"$f":"'Dir1'!G123+'Dir2'!G123","v":0},{"$f":"'Dir1'!H123+'Dir2'!H123","v":0},{"$f":"'Dir1'!I123+'Dir2'!I123","v":0},{"$f":"'Dir1'!J123+'Dir2'!J123","v":0},{"$f":"'Dir1'!K123+'Dir2'!K123","v":0},{"$f":"'Dir1'!L123+'Dir2'!L123","v":0},{"$f":"'Dir1'!M123+'Dir2'!M123","v":0},{"$f":"'Dir1'!N123+'Dir2'!N123","v":0},{"$f":"'Dir1'!O123+'Dir2'!O123","v":0},{"$f":"'Dir1'!P123+'Dir2'!N123","v":0},{"$f":"'Dir1'!Q123+'Dir2'!O123","v":0},{"$f":"'Dir1'!R123+'Dir2'!R123","v":0},{"$f":"'Dir1'!S123+'Dir2'!S123","v":0},{"$f":"'Dir1'!T123+'Dir2'!T123","v":0},{"$f":"'Dir1'!U123+'Dir2'!U123","v":0},{"$f":"'Dir1'!V123+'Dir2'!V123","v":0},{"$f":"'Dir1'!W123+'Dir2'!W123","v":0},{"$f":"'Dir1'!X123+'Dir2'!X123","v":0},{"$f":"'Dir1'!Y123+'Dir2'!Y123","v":0},{"$f":"'Dir1'!Z123+'Dir2'!Z123","v":0},{"$f":"'Dir1'!AA123+'Dir2'!AA123","v":0},{"$f":"'Dir1'!AB123+'Dir2'!AB123","v":0},{"$f":"'Dir1'!AC123+'Dir2'!AC123","v":0},{"$f":"'Dir1'!AD123+'Dir2'!AD123","v":0},{"$f":"'Dir1'!AE123+'Dir2'!AE123","v":0},{"$f":"'Dir1'!AF123+'Dir2'!AF123","v":0},{"$f":"'Dir1'!AG123+'Dir2'!AG123","v":0},{"$f":"'Dir1'!AH123+'Dir2'!AH123","v":0},{"$f":"'Dir1'!AI123+'Dir2'!AI123","v":0},{"$f":"'Dir1'!AJ123+'Dir2'!AJ123","v":0},{"$f":"'Dir1'!AK123+'Dir2'!AK123","v":0},{"$f":"'Dir1'!AL123+'Dir2'!AL123","v":0},"-",{"$f":"IFERROR(ROUND(PERCENTILE(_xlfn._xlws.FILTER(Data_Table[Speed],(Data_Table[Period]=$B123)*(SUM(C123:N123)>=10)),0.85),2),\"-\")","v":"-"}]
[120,{"$f":"ImportData!$B$10+7*QUOTIENT(A124,24*60*7/ImportData!$B$8)+MOD(1+QUOTIENT(A124,24*60/ImportData!$B$8)-ImportData!$E$10,7)+TIME(0,ImportData!$B$8*A124,0)","v":"2023-09-30"},{"$f":"'Dir1'!C124+'Dir2'!C124","v":0},{"$f":"'Dir1'!D124+'Dir2'!D124","v":0},{"$f":"'Dir1'!E124+'Dir2'!E124","v":0},{"$f":"'Dir1'!F124+'Dir2'!F124","v":0},{"$f":"'Dir1'!G124+'Dir2'!G124","v":0},{"$f":"'Dir1'!H124+'Dir2'!H124","v":0},{"$f":"'Dir1'!I124+'Dir2'!I124","v":0},{"$f":"'Dir1'!J124+'Dir2'!J124","v":0},{"$f":"'Dir1'!K124+'Dir2'!K124","v":0},{"$f":"'Dir1'!L124+'Dir2'!L124","v":0},{"$f":"'Dir1'!M124+'Dir2'!M124","v":0},{"$f":"'Dir1'!N124+'Dir2'!N124","v":0},{"$f":"'Dir1'!O124+'Dir2'!O124","v":0},{"$f":"'Dir1'!P124+'Dir2'!N124","v":0},{"$f":"'Dir1'!Q124+'Dir2'!O124","v":0},{"$f":"'Dir1'!R124+'Dir2'!R124","v":0},{"$f":"'Dir1'!S124+'Dir2'!S124","v":0},{"$f":"'Dir1'!T124+'Dir2'!T124","v":0},{"$f":"'Dir1'!U124+'Dir2'!U124","v":0},{"$f":"'Dir1'!V124+'Dir2'!V124","v":0},{"$f":"'Dir1'!W124+'Dir2'!W124","v":0},{"$f":"'Dir1'!X124+'Dir2'!X124","v":0},{"$f":"'Dir1'!Y124+'Dir2'!Y124","v":0},{"$f":"'Dir1'!Z124+'Dir2'!Z124","v":0},{"$f":"'Dir1'!AA124+'Dir2'!AA124","v":0},{"$f":"'Dir1'!AB124+'Dir2'!AB124","v":0},{"$f":"'Dir1'!AC124+'Dir2'!AC124","v":0},{"$f":"'Dir1'!AD124+'Dir2'!AD124","v":0},{"$f":"'Dir1'!AE124+'Dir2'!AE124","v":0},{"$f":"'Dir1'!AF124+'Dir2'!AF124","v":0},{"$f":"'Dir1'!AG124+'Dir2'!AG124","v":0},{"$f":"'Dir1'!AH124+'Dir2'!AH124","v":0},{"$f":"'Dir1'!AI124+'Dir2'!AI124","v":0},{"$f":"'Dir1'!AJ124+'Dir2'!AJ124","v":0},{"$f":"'Dir1'!AK124+'Dir2'!AK124","v":0},{"$f":"'Dir1'!AL124+'Dir2'!AL124","v":0},"-",{"$f":"IFERROR(ROUND(PERCENTILE(_xlfn._xlws.FILTER(Data_Table[Speed],(Data_Table[Period]=$B124)*(SUM(C124:N124)>=10)),0.85),2),\"-\")","v":"-"}]
[121,{"$f":"ImportData!$B$10+7*QUOTIENT(A125,24*60*7/ImportData!$B$8)+MOD(1+QUOTIENT(A125,24*60/ImportData!$B$8)-ImportData!$E$10,7)+TIME(0,ImportData!$B$8*A125,0)","v":"2023-09-30T01:00:00"},{"$f":"'Dir1'!C125+'Dir2'!C125","v":0},{"$f":"'Dir1'!D125+'Dir2'!D125","v":0},{"$f":"'Dir1'!E125+'Dir2'!E125","v":0},{"$f":"'Dir1'!F125+'Dir2'!F125","v":0},{"$f":"'Dir1'!G125+'Dir2'!G125","v":0},{"$f":"'Dir1'!H125+'Dir2'!H125","v":0},{"$f":"'Dir1'!I125+'Dir2'!I125","v":0},{"$f":"'Dir1'!J125+'Dir2'!J125","v":0},{"$f":"'Dir1'!K125+'Dir2'!K125","v":0},{"$f":"'Dir1'!L125+'Dir2'!L125","v":0},{"$f":"'Dir1'!M125+'Dir2'!M125","v":0},{"$f":"'Dir1'!N125+'Dir2'!N125","v":0},{"$f":"'Dir1'!O125+'Dir2'!O125","v":0},{"$f":"'Dir1'!P125+'Dir2'!N125","v":0},{"$f":"'Dir1'!Q125+'Dir2'!O125","v":0},{"$f":"'Dir1'!R125+'Dir2'!R125","v":0},{"$f":"'Dir1'!S125+'Dir2'!S125","v":0},{"$f":"'Dir1'!T125+'Dir2'!T125","v":0},{"$f":"'Dir1'!U125+'Dir2'!U125","v":0},{"$f":"'Dir1'!V125+'Dir2'!V125","v":0},{"$f":"'Dir1'!W125+'Dir2'!W125","v":0},{"$f":"'Dir1'!X125+'Dir2'!X125","v":0},{"$f":"'Dir1'!Y125+'Dir2'!Y125","v":0},{"$f":"'Dir1'!Z125+'Dir2'!Z125","v":0},{"$f":"'Dir1'!AA125+'Dir2'!AA125","v":0},{"$f":"'Dir1'!AB125+'Dir2'!AB125","v":0},{"$f":"'Dir1'!AC125+'Dir2'!AC125","v":0},{"$f":"'Dir1'!AD125+'Dir2'!AD125","v":0},{"$f":"'Dir1'!AE125+'Dir2'!AE125","v":0},{"$f":"'Dir1'!AF125+'Dir2'!AF125","v":0},{"$f":"'Dir1'!AG125+'Dir2'!AG125","v":0},{"$f":"'Dir1'!AH125+'Dir2'!AH125","v":0},{"$f":"'Dir1'!AI125+'Dir2'!AI125","v":0},{"$f":"'Dir1'!AJ125+'Dir2'!AJ125","v":0},{"$f":"'Dir1'!AK125+'Dir2'!AK125","v":0},{"$f":"'Dir1'!AL125+'Dir2'!AL125","v":0},"-",{"$f":"IFERROR(ROUND(PERCENTILE(_xlfn._xlws.FILTER(Data_Table[Speed],(Data_Table[Period]=$B125)*(SUM(C125:N125)>=10)),0.85),2),\"-\")","v":"-"}]
[122,{"$f":"ImportData!$B$10+7*QUOTIENT(A126,24*60*7/ImportData!$B$8)+MOD(1+QUOTIENT(A126,24*60/ImportData!$B$8)-ImportData!$E$10,7)+TIME(0,ImportData!$B$8*A126,0)","v":"2023-09-30T02:00:00"},{"$f":"'Dir1'!C126+'Dir2'!C126","v":0},{"$f":"'Dir1'!D126+'Dir2'!D126","v":0},{"$f":"'Dir1'!E126+'Dir2'!E126","v":0},{"$f":"'Dir1'!F126+'Dir2'!F126","v":0},{"$f":"'Dir1'!G126+'Dir2'!G126","v":0},{"$f":"'Dir1'!H126+'Dir2'!H126","v":0},{"$f":"'Dir1'!I126+'Dir2'!I126","v":0},{"$f":"'Dir1'!J126+'Dir2'!J126","v":0},{"$f":"'Dir1'!K126+'Dir2'!K126","v":0},{"$f":"'Dir1'!L126+'Dir2'!L126","v":0},{"$f":"'Dir1'!M126+'Dir2'!M126","v":0},{"$f":"'Dir1'!N126+'Dir2'!N126","v":0},{"$f":"'Dir1'!O126+'Dir2'!O126","v":0},{"$f":"'Dir1'!P126+'Dir2'!N126","v":0},{"$f":"'Dir1'!Q126+'Dir2'!O126","v":0},{"$f":"'Dir1'!R126+'Dir2'!R126","v":0},{"$f":"'Dir1'!S126+'Dir2'!S126","v":0},{"$f":"'Dir1'!T126+'Dir2'!T126","v":0},{"$f":"'Dir1'!U126+'Dir2'!U126","v":0},{"$f":"'Dir1'!V126+'Dir2'!V126","v":0},{"$f":"'Dir1'!W126+'Dir2'!W126","v":0},{"$f":"'Dir1'!X126+'Dir2'!X126","v":0},{"$f":"'Dir1'!Y126+'Dir2'!Y126","v":0},{"$f":"'Dir1'!Z126+'Dir2'!Z126","v":0},{"$f":"'Dir1'!AA126+'Dir2'!AA126","v":0},{"$f":"'Dir1'!AB126+'Dir2'!AB126","v":0},{"$f":"'Dir1'!AC126+'Dir2'!AC126","v":0},{"$f":"'Dir1'!AD126+'Dir2'!AD126","v":0},{"$f":"'Dir1'!AE126+'Dir2'!AE126","v":0},{"$f":"'Dir1'!AF126+'Dir2'!AF126","v":0},{"$f":"'Dir1'!AG126+'Dir2'!AG126","v":0},{"$f":"'Dir1'!AH126+'Dir2'!AH126","v":0},{"$f":"'Dir1'!AI126+'Dir2'!AI126","v":0},{"$f":"'Dir1'!AJ126+'Dir2'!AJ126","v":0},{"$f":"'Dir1'!AK126+'Dir2'!AK126","v":0},{"$f":"'Dir1'!AL126+'Dir2'!AL126","v":0},"-",{"$f":"IFERROR(ROUND(PERCENTILE(_xlfn._xlws.FILTER(Data_Table[Speed],(Data_Table[Period]=$B126)*(SUM(C126:N126)>=10)),0.85),2),\"-\")","v":"-"}]
[123,{"$f":"ImportData!$B$10+7*QUOTIENT(A127,24*60*7/ImportData!$B$8)+MOD(1+QUOTIENT(A127,24*60/ImportData!$B$8)-ImportData!$E$10,7)+TIME(0,ImportData!$B$8*A127,0)","v":"2023-09-30T03:00:00"},{"$f":"'Dir1'!C127+'Dir2'!C127","v":0},{"$f":"'Dir1'!D127+'Dir2'!D127","v":0},{"$f":"'Dir1'!E127+'Dir2'!E127","v":0},{"$f":"'Dir1'!F127+'Dir2'!F127","v":0},{"$f":"'Dir1'!G127+'Dir2'!G127","v":0},{"$f":"'Dir1'!H127+'Dir2'!H127","v":0},{"$f":"'Dir1'!I127+'Dir2'!I127","v":0},{"$f":"'Dir1'!J127+'Dir2'!J127","v":0},{"$f":"'Dir1'!K127+'Dir2'!K127","v":0},{"$f":"'Dir1'!L127+'Dir2'!L127","v":0},{"$f":"'Dir1'!M127+'Dir2'!M127","v":0},{"$f":"'Dir1'!N127+'Dir2'!N127","v":0},{"$f":"'Dir1'!O127+'Dir2'!O127","v":0},{"$f":"'Dir1'!P127+'Dir2'!N127","v":0},{"$f":"'Dir1'!Q127+'Dir2'!O127","v":0},{"$f":"'Dir1'!R127+'Dir2'!R127","v":0},{"$f":"'Dir1'!S127+'Dir2'!S127","v":0},{"$f":"'Dir1'!T127+'Dir2'!T127","v":0},{"$f":"'Dir1'!U127+'Dir2'!U127","v":0},{"$f":"'Dir1'!V127+'Dir2'!V127","v":0},{"$f":"'Dir1'!W127+'Dir2'!W127","v":0},{"$f":"'Dir1'!X127+'Dir2'!X127","v":0},{"$f":"'Dir1'!Y127+'Dir2'!Y127","v":0},{"$f":"'Dir1'!Z127+'Dir2'!Z127","v":0},{"$f":"'Dir1'!AA127+'Dir2'!AA127","v":0},{"$f":"'Dir1'!AB127+'Dir2'!AB127","v":0},{"$f":"'Dir1'!AC127+'Dir2'!AC127","v":0},{"$f":"'Dir1'!AD127+'Dir2'!AD127","v":0},{"$f":"'Dir1'!AE127+'Dir2'!AE127","v":0},{"$f":"'Dir1'!AF127+'Dir2'!AF127","v":0},{"$f":"'Dir1'!AG127+'Dir2'!AG127","v":0},{"$f":"'Dir1'!AH127+'Dir2'!AH127","v":0},{"$f":"'Dir1'!AI127+'Dir2'!AI127","v":0},{"$f":"'Dir1'!AJ127+'Dir2'!AJ127","v":0},{"$f":"'Dir1'!AK127+'Dir2'!AK127","v":0},{"$f":"'Dir1'!AL127+'Dir2'!AL127","v":0},"-",{"$f":"IFERROR(ROUND(PERCENTILE(_xlfn._xlws.FILTER(Data_Table[Speed],(Data_Table[Period]=$B127)*(SUM(C127:N127)>=10)),0.85),2),\"-\")","v":"-"}]
[124,{"$f":"ImportData!$B$10+7*QUOTIENT(A128,24*60*7/ImportData!$B$8)+MOD(1+QUOTIENT(A128,24*60/ImportData!$B$8)-ImportData!$E$10,7)+TIME(0,ImportData!$B$8*A128,0)","v":"2023-09-30T04:00:00"},{"$f":"'Dir1'!C128+'Dir2'!C128","v":0},{"$f":"'Dir1'!D128+'Dir2'!D128","v":0},{"$f":"'Dir1'!E128+'Dir2'!E128","v":0},{"$f":"'Dir1'!F128+'Dir2'!F128","v":0},{"$f":"'Dir1'!G128+'Dir2'!G128","v":0},{"$f":"'Dir1'!H128+'Dir2'!H128","v":0},{"$f":"'Dir1'!I128+'Dir2'!I128","v":0},{"$f":"'Dir1'!J128+'Dir2'!J128","v":0},{"$f":"'Dir1'!K128+'Dir2'!K128","v":0},{"$f":"'Dir1'!L128+'Dir2'!L128","v":0},{"$f":"'Dir1'!M128+'Dir2'!M128","v":0},{"$f":"'Dir1'!N128+'Dir2'!N128","v":0},{"$f":"'Dir1'!O128+'Dir2'!O128","v":0},{"$f":"'Dir1'!P128+'Dir2'!N128","v":0},{"$f":"'Dir1'!Q128+'Dir2'!O128","v":0},{"$f":"'Dir1'!R128+'Dir2'!R128","v":0},{"$f":"'Dir1'!S128+'Dir2'!S128","v":0},{"$f":"'Dir1'!T128+'Dir2'!T128","v":0},{"$f":"'Dir1'!U128+'Dir2'!U128","v":0},{"$f":"'Dir1'!V128+'Dir2'!V128","v":0},{"$f":"'Dir1'!W128+'Dir2'!W128","v":0},{"$f":"'Dir1'!X128+'Dir2'!X128","v":0},{"$f":"'Dir1'!Y128+'Dir2'!Y128","v":0},{"$f":"'Dir1'!Z128+'Dir2'!Z128","v":0},{"$f":"'Dir1'!AA128+'Dir2'!AA128","v":0},{"$f":"'Dir1'!AB128+'Dir2'!AB128","v":0},{"$f":"'Dir1'!AC128+'Dir2'!AC128","v":0},{"$f":"'Dir1'!AD128+'Dir2'!AD128","v":0},{"$f":"'Dir1'!AE128+'Dir2'!AE128","v":0},{"$f":"'Dir1'!AF128+'Dir2'!AF128","v":0},{"$f":"'Dir1'!AG128+'Dir2'!AG128","v":0},{"$f":"'Dir1'!AH128+'Dir2'!AH128","v":0},{"$f":"'Dir1'!AI128+'Dir2'!AI128","v":0},{"$f":"'Dir1'!AJ128+'Dir2'!AJ128","v":0},{"$f":"'Dir1'!AK128+'Dir2'!AK128","v":0},{"$f":"'Dir1'!AL128+'Dir2'!AL128","v":0},"-",{"$f":"IFERROR(ROUND(PERCENTILE(_xlfn._xlws.FILTER(Data_Table[Speed],(Data_Table[Period]=$B128)*(SUM(C128:N128)>=10)),0.85),2),\"-\")","v":"-"}]
[125,{"$f":"ImportData!$B$10+7*QUOTIENT(A129,24*60*7/ImportData!$B$8)+MOD(1+QUOTIENT(A129,24*60/ImportData!$B$8)-ImportData!$E$10,7)+TIME(0,ImportData!$B$8*A129,0)","v":"2023-09-30T05:00:00"},{"$f":"'Dir1'!C129+'Dir2'!C129","v":0},{"$f":"'Dir1'!D129+'Dir2'!D129","v":0},{"$f":"'Dir1'!E129+'Dir2'!E129","v":0},{"$f":"'Dir1'!F129+'Dir2'!F129","v":0},{"$f":"'Dir1'!G129+'Dir2'!G129","v":0},{"$f":"'Dir1'!H129+'Dir2'!H129","v":0},{"$f":"'Dir1'!I129+'Dir2'!I129","v":0},{"$f":"'Dir1'!J129+'Dir2'!J129","v":0},{"$f":"'Dir1'!K129+'Dir2'!K129","v":0},{"$f":"'Dir1'!L129+'Dir2'!L129","v":0},{"$f":"'Dir1'!M129+'Dir2'!M129","v":0},{"$f":"'Dir1'!N129+'Dir2'!N129","v":0},{"$f":"'Dir1'!O129+'Dir2'!O129","v":0},{"$f":"'Dir1'!P129+'Dir2'!N129","v":0},{"$f":"'Dir1'!Q129+'Dir2'!O129","v":0},{"$f":"'Dir1'!R129+'Dir2'!R129","v":0},{"$f":"'Dir1'!S129+'Dir2'!S129","v":0},{"$f":"'Dir1'!T129+'Dir2'!T129","v":0},{"$f":"'Dir1'!U129+'Dir2'!U129","v":0},{"$f":"'Dir1'!V129+'Dir2'!V129","v":0},{"$f":"'Dir1'!W129+'Dir2'!W129","v":0},{"$f":"'Dir1'!X129+'Dir2'!X129","v":0},{"$f":"'Dir1'!Y129+'Dir2'!Y129","v":0},{"$f":"'Dir1'!Z129+'Dir2'!Z129","v":0},{"$f":"'Dir1'!AA129+'Dir2'!AA129","v":0},{"$f":"'Dir1'!AB129+'Dir2'!AB129","v":0},{"$f":"'Dir1'!AC129+'Dir2'!AC129","v":0},{"$f":"'Dir1'!AD129+'Dir2'!AD129","v":0},{"$f":"'Dir1'!AE129+'Dir2'!AE129","v":0},{"$f":"'Dir1'!AF129+'Dir2'!AF129","v":0},{"$f":"'Dir1'!AG129+'Dir2'!AG129","v":0},{"$f":"'Dir1'!AH129+'Dir2'!AH129","v":0},{"$f":"'Dir1'!AI129+'Dir2'!AI129","v":0},{"$f":"'Dir1'!AJ129+'Dir2'!AJ129","v":0},{"$f":"'Dir1'!AK129+'Dir2'!AK129","v":0},{"$f":"'Dir1'!AL129+'Dir2'!AL129","v":0},"-",{"$f":"IFERROR(ROUND(PERCENTILE(_xlfn._xlws.FILTER(Data_Table[Speed],(Data_Table[Period]=$B129)*(SUM(C129:N129)>=10)),0.85),2),\"-\")","v":"-"}]
[126,{"$f":"ImportData!$B$10+7*QUOTIENT(A130,24*60*7/ImportData!$B$8)+MOD(1+QUOTIENT(A130,24*60/ImportData!$B$8)-ImportData!$E$10,7)+TIME(0,ImportData!$B$8*A130,0)","v":"2023-09-30T06:00:00"},{"$f":"'Dir1'!C130+'Dir2'!C130","v":0},{"$f":"'Dir1'!D130+'Dir2'!D130","v":0},{"$f":"'Dir1'!E130+'Dir2'!E130","v":0},{"$f":"'Dir1'!F130+'Dir2'!F130","v":0},{"$f":"'Dir1'!G130+'Dir2'!G130","v":0},{"$f":"'Dir1'!H130+'Dir2'!H130","v":0},{"$f":"'Dir1'!I130+'Dir2'!I130","v":0},{"$f":"'Dir1'!J130+'Dir2'!J130","v":0},{"$f":"'Dir1'!K130+'Dir2'!K130","v":0},{"$f":"'Dir1'!L130+'Dir2'!L130","v":0},{"$f":"'Dir1'!M130+'Dir2'!M130","v":0},{"$f":"'Dir1'!N130+'Dir2'!N130","v":0},{"$f":"'Dir1'!O130+'Dir2'!O130","v":0},{"$f":"'Dir1'!P130+'Dir2'!N130","v":0},{"$f":"'Dir1'!Q130+'Dir2'!O130","v":0},{"$f":"'Dir1'!R130+'Dir2'!R130","v":0},{"$f":"'Dir1'!S130+'Dir2'!S130","v":0},{"$f":"'Dir1'!T130+'Dir2'!T130","v":0},{"$f":"'Dir1'!U130+'Dir2'!U130","v":0},{"$f":"'Dir1'!V130+'Dir2'!V130","v":0},{"$f":"'Dir1'!W130+'Dir2'!W130","v":0},{"$f":"'Dir1'!X130+'Dir2'!X130","v":0},{"$f":"'Dir1'!Y130+'Dir2'!Y130","v":0},{"$f":"'Dir1'!Z130+'Dir2'!Z130","v":0},{"$f":"'Dir1'!AA130+'Dir2'!AA130","v":0},{"$f":"'Dir1'!AB130+'Dir2'!AB130","v":0},{"$f":"'Dir1'!AC130+'Dir2'!AC130","v":0},{"$f":"'Dir1'!AD130+'Dir2'!AD130","v":0},{"$f":"'Dir1'!AE130+'Dir2'!AE130","v":0},{"$f":"'Dir1'!AF130+'Dir2'!AF130","v":0},{"$f":"'Dir1'!AG130+'Dir2'!AG130","v":0},{"$f":"'Dir1'!AH130+'Dir2'!AH130","v":0},{"$f":"'Dir1'!AI130+'Dir2'!AI130","v":0},{"$f":"'Dir1'!AJ130+'Dir2'!AJ130","v":0},{"$f":"'Dir1'!AK130+'Dir2'!AK130","v":0},{"$f":"'Dir1'!AL130+'Dir2'!AL130","v":0},"-",{"$f":"IFERROR(ROUND(PERCENTILE(_xlfn._xlws.FILTER(Data_Table[Speed],(Data_Table[Period]=$B130)*(SUM(C130:N130)>=10)),0.85),2),\"-\")","v":"-"}]
[127,{"$f":"ImportData!$B$10+7*QUOTIENT(A131,24*60*7/ImportData!$B$8)+MOD(1+QUOTIENT(A131,24*60/ImportData!$B$8)-ImportData!$E$10,7)+TIME(0,ImportData!$B$8*A131,0)","v":"2023-09-30T07:00:00"},{"$f":"'Dir1'!C131+'Dir2'!C131","v":0},{"$f":"'Dir1'!D131+'Dir2'!D131","v":0},{"$f":"'Dir1'!E131+'Dir2'!E131","v":0},{"$f":"'Dir1'!F131+'Dir2'!F131","v":0},{"$f":"'Dir1'!G131+'Dir2'!G131","v":0},{"$f":"'Dir1'!H131+'Dir2'!H131","v":0},{"$f":"'Dir1'!I131+'Dir2'!I131","v":0},{"$f":"'Dir1'!J131+'Dir2'!J131","v":0},{"$f":"'Dir1'!K131+'Dir2'!K131","v":0},{"$f":"'Dir1'!L131+'Dir2'!L131","v":0},{"$f":"'Dir1'!M131+'Dir2'!M131","v":0},{"$f":"'Dir1'!N131+'Dir2'!N131","v":0},{"$f":"'Dir1'!O131+'Dir2'!O131","v":0},{"$f":"'Dir1'!P131+'Dir2'!N131","v":0},{"$f":"'Dir1'!Q131+'Dir2'!O131","v":0},{"$f":"'Dir1'!R131+'Dir2'!R131","v":0},{"$f":"'Dir1'!S131+'Dir2'!S131","v":0},{"$f":"'Dir1'!T131+'Dir2'!T131","v":0},{"$f":"'Dir1'!U131+'Dir2'!U131","v":0},{"$f":"'Dir1'!V131+'Dir2'!V131","v":0},{"$f":"'Dir1'!W131+'Dir2'!W131","v":0},{"$f":"'Dir1'!X131+'Dir2'!X131","v":0},{"$f":"'Dir1'!Y131+'Dir2'!Y131","v":0},{"$f":"'Dir1'!Z131+'Dir2'!Z131","v":0},{"$f":"'Dir1'!AA131+'Dir2'!AA131","v":0},{"$f":"'Dir1'!AB131+'Dir2'!AB131","v":0},{"$f":"'Dir1'!AC131+'Dir2'!AC131","v":0},{"$f":"'Dir1'!AD131+'Dir2'!AD131","v":0},{"$f":"'Dir1'!AE131+'Dir2'!AE131","v":0},{"$f":"'Dir1'!AF131+'Dir2'!AF131","v":0},{"$f":"'Dir1'!AG131+'Dir2'!AG131","v":0},{"$f":"'Dir1'!AH131+'Dir2'!AH131","v":0},{"$f":"'Dir1'!AI131+'Dir2'!AI131","v":0},{"$f":"'Dir1'!AJ131+'Dir2'!AJ131","v":0},{"$f":"'Dir1'!AK131+'Dir2'!AK131","v":0},{"$f":"'Dir1'!AL131+'Dir2'!AL131","v":0},"-",{"$f":"IFERROR(ROUND(PERCENTILE(_xlfn._xlws.FILTER(Data_Table[Speed],(Data_Table[Period]=$B131)*(SUM(C131:N131)>=10)),0.85),2),\"-\")","v":"-"}]
[128,{"$f":"ImportData!$B$10+7*QUOTIENT(A132,24*60*7/ImportData!$B$8)+MOD(1+QUOTIENT(A132,24*60/ImportData!$B$8)-ImportData!$E$10,7)+TIME(0,ImportData!$B$8*A132,0)","v":"2023-09-30T08:00:00"},{"$f":"'Dir1'!C132+'Dir2'!C132","v":0},{"$f":"'Dir1'!D132+'Dir2'!D132","v":0},{"$f":"'Dir1'!E132+'Dir2'!E132","v":0},{"$f":"'Dir1'!F132+'Dir2'!F132","v":0},{"$f":"'Dir1'!G132+'Dir2'!G132","v":0},{"$f":"'Dir1'!H132+'Dir2'!H132","v":0},{"$f":"'Dir1'!I132+'Dir2'!I132","v":0},{"$f":"'Dir1'!J132+'Dir2'!J132","v":0},{"$f":"'Dir1'!K132+'Dir2'!K132","v":0},{"$f":"'Dir1'!L132+'Dir2'!L132","v":0},{"$f":"'Dir1'!M132+'Dir2'!M132","v":0},{"$f":"'Dir1'!N132+'Dir2'!N132","v":0},{"$f":"'Dir1'!O132+'Dir2'!O132","v":0},{"$f":"'Dir1'!P132+'Dir2'!N132","v":0},{"$f":"'Dir1'!Q132+'Dir2'!O132","v":0},{"$f":"'Dir1'!R132+'Dir2'!R132","v":0},{"$f":"'Dir1'!S132+'Dir2'!S132","v":0},{"$f":"'Dir1'!T132+'Dir2'!T132","v":0},{"$f":"'Dir1'!U132+'Dir2'!U132","v":0},{"$f":"'Dir1'!V132+'Dir2'!V132","v":0},{"$f":"'Dir1'!W132+'Dir2'!W132","v":0},{"$f":"'Dir1'!X132+'Dir2'!X132","v":0},{"$f":"'Dir1'!Y132+'Dir2'!Y132","v":0},{"$f":"'Dir1'!Z132+'Dir2'!Z132","v":0},{"$f":"'Dir1'!AA132+'Dir2'!AA132","v":0},{"$f":"'Dir1'!AB132+'Dir2'!AB132","v":0},{"$f":"'Dir1'!AC132+'Dir2'!AC132","v":0},{"$f":"'Dir1'!AD132+'Dir2'!AD132","v":0},{"$f":"'Dir1'!AE132+'Dir2'!AE132","v":0},{"$f":"'Dir1'!AF132+'Dir2'!AF132","v":0},{"$f":"'Dir1'!AG132+'Dir2'!AG132","v":0},{"$f":"'Dir1'!AH132+'Dir2'!AH132","v":0},{"$f":"'Dir1'!AI132+'Dir2'!AI132","v":0},{"$f":"'Dir1'!AJ132+'Dir2'!AJ132","v":0},{"$f":"'Dir1'!AK132+'Dir2'!AK132","v":0},{"$f":"'Dir1'!AL132+'Dir2'!AL132","v":0},"-",{"$f":"IFERROR(ROUND(PERCENTILE(_xlfn._xlws.FILTER(Data_Table[Speed],(Data_Table[Period]=$B132)*(SUM(C132:N132)>=10)),0.85),2),\"-\")","v":"-"}]
[129,{"$f":"ImportData!$B$10+7*QUOTIENT(A133,24*60*7/ImportData!$B$8)+MOD(1+QUOTIENT(A133,24*60/ImportData!$B$8)-ImportData!$E$10,7)+TIME(0,ImportData!$B$8*A133,0)","v":"2023-09-30T09:00:00"},{"$f":"'Dir1'!C133+'Dir2'!C133","v":0},{"$f":"'Dir1'!D133+'Dir2'!D133","v":0},{"$f":"'Dir1'!E133+'Dir2'!E133","v":0},{"$f":"'Dir1'!F133+'Dir2'!F133","v":0},{"$f":"'Dir1'!G133+'Dir2'!G133","v":0},{"$f":"'Dir1'!H133+'Dir2'!H133","v":0},{"$f":"'Dir1'!I133+'Dir2'!I133","v":0},{"$f":"'Dir1'!J133+'Dir2'!J133","v":0},{"$f":"'Dir1'!K133+'Dir2'!K133","v":0},{"$f":"'Dir1'!L133+'Dir2'!L133","v":0},{"$f":"'Dir1'!M133+'Dir2'!M133","v":0},{"$f":"'Dir1'!N133+'Dir2'!N133","v":0},{"$f":"'Dir1'!O133+'Dir2'!O133","v":0},{"$f":"'Dir1'!P133+'Dir2'!N133","v":0},{"$f":"'Dir1'!Q133+'Dir2'!O133","v":0},{"$f":"'Dir1'!R133+'Dir2'!R133","v":0},{"$f":"'Dir1'!S133+'Dir2'!S133","v":0},{"$f":"'Dir1'!T133+'Dir2'!T133","v":0},{"$f":"'Dir1'!U133+'Dir2'!U133","v":0},{"$f":"'Dir1'!V133+'Dir2'!V133","v":0},{"$f":"'Dir1'!W133+'Dir2'!W133","v":0},{"$f":"'Dir1'!X133+'Dir2'!X133","v":0},{"$f":"'Dir1'!Y133+'Dir2'!Y133","v":0},{"$f":"'Dir1'!Z133+'Dir2'!Z133","v":0},{"$f":"'Dir1'!AA133+'Dir2'!AA133","v":0},{"$f":"'Dir1'!AB133+'Dir2'!AB133","v":0},{"$f":"'Dir1'!AC133+'Dir2'!AC133","v":0},{"$f":"'Dir1'!AD133+'Dir2'!AD133","v":0},{"$f":"'Dir1'!AE133+'Dir2'!AE133","v":0},{"$f":"'Dir1'!AF133+'Dir2'!AF133","v":0},{"$f":"'Dir1'!AG133+'Dir2'!AG133","v":0},{"$f":"'Dir1'!AH133+'Dir2'!AH133","v":0},{"$f":"'Dir1'!AI133+'Dir2'!AI133","v":0},{"$f":"'Dir1'!AJ133+'Dir2'!AJ133","v":0},{"$f":"'Dir1'!AK133+'Dir2'!AK133","v":0},{"$f":"'Dir1'!AL133+'Dir2'!AL133","v":0},"-",{"$f":"IFERROR(ROUND(PERCENTILE(_xlfn._xlws.FILTER(Data_Table[Speed],(Data_Table[Period]=$B133)*(SUM(C133:N133)>=10)),0.85),2),\"-\")","v":"-"}]
[130,{"$f":"ImportData!$B$10+7*QUOTIENT(A134,24*60*7/ImportData!$B$8)+MOD(1+QUOTIENT(A134,24*60/ImportData!$B$8)-ImportData!$E$10,7)+TIME(0,ImportData!$B$8*A134,0)","v":"2023-09-30T10:00:00"},{"$f":"'Dir1'!C134+'Dir2'!C134","v":0},{"$f":"'Dir1'!D134+'Dir2'!D134","v":0},{"$f":"'Dir1'!E134+'Dir2'!E134","v":0},{"$f":"'Dir1'!F134+'Dir2'!F134","v":0},{"$f":"'Dir1'!G134+'Dir2'!G134","v":0},{"$f":"'Dir1'!H134+'Dir2'!H134","v":0},{"$f":"'Dir1'!I134+'Dir2'!I134","v":0},{"$f":"'Dir1'!J134+'Dir2'!J134","v":0},{"$f":"'Dir1'!K134+'Dir2'!K134","v":0},{"$f":"'Dir1'!L134+'Dir2'!L134","v":0},{"$f":"'Dir1'!M134+'Dir2'!M134","v":0},{"$f":"'Dir1'!N134+'Dir2'!N134","v":0},{"$f":"'Dir1'!O134+'Dir2'!O134","v":0},{"$f":"'Dir1'!P134+'Dir2'!N134","v":0},{"$f":"'Dir1'!Q134+'Dir2'!O134","v":0},{"$f":"'Dir1'!R134+'Dir2'!R134","v":0},{"$f":"'Dir1'!S134+'Dir2'!S134","v":0},{"$f":"'Dir1'!T134+'Dir2'!T134","v":0},{"$f":"'Dir1'!U134+'Dir2'!U134","v":0},{"$f":"'Dir1'!V134+'Dir2'!V134","v":0},{"$f":"'Dir1'!W134+'Dir2'!W134","v":0},{"$f":"'Dir1'!X134+'Dir2'!X134","v":0},{"$f":"'Dir1'!Y134+'Dir2'!Y134","v":0},{"$f":"'Dir1'!Z134+'Dir2'!Z134","v":0},{"$f":"'Dir1'!AA134+'Dir2'!AA134","v":0},{"$f":"'Dir1'!AB134+'Dir2'!AB134","v":0},{"$f":"'Dir1'!AC134+'Dir2'!AC134","v":0},{"$f":"'Dir1'!AD134+'Dir2'!AD134","v":0},{"$f":"'Dir1'!AE134+'Dir2'!AE134","v":0},{"$f":"'Dir1'!AF134+'Dir2'!AF134","v":0},{"$f":"'Dir1'!AG134+'Dir2'!AG134","v":0},{"$f":"'Dir1'!AH134+'Dir2'!AH134","v":0},{"$f":"'Dir1'!AI134+'Dir2'!AI134","v":0},{"$f":"'Dir1'!AJ134+'Dir2'!AJ134","v":0},{"$f":"'Dir1'!AK134+'Dir2'!AK134","v":0},{"$f":"'Dir1'!AL134+'Dir2'!AL134","v":0},"-",{"$f":"IFERROR(ROUND(PERCENTILE(_xlfn._xlws.FILTER(Data_Table[Speed],(Data_Table[Period]=$B134)*(SUM(C134:N134)>=10)),0.85),2),\"-\")","v":"-"}]
[131,{"$f":"ImportData!$B$10+7*QUOTIENT(A135,24*60*7/ImportData!$B$8)+MOD(1+QUOTIENT(A135,24*60/ImportData!$B$8)-ImportData!$E$10,7)+TIME(0,ImportData!$B$8*A135,0)","v":"2023-09-30T11:00:00"},{"$f":"'Dir1'!C135+'Dir2'!C135","v":0},{"$f":"'Dir1'!D135+'Dir2'!D135","v":0},{"$f":"'Dir1'!E135+'Dir2'!E135","v":0},{"$f":"'Dir1'!F135+'Dir2'!F135","v":0},{"$f":"'Dir1'!G135+'Dir2'!G135","v":0},{"$f":"'Dir1'!H135+'Dir2'!H135","v":0},{"$f":"'Dir1'!I135+'Dir2'!I135","v":0},{"$f":"'Dir1'!J135+'Dir2'!J135","v":0},{"$f":"'Dir1'!K135+'Dir2'!K135","v":0},{"$f":"'Dir1'!L135+'Dir2'!L135","v":0},{"$f":"'Dir1'!M135+'Dir2'!M135","v":0},{"$f":"'Dir1'!N135+'Dir2'!N135","v":0},{"$f":"'Dir1'!O135+'Dir2'!O135","v":0},{"$f":"'Dir1'!P135+'Dir2'!N135","v":0},{"$f":"'Dir1'!Q135+'Dir2'!O135","v":0},{"$f":"'Dir1'!R135+'Dir2'!R135","v":0},{"$f":"'Dir1'!S135+'Dir2'!S135","v":0},{"$f":"'Dir1'!T135+'Dir2'!T135","v":0},{"$f":"'Dir1'!U135+'Dir2'!U135","v":0},{"$f":"'Dir1'!V135+'Dir2'!V135","v":0},{"$f":"'Dir1'!W135+'Dir2'!W135","v":0},{"$f":"'Dir1'!X135+'Dir2'!X135","v":0},{"$f":"'Dir1'!Y135+'Dir2'!Y135","v":0},{"$f":"'Dir1'!Z135+'Dir2'!Z135","v":0},{"$f":"'Dir1'!AA135+'Dir2'!AA135","v":0},{"$f":"'Dir1'!AB135+'Dir2'!AB135","v":0},{"$f":"'Dir1'!AC135+'Dir2'!AC135","v":0},{"$f":"'Dir1'!AD135+'Dir2'!AD135","v":0},{"$f":"'Dir1'!AE135+'Dir2'!AE135","v":0},{"$f":"'Dir1'!AF135+'Dir2'!AF135","v":0},{"$f":"'Dir1'!AG135+'Dir2'!AG135","v":0},{"$f":"'Dir1'!AH135+'Dir2'!AH135","v":0},{"$f":"'Dir1'!AI135+'Dir2'!AI135","v":0},{"$f":"'Dir1'!AJ135+'Dir2'!AJ135","v":0},{"$f":"'Dir1'!AK135+'Dir2'!AK135","v":0},{"$f":"'Dir1'!AL135+'Dir2'!AL135","v":0},"-",{"$f":"IFERROR(ROUND(PERCENTILE(_xlfn._xlws.FILTER(Data_Table[Speed],(Data_Table[Period]=$B135)*(SUM(C135:N135)>=10)),0.85),2),\"-\")","v":"-"}]
[132,{"$f":"ImportData!$B$10+7*QUOTIENT(A136,24*60*7/ImportData!$B$8)+MOD(1+QUOTIENT(A136,24*60/ImportData!$B$8)-ImportData!$E$10,7)+TIME(0,ImportData!$B$8*A136,0)","v":"2023-09-30T12:00:00"},{"$f":"'Dir1'!C136+'Dir2'!C136","v":0},{"$f":"'Dir1'!D136+'Dir2'!D136","v":0},{"$f":"'Dir1'!E136+'Dir2'!E136","v":0},{"$f":"'Dir1'!F136+'Dir2'!F136","v":0},{"$f":"'Dir1'!G136+'Dir2'!G136","v":0},{"$f":"'Dir1'!H136+'Dir2'!H136","v":0},{"$f":"'Dir1'!I136+'Dir2'!I136","v":0},{"$f":"'Dir1'!J136+'Dir2'!J136","v":0},{"$f":"'Dir1'!K136+'Dir2'!K136","v":0},{"$f":"'Dir1'!L136+'Dir2'!L136","v":0},{"$f":"'Dir1'!M136+'Dir2'!M136","v":0},{"$f":"'Dir1'!N136+'Dir2'!N136","v":0},{"$f":"'Dir1'!O136+'Dir2'!O136","v":0},{"$f":"'Dir1'!P136+'Dir2'!N136","v":0},{"$f":"'Dir1'!Q136+'Dir2'!O136","v":0},{"$f":"'Dir1'!R136+'Dir2'!R136","v":0},{"$f":"'Dir1'!S136+'Dir2'!S136","v":0},{"$f":"'Dir1'!T136+'Dir2'!T136","v":0},{"$f":"'Dir1'!U136+'Dir2'!U136","v":0},{"$f":"'Dir1'!V136+'Dir2'!V136","v":0},{"$f":"'Dir1'!W136+'Dir2'!W136","v":0},{"$f":"'Dir1'!X136+'Dir2'!X136","v":0},{"$f":"'Dir1'!Y136+'Dir2'!Y136","v":0},{"$f":"'Dir1'!Z136+'Dir2'!Z136","v":0},{"$f":"'Dir1'!AA136+'Dir2'!AA136","v":0},{"$f":"'Dir1'!AB136+'Dir2'!AB136","v":0},{"$f":"'Dir1'!AC136+'Dir2'!AC136","v":0},{"$f":"'Dir1'!AD136+'Dir2'!AD136","v":0},{"$f":"'Dir1'!AE136+'Dir2'!AE136","v":0},{"$f":"'Dir1'!AF136+'Dir2'!AF136","v":0},{"$f":"'Dir1'!AG136+'Dir2'!AG136","v":0},{"$f":"'Dir1'!AH136+'Dir2'!AH136","v":0},{"$f":"'Dir1'!AI136+'Dir2'!AI136","v":0},{"$f":"'Dir1'!AJ136+'Dir2'!AJ136","v":0},{"$f":"'Dir1'!AK136+'Dir2'!AK136","v":0},{"$f":"'Dir1'!AL136+'Dir2'!AL136","v":0},"-",{"$f":"IFERROR(ROUND(PERCENTILE(_xlfn._xlws.FILTER(Data_Table[Speed],(Data_Table[Period]=$B136)*(SUM(C136:N136)>=10)),0.85),2),\"-\")","v":"-"}]
[133,{"$f":"ImportData!$B$10+7*QUOTIENT(A137,24*60*7/ImportData!$B$8)+MOD(1+QUOTIENT(A137,24*60/ImportData!$B$8)-ImportData!$E$10,7)+TIME(0,ImportData!$B$8*A137,0)","v":"2023-09-30T13:00:00"},{"$f":"'Dir1'!C137+'Dir2'!C137","v":0},{"$f":"'Dir1'!D137+'Dir2'!D137","v":0},{"$f":"'Dir1'!E137+'Dir2'!E137","v":0},{"$f":"'Dir1'!F137+'Dir2'!F137","v":0},{"$f":"'Dir1'!G137+'Dir2'!G137","v":0},{"$f":"'Dir1'!H137+'Dir2'!H137","v":0},{"$f":"'Dir1'!I137+'Dir2'!I137","v":0},{"$f":"'Dir1'!J137+'Dir2'!J137","v":0},{"$f":"'Dir1'!K137+'Dir2'!K137","v":0},{"$f":"'Dir1'!L137+'Dir2'!L137","v":0},{"$f":"'Dir1'!M137+'Dir2'!M137","v":0},{"$f":"'Dir1'!N137+'Dir2'!N137","v":0},{"$f":"'Dir1'!O137+'Dir2'!O137","v":0},{"$f":"'Dir1'!P137+'Dir2'!N137","v":0},{"$f":"'Dir1'!Q137+'Dir2'!O137","v":0},{"$f":"'Dir1'!R137+'Dir2'!R137","v":0},{"$f":"'Dir1'!S137+'Dir2'!S137","v":0},{"$f":"'Dir1'!T137+'Dir2'!T137","v":0},{"$f":"'Dir1'!U137+'Dir2'!U137","v":0},{"$f":"'Dir1'!V137+'Dir2'!V137","v":0},{"$f":"'Dir1'!W137+'Dir2'!W137","v":0},{"$f":"'Dir1'!X137+'Dir2'!X137","v":0},{"$f":"'Dir1'!Y137+'Dir2'!Y137","v":0},{"$f":"'Dir1'!Z137+'Dir2'!Z137","v":0},{"$f":"'Dir1'!AA137+'Dir2'!AA137","v":0},{"$f":"'Dir1'!AB137+'Dir2'!AB137","v":0},{"$f":"'Dir1'!AC137+'Dir2'!AC137","v":0},{"$f":"'Dir1'!AD137+'Dir2'!AD137","v":0},{"$f":"'Dir1'!AE137+'Dir2'!AE137","v":0},{"$f":"'Dir1'!AF137+'Dir2'!AF137","v":0},{"$f":"'Dir1'!AG137+'Dir2'!AG137","v":0},{"$f":"'Dir1'!AH137+'Dir2'!AH137","v":0},{"$f":"'Dir1'!AI137+'Dir2'!AI137","v":0},{"$f":"'Dir1'!AJ137+'Dir2'!AJ137","v":0},{"$f":"'Dir1'!AK137+'Dir2'!AK137","v":0},{"$f":"'Dir1'!AL137+'Dir2'!AL137","v":0},"-",{"$f":"IFERROR(ROUND(PERCENTILE(_xlfn._xlws.FILTER(Data_Table[Speed],(Data_Table[Period]=$B137)*(SUM(C137:N137)>=10)),0.85),2),\"-\")","v":"-"}]
[134,{"$f":"ImportData!$B$10+7*QUOTIENT(A138,24*60*7/ImportData!$B$8)+MOD(1+QUOTIENT(A138,24*60/ImportData!$B$8)-ImportData!$E$10,7)+TIME(0,ImportData!$B$8*A138,0)","v":"2023-09-30T14:00:00"},{"$f":"'Dir1'!C138+'Dir2'!C138","v":0},{"$f":"'Dir1'!D138+'Dir2'!D138","v":0},{"$f":"'Dir1'!E138+'Dir2'!E138","v":0},{"$f":"'Dir1'!F138+'Dir2'!F138","v":0},{"$f":"'Dir1'!G138+'Dir2'!G138","v":0},{"$f":"'Dir1'!H138+'Dir2'!H138","v":0},{"$f":"'Dir1'!I138+'Dir2'!I138","v":0},{"$f":"'Dir1'!J138+'Dir2'!J138","v":0},{"$f":"'Dir1'!K138+'Dir2'!K138","v":0},{"$f":"'Dir1'!L138+'Dir2'!L138","v":0},{"$f":"'Dir1'!M138+'Dir2'!M138","v":0},{"$f":"'Dir1'!N138+'Dir2'!N138","v":0},{"$f":"'Dir1'!O138+'Dir2'!O138","v":0},{"$f":"'Dir1'!P138+'Dir2'!N138","v":0},{"$f":"'Dir1'!Q138+'Dir2'!O138","v":0},{"$f":"'Dir1'!R138+'Dir2'!R138","v":0},{"$f":"'Dir1'!S138+'Dir2'!S138","v":0},{"$f":"'Dir1'!T138+'Dir2'!T138","v":0},{"$f":"'Dir1'!U138+'Dir2'!U138","v":0},{"$f":"'Dir1'!V138+'Dir2'!V138","v":0},{"$f":"'Dir1'!W138+'Dir2'!W138","v":0},{"$f":"'Dir1'!X138+'Dir2'!X138","v":0},{"$f":"'Dir1'!Y138+'Dir2'!Y138","v":0},{"$f":"'Dir1'!Z138+'Dir2'!Z138","v":0},{"$f":"'Dir1'!AA138+'Dir2'!AA138","v":0},{"$f":"'Dir1'!AB138+'Dir2'!AB138","v":0},{"$f":"'Dir1'!AC138+'Dir2'!AC138","v":0},{"$f":"'Dir1'!AD138+'Dir2'!AD138","v":0},{"$f":"'Dir1'!AE138+'Dir2'!AE138","v":0},{"$f":"'Dir1'!AF138+'Dir2'!AF138","v":0},{"$f":"'Dir1'!AG138+'Dir2'!AG138","v":0},{"$f":"'Dir1'!AH138+'Dir2'!AH138","v":0},{"$f":"'Dir1'!AI138+'Dir2'!AI138","v":0},{"$f":"'Dir1'!AJ138+'Dir2'!AJ138","v":0},{"$f":"'Dir1'!AK138+'Dir2'!AK138","v":0},{"$f":"'Dir1'!AL138+'Dir2'!AL138","v":0},"-",{"$f":"IFERROR(ROUND(PERCENTILE(_xlfn._xlws.FILTER(Data_Table[Speed],(Data_Table[Period]=$B138)*(SUM(C138:N138)>=10)),0.85),2),\"-\")","v":"-"}]
[135,{"$f":"ImportData!$B$10+7*QUOTIENT(A139,24*60*7/ImportData!$B$8)+MOD(1+QUOTIENT(A139,24*60/ImportData!$B$8)-ImportData!$E$10,7)+TIME(0,ImportData!$B$8*A139,0)","v":"2023-09-30T15:00:00"},{"$f":"'Dir1'!C139+'Dir2'!C139","v":0},{"$f":"'Dir1'!D139+'Dir2'!D139","v":0},{"$f":"'Dir1'!E139+'Dir2'!E139","v":0},{"$f":"'Dir1'!F139+'Dir2'!F139","v":0},{"$f":"'Dir1'!G139+'Dir2'!G139","v":0},{"$f":"'Dir1'!H139+'Dir2'!H139","v":0},{"$f":"'Dir1'!I139+'Dir2'!I139","v":0},{"$f":"'Dir1'!J139+'Dir2'!J139","v":0},{"$f":"'Dir1'!K139+'Dir2'!K139","v":0},{"$f":"'Dir1'!L139+'Dir2'!L139","v":0},{"$f":"'Dir1'!M139+'Dir2'!M139","v":0},{"$f":"'Dir1'!N139+'Dir2'!N139","v":0},{"$f":"'Dir1'!O139+'Dir2'!O139","v":0},{"$f":"'Dir1'!P139+'Dir2'!N139","v":0},{"$f":"'Dir1'!Q139+'Dir2'!O139","v":0},{"$f":"'Dir1'!R139+'Dir2'!R139","v":0},{"$f":"'Dir1'!S139+'Dir2'!S139","v":0},{"$f":"'Dir1'!T139+'Dir2'!T139","v":0},{"$f":"'Dir1'!U139+'Dir2'!U139","v":0},{"$f":"'Dir1'!V139+'Dir2'!V139","v":0},{"$f":"'Dir1'!W139+'Dir2'!W139","v":0},{"$f":"'Dir1'!X139+'Dir2'!X139","v":0},{"$f":"'Dir1'!Y139+'Dir2'!Y139","v":0},{"$f":"'Dir1'!Z139+'Dir2'!Z139","v":0},{"$f":"'Dir1'!AA139+'Dir2'!AA139","v":0},{"$f":"'Dir1'!AB139+'Dir2'!AB139","v":0},{"$f":"'Dir1'!AC139+'Dir2'!AC139","v":0},{"$f":"'Dir1'!AD139+'Dir2'!AD139","v":0},{"$f":"'Dir1'!AE139+'Dir2'!AE139","v":0},{"$f":"'Dir1'!AF139+'Dir2'!AF139","v":0},{"$f":"'Dir1'!AG139+'Dir2'!AG139","v":0},{"$f":"'Dir1'!AH139+'Dir2'!AH139","v":0},{"$f":"'Dir1'!AI139+'Dir2'!AI139","v":0},{"$f":"'Dir1'!AJ139+'Dir2'!AJ139","v":0},{"$f":"'Dir1'!AK139+'Dir2'!AK139","v":0},{"$f":"'Dir1'!AL139+'Dir2'!AL139","v":0},"-",{"$f":"IFERROR(ROUND(PERCENTILE(_xlfn._xlws.FILTER(Data_Table[Speed],(Data_Table[Period]=$B139)*(SUM(C139:N139)>=10)),0.85),2),\"-\")","v":"-"}]
[136,{"$f":"ImportData!$B$10+7*QUOTIENT(A140,24*60*7/ImportData!$B$8)+MOD(1+QUOTIENT(A140,24*60/ImportData!$B$8)-ImportData!$E$10,7)+TIME(0,ImportData!$B$8*A140,0)","v":"2023-09-30T16:00:00"},{"$f":"'Dir1'!C140+'Dir2'!C140","v":0},{"$f":"'Dir1'!D140+'Dir2'!D140","v":0},{"$f":"'Dir1'!E140+'Dir2'!E140","v":0},{"$f":"'Dir1'!F140+'Dir2'!F140","v":0},{"$f":"'Dir1'!G140+'Dir2'!G140","v":0},{"$f":"'Dir1'!H140+'Dir2'!H140","v":0},{"$f":"'Dir1'!I140+'Dir2'!I140","v":0},{"$f":"'Dir1'!J140+'Dir2'!J140","v":0},{"$f":"'Dir1'!K140+'Dir2'!K140","v":0},{"$f":"'Dir1'!L140+'Dir2'!L140","v":0},{"$f":"'Dir1'!M140+'Dir2'!M140","v":0},{"$f":"'Dir1'!N140+'Dir2'!N140","v":0},{"$f":"'Dir1'!O140+'Dir2'!O140","v":0},{"$f":"'Dir1'!P140+'Dir2'!N140","v":0},{"$f":"'Dir1'!Q140+'Dir2'!O140","v":0},{"$f":"'Dir1'!R140+'Dir2'!R140","v":0},{"$f":"'Dir1'!S140+'Dir2'!S140","v":0},{"$f":"'Dir1'!T140+'Dir2'!T140","v":0},{"$f":"'Dir1'!U140+'Dir2'!U140","v":0},{"$f":"'Dir1'!V140+'Dir2'!V140","v":0},{"$f":"'Dir1'!W140+'Dir2'!W140","v":0},{"$f":"'Dir1'!X140+'Dir2'!X140","v":0},{"$f":"'Dir1'!Y140+'Dir2'!Y140","v":0},{"$f":"'Dir1'!Z140+'Dir2'!Z140","v":0},{"$f":"'Dir1'!AA140+'Dir2'!AA140","v":0},{"$f":"'Dir1'!AB140+'Dir2'!AB140","v":0},{"$f":"'Dir1'!AC140+'Dir2'!AC140","v":0},{"$f":"'Dir1'!AD140+'Dir2'!AD140","v":0},{"$f":"'Dir1'!AE140+'Dir2'!AE140","v":0},{"$f":"'Dir1'!AF140+'Dir2'!AF140","v":0},{"$f":"'Dir1'!AG140+'Dir2'!AG140","v":0},{"$f":"'Dir1'!AH140+'Dir2'!AH140","v":0},{"$f":"'Dir1'!AI140+'Dir2'!AI140","v":0},{"$f":"'Dir1'!AJ140+'Dir2'!AJ140","v":0},{"$f":"'Dir1'!AK140+'Dir2'!AK140","v":0},{"$f":"'Dir1'!AL140+'Dir2'!AL140","v":0},"-",{"$f":"IFERROR(ROUND(PERCENTILE(_xlfn._xlws.FILTER(Data_Table[Speed],(Data_Table[Period]=$B140)*(SUM(C140:N140)>=10)),0.85),2),\"-\")","v":"-"}]
[137,{"$f":"ImportData!$B$10+7*QUOTIENT(A141,24*60*7/ImportData!$B$8)+MOD(1+QUOTIENT(A141,24*60/ImportData!$B$8)-ImportData!$E$10,7)+TIME(0,ImportData!$B$8*A141,0)","v":"2023-09-30T17:00:00"},{"$f":"'Dir1'!C141+'Dir2'!C141","v":0},{"$f":"'Dir1'!D141+'Dir2'!D141","v":0},{"$f":"'Dir1'!E141+'Dir2'!E141","v":0},{"$f":"'Dir1'!F141+'Dir2'!F141","v":0},{"$f":"'Dir1'!G141+'Dir2'!G141","v":0},{"$f":"'Dir1'!H141+'Dir2'!H141","v":0},{"$f":"'Dir1'!I141+'Dir2'!I141","v":0},{"$f":"'Dir1'!J141+'Dir2'!J141","v":0},{"$f":"'Dir1'!K141+'Dir2'!K141","v":0},{"$f":"'Dir1'!L141+'Dir2'!L141","v":0},{"$f":"'Dir1'!M141+'Dir2'!M141","v":0},{"$f":"'Dir1'!N141+'Dir2'!N141","v":0},{"$f":"'Dir1'!O141+'Dir2'!O141","v":0},{"$f":"'Dir1'!P141+'Dir2'!N141","v":0},{"$f":"'Dir1'!Q141+'Dir2'!O141","v":0},{"$f":"'Dir1'!R141+'Dir2'!R141","v":0},{"$f":"'Dir1'!S141+'Dir2'!S141","v":0},{"$f":"'Dir1'!T141+'Dir2'!T141","v":0},{"$f":"'Dir1'!U141+'Dir2'!U141","v":0},{"$f":"'Dir1'!V141+'Dir2'!V141","v":0},{"$f":"'Dir1'!W141+'Dir2'!W141","v":0},{"$f":"'Dir1'!X141+'Dir2'!X141","v":0},{"$f":"'Dir1'!Y141+'Dir2'!Y141","v":0},{"$f":"'Dir1'!Z141+'Dir2'!Z141","v":0},{"$f":"'Dir1'!AA141+'Dir2'!AA141","v":0},{"$f":"'Dir1'!AB141+'Dir2'!AB141","v":0},{"$f":"'Dir1'!AC141+'Dir2'!AC141","v":0},{"$f":"'Dir1'!AD141+'Dir2'!AD141","v":0},{"$f":"'Dir1'!AE141+'Dir2'!AE141","v":0},{"$f":"'Dir1'!AF141+'Dir2'!AF141","v":0},{"$f":"'Dir1'!AG141+'Dir2'!AG141","v":0},{"$f":"'Dir1'!AH141+'Dir2'!AH141","v":0},{"$f":"'Dir1'!AI141+'Dir2'!AI141","v":0},{"$f":"'Dir1'!AJ141+'Dir2'!AJ141","v":0},{"$f":"'Dir1'!AK141+'Dir2'!AK141","v":0},{"$f":"'Dir1'!AL141+'Dir2'!AL141","v":0},"-",{"$f":"IFERROR(ROUND(PERCENTILE(_xlfn._xlws.FILTER(Data_Table[Speed],(Data_Table[Period]=$B141)*(SUM(C141:N141)>=10)),0.85),2),\"-\")","v":"-"}]
[138,{"$f":"ImportData!$B$10+7*QUOTIENT(A142,24*60*7/ImportData!$B$8)+MOD(1+QUOTIENT(A142,24*60/ImportData!$B$8)-ImportData!$E$10,7)+TIME(0,ImportData!$B$8*A142,0)","v":"2023-09-30T18:00:00"},{"$f":"'Dir1'!C142+'Dir2'!C142","v":0},{"$f":"'Dir1'!D142+'Dir2'!D142","v":0},{"$f":"'Dir1'!E142+'Dir2'!E142","v":0},{"$f":"'Dir1'!F142+'Dir2'!F142","v":0},{"$f":"'Dir1'!G142+'Dir2'!G142","v":0},{"$f":"'Dir1'!H142+'Dir2'!H142","v":0},{"$f":"'Dir1'!I142+'Dir2'!I142","v":0},{"$f":"'Dir1'!J142+'Dir2'!J142","v":0},{"$f":"'Dir1'!K142+'Dir2'!K142","v":0},{"$f":"'Dir1'!L142+'Dir2'!L142","v":0},{"$f":"'Dir1'!M142+'Dir2'!M142","v":0},{"$f":"'Dir1'!N142+'Dir2'!N142","v":0},{"$f":"'Dir1'!O142+'Dir2'!O142","v":0},{"$f":"'Dir1'!P142+'Dir2'!N142","v":0},{"$f":"'Dir1'!Q142+'Dir2'!O142","v":0},{"$f":"'Dir1'!R142+'Dir2'!R142","v":0},{"$f":"'Dir1'!S142+'Dir2'!S142","v":0},{"$f":"'Dir1'!T142+'Dir2'!T142","v":0},{"$f":"'Dir1'!U142+'Dir2'!U142","v":0},{"$f":"'Dir1'!V142+'Dir2'!V142","v":0},{"$f":"'Dir1'!W142+'Dir2'!W142","v":0},{"$f":"'Dir1'!X142+'Dir2'!X142","v":0},{"$f":"'Dir1'!Y142+'Dir2'!Y142","v":0},{"$f":"'Dir1'!Z142+'Dir2'!Z142","v":0},{"$f":"'Dir1'!AA142+'Dir2'!AA142","v":0},{"$f":"'Dir1'!AB142+'Dir2'!AB142","v":0},{"$f":"'Dir1'!AC142+'Dir2'!AC142","v":0},{"$f":"'Dir1'!AD142+'Dir2'!AD142","v":0},{"$f":"'Dir1'!AE142+'Dir2'!AE142","v":0},{"$f":"'Dir1'!AF142+'Dir2'!AF142","v":0},{"$f":"'Dir1'!AG142+'Dir2'!AG142","v":0},{"$f":"'Dir1'!AH142+'Dir2'!AH142","v":0},{"$f":"'Dir1'!AI142+'Dir2'!AI142","v":0},{"$f":"'Dir1'!AJ142+'Dir2'!AJ142","v":0},{"$f":"'Dir1'!AK142+'Dir2'!AK142","v":0},{"$f":"'Dir1'!AL142+'Dir2'!AL142","v":0},"-",{"$f":"IFERROR(ROUND(PERCENTILE(_xlfn._xlws.FILTER(Data_Table[Speed],(Data_Table[Period]=$B142)*(SUM(C142:N142)>=10)),0.85),2),\"-\")","v":"-"}]
[139,{"$f":"ImportData!$B$10+7*QUOTIENT(A143,24*60*7/ImportData!$B$8)+MOD(1+QUOTIENT(A143,24*60/ImportData!$B$8)-ImportData!$E$10,7)+TIME(0,ImportData!$B$8*A143,0)","v":"2023-09-30T19:00:00"},{"$f":"'Dir1'!C143+'Dir2'!C143","v":0},{"$f":"'Dir1'!D143+'Dir2'!D143","v":0},{"$f":"'Dir1'!E143+'Dir2'!E143","v":0},{"$f":"'Dir1'!F143+'Dir2'!F143","v":0},{"$f":"'Dir1'!G143+'Dir2'!G143","v":0},{"$f":"'Dir1'!H143+'Dir2'!H143","v":0},{"$f":"'Dir1'!I143+'Dir2'!I143","v":0},{"$f":"'Dir1'!J143+'Dir2'!J143","v":0},{"$f":"'Dir1'!K143+'Dir2'!K143","v":0},{"$f":"'Dir1'!L143+'Dir2'!L143","v":0},{"$f":"'Dir1'!M143+'Dir2'!M143","v":0},{"$f":"'Dir1'!N143+'Dir2'!N143","v":0},{"$f":"'Dir1'!O143+'Dir2'!O143","v":0},{"$f":"'Dir1'!P143+'Dir2'!N143","v":0},{"$f":"'Dir1'!Q143+'Dir2'!O143","v":0},{"$f":"'Dir1'!R143+'Dir2'!R143","v":0},{"$f":"'Dir1'!S143+'Dir2'!S143","v":0},{"$f":"'Dir1'!T143+'Dir2'!T143","v":0},{"$f":"'Dir1'!U143+'Dir2'!U143","v":0},{"$f":"'Dir1'!V143+'Dir2'!V143","v":0},{"$f":"'Dir1'!W143+'Dir2'!W143","v":0},{"$f":"'Dir1'!X143+'Dir2'!X143","v":0},{"$f":"'Dir1'!Y143+'Dir2'!Y143","v":0},{"$f":"'Dir1'!Z143+'Dir2'!Z143","v":0},{"$f":"'Dir1'!AA143+'Dir2'!AA143","v":0},{"$f":"'Dir1'!AB143+'Dir2'!AB143","v":0},{"$f":"'Dir1'!AC143+'Dir2'!AC143","v":0},{"$f":"'Dir1'!AD143+'Dir2'!AD143","v":0},{"$f":"'Dir1'!AE143+'Dir2'!AE143","v":0},{"$f":"'Dir1'!AF143+'Dir2'!AF143","v":0},{"$f":"'Dir1'!AG143+'Dir2'!AG143","v":0},{"$f":"'Dir1'!AH143+'Dir2'!AH143","v":0},{"$f":"'Dir1'!AI143+'Dir2'!AI143","v":0},{"$f":"'Dir1'!AJ143+'Dir2'!AJ143","v":0},{"$f":"'Dir1'!AK143+'Dir2'!AK143","v":0},{"$f":"'Dir1'!AL143+'Dir2'!AL143","v":0},"-",{"$f":"IFERROR(ROUND(PERCENTILE(_xlfn._xlws.FILTER(Data_Table[Speed],(Data_Table[Period]=$B143)*(SUM(C143:N143)>=10)),0.85),2),\"-\")","v":"-"}]
[140,{"$f":"ImportData!$B$10+7*QUOTIENT(A144,24*60*7/ImportData!$B$8)+MOD(1+QUOTIENT(A144,24*60/ImportData!$B$8)-ImportData!$E$10,7)+TIME(0,ImportData!$B$8*A144,0)","v":"2023-09-30T20:00:00"},{"$f":"'Dir1'!C144+'Dir2'!C144","v":0},{"$f":"'Dir1'!D144+'Dir2'!D144","v":0},{"$f":"'Dir1'!E144+'Dir2'!E144","v":0},{"$f":"'Dir1'!F144+'Dir2'!F144","v":0},{"$f":"'Dir1'!G144+'Dir2'!G144","v":0},{"$f":"'Dir1'!H144+'Dir2'!H144","v":0},{"$f":"'Dir1'!I144+'Dir2'!I144","v":0},{"$f":"'Dir1'!J144+'Dir2'!J144","v":0},{"$f":"'Dir1'!K144+'Dir2'!K144","v":0},{"$f":"'Dir1'!L144+'Dir2'!L144","v":0},{"$f":"'Dir1'!M144+'Dir2'!M144","v":0},{"$f":"'Dir1'!N144+'Dir2'!N144","v":0},{"$f":"'Dir1'!O144+'Dir2'!O144","v":0},{"$f":"'Dir1'!P144+'Dir2'!N144","v":0},{"$f":"'Dir1'!Q144+'Dir2'!O144","v":0},{"$f":"'Dir1'!R144+'Dir2'!R144","v":0},{"$f":"'Dir1'!S144+'Dir2'!S144","v":0},{"$f":"'Dir1'!T144+'Dir2'!T144","v":0},{"$f":"'Dir1'!U144+'Dir2'!U144","v":0},{"$f":"'Dir1'!V144+'Dir2'!V144","v":0},{"$f":"'Dir1'!W144+'Dir2'!W144","v":0},{"$f":"'Dir1'!X144+'Dir2'!X144","v":0},{"$f":"'Dir1'!Y144+'Dir2'!Y144","v":0},{"$f":"'Dir1'!Z144+'Dir2'!Z144","v":0},{"$f":"'Dir1'!AA144+'Dir2'!AA144","v":0},{"$f":"'Dir1'!AB144+'Dir2'!AB144","v":0},{"$f":"'Dir1'!AC144+'Dir2'!AC144","v":0},{"$f":"'Dir1'!AD144+'Dir2'!AD144","v":0},{"$f":"'Dir1'!AE144+'Dir2'!AE144","v":0},{"$f":"'Dir1'!AF144+'Dir2'!AF144","v":0},{"$f":"'Dir1'!AG144+'Dir2'!AG144","v":0},{"$f":"'Dir1'!AH144+'Dir2'!AH144","v":0},{"$f":"'Dir1'!AI144+'Dir2'!AI144","v":0},{"$f":"'Dir1'!AJ144+'Dir2'!AJ144","v":0},{"$f":"'Dir1'!AK144+'Dir2'!AK144","v":0},{"$f":"'Dir1'!AL144+'Dir2'!AL144","v":0},"-",{"$f":"IFERROR(ROUND(PERCENTILE(_xlfn._xlws.FILTER(Data_Table[Speed],(Data_Table[Period]=$B144)*(SUM(C144:N144)>=10)),0.85),2),\"-\")","v":"-"}]
[141,{"$f":"ImportData!$B$10+7*QUOTIENT(A145,24*60*7/ImportData!$B$8)+MOD(1+QUOTIENT(A145,24*60/ImportData!$B$8)-ImportData!$E$10,7)+TIME(0,ImportData!$B$8*A145,0)","v":"2023-09-30T21:00:00"},{"$f":"'Dir1'!C145+'Dir2'!C145","v":0},{"$f":"'Dir1'!D145+'Dir2'!D145","v":0},{"$f":"'Dir1'!E145+'Dir2'!E145","v":0},{"$f":"'Dir1'!F145+'Dir2'!F145","v":0},{"$f":"'Dir1'!G145+'Dir2'!G145","v":0},{"$f":"'Dir1'!H145+'Dir2'!H145","v":0},{"$f":"'Dir1'!I145+'Dir2'!I145","v":0},{"$f":"'Dir1'!J145+'Dir2'!J145","v":0},{"$f":"'Dir1'!K145+'Dir2'!K145","v":0},{"$f":"'Dir1'!L145+'Dir2'!L145","v":0},{"$f":"'Dir1'!M145+'Dir2'!M145","v":0},{"$f":"'Dir1'!N145+'Dir2'!N145","v":0},{"$f":"'Dir1'!O145+'Dir2'!O145","v":0},{"$f":"'Dir1'!P145+'Dir2'!N145","v":0},{"$f":"'Dir1'!Q145+'Dir2'!O145","v":0},{"$f":"'Dir1'!R145+'Dir2'!R145","v":0},{"$f":"'Dir1'!S145+'Dir2'!S145","v":0},{"$f":"'Dir1'!T145+'Dir2'!T145","v":0},{"$f":"'Dir1'!U145+'Dir2'!U145","v":0},{"$f":"'Dir1'!V145+'Dir2'!V145","v":0},{"$f":"'Dir1'!W145+'Dir2'!W145","v":0},{"$f":"'Dir1'!X145+'Dir2'!X145","v":0},{"$f":"'Dir1'!Y145+'Dir2'!Y145","v":0},{"$f":"'Dir1'!Z145+'Dir2'!Z145","v":0},{"$f":"'Dir1'!AA145+'Dir2'!AA145","v":0},{"$f":"'Dir1'!AB145+'Dir2'!AB145","v":0},{"$f":"'Dir1'!AC145+'Dir2'!AC145","v":0},{"$f":"'Dir1'!AD145+'Dir2'!AD145","v":0},{"$f":"'Dir1'!AE145+'Dir2'!AE145","v":0},{"$f":"'Dir1'!AF145+'Dir2'!AF145","v":0},{"$f":"'Dir1'!AG145+'Dir2'!AG145","v":0},{"$f":"'Dir1'!AH145+'Dir2'!AH145","v":0},{"$f":"'Dir1'!AI145+'Dir2'!AI145","v":0},{"$f":"'Dir1'!AJ145+'Dir2'!AJ145","v":0},{"$f":"'Dir1'!AK145+'Dir2'!AK145","v":0},{"$f":"'Dir1'!AL145+'Dir2'!AL145","v":0},"-",{"$f":"IFERROR(ROUND(PERCENTILE(_xlfn._xlws.FILTER(Data_Table[Speed],(Data_Table[Period]=$B145)*(SUM(C145:N145)>=10)),0.85),2),\"-\")","v":"-"}]
[142,{"$f":"ImportData!$B$10+7*QUOTIENT(A146,24*60*7/ImportData!$B$8)+MOD(1+QUOTIENT(A146,24*60/ImportData!$B$8)-ImportData!$E$10,7)+TIME(0,ImportData!$B$8*A146,0)","v":"2023-09-30T22:00:00"},{"$f":"'Dir1'!C146+'Dir2'!C146","v":0},{"$f":"'Dir1'!D146+'Dir2'!D146","v":0},{"$f":"'Dir1'!E146+'Dir2'!E146","v":0},{"$f":"'Dir1'!F146+'Dir2'!F146","v":0},{"$f":"'Dir1'!G146+'Dir2'!G146","v":0},{"$f":"'Dir1'!H146+'Dir2'!H146","v":0},{"$f":"'Dir1'!I146+'Dir2'!I146","v":0},{"$f":"'Dir1'!J146+'Dir2'!J146","v":0},{"$f":"'Dir1'!K146+'Dir2'!K146","v":0},{"$f":"'Dir1'!L146+'Dir2'!L146","v":0},{"$f":"'Dir1'!M146+'Dir2'!M146","v":0},{"$f":"'Dir1'!N146+'Dir2'!N146","v":0},{"$f":"'Dir1'!O146+'Dir2'!O146","v":0},{"$f":"'Dir1'!P146+'Dir2'!N146","v":0},{"$f":"'Dir1'!Q146+'Dir2'!O146","v":0},{"$f":"'Dir1'!R146+'Dir2'!R146","v":0},{"$f":"'Dir1'!S146+'Dir2'!S146","v":0},{"$f":"'Dir1'!T146+'Dir2'!T146","v":0},{"$f":"'Dir1'!U146+'Dir2'!U146","v":0},{"$f":"'Dir1'!V146+'Dir2'!V146","v":0},{"$f":"'Dir1'!W146+'Dir2'!W146","v":0},{"$f":"'Dir1'!X146+'Dir2'!X146","v":0},{"$f":"'Dir1'!Y146+'Dir2'!Y146","v":0},{"$f":"'Dir1'!Z146+'Dir2'!Z146","v":0},{"$f":"'Dir1'!AA146+'Dir2'!AA146","v":0},{"$f":"'Dir1'!AB146+'Dir2'!AB146","v":0},{"$f":"'Dir1'!AC146+'Dir2'!AC146","v":0},{"$f":"'Dir1'!AD146+'Dir2'!AD146","v":0},{"$f":"'Dir1'!AE146+'Dir2'!AE146","v":0},{"$f":"'Dir1'!AF146+'Dir2'!AF146","v":0},{"$f":"'Dir1'!AG146+'Dir2'!AG146","v":0},{"$f":"'Dir1'!AH146+'Dir2'!AH146","v":0},{"$f":"'Dir1'!AI146+'Dir2'!AI146","v":0},{"$f":"'Dir1'!AJ146+'Dir2'!AJ146","v":0},{"$f":"'Dir1'!AK146+'Dir2'!AK146","v":0},{"$f":"'Dir1'!AL146+'Dir2'!AL146","v":0},"-",{"$f":"IFERROR(ROUND(PERCENTILE(_xlfn._xlws.FILTER(Data_Table[Speed],(Data_Table[Period]=$B146)*(SUM(C146:N146)>=10)),0.85),2),\"-\")","v":"-"}]
[143,{"$f":"ImportData!$B$10+7*QUOTIENT(A147,24*60*7/ImportData!$B$8)+MOD(1+QUOTIENT(A147,24*60/ImportData!$B$8)-ImportData!$E$10,7)+TIME(0,ImportData!$B$8*A147,0)","v":"2023-09-30T23:00:00"},{"$f":"'Dir1'!C147+'Dir2'!C147","v":0},{"$f":"'Dir1'!D147+'Dir2'!D147","v":0},{"$f":"'Dir1'!E147+'Dir2'!E147","v":0},{"$f":"'Dir1'!F147+'Dir2'!F147","v":0},{"$f":"'Dir1'!G147+'Dir2'!G147","v":0},{"$f":"'Dir1'!H147+'Dir2'!H147","v":0},{"$f":"'Dir1'!I147+'Dir2'!I147","v":0},{"$f":"'Dir1'!J147+'Dir2'!J147","v":0},{"$f":"'Dir1'!K147+'Dir2'!K147","v":0},{"$f":"'Dir1'!L147+'Dir2'!L147","v":0},{"$f":"'Dir1'!M147+'Dir2'!M147","v":0},{"$f":"'Dir1'!N147+'Dir2'!N147","v":0},{"$f":"'Dir1'!O147+'Dir2'!O147","v":0},{"$f":"'Dir1'!P147+'Dir2'!N147","v":0},{"$f":"'Dir1'!Q147+'Dir2'!O147","v":0},{"$f":"'Dir1'!R147+'Dir2'!R147","v":0},{"$f":"'Dir1'!S147+'Dir2'!S147","v":0},{"$f":"'Dir1'!T147+'Dir2'!T147","v":0},{"$f":"'Dir1'!U147+'Dir2'!U147","v":0},{"$f":"'Dir1'!V147+'Dir2'!V147","v":0},{"$f":"'Dir1'!W147+'Dir2'!W147","v":0},{"$f":"'Dir1'!X147+'Dir2'!X147","v":0},{"$f":"'Dir1'!Y147+'Dir2'!Y147","v":0},{"$f":"'Dir1'!Z147+'Dir2'!Z147","v":0},{"$f":"'Dir1'!AA147+'Dir2'!AA147","v":0},{"$f":"'Dir1'!AB147+'Dir2'!AB147","v":0},{"$f":"'Dir1'!AC147+'Dir2'!AC147","v":0},{"$f":"'Dir1'!AD147+'Dir2'!AD147","v":0},{"$f":"'Dir1'!AE147+'Dir2'!AE147","v":0},{"$f":"'Dir1'!AF147+'Dir2'!AF147","v":0},{"$f":"'Dir1'!AG147+'Dir2'!AG147","v":0},{"$f":"'Dir1'!AH147+'Dir2'!AH147","v":0},{"$f":"'Dir1'!AI147+'Dir2'!AI147","v":0},{"$f":"'Dir1'!AJ147+'Dir2'!AJ147","v":0},{"$f":"'Dir1'!AK147+'Dir2'!AK147","v":0},{"$f":"'Dir1'!AL147+'Dir2'!AL147","v":0},"-",{"$f":"IFERROR(ROUND(PERCENTILE(_xlfn._xlws.FILTER(Data_Table[Speed],(Data_Table[Period]=$B147)*(SUM(C147:N147)>=10)),0.85),2),\"-\")","v":"-"}]
[144,{"$f":"ImportData!$B$10+7*QUOTIENT(A148,24*60*7/ImportData!$B$8)+MOD(1+QUOTIENT(A148,24*60/ImportData!$B$8)-ImportData!$E$10,7)+TIME(0,ImportData!$B$8*A148,0)","v":"2023-10-01"},{"$f":"'Dir1'!C148+'Dir2'!C148","v":0},{"$f":"'Dir1'!D148+'Dir2'!D148","v":0},{"$f":"'Dir1'!E148+'Dir2'!E148","v":0},{"$f":"'Dir1'!F148+'Dir2'!F148","v":0},{"$f":"'Dir1'!G148+'Dir2'!G148","v":0},{"$f":"'Dir1'!H148+'Dir2'!H148","v":0},{"$f":"'Dir1'!I148+'Dir2'!I148","v":0},{"$f":"'Dir1'!J148+'Dir2'!J148","v":0},{"$f":"'Dir1'!K148+'Dir2'!K148","v":0},{"$f":"'Dir1'!L148+'Dir2'!L148","v":0},{"$f":"'Dir1'!M148+'Dir2'!M148","v":0},{"$f":"'Dir1'!N148+'Dir2'!N148","v":0},{"$f":"'Dir1'!O148+'Dir2'!O148","v":0},{"$f":"'Dir1'!P148+'Dir2'!N148","v":0},{"$f":"'Dir1'!Q148+'Dir2'!O148","v":0},{"$f":"'Dir1'!R148+'Dir2'!R148","v":0},{"$f":"'Dir1'!S148+'Dir2'!S148","v":0},{"$f":"'Dir1'!T148+'Dir2'!T148","v":0},{"$f":"'Dir1'!U148+'Dir2'!U148","v":0},{"$f":"'Dir1'!V148+'Dir2'!V148","v":0},{"$f":"'Dir1'!W148+'Dir2'!W148","v":0},{"$f":"'Dir1'!X148+'Dir2'!X148","v":0},{"$f":"'Dir1'!Y148+'Dir2'!Y148","v":0},{"$f":"'Dir1'!Z148+'Dir2'!Z148","v":0},{"$f":"'Dir1'!AA148+'Dir2'!AA148","v":0},{"$f":"'Dir1'!AB148+'Dir2'!AB148","v":0},{"$f":"'Dir1'!AC148+'Dir2'!AC148","v":0},{"$f":"'Dir1'!AD148+'Dir2'!AD148","v":0},{"$f":"'Dir1'!AE148+'Dir2'!AE148","v":0},{"$f":"'Dir1'!AF148+'Dir2'!AF148","v":0},{"$f":"'Dir1'!AG148+'Dir2'!AG148","v":0},{"$f":"'Dir1'!AH148+'Dir2'!AH148","v":0},{"$f":"'Dir1'!AI148+'Dir2'!AI148","v":0},{"$f":"'Dir1'!AJ148+'Dir2'!AJ148","v":0},{"$f":"'Dir1'!AK148+'Dir2'!AK148","v":0},{"$f":"'Dir1'!AL148+'Dir2'!AL148","v":0},"-",{"$f":"IFERROR(ROUND(PERCENTILE(_xlfn._xlws.FILTER(Data_Table[Speed],(Data_Table[Period]=$B148)*(SUM(C148:N148)>=10)),0.85),2),\"-\")","v":"-"}]
[145,{"$f":"ImportData!$B$10+7*QUOTIENT(A149,24*60*7/ImportData!$B$8)+MOD(1+QUOTIENT(A149,24*60/ImportData!$B$8)-ImportData!$E$10,7)+TIME(0,ImportData!$B$8*A149,0)","v":"2023-10-01T01:00:00"},{"$f":"'Dir1'!C149+'Dir2'!C149","v":0},{"$f":"'Dir1'!D149+'Dir2'!D149","v":0},{"$f":"'Dir1'!E149+'Dir2'!E149","v":0},{"$f":"'Dir1'!F149+'Dir2'!F149","v":0},{"$f":"'Dir1'!G149+'Dir2'!G149","v":0},{"$f":"'Dir1'!H149+'Dir2'!H149","v":0},{"$f":"'Dir1'!I149+'Dir2'!I149","v":0},{"$f":"'Dir1'!J149+'Dir2'!J149","v":0},{"$f":"'Dir1'!K149+'Dir2'!K149","v":0},{"$f":"'Dir1'!L149+'Dir2'!L149","v":0},{"$f":"'Dir1'!M149+'Dir2'!M149","v":0},{"$f":"'Dir1'!N149+'Dir2'!N149","v":0},{"$f":"'Dir1'!O149+'Dir2'!O149","v":0},{"$f":"'Dir1'!P149+'Dir2'!N149","v":0},{"$f":"'Dir1'!Q149+'Dir2'!O149","v":0},{"$f":"'Dir1'!R149+'Dir2'!R149","v":0},{"$f":"'Dir1'!S149+'Dir2'!S149","v":0},{"$f":"'Dir1'!T149+'Dir2'!T149","v":0},{"$f":"'Dir1'!U149+'Dir2'!U149","v":0},{"$f":"'Dir1'!V149+'Dir2'!V149","v":0},{"$f":"'Dir1'!W149+'Dir2'!W149","v":0},{"$f":"'Dir1'!X149+'Dir2'!X149","v":0},{"$f":"'Dir1'!Y149+'Dir2'!Y149","v":0},{"$f":"'Dir1'!Z149+'Dir2'!Z149","v":0},{"$f":"'Dir1'!AA149+'Dir2'!AA149","v":0},{"$f":"'Dir1'!AB149+'Dir2'!AB149","v":0},{"$f":"'Dir1'!AC149+'Dir2'!AC149","v":0},{"$f":"'Dir1'!AD149+'Dir2'!AD149","v":0},{"$f":"'Dir1'!AE149+'Dir2'!AE149","v":0},{"$f":"'Dir1'!AF149+'Dir2'!AF149","v":0},{"$f":"'Dir1'!AG149+'Dir2'!AG149","v":0},{"$f":"'Dir1'!AH149+'Dir2'!AH149","v":0},{"$f":"'Dir1'!AI149+'Dir2'!AI149","v":0},{"$f":"'Dir1'!AJ149+'Dir2'!AJ149","v":0},{"$f":"'Dir1'!AK149+'Dir2'!AK149","v":0},{"$f":"'Dir1'!AL149+'Dir2'!AL149","v":0},"-",{"$f":"IFERROR(ROUND(PERCENTILE(_xlfn._xlws.FILTER(Data_Table[Speed],(Data_Table[Period]=$B149)*(SUM(C149:N149)>=10)),0.85),2),\"-\")","v":"-"}]
[146,{"$f":"ImportData!$B$10+7*QUOTIENT(A150,24*60*7/ImportData!$B$8)+MOD(1+QUOTIENT(A150,24*60/ImportData!$B$8)-ImportData!$E$10,7)+TIME(0,ImportData!$B$8*A150,0)","v":"2023-10-01T02:00:00"},{"$f":"'Dir1'!C150+'Dir2'!C150","v":0},{"$f":"'Dir1'!D150+'Dir2'!D150","v":0},{"$f":"'Dir1'!E150+'Dir2'!E150","v":0},{"$f":"'Dir1'!F150+'Dir2'!F150","v":0},{"$f":"'Dir1'!G150+'Dir2'!G150","v":0},{"$f":"'Dir1'!H150+'Dir2'!H150","v":0},{"$f":"'Dir1'!I150+'Dir2'!I150","v":0},{"$f":"'Dir1'!J150+'Dir2'!J150","v":0},{"$f":"'Dir1'!K150+'Dir2'!K150","v":0},{"$f":"'Dir1'!L150+'Dir2'!L150","v":0},{"$f":"'Dir1'!M150+'Dir2'!M150","v":0},{"$f":"'Dir1'!N150+'Dir2'!N150","v":0},{"$f":"'Dir1'!O150+'Dir2'!O150","v":0},{"$f":"'Dir1'!P150+'Dir2'!N150","v":0},{"$f":"'Dir1'!Q150+'Dir2'!O150","v":0},{"$f":"'Dir1'!R150+'Dir2'!R150","v":0},{"$f":"'Dir1'!S150+'Dir2'!S150","v":0},{"$f":"'Dir1'!T150+'Dir2'!T150","v":0},{"$f":"'Dir1'!U150+'Dir2'!U150","v":0},{"$f":"'Dir1'!V150+'Dir2'!V150","v":0},{"$f":"'Dir1'!W150+'Dir2'!W150","v":0},{"$f":"'Dir1'!X150+'Dir2'!X150","v":0},{"$f":"'Dir1'!Y150+'Dir2'!Y150","v":0},{"$f":"'Dir1'!Z150+'Dir2'!Z150","v":0},{"$f":"'Dir1'!AA150+'Dir2'!AA150","v":0},{"$f":"'Dir1'!AB150+'Dir2'!AB150","v":0},{"$f":"'Dir1'!AC150+'Dir2'!AC150","v":0},{"$f":"'Dir1'!AD150+'Dir2'!AD150","v":0},{"$f":"'Dir1'!AE150+'Dir2'!AE150","v":0},{"$f":"'Dir1'!AF150+'Dir2'!AF150","v":0},{"$f":"'Dir1'!AG150+'Dir2'!AG150","v":0},{"$f":"'Dir1'!AH150+'Dir2'!AH150","v":0},{"$f":"'Dir1'!AI150+'Dir2'!AI150","v":0},{"$f":"'Dir1'!AJ150+'Dir2'!AJ150","v":0},{"$f":"'Dir1'!AK150+'Dir2'!AK150","v":0},{"$f":"'Dir1'!AL150+'Dir2'!AL150","v":0},"-",{"$f":"IFERROR(ROUND(PERCENTILE(_xlfn._xlws.FILTER(Data_Table[Speed],(Data_Table[Period]=$B150)*(SUM(C150:N150)>=10)),0.85),2),\"-\")","v":"-"}]
[147,{"$f":"ImportData!$B$10+7*QUOTIENT(A151,24*60*7/ImportData!$B$8)+MOD(1+QUOTIENT(A151,24*60/ImportData!$B$8)-ImportData!$E$10,7)+TIME(0,ImportData!$B$8*A151,0)","v":"2023-10-01T03:00:00"},{"$f":"'Dir1'!C151+'Dir2'!C151","v":0},{"$f":"'Dir1'!D151+'Dir2'!D151","v":0},{"$f":"'Dir1'!E151+'Dir2'!E151","v":0},{"$f":"'Dir1'!F151+'Dir2'!F151","v":0},{"$f":"'Dir1'!G151+'Dir2'!G151","v":0},{"$f":"'Dir1'!H151+'Dir2'!H151","v":0},{"$f":"'Dir1'!I151+'Dir2'!I151","v":0},{"$f":"'Dir1'!J151+'Dir2'!J151","v":0},{"$f":"'Dir1'!K151+'Dir2'!K151","v":0},{"$f":"'Dir1'!L151+'Dir2'!L151","v":0},{"$f":"'Dir1'!M151+'Dir2'!M151","v":0},{"$f":"'Dir1'!N151+'Dir2'!N151","v":0},{"$f":"'Dir1'!O151+'Dir2'!O151","v":0},{"$f":"'Dir1'!P151+'Dir2'!N151","v":0},{"$f":"'Dir1'!Q151+'Dir2'!O151","v":0},{"$f":"'Dir1'!R151+'Dir2'!R151","v":0},{"$f":"'Dir1'!S151+'Dir2'!S151","v":0},{"$f":"'Dir1'!T151+'Dir2'!T151","v":0},{"$f":"'Dir1'!U151+'Dir2'!U151","v":0},{"$f":"'Dir1'!V151+'Dir2'!V151","v":0},{"$f":"'Dir1'!W151+'Dir2'!W151","v":0},{"$f":"'Dir1'!X151+'Dir2'!X151","v":0},{"$f":"'Dir1'!Y151+'Dir2'!Y151","v":0},{"$f":"'Dir1'!Z151+'Dir2'!Z151","v":0},{"$f":"'Dir1'!AA151+'Dir2'!AA151","v":0},{"$f":"'Dir1'!AB151+'Dir2'!AB151","v":0},{"$f":"'Dir1'!AC151+'Dir2'!AC151","v":0},{"$f":"'Dir1'!AD151+'Dir2'!AD151","v":0},{"$f":"'Dir1'!AE151+'Dir2'!AE151","v":0},{"$f":"'Dir1'!AF151+'Dir2'!AF151","v":0},{"$f":"'Dir1'!AG151+'Dir2'!AG151","v":0},{"$f":"'Dir1'!AH151+'Dir2'!AH151","v":0},{"$f":"'Dir1'!AI151+'Dir2'!AI151","v":0},{"$f":"'Dir1'!AJ151+'Dir2'!AJ151","v":0},{"$f":"'Dir1'!AK151+'Dir2'!AK151","v":0},{"$f":"'Dir1'!AL151+'Dir2'!AL151","v":0},"-",{"$f":"IFERROR(ROUND(PERCENTILE(_xlfn._xlws.FILTER(Data_Table[Speed],(Data_Table[Period]=$B151)*(SUM(C151:N151)>=10)),0.85),2),\"-\")","v":"-"}]
[148,{"$f":"ImportData!$B$10+7*QUOTIENT(A152,24*60*7/ImportData!$B$8)+MOD(1+QUOTIENT(A152,24*60/ImportData!$B$8)-ImportData!$E$10,7)+TIME(0,ImportData!$B$8*A152,0)","v":"2023-10-01T04:00:00"},{"$f":"'Dir1'!C152+'Dir2'!C152","v":0},{"$f":"'Dir1'!D152+'Dir2'!D152","v":0},{"$f":"'Dir1'!E152+'Dir2'!E152","v":0},{"$f":"'Dir1'!F152+'Dir2'!F152","v":0},{"$f":"'Dir1'!G152+'Dir2'!G152","v":0},{"$f":"'Dir1'!H152+'Dir2'!H152","v":0},{"$f":"'Dir1'!I152+'Dir2'!I152","v":0},{"$f":"'Dir1'!J152+'Dir2'!J152","v":0},{"$f":"'Dir1'!K152+'Dir2'!K152","v":0},{"$f":"'Dir1'!L152+'Dir2'!L152","v":0},{"$f":"'Dir1'!M152+'Dir2'!M152","v":0},{"$f":"'Dir1'!N152+'Dir2'!N152","v":0},{"$f":"'Dir1'!O152+'Dir2'!O152","v":0},{"$f":"'Dir1'!P152+'Dir2'!N152","v":0},{"$f":"'Dir1'!Q152+'Dir2'!O152","v":0},{"$f":"'Dir1'!R152+'Dir2'!R152","v":0},{"$f":"'Dir1'!S152+'Dir2'!S152","v":0},{"$f":"'Dir1'!T152+'Dir2'!T152","v":0},{"$f":"'Dir1'!U152+'Dir2'!U152","v":0},{"$f":"'Dir1'!V152+'Dir2'!V152","v":0},{"$f":"'Dir1'!W152+'Dir2'!W152","v":0},{"$f":"'Dir1'!X152+'Dir2'!X152","v":0},{"$f":"'Dir1'!Y152+'Dir2'!Y152","v":0},{"$f":"'Dir1'!Z152+'Dir2'!Z152","v":0},{"$f":"'Dir1'!AA152+'Dir2'!AA152","v":0},{"$f":"'Dir1'!AB152+'Dir2'!AB152","v":0},{"$f":"'Dir1'!AC152+'Dir2'!AC152","v":0},{"$f":"'Dir1'!AD152+'Dir2'!AD152","v":0},{"$f":"'Dir1'!AE152+'Dir2'!AE152","v":0},{"$f":"'Dir1'!AF152+'Dir2'!AF152","v":0},{"$f":"'Dir1'!AG152+'Dir2'!AG152","v":0},{"$f":"'Dir1'!AH152+'Dir2'!AH152","v":0},{"$f":"'Dir1'!AI152+'Dir2'!AI152","v":0},{"$f":"'Dir1'!AJ152+'Dir2'!AJ152","v":0},{"$f":"'Dir1'!AK152+'Dir2'!AK152","v":0},{"$f":"'Dir1'!AL152+'Dir2'!AL152","v":0},"-",{"$f":"IFERROR(ROUND(PERCENTILE(_xlfn._xlws.FILTER(Data_Table[Speed],(Data_Table[Period]=$B152)*(SUM(C152:N152)>=10)),0.85),2),\"-\")","v":"-"}]
[149,{"$f":"ImportData!$B$10+7*QUOTIENT(A153,24*60*7/ImportData!$B$8)+MOD(1+QUOTIENT(A153,24*60/ImportData!$B$8)-ImportData!$E$10,7)+TIME(0,ImportData!$B$8*A153,0)","v":"2023-10-01T05:00:00"},{"$f":"'Dir1'!C153+'Dir2'!C153","v":0},{"$f":"'Dir1'!D153+'Dir2'!D153","v":0},{"$f":"'Dir1'!E153+'Dir2'!E153","v":0},{"$f":"'Dir1'!F153+'Dir2'!F153","v":0},{"$f":"'Dir1'!G153+'Dir2'!G153","v":0},{"$f":"'Dir1'!H153+'Dir2'!H153","v":0},{"$f":"'Dir1'!I153+'Dir2'!I153","v":0},{"$f":"'Dir1'!J153+'Dir2'!J153","v":0},{"$f":"'Dir1'!K153+'Dir2'!K153","v":0},{"$f":"'Dir1'!L153+'Dir2'!L153","v":0},{"$f":"'Dir1'!M153+'Dir2'!M153","v":0},{"$f":"'Dir1'!N153+'Dir2'!N153","v":0},{"$f":"'Dir1'!O153+'Dir2'!O153","v":0},{"$f":"'Dir1'!P153+'Dir2'!N153","v":0},{"$f":"'Dir1'!Q153+'Dir2'!O153","v":0},{"$f":"'Dir1'!R153+'Dir2'!R153","v":0},{"$f":"'Dir1'!S153+'Dir2'!S153","v":0},{"$f":"'Dir1'!T153+'Dir2'!T153","v":0},{"$f":"'Dir1'!U153+'Dir2'!U153","v":0},{"$f":"'Dir1'!V153+'Dir2'!V153","v":0},{"$f":"'Dir1'!W153+'Dir2'!W153","v":0},{"$f":"'Dir1'!X153+'Dir2'!X153","v":0},{"$f":"'Dir1'!Y153+'Dir2'!Y153","v":0},{"$f":"'Dir1'!Z153+'Dir2'!Z153","v":0},{"$f":"'Dir1'!AA153+'Dir2'!AA153","v":0},{"$f":"'Dir1'!AB153+'Dir2'!AB153","v":0},{"$f":"'Dir1'!AC153+'Dir2'!AC153","v":0},{"$f":"'Dir1'!AD153+'Dir2'!AD153","v":0},{"$f":"'Dir1'!AE153+'Dir2'!AE153","v":0},{"$f":"'Dir1'!AF153+'Dir2'!AF153","v":0},{"$f":"'Dir1'!AG153+'Dir2'!AG153","v":0},{"$f":"'Dir1'!AH153+'Dir2'!AH153","v":0},{"$f":"'Dir1'!AI153+'Dir2'!AI153","v":0},{"$f":"'Dir1'!AJ153+'Dir2'!AJ153","v":0},{"$f":"'Dir1'!AK153+'Dir2'!AK153","v":0},{"$f":"'Dir1'!AL153+'Dir2'!AL153","v":0},"-",{"$f":"IFERROR(ROUND(PERCENTILE(_xlfn._xlws.FILTER(Data_Table[Speed],(Data_Table[Period]=$B153)*(SUM(C153:N153)>=10)),0.85),2),\"-\")","v":"-"}]
[150,{"$f":"ImportData!$B$10+7*QUOTIENT(A154,24*60*7/ImportData!$B$8)+MOD(1+QUOTIENT(A154,24*60/ImportData!$B$8)-ImportData!$E$10,7)+TIME(0,ImportData!$B$8*A154,0)","v":"2023-10-01T06:00:00"},{"$f":"'Dir1'!C154+'Dir2'!C154","v":0},{"$f":"'Dir1'!D154+'Dir2'!D154","v":0},{"$f":"'Dir1'!E154+'Dir2'!E154","v":0},{"$f":"'Dir1'!F154+'Dir2'!F154","v":0},{"$f":"'Dir1'!G154+'Dir2'!G154","v":0},{"$f":"'Dir1'!H154+'Dir2'!H154","v":0},{"$f":"'Dir1'!I154+'Dir2'!I154","v":0},{"$f":"'Dir1'!J154+'Dir2'!J154","v":0},{"$f":"'Dir1'!K154+'Dir2'!K154","v":0},{"$f":"'Dir1'!L154+'Dir2'!L154","v":0},{"$f":"'Dir1'!M154+'Dir2'!M154","v":0},{"$f":"'Dir1'!N154+'Dir2'!N154","v":0},{"$f":"'Dir1'!O154+'Dir2'!O154","v":0},{"$f":"'Dir1'!P154+'Dir2'!N154","v":0},{"$f":"'Dir1'!Q154+'Dir2'!O154","v":0},{"$f":"'Dir1'!R154+'Dir2'!R154","v":0},{"$f":"'Dir1'!S154+'Dir2'!S154","v":0},{"$f":"'Dir1'!T154+'Dir2'!T154","v":0},{"$f":"'Dir1'!U154+'Dir2'!U154","v":0},{"$f":"'Dir1'!V154+'Dir2'!V154","v":0},{"$f":"'Dir1'!W154+'Dir2'!W154","v":0},{"$f":"'Dir1'!X154+'Dir2'!X154","v":0},{"$f":"'Dir1'!Y154+'Dir2'!Y154","v":0},{"$f":"'Dir1'!Z154+'Dir2'!Z154","v":0},{"$f":"'Dir1'!AA154+'Dir2'!AA154","v":0},{"$f":"'Dir1'!AB154+'Dir2'!AB154","v":0},{"$f":"'Dir1'!AC154+'Dir2'!AC154","v":0},{"$f":"'Dir1'!AD154+'Dir2'!AD154","v":0},{"$f":"'Dir1'!AE154+'Dir2'!AE154","v":0},{"$f":"'Dir1'!AF154+'Dir2'!AF154","v":0},{"$f":"'Dir1'!AG154+'Dir2'!AG154","v":0},{"$f":"'Dir1'!AH154+'Dir2'!AH154","v":0},{"$f":"'Dir1'!AI154+'Dir2'!AI154","v":0},{"$f":"'Dir1'!AJ154+'Dir2'!AJ154","v":0},{"$f":"'Dir1'!AK154+'Dir2'!AK154","v":0},{"$f":"'Dir1'!AL154+'Dir2'!AL154","v":0},"-",{"$f":"IFERROR(ROUND(PERCENTILE(_xlfn._xlws.FILTER(Data_Table[Speed],(Data_Table[Period]=$B154)*(SUM(C154:N154)>=10)),0.85),2),\"-\")","v":"-"}]
[151,{"$f":"ImportData!$B$10+7*QUOTIENT(A155,24*60*7/ImportData!$B$8)+MOD(1+QUOTIENT(A155,24*60/ImportData!$B$8)-ImportData!$E$10,7)+TIME(0,ImportData!$B$8*A155,0)","v":"2023-10-01T07:00:00"},{"$f":"'Dir1'!C155+'Dir2'!C155","v":0},{"$f":"'Dir1'!D155+'Dir2'!D155","v":0},{"$f":"'Dir1'!E155+'Dir2'!E155","v":0},{"$f":"'Dir1'!F155+'Dir2'!F155","v":0},{"$f":"'Dir1'!G155+'Dir2'!G155","v":0},{"$f":"'Dir1'!H155+'Dir2'!H155","v":0},{"$f":"'Dir1'!I155+'Dir2'!I155","v":0},{"$f":"'Dir1'!J155+'Dir2'!J155","v":0},{"$f":"'Dir1'!K155+'Dir2'!K155","v":0},{"$f":"'Dir1'!L155+'Dir2'!L155","v":0},{"$f":"'Dir1'!M155+'Dir2'!M155","v":0},{"$f":"'Dir1'!N155+'Dir2'!N155","v":0},{"$f":"'Dir1'!O155+'Dir2'!O155","v":0},{"$f":"'Dir1'!P155+'Dir2'!N155","v":0},{"$f":"'Dir1'!Q155+'Dir2'!O155","v":0},{"$f":"'Dir1'!R155+'Dir2'!R155","v":0},{"$f":"'Dir1'!S155+'Dir2'!S155","v":0},{"$f":"'Dir1'!T155+'Dir2'!T155","v":0},{"$f":"'Dir1'!U155+'Dir2'!U155","v":0},{"$f":"'Dir1'!V155+'Dir2'!V155","v":0},{"$f":"'Dir1'!W155+'Dir2'!W155","v":0},{"$f":"'Dir1'!X155+'Dir2'!X155","v":0},{"$f":"'Dir1'!Y155+'Dir2'!Y155","v":0},{"$f":"'Dir1'!Z155+'Dir2'!Z155","v":0},{"$f":"'Dir1'!AA155+'Dir2'!AA155","v":0},{"$f":"'Dir1'!AB155+'Dir2'!AB155","v":0},{"$f":"'Dir1'!AC155+'Dir2'!AC155","v":0},{"$f":"'Dir1'!AD155+'Dir2'!AD155","v":0},{"$f":"'Dir1'!AE155+'Dir2'!AE155","v":0},{"$f":"'Dir1'!AF155+'Dir2'!AF155","v":0},{"$f":"'Dir1'!AG155+'Dir2'!AG155","v":0},{"$f":"'Dir1'!AH155+'Dir2'!AH155","v":0},{"$f":"'Dir1'!AI155+'Dir2'!AI155","v":0},{"$f":"'Dir1'!AJ155+'Dir2'!AJ155","v":0},{"$f":"'Dir1'!AK155+'Dir2'!AK155","v":0},{"$f":"'Dir1'!AL155+'Dir2'!AL155","v":0},"-",{"$f":"IFERROR(ROUND(PERCENTILE(_xlfn._xlws.FILTER(Data_Table[Speed],(Data_Table[Period]=$B155)*(SUM(C155:N155)>=10)),0.85),2),\"-\")","v":"-"}]
[152,{"$f":"ImportData!$B$10+7*QUOTIENT(A156,24*60*7/ImportData!$B$8)+MOD(1+QUOTIENT(A156,24*60/ImportData!$B$8)-ImportData!$E$10,7)+TIME(0,ImportData!$B$8*A156,0)","v":"2023-10-01T08:00:00"},{"$f":"'Dir1'!C156+'Dir2'!C156","v":0},{"$f":"'Dir1'!D156+'Dir2'!D156","v":0},{"$f":"'Dir1'!E156+'Dir2'!E156","v":0},{"$f":"'Dir1'!F156+'Dir2'!F156","v":0},{"$f":"'Dir1'!G156+'Dir2'!G156","v":0},{"$f":"'Dir1'!H156+'Dir2'!H156","v":0},{"$f":"'Dir1'!I156+'Dir2'!I156","v":0},{"$f":"'Dir1'!J156+'Dir2'!J156","v":0},{"$f":"'Dir1'!K156+'Dir2'!K156","v":0},{"$f":"'Dir1'!L156+'Dir2'!L156","v":0},{"$f":"'Dir1'!M156+'Dir2'!M156","v":0},{"$f":"'Dir1'!N156+'Dir2'!N156","v":0},{"$f":"'Dir1'!O156+'Dir2'!O156","v":0},{"$f":"'Dir1'!P156+'Dir2'!N156","v":0},{"$f":"'Dir1'!Q156+'Dir2'!O156","v":0},{"$f":"'Dir1'!R156+'Dir2'!R156","v":0},{"$f":"'Dir1'!S156+'Dir2'!S156","v":0},{"$f":"'Dir1'!T156+'Dir2'!T156","v":0},{"$f":"'Dir1'!U156+'Dir2'!U156","v":0},{"$f":"'Dir1'!V156+'Dir2'!V156","v":0},{"$f":"'Dir1'!W156+'Dir2'!W156","v":0},{"$f":"'Dir1'!X156+'Dir2'!X156","v":0},{"$f":"'Dir1'!Y156+'Dir2'!Y156","v":0},{"$f":"'Dir1'!Z156+'Dir2'!Z156","v":0},{"$f":"'Dir1'!AA156+'Dir2'!AA156","v":0},{"$f":"'Dir1'!AB156+'Dir2'!AB156","v":0},{"$f":"'Dir1'!AC156+'Dir2'!AC156","v":0},{"$f":"'Dir1'!AD156+'Dir2'!AD156","v":0},{"$f":"'Dir1'!AE156+'Dir2'!AE156","v":0},{"$f":"'Dir1'!AF156+'Dir2'!AF156","v":0},{"$f":"'Dir1'!AG156+'Dir2'!AG156","v":0},{"$f":"'Dir1'!AH156+'Dir2'!AH156","v":0},{"$f":"'Dir1'!AI156+'Dir2'!AI156","v":0},{"$f":"'Dir1'!AJ156+'Dir2'!AJ156","v":0},{"$f":"'Dir1'!AK156+'Dir2'!AK156","v":0},{"$f":"'Dir1'!AL156+'Dir2'!AL156","v":0},"-",{"$f":"IFERROR(ROUND(PERCENTILE(_xlfn._xlws.FILTER(Data_Table[Speed],(Data_Table[Period]=$B156)*(SUM(C156:N156)>=10)),0.85),2),\"-\")","v":"-"}]
[153,{"$f":"ImportData!$B$10+7*QUOTIENT(A157,24*60*7/ImportData!$B$8)+MOD(1+QUOTIENT(A157,24*60/ImportData!$B$8)-ImportData!$E$10,7)+TIME(0,ImportData!$B$8*A157,0)","v":"2023-10-01T09:00:00"},{"$f":"'Dir1'!C157+'Dir2'!C157","v":0},{"$f":"'Dir1'!D157+'Dir2'!D157","v":0},{"$f":"'Dir1'!E157+'Dir2'!E157","v":0},{"$f":"'Dir1'!F157+'Dir2'!F157","v":0},{"$f":"'Dir1'!G157+'Dir2'!G157","v":0},{"$f":"'Dir1'!H157+'Dir2'!H157","v":0},{"$f":"'Dir1'!I157+'Dir2'!I157","v":0},{"$f":"'Dir1'!J157+'Dir2'!J157","v":0},{"$f":"'Dir1'!K157+'Dir2'!K157","v":0},{"$f":"'Dir1'!L157+'Dir2'!L157","v":0},{"$f":"'Dir1'!M157+'Dir2'!M157","v":0},{"$f":"'Dir1'!N157+'Dir2'!N157","v":0},{"$f":"'Dir1'!O157+'Dir2'!O157","v":0},{"$f":"'Dir1'!P157+'Dir2'!N157","v":0},{"$f":"'Dir1'!Q157+'Dir2'!O157","v":0},{"$f":"'Dir1'!R157+'Dir2'!R157","v":0},{"$f":"'Dir1'!S157+'Dir2'!S157","v":0},{"$f":"'Dir1'!T157+'Dir2'!T157","v":0},{"$f":"'Dir1'!U157+'Dir2'!U157","v":0},{"$f":"'Dir1'!V157+'Dir2'!V157","v":0},{"$f":"'Dir1'!W157+'Dir2'!W157","v":0},{"$f":"'Dir1'!X157+'Dir2'!X157","v":0},{"$f":"'Dir1'!Y157+'Dir2'!Y157","v":0},{"$f":"'Dir1'!Z157+'Dir2'!Z157","v":0},{"$f":"'Dir1'!AA157+'Dir2'!AA157","v":0},{"$f":"'Dir1'!AB157+'Dir2'!AB157","v":0},{"$f":"'Dir1'!AC157+'Dir2'!AC157","v":0},{"$f":"'Dir1'!AD157+'Dir2'!AD157","v":0},{"$f":"'Dir1'!AE157+'Dir2'!AE157","v":0},{"$f":"'Dir1'!AF157+'Dir2'!AF157","v":0},{"$f":"'Dir1'!AG157+'Dir2'!AG157","v":0},{"$f":"'Dir1'!AH157+'Dir2'!AH157","v":0},{"$f":"'Dir1'!AI157+'Dir2'!AI157","v":0},{"$f":"'Dir1'!AJ157+'Dir2'!AJ157","v":0},{"$f":"'Dir1'!AK157+'Dir2'!AK157","v":0},{"$f":"'Dir1'!AL157+'Dir2'!AL157","v":0},"-",{"$f":"IFERROR(ROUND(PERCENTILE(_xlfn._xlws.FILTER(Data_Table[Speed],(Data_Table[Period]=$B157)*(SUM(C157:N157)>=10)),0.85),2),\"-\")","v":"-"}]
[154,{"$f":"ImportData!$B$10+7*QUOTIENT(A158,24*60*7/ImportData!$B$8)+MOD(1+QUOTIENT(A158,24*60/ImportData!$B$8)-ImportData!$E$10,7)+TIME(0,ImportData!$B$8*A158,0)","v":"2023-10-01T10:00:00"},{"$f":"'Dir1'!C158+'Dir2'!C158","v":0},{"$f":"'Dir1'!D158+'Dir2'!D158","v":0},{"$f":"'Dir1'!E158+'Dir2'!E158","v":0},{"$f":"'Dir1'!F158+'Dir2'!F158","v":0},{"$f":"'Dir1'!G158+'Dir2'!G158","v":0},{"$f":"'Dir1'!H158+'Dir2'!H158","v":0},{"$f":"'Dir1'!I158+'Dir2'!I158","v":0},{"$f":"'Dir1'!J158+'Dir2'!J158","v":0},{"$f":"'Dir1'!K158+'Dir2'!K158","v":0},{"$f":"'Dir1'!L158+'Dir2'!L158","v":0},{"$f":"'Dir1'!M158+'Dir2'!M158","v":0},{"$f":"'Dir1'!N158+'Dir2'!N158","v":0},{"$f":"'Dir1'!O158+'Dir2'!O158","v":0},{"$f":"'Dir1'!P158+'Dir2'!N158","v":0},{"$f":"'Dir1'!Q158+'Dir2'!O158","v":0},{"$f":"'Dir1'!R158+'Dir2'!R158","v":0},{"$f":"'Dir1'!S158+'Dir2'!S158","v":0},{"$f":"'Dir1'!T158+'Dir2'!T158","v":0},{"$f":"'Dir1'!U158+'Dir2'!U158","v":0},{"$f":"'Dir1'!V158+'Dir2'!V158","v":0},{"$f":"'Dir1'!W158+'Dir2'!W158","v":0},{"$f":"'Dir1'!X158+'Dir2'!X158","v":0},{"$f":"'Dir1'!Y158+'Dir2'!Y158","v":0},{"$f":"'Dir1'!Z158+'Dir2'!Z158","v":0},{"$f":"'Dir1'!AA158+'Dir2'!AA158","v":0},{"$f":"'Dir1'!AB158+'Dir2'!AB158","v":0},{"$f":"'Dir1'!AC158+'Dir2'!AC158","v":0},{"$f":"'Dir1'!AD158+'Dir2'!AD158","v":0},{"$f":"'Dir1'!AE158+'Dir2'!AE158","v":0},{"$f":"'Dir1'!AF158+'Dir2'!AF158","v":0},{"$f":"'Dir1'!AG158+'Dir2'!AG158","v":0},{"$f":"'Dir1'!AH158+'Dir2'!AH158","v":0},{"$f":"'Dir1'!AI158+'Dir2'!AI158","v":0},{"$f":"'Dir1'!AJ158+'Dir2'!AJ158","v":0},{"$f":"'Dir1'!AK158+'Dir2'!AK158","v":0},{"$f":"'Dir1'!AL158+'Dir2'!AL158","v":0},"-",{"$f":"IFERROR(ROUND(PERCENTILE(_xlfn._xlws.FILTER(Data_Table[Speed],(Data_Table[Period]=$B158)*(SUM(C158:N158)>=10)),0.85),2),\"-\")","v":"-"}]
[155,{"$f":"ImportData!$B$10+7*QUOTIENT(A159,24*60*7/ImportData!$B$8)+MOD(1+QUOTIENT(A159,24*60/ImportData!$B$8)-ImportData!$E$10,7)+TIME(0,ImportData!$B$8*A159,0)","v":"2023-10-01T11:00:00"},{"$f":"'Dir1'!C159+'Dir2'!C159","v":0},{"$f":"'Dir1'!D159+'Dir2'!D159","v":0},{"$f":"'Dir1'!E159+'Dir2'!E159","v":0},{"$f":"'Dir1'!F159+'Dir2'!F159","v":0},{"$f":"'Dir1'!G159+'Dir2'!G159","v":0},{"$f":"'Dir1'!H159+'Dir2'!H159","v":0},{"$f":"'Dir1'!I159+'Dir2'!I159","v":0},{"$f":"'Dir1'!J159+'Dir2'!J159","v":0},{"$f":"'Dir1'!K159+'Dir2'!K159","v":0},{"$f":"'Dir1'!L159+'Dir2'!L159","v":0},{"$f":"'Dir1'!M159+'Dir2'!M159","v":0},{"$f":"'Dir1'!N159+'Dir2'!N159","v":0},{"$f":"'Dir1'!O159+'Dir2'!O159","v":0},{"$f":"'Dir1'!P159+'Dir2'!N159","v":0},{"$f":"'Dir1'!Q159+'Dir2'!O159","v":0},{"$f":"'Dir1'!R159+'Dir2'!R159","v":0},{"$f":"'Dir1'!S159+'Dir2'!S159","v":0},{"$f":"'Dir1'!T159+'Dir2'!T159","v":0},{"$f":"'Dir1'!U159+'Dir2'!U159","v":0},{"$f":"'Dir1'!V159+'Dir2'!V159","v":0},{"$f":"'Dir1'!W159+'Dir2'!W159","v":0},{"$f":"'Dir1'!X159+'Dir2'!X159","v":0},{"$f":"'Dir1'!Y159+'Dir2'!Y159","v":0},{"$f":"'Dir1'!Z159+'Dir2'!Z159","v":0},{"$f":"'Dir1'!AA159+'Dir2'!AA159","v":0},{"$f":"'Dir1'!AB159+'Dir2'!AB159","v":0},{"$f":"'Dir1'!AC159+'Dir2'!AC159","v":0},{"$f":"'Dir1'!AD159+'Dir2'!AD159","v":0},{"$f":"'Dir1'!AE159+'Dir2'!AE159","v":0},{"$f":"'Dir1'!AF159+'Dir2'!AF159","v":0},{"$f":"'Dir1'!AG159+'Dir2'!AG159","v":0},{"$f":"'Dir1'!AH159+'Dir2'!AH159","v":0},{"$f":"'Dir1'!AI159+'Dir2'!AI159","v":0},{"$f":"'Dir1'!AJ159+'Dir2'!AJ159","v":0},{"$f":"'Dir1'!AK159+'Dir2'!AK159","v":0},{"$f":"'Dir1'!AL159+'Dir2'!AL159","v":0},"-",{"$f":"IFERROR(ROUND(PERCENTILE(_xlfn._xlws.FILTER(Data_Table[Speed],(Data_Table[Period]=$B159)*(SUM(C159:N159)>=10)),0.85),2),\"-\")","v":"-"}]
[156,{"$f":"ImportData!$B$10+7*QUOTIENT(A160,24*60*7/ImportData!$B$8)+MOD(1+QUOTIENT(A160,24*60/ImportData!$B$8)-ImportData!$E$10,7)+TIME(0,ImportData!$B$8*A160,0)","v":"2023-10-01T12:00:00"},{"$f":"'Dir1'!C160+'Dir2'!C160","v":0},{"$f":"'Dir1'!D160+'Dir2'!D160","v":0},{"$f":"'Dir1'!E160+'Dir2'!E160","v":0},{"$f":"'Dir1'!F160+'Dir2'!F160","v":0},{"$f":"'Dir1'!G160+'Dir2'!G160","v":0},{"$f":"'Dir1'!H160+'Dir2'!H160","v":0},{"$f":"'Dir1'!I160+'Dir2'!I160","v":0},{"$f":"'Dir1'!J160+'Dir2'!J160","v":0},{"$f":"'Dir1'!K160+'Dir2'!K160","v":0},{"$f":"'Dir1'!L160+'Dir2'!L160","v":0},{"$f":"'Dir1'!M160+'Dir2'!M160","v":0},{"$f":"'Dir1'!N160+'Dir2'!N160","v":0},{"$f":"'Dir1'!O160+'Dir2'!O160","v":0},{"$f":"'Dir1'!P160+'Dir2'!N160","v":0},{"$f":"'Dir1'!Q160+'Dir2'!O160","v":0},{"$f":"'Dir1'!R160+'Dir2'!R160","v":0},{"$f":"'Dir1'!S160+'Dir2'!S160","v":0},{"$f":"'Dir1'!T160+'Dir2'!T160","v":0},{"$f":"'Dir1'!U160+'Dir2'!U160","v":0},{"$f":"'Dir1'!V160+'Dir2'!V160","v":0},{"$f":"'Dir1'!W160+'Dir2'!W160","v":0},{"$f":"'Dir1'!X160+'Dir2'!X160","v":0},{"$f":"'Dir1'!Y160+'Dir2'!Y160","v":0},{"$f":"'Dir1'!Z160+'Dir2'!Z160","v":0},{"$f":"'Dir1'!AA160+'Dir2'!AA160","v":0},{"$f":"'Dir1'!AB160+'Dir2'!AB160","v":0},{"$f":"'Dir1'!AC160+'Dir2'!AC160","v":0},{"$f":"'Dir1'!AD160+'Dir2'!AD160","v":0},{"$f":"'Dir1'!AE160+'Dir2'!AE160","v":0},{"$f":"'Dir1'!AF160+'Dir2'!AF160","v":0},{"$f":"'Dir1'!AG160+'Dir2'!AG160","v":0},{"$f":"'Dir1'!AH160+'Dir2'!AH160","v":0},{"$f":"'Dir1'!AI160+'Dir2'!AI160","v":0},{"$f":"'Dir1'!AJ160+'Dir2'!AJ160","v":0},{"$f":"'Dir1'!AK160+'Dir2'!AK160","v":0},{"$f":"'Dir1'!AL160+'Dir2'!AL160","v":0},"-",{"$f":"IFERROR(ROUND(PERCENTILE(_xlfn._xlws.FILTER(Data_Table[Speed],(Data_Table[Period]=$B160)*(SUM(C160:N160)>=10)),0.85),2),\"-\")","v":"-"}]
[157,{"$f":"ImportData!$B$10+7*QUOTIENT(A161,24*60*7/ImportData!$B$8)+MOD(1+QUOTIENT(A161,24*60/ImportData!$B$8)-ImportData!$E$10,7)+TIME(0,ImportData!$B$8*A161,0)","v":"2023-10-01T13:00:00"},{"$f":"'Dir1'!C161+'Dir2'!C161","v":0},{"$f":"'Dir1'!D161+'Dir2'!D161","v":0},{"$f":"'Dir1'!E161+'Dir2'!E161","v":0},{"$f":"'Dir1'!F161+'Dir2'!F161","v":0},{"$f":"'Dir1'!G161+'Dir2'!G161","v":0},{"$f":"'Dir1'!H161+'Dir2'!H161","v":0},{"$f":"'Dir1'!I161+'Dir2'!I161","v":0},{"$f":"'Dir1'!J161+'Dir2'!J161","v":0},{"$f":"'Dir1'!K161+'Dir2'!K161","v":0},{"$f":"'Dir1'!L161+'Dir2'!L161","v":0},{"$f":"'Dir1'!M161+'Dir2'!M161","v":0},{"$f":"'Dir1'!N161+'Dir2'!N161","v":0},{"$f":"'Dir1'!O161+'Dir2'!O161","v":0},{"$f":"'Dir1'!P161+'Dir2'!N161","v":0},{"$f":"'Dir1'!Q161+'Dir2'!O161","v":0},{"$f":"'Dir1'!R161+'Dir2'!R161","v":0},{"$f":"'Dir1'!S161+'Dir2'!S161","v":0},{"$f":"'Dir1'!T161+'Dir2'!T161","v":0},{"$f":"'Dir1'!U161+'Dir2'!U161","v":0},{"$f":"'Dir1'!V161+'Dir2'!V161","v":0},{"$f":"'Dir1'!W161+'Dir2'!W161","v":0},{"$f":"'Dir1'!X161+'Dir2'!X161","v":0},{"$f":"'Dir1'!Y161+'Dir2'!Y161","v":0},{"$f":"'Dir1'!Z161+'Dir2'!Z161","v":0},{"$f":"'Dir1'!AA161+'Dir2'!AA161","v":0},{"$f":"'Dir1'!AB161+'Dir2'!AB161","v":0},{"$f":"'Dir1'!AC161+'Dir2'!AC161","v":0},{"$f":"'Dir1'!AD161+'Dir2'!AD161","v":0},{"$f":"'Dir1'!AE161+'Dir2'!AE161","v":0},{"$f":"'Dir1'!AF161+'Dir2'!AF161","v":0},{"$f":"'Dir1'!AG161+'Dir2'!AG161","v":0},{"$f":"'Dir1'!AH161+'Dir2'!AH161","v":0},{"$f":"'Dir1'!AI161+'Dir2'!AI161","v":0},{"$f":"'Dir1'!AJ161+'Dir2'!AJ161","v":0},{"$f":"'Dir1'!AK161+'Dir2'!AK161","v":0},{"$f":"'Dir1'!AL161+'Dir2'!AL161","v":0},"-",{"$f":"IFERROR(ROUND(PERCENTILE(_xlfn._xlws.FILTER(Data_Table[Speed],(Data_Table[Period]=$B161)*(SUM(C161:N161)>=10)),0.85),2),\"-\")","v":"-"}]
[158,{"$f":"ImportData!$B$10+7*QUOTIENT(A162,24*60*7/ImportData!$B$8)+MOD(1+QUOTIENT(A162,24*60/ImportData!$B$8)-ImportData!$E$10,7)+TIME(0,ImportData!$B$8*A162,0)","v":"2023-10-01T14:00:00"},{"$f":"'Dir1'!C162+'Dir2'!C162","v":0},{"$f":"'Dir1'!D162+'Dir2'!D162","v":0},{"$f":"'Dir1'!E162+'Dir2'!E162","v":0},{"$f":"'Dir1'!F162+'Dir2'!F162","v":0},{"$f":"'Dir1'!G162+'Dir2'!G162","v":0},{"$f":"'Dir1'!H162+'Dir2'!H162","v":0},{"$f":"'Dir1'!I162+'Dir2'!I162","v":0},{"$f":"'Dir1'!J162+'Dir2'!J162","v":0},{"$f":"'Dir1'!K162+'Dir2'!K162","v":0},{"$f":"'Dir1'!L162+'Dir2'!L162","v":0},{"$f":"'Dir1'!M162+'Dir2'!M162","v":0},{"$f":"'Dir1'!N162+'Dir2'!N162","v":0},{"$f":"'Dir1'!O162+'Dir2'!O162","v":0},{"$f":"'Dir1'!P162+'Dir2'!N162","v":0},{"$f":"'Dir1'!Q162+'Dir2'!O162","v":0},{"$f":"'Dir1'!R162+'Dir2'!R162","v":0},{"$f":"'Dir1'!S162+'Dir2'!S162","v":0},{"$f":"'Dir1'!T162+'Dir2'!T162","v":0},{"$f":"'Dir1'!U162+'Dir2'!U162","v":0},{"$f":"'Dir1'!V162+'Dir2'!V162","v":0},{"$f":"'Dir1'!W162+'Dir2'!W162","v":0},{"$f":"'Dir1'!X162+'Dir2'!X162","v":0},{"$f":"'Dir1'!Y162+'Dir2'!Y162","v":0},{"$f":"'Dir1'!Z162+'Dir2'!Z162","v":0},{"$f":"'Dir1'!AA162+'Dir2'!AA162","v":0},{"$f":"'Dir1'!AB162+'Dir2'!AB162","v":0},{"$f":"'Dir1'!AC162+'Dir2'!AC162","v":0},{"$f":"'Dir1'!AD162+'Dir2'!AD162","v":0},{"$f":"'Dir1'!AE162+'Dir2'!AE162","v":0},{"$f":"'Dir1'!AF162+'Dir2'!AF162","v":0},{"$f":"'Dir1'!AG162+'Dir2'!AG162","v":0},{"$f":"'Dir1'!AH162+'Dir2'!AH162","v":0},{"$f":"'Dir1'!AI162+'Dir2'!AI162","v":0},{"$f":"'Dir1'!AJ162+'Dir2'!AJ162","v":0},{"$f":"'Dir1'!AK162+'Dir2'!AK162","v":0},{"$f":"'Dir1'!AL162+'Dir2'!AL162","v":0},"-",{"$f":"IFERROR(ROUND(PERCENTILE(_xlfn._xlws.FILTER(Data_Table[Speed],(Data_Table[Period]=$B162)*(SUM(C162:N162)>=10)),0.85),2),\"-\")","v":"-"}]
[159,{"$f":"ImportData!$B$10+7*QUOTIENT(A163,24*60*7/ImportData!$B$8)+MOD(1+QUOTIENT(A163,24*60/ImportData!$B$8)-ImportData!$E$10,7)+TIME(0,ImportData!$B$8*A163,0)","v":"2023-10-01T15:00:00"},{"$f":"'Dir1'!C163+'Dir2'!C163","v":0},{"$f":"'Dir1'!D163+'Dir2'!D163","v":0},{"$f":"'Dir1'!E163+'Dir2'!E163","v":0},{"$f":"'Dir1'!F163+'Dir2'!F163","v":0},{"$f":"'Dir1'!G163+'Dir2'!G163","v":0},{"$f":"'Dir1'!H163+'Dir2'!H163","v":0},{"$f":"'Dir1'!I163+'Dir2'!I163","v":0},{"$f":"'Dir1'!J163+'Dir2'!J163","v":0},{"$f":"'Dir1'!K163+'Dir2'!K163","v":0},{"$f":"'Dir1'!L163+'Dir2'!L163","v":0},{"$f":"'Dir1'!M163+'Dir2'!M163","v":0},{"$f":"'Dir1'!N163+'Dir2'!N163","v":0},{"$f":"'Dir1'!O163+'Dir2'!O163","v":0},{"$f":"'Dir1'!P163+'Dir2'!N163","v":0},{"$f":"'Dir1'!Q163+'Dir2'!O163","v":0},{"$f":"'Dir1'!R163+'Dir2'!R163","v":0},{"$f":"'Dir1'!S163+'Dir2'!S163","v":0},{"$f":"'Dir1'!T163+'Dir2'!T163","v":0},{"$f":"'Dir1'!U163+'Dir2'!U163","v":0},{"$f":"'Dir1'!V163+'Dir2'!V163","v":0},{"$f":"'Dir1'!W163+'Dir2'!W163","v":0},{"$f":"'Dir1'!X163+'Dir2'!X163","v":0},{"$f":"'Dir1'!Y163+'Dir2'!Y163","v":0},{"$f":"'Dir1'!Z163+'Dir2'!Z163","v":0},{"$f":"'Dir1'!AA163+'Dir2'!AA163","v":0},{"$f":"'Dir1'!AB163+'Dir2'!AB163","v":0},{"$f":"'Dir1'!AC163+'Dir2'!AC163","v":0},{"$f":"'Dir1'!AD163+'Dir2'!AD163","v":0},{"$f":"'Dir1'!AE163+'Dir2'!AE163","v":0},{"$f":"'Dir1'!AF163+'Dir2'!AF163","v":0},{"$f":"'Dir1'!AG163+'Dir2'!AG163","v":0},{"$f":"'Dir1'!AH163+'Dir2'!AH163","v":0},{"$f":"'Dir1'!AI163+'Dir2'!AI163","v":0},{"$f":"'Dir1'!AJ163+'Dir2'!AJ163","v":0},{"$f":"'Dir1'!AK163+'Dir2'!AK163","v":0},{"$f":"'Dir1'!AL163+'Dir2'!AL163","v":0},"-",{"$f":"IFERROR(ROUND(PERCENTILE(_xlfn._xlws.FILTER(Data_Table[Speed],(Data_Table[Period]=$B163)*(SUM(C163:N163)>=10)),0.85),2),\"-\")","v":"-"}]
[160,{"$f":"ImportData!$B$10+7*QUOTIENT(A164,24*60*7/ImportData!$B$8)+MOD(1+QUOTIENT(A164,24*60/ImportData!$B$8)-ImportData!$E$10,7)+TIME(0,ImportData!$B$8*A164,0)","v":"2023-10-01T16:00:00"},{"$f":"'Dir1'!C164+'Dir2'!C164","v":0},{"$f":"'Dir1'!D164+'Dir2'!D164","v":0},{"$f":"'Dir1'!E164+'Dir2'!E164","v":0},{"$f":"'Dir1'!F164+'Dir2'!F164","v":0},{"$f":"'Dir1'!G164+'Dir2'!G164","v":0},{"$f":"'Dir1'!H164+'Dir2'!H164","v":0},{"$f":"'Dir1'!I164+'Dir2'!I164","v":0},{"$f":"'Dir1'!J164+'Dir2'!J164","v":0},{"$f":"'Dir1'!K164+'Dir2'!K164","v":0},{"$f":"'Dir1'!L164+'Dir2'!L164","v":0},{"$f":"'Dir1'!M164+'Dir2'!M164","v":0},{"$f":"'Dir1'!N164+'Dir2'!N164","v":0},{"$f":"'Dir1'!O164+'Dir2'!O164","v":0},{"$f":"'Dir1'!P164+'Dir2'!N164","v":0},{"$f":"'Dir1'!Q164+'Dir2'!O164","v":0},{"$f":"'Dir1'!R164+'Dir2'!R164","v":0},{"$f":"'Dir1'!S164+'Dir2'!S164","v":0},{"$f":"'Dir1'!T164+'Dir2'!T164","v":0},{"$f":"'Dir1'!U164+'Dir2'!U164","v":0},{"$f":"'Dir1'!V164+'Dir2'!V164","v":0},{"$f":"'Dir1'!W164+'Dir2'!W164","v":0},{"$f":"'Dir1'!X164+'Dir2'!X164","v":0},{"$f":"'Dir1'!Y164+'Dir2'!Y164","v":0},{"$f":"'Dir1'!Z164+'Dir2'!Z164","v":0},{"$f":"'Dir1'!AA164+'Dir2'!AA164","v":0},{"$f":"'Dir1'!AB164+'Dir2'!AB164","v":0},{"$f":"'Dir1'!AC164+'Dir2'!AC164","v":0},{"$f":"'Dir1'!AD164+'Dir2'!AD164","v":0},{"$f":"'Dir1'!AE164+'Dir2'!AE164","v":0},{"$f":"'Dir1'!AF164+'Dir2'!AF164","v":0},{"$f":"'Dir1'!AG164+'Dir2'!AG164","v":0},{"$f":"'Dir1'!AH164+'Dir2'!AH164","v":0},{"$f":"'Dir1'!AI164+'Dir2'!AI164","v":0},{"$f":"'Dir1'!AJ164+'Dir2'!AJ164","v":0},{"$f":"'Dir1'!AK164+'Dir2'!AK164","v":0},{"$f":"'Dir1'!AL164+'Dir2'!AL164","v":0},"-",{"$f":"IFERROR(ROUND(PERCENTILE(_xlfn._xlws.FILTER(Data_Table[Speed],(Data_Table[Period]=$B164)*(SUM(C164:N164)>=10)),0.85),2),\"-\")","v":"-"}]
[161,{"$f":"ImportData!$B$10+7*QUOTIENT(A165,24*60*7/ImportData!$B$8)+MOD(1+QUOTIENT(A165,24*60/ImportData!$B$8)-ImportData!$E$10,7)+TIME(0,ImportData!$B$8*A165,0)","v":"2023-10-01T17:00:00"},{"$f":"'Dir1'!C165+'Dir2'!C165","v":0},{"$f":"'Dir1'!D165+'Dir2'!D165","v":0},{"$f":"'Dir1'!E165+'Dir2'!E165","v":0},{"$f":"'Dir1'!F165+'Dir2'!F165","v":0},{"$f":"'Dir1'!G165+'Dir2'!G165","v":0},{"$f":"'Dir1'!H165+'Dir2'!H165","v":0},{"$f":"'Dir1'!I165+'Dir2'!I165","v":0},{"$f":"'Dir1'!J165+'Dir2'!J165","v":0},{"$f":"'Dir1'!K165+'Dir2'!K165","v":0},{"$f":"'Dir1'!L165+'Dir2'!L165","v":0},{"$f":"'Dir1'!M165+'Dir2'!M165","v":0},{"$f":"'Dir1'!N165+'Dir2'!N165","v":0},{"$f":"'Dir1'!O165+'Dir2'!O165","v":0},{"$f":"'Dir1'!P165+'Dir2'!N165","v":0},{"$f":"'Dir1'!Q165+'Dir2'!O165","v":0},{"$f":"'Dir1'!R165+'Dir2'!R165","v":0},{"$f":"'Dir1'!S165+'Dir2'!S165","v":0},{"$f":"'Dir1'!T165+'Dir2'!T165","v":0},{"$f":"'Dir1'!U165+'Dir2'!U165","v":0},{"$f":"'Dir1'!V165+'Dir2'!V165","v":0},{"$f":"'Dir1'!W165+'Dir2'!W165","v":0},{"$f":"'Dir1'!X165+'Dir2'!X165","v":0},{"$f":"'Dir1'!Y165+'Dir2'!Y165","v":0},{"$f":"'Dir1'!Z165+'Dir2'!Z165","v":0},{"$f":"'Dir1'!AA165+'Dir2'!AA165","v":0},{"$f":"'Dir1'!AB165+'Dir2'!AB165","v":0},{"$f":"'Dir1'!AC165+'Dir2'!AC165","v":0},{"$f":"'Dir1'!AD165+'Dir2'!AD165","v":0},{"$f":"'Dir1'!AE165+'Dir2'!AE165","v":0},{"$f":"'Dir1'!AF165+'Dir2'!AF165","v":0},{"$f":"'Dir1'!AG165+'Dir2'!AG165","v":0},{"$f":"'Dir1'!AH165+'Dir2'!AH165","v":0},{"$f":"'Dir1'!AI165+'Dir2'!AI165","v":0},{"$f":"'Dir1'!AJ165+'Dir2'!AJ165","v":0},{"$f":"'Dir1'!AK165+'Dir2'!AK165","v":0},{"$f":"'Dir1'!AL165+'Dir2'!AL165","v":0},"-",{"$f":"IFERROR(ROUND(PERCENTILE(_xlfn._xlws.FILTER(Data_Table[Speed],(Data_Table[Period]=$B165)*(SUM(C165:N165)>=10)),0.85),2),\"-\")","v":"-"}]
[162,{"$f":"ImportData!$B$10+7*QUOTIENT(A166,24*60*7/ImportData!$B$8)+MOD(1+QUOTIENT(A166,24*60/ImportData!$B$8)-ImportData!$E$10,7)+TIME(0,ImportData!$B$8*A166,0)","v":"2023-10-01T18:00:00"},{"$f":"'Dir1'!C166+'Dir2'!C166","v":0},{"$f":"'Dir1'!D166+'Dir2'!D166","v":0},{"$f":"'Dir1'!E166+'Dir2'!E166","v":0},{"$f":"'Dir1'!F166+'Dir2'!F166","v":0},{"$f":"'Dir1'!G166+'Dir2'!G166","v":0},{"$f":"'Dir1'!H166+'Dir2'!H166","v":0},{"$f":"'Dir1'!I166+'Dir2'!I166","v":0},{"$f":"'Dir1'!J166+'Dir2'!J166","v":0},{"$f":"'Dir1'!K166+'Dir2'!K166","v":0},{"$f":"'Dir1'!L166+'Dir2'!L166","v":0},{"$f":"'Dir1'!M166+'Dir2'!M166","v":0},{"$f":"'Dir1'!N166+'Dir2'!N166","v":0},{"$f":"'Dir1'!O166+'Dir2'!O166","v":0},{"$f":"'Dir1'!P166+'Dir2'!N166","v":0},{"$f":"'Dir1'!Q166+'Dir2'!O166","v":0},{"$f":"'Dir1'!R166+'Dir2'!R166","v":0},{"$f":"'Dir1'!S166+'Dir2'!S166","v":0},{"$f":"'Dir1'!T166+'Dir2'!T166","v":0},{"$f":"'Dir1'!U166+'Dir2'!U166","v":0},{"$f":"'Dir1'!V166+'Dir2'!V166","v":0},{"$f":"'Dir1'!W166+'Dir2'!W166","v":0},{"$f":"'Dir1'!X166+'Dir2'!X166","v":0},{"$f":"'Dir1'!Y166+'Dir2'!Y166","v":0},{"$f":"'Dir1'!Z166+'Dir2'!Z166","v":0},{"$f":"'Dir1'!AA166+'Dir2'!AA166","v":0},{"$f":"'Dir1'!AB166+'Dir2'!AB166","v":0},{"$f":"'Dir1'!AC166+'Dir2'!AC166","v":0},{"$f":"'Dir1'!AD166+'Dir2'!AD166","v":0},{"$f":"'Dir1'!AE166+'Dir2'!AE166","v":0},{"$f":"'Dir1'!AF166+'Dir2'!AF166","v":0},{"$f":"'Dir1'!AG166+'Dir2'!AG166","v":0},{"$f":"'Dir1'!AH166+'Dir2'!AH166","v":0},{"$f":"'Dir1'!AI166+'Dir2'!AI166","v":0},{"$f":"'Dir1'!AJ166+'Dir2'!AJ166","v":0},{"$f":"'Dir1'!AK166+'Dir2'!AK166","v":0},{"$f":"'Dir1'!AL166+'Dir2'!AL166","v":0},"-",{"$f":"IFERROR(ROUND(PERCENTILE(_xlfn._xlws.FILTER(Data_Table[Speed],(Data_Table[Period]=$B166)*(SUM(C166:N166)>=10)),0.85),2),\"-\")","v":"-"}]
[163,{"$f":"ImportData!$B$10+7*QUOTIENT(A167,24*60*7/ImportData!$B$8)+MOD(1+QUOTIENT(A167,24*60/ImportData!$B$8)-ImportData!$E$10,7)+TIME(0,ImportData!$B$8*A167,0)","v":"2023-10-01T19:00:00"},{"$f":"'Dir1'!C167+'Dir2'!C167","v":0},{"$f":"'Dir1'!D167+'Dir2'!D167","v":0},{"$f":"'Dir1'!E167+'Dir2'!E167","v":0},{"$f":"'Dir1'!F167+'Dir2'!F167","v":0},{"$f":"'Dir1'!G167+'Dir2'!G167","v":0},{"$f":"'Dir1'!H167+'Dir2'!H167","v":0},{"$f":"'Dir1'!I167+'Dir2'!I167","v":0},{"$f":"'Dir1'!J167+'Dir2'!J167","v":0},{"$f":"'Dir1'!K167+'Dir2'!K167","v":0},{"$f":"'Dir1'!L167+'Dir2'!L167","v":0},{"$f":"'Dir1'!M167+'Dir2'!M167","v":0},{"$f":"'Dir1'!N167+'Dir2'!N167","v":0},{"$f":"'Dir1'!O167+'Dir2'!O167","v":0},{"$f":"'Dir1'!P167+'Dir2'!N167","v":0},{"$f":"'Dir1'!Q167+'Dir2'!O167","v":0},{"$f":"'Dir1'!R167+'Dir2'!R167","v":0},{"$f":"'Dir1'!S167+'Dir2'!S167","v":0},{"$f":"'Dir1'!T167+'Dir2'!T167","v":0},{"$f":"'Dir1'!U167+'Dir2'!U167","v":0},{"$f":"'Dir1'!V167+'Dir2'!V167","v":0},{"$f":"'Dir1'!W167+'Dir2'!W167","v":0},{"$f":"'Dir1'!X167+'Dir2'!X167","v":0},{"$f":"'Dir1'!Y167+'Dir2'!Y167","v":0},{"$f":"'Dir1'!Z167+'Dir2'!Z167","v":0},{"$f":"'Dir1'!AA167+'Dir2'!AA167","v":0},{"$f":"'Dir1'!AB167+'Dir2'!AB167","v":0},{"$f":"'Dir1'!AC167+'Dir2'!AC167","v":0},{"$f":"'Dir1'!AD167+'Dir2'!AD167","v":0},{"$f":"'Dir1'!AE167+'Dir2'!AE167","v":0},{"$f":"'Dir1'!AF167+'Dir2'!AF167","v":0},{"$f":"'Dir1'!AG167+'Dir2'!AG167","v":0},{"$f":"'Dir1'!AH167+'Dir2'!AH167","v":0},{"$f":"'Dir1'!AI167+'Dir2'!AI167","v":0},{"$f":"'Dir1'!AJ167+'Dir2'!AJ167","v":0},{"$f":"'Dir1'!AK167+'Dir2'!AK167","v":0},{"$f":"'Dir1'!AL167+'Dir2'!AL167","v":0},"-",{"$f":"IFERROR(ROUND(PERCENTILE(_xlfn._xlws.FILTER(Data_Table[Speed],(Data_Table[Period]=$B167)*(SUM(C167:N167)>=10)),0.85),2),\"-\")","v":"-"}]
[164,{"$f":"ImportData!$B$10+7*QUOTIENT(A168,24*60*7/ImportData!$B$8)+MOD(1+QUOTIENT(A168,24*60/ImportData!$B$8)-ImportData!$E$10,7)+TIME(0,ImportData!$B$8*A168,0)","v":"2023-10-01T20:00:00"},{"$f":"'Dir1'!C168+'Dir2'!C168","v":0},{"$f":"'Dir1'!D168+'Dir2'!D168","v":0},{"$f":"'Dir1'!E168+'Dir2'!E168","v":0},{"$f":"'Dir1'!F168+'Dir2'!F168","v":0},{"$f":"'Dir1'!G168+'Dir2'!G168","v":0},{"$f":"'Dir1'!H168+'Dir2'!H168","v":0},{"$f":"'Dir1'!I168+'Dir2'!I168","v":0},{"$f":"'Dir1'!J168+'Dir2'!J168","v":0},{"$f":"'Dir1'!K168+'Dir2'!K168","v":0},{"$f":"'Dir1'!L168+'Dir2'!L168","v":0},{"$f":"'Dir1'!M168+'Dir2'!M168","v":0},{"$f":"'Dir1'!N168+'Dir2'!N168","v":0},{"$f":"'Dir1'!O168+'Dir2'!O168","v":0},{"$f":"'Dir1'!P168+'Dir2'!N168","v":0},{"$f":"'Dir1'!Q168+'Dir2'!O168","v":0},{"$f":"'Dir1'!R168+'Dir2'!R168","v":0},{"$f":"'Dir1'!S168+'Dir2'!S168","v":0},{"$f":"'Dir1'!T168+'Dir2'!T168","v":0},{"$f":"'Dir1'!U168+'Dir2'!U168","v":0},{"$f":"'Dir1'!V168+'Dir2'!V168","v":0},{"$f":"'Dir1'!W168+'Dir2'!W168","v":0},{"$f":"'Dir1'!X168+'Dir2'!X168","v":0},{"$f":"'Dir1'!Y168+'Dir2'!Y168","v":0},{"$f":"'Dir1'!Z168+'Dir2'!Z168","v":0},{"$f":"'Dir1'!AA168+'Dir2'!AA168","v":0},{"$f":"'Dir1'!AB168+'Dir2'!AB168","v":0},{"$f":"'Dir1'!AC168+'Dir2'!AC168","v":0},{"$f":"'Dir1'!AD168+'Dir2'!AD168","v":0},{"$f":"'Dir1'!AE168+'Dir2'!AE168","v":0},{"$f":"'Dir1'!AF168+'Dir2'!AF168","v":0},{"$f":"'Dir1'!AG168+'Dir2'!AG168","v":0},{"$f":"'Dir1'!AH168+'Dir2'!AH168","v":0},{"$f":"'Dir1'!AI168+'Dir2'!AI168","v":0},{"$f":"'Dir1'!AJ168+'Dir2'!AJ168","v":0},{"$f":"'Dir1'!AK168+'Dir2'!AK168","v":0},{"$f":"'Dir1'!AL168+'Dir2'!AL168","v":0},"-",{"$f":"IFERROR(ROUND(PERCENTILE(_xlfn._xlws.FILTER(Data_Table[Speed],(Data_Table[Period]=$B168)*(SUM(C168:N168)>=10)),0.85),2),\"-\")","v":"-"}]
[165,{"$f":"ImportData!$B$10+7*QUOTIENT(A169,24*60*7/ImportData!$B$8)+MOD(1+QUOTIENT(A169,24*60/ImportData!$B$8)-ImportData!$E$10,7)+TIME(0,ImportData!$B$8*A169,0)","v":"2023-10-01T21:00:00"},{"$f":"'Dir1'!C169+'Dir2'!C169","v":0},{"$f":"'Dir1'!D169+'Dir2'!D169","v":0},{"$f":"'Dir1'!E169+'Dir2'!E169","v":0},{"$f":"'Dir1'!F169+'Dir2'!F169","v":0},{"$f":"'Dir1'!G169+'Dir2'!G169","v":0},{"$f":"'Dir1'!H169+'Dir2'!H169","v":0},{"$f":"'Dir1'!I169+'Dir2'!I169","v":0},{"$f":"'Dir1'!J169+'Dir2'!J169","v":0},{"$f":"'Dir1'!K169+'Dir2'!K169","v":0},{"$f":"'Dir1'!L169+'Dir2'!L169","v":0},{"$f":"'Dir1'!M169+'Dir2'!M169","v":0},{"$f":"'Dir1'!N169+'Dir2'!N169","v":0},{"$f":"'Dir1'!O169+'Dir2'!O169","v":0},{"$f":"'Dir1'!P169+'Dir2'!N169","v":0},{"$f":"'Dir1'!Q169+'Dir2'!O169","v":0},{"$f":"'Dir1'!R169+'Dir2'!R169","v":0},{"$f":"'Dir1'!S169+'Dir2'!S169","v":0},{"$f":"'Dir1'!T169+'Dir2'!T169","v":0},{"$f":"'Dir1'!U169+'Dir2'!U169","v":0},{"$f":"'Dir1'!V169+'Dir2'!V169","v":0},{"$f":"'Dir1'!W169+'Dir2'!W169","v":0},{"$f":"'Dir1'!X169+'Dir2'!X169","v":0},{"$f":"'Dir1'!Y169+'Dir2'!Y169","v":0},{"$f":"'Dir1'!Z169+'Dir2'!Z169","v":0},{"$f":"'Dir1'!AA169+'Dir2'!AA169","v":0},{"$f":"'Dir1'!AB169+'Dir2'!AB169","v":0},{"$f":"'Dir1'!AC169+'Dir2'!AC169","v":0},{"$f":"'Dir1'!AD169+'Dir2'!AD169","v":0},{"$f":"'Dir1'!AE169+'Dir2'!AE169","v":0},{"$f":"'Dir1'!AF169+'Dir2'!AF169","v":0},{"$f":"'Dir1'!AG169+'Dir2'!AG169","v":0},{"$f":"'Dir1'!AH169+'Dir2'!AH169","v":0},{"$f":"'Dir1'!AI169+'Dir2'!AI169","v":0},{"$f":"'Dir1'!AJ169+'Dir2'!AJ169","v":0},{"$f":"'Dir1'!AK169+'Dir2'!AK169","v":0},{"$f":"'Dir1'!AL169+'Dir2'!AL169","v":0},"-",{"$f":"IFERROR(ROUND(PERCENTILE(_xlfn._xlws.FILTER(Data_Table[Speed],(Data_Table[Period]=$B169)*(SUM(C169:N169)>=10)),0.85),2),\"-\")","v":"-"}]
[166,{"$f":"ImportData!$B$10+7*QUOTIENT(A170,24*60*7/ImportData!$B$8)+MOD(1+QUOTIENT(A170,24*60/ImportData!$B$8)-ImportData!$E$10,7)+TIME(0,ImportData!$B$8*A170,0)","v":"2023-10-01T22:00:00"},{"$f":"'Dir1'!C170+'Dir2'!C170","v":0},{"$f":"'Dir1'!D170+'Dir2'!D170","v":0},{"$f":"'Dir1'!E170+'Dir2'!E170","v":0},{"$f":"'Dir1'!F170+'Dir2'!F170","v":0},{"$f":"'Dir1'!G170+'Dir2'!G170","v":0},{"$f":"'Dir1'!H170+'Dir2'!H170","v":0},{"$f":"'Dir1'!I170+'Dir2'!I170","v":0},{"$f":"'Dir1'!J170+'Dir2'!J170","v":0},{"$f":"'Dir1'!K170+'Dir2'!K170","v":0},{"$f":"'Dir1'!L170+'Dir2'!L170","v":0},{"$f":"'Dir1'!M170+'Dir2'!M170","v":0},{"$f":"'Dir1'!N170+'Dir2'!N170","v":0},{"$f":"'Dir1'!O170+'Dir2'!O170","v":0},{"$f":"'Dir1'!P170+'Dir2'!N170","v":0},{"$f":"'Dir1'!Q170+'Dir2'!O170","v":0},{"$f":"'Dir1'!R170+'Dir2'!R170","v":0},{"$f":"'Dir1'!S170+'Dir2'!S170","v":0},{"$f":"'Dir1'!T170+'Dir2'!T170","v":0},{"$f":"'Dir1'!U170+'Dir2'!U170","v":0},{"$f":"'Dir1'!V170+'Dir2'!V170","v":0},{"$f":"'Dir1'!W170+'Dir2'!W170","v":0},{"$f":"'Dir1'!X170+'Dir2'!X170","v":0},{"$f":"'Dir1'!Y170+'Dir2'!Y170","v":0},{"$f":"'Dir1'!Z170+'Dir2'!Z170","v":0},{"$f":"'Dir1'!AA170+'Dir2'!AA170","v":0},{"$f":"'Dir1'!AB170+'Dir2'!AB170","v":0},{"$f":"'Dir1'!AC170+'Dir2'!AC170","v":0},{"$f":"'Dir1'!AD170+'Dir2'!AD170","v":0},{"$f":"'Dir1'!AE170+'Dir2'!AE170","v":0},{"$f":"'Dir1'!AF170+'Dir2'!AF170","v":0},{"$f":"'Dir1'!AG170+'Dir2'!AG170","v":0},{"$f":"'Dir1'!AH170+'Dir2'!AH170","v":0},{"$f":"'Dir1'!AI170+'Dir2'!AI170","v":0},{"$f":"'Dir1'!AJ170+'Dir2'!AJ170","v":0},{"$f":"'Dir1'!AK170+'Dir2'!AK170","v":0},{"$f":"'Dir1'!AL170+'Dir2'!AL170","v":0},"-",{"$f":"IFERROR(ROUND(PERCENTILE(_xlfn._xlws.FILTER(Data_Table[Speed],(Data_Table[Period]=$B170)*(SUM(C170:N170)>=10)),0.85),2),\"-\")","v":"-"}]
[167,{"$f":"ImportData!$B$10+7*QUOTIENT(A171,24*60*7/ImportData!$B$8)+MOD(1+QUOTIENT(A171,24*60/ImportData!$B$8)-ImportData!$E$10,7)+TIME(0,ImportData!$B$8*A171,0)","v":"2023-10-01T23:00:00"},{"$f":"'Dir1'!C171+'Dir2'!C171","v":0},{"$f":"'Dir1'!D171+'Dir2'!D171","v":0},{"$f":"'Dir1'!E171+'Dir2'!E171","v":0},{"$f":"'Dir1'!F171+'Dir2'!F171","v":0},{"$f":"'Dir1'!G171+'Dir2'!G171","v":0},{"$f":"'Dir1'!H171+'Dir2'!H171","v":0},{"$f":"'Dir1'!I171+'Dir2'!I171","v":0},{"$f":"'Dir1'!J171+'Dir2'!J171","v":0},{"$f":"'Dir1'!K171+'Dir2'!K171","v":0},{"$f":"'Dir1'!L171+'Dir2'!L171","v":0},{"$f":"'Dir1'!M171+'Dir2'!M171","v":0},{"$f":"'Dir1'!N171+'Dir2'!N171","v":0},{"$f":"'Dir1'!O171+'Dir2'!O171","v":0},{"$f":"'Dir1'!P171+'Dir2'!N171","v":0},{"$f":"'Dir1'!Q171+'Dir2'!O171","v":0},{"$f":"'Dir1'!R171+'Dir2'!R171","v":0},{"$f":"'Dir1'!S171+'Dir2'!S171","v":0},{"$f":"'Dir1'!T171+'Dir2'!T171","v":0},{"$f":"'Dir1'!U171+'Dir2'!U171","v":0},{"$f":"'Dir1'!V171+'Dir2'!V171","v":0},{"$f":"'Dir1'!W171+'Dir2'!W171","v":0},{"$f":"'Dir1'!X171+'Dir2'!X171","v":0},{"$f":"'Dir1'!Y171+'Dir2'!Y171","v":0},{"$f":"'Dir1'!Z171+'Dir2'!Z171","v":0},{"$f":"'Dir1'!AA171+'Dir2'!AA171","v":0},{"$f":"'Dir1'!AB171+'Dir2'!AB171","v":0},{"$f":"'Dir1'!AC171+'Dir2'!AC171","v":0},{"$f":"'Dir1'!AD171+'Dir2'!AD171","v":0},{"$f":"'Dir1'!AE171+'Dir2'!AE171","v":0},{"$f":"'Dir1'!AF171+'Dir2'!AF171","v":0},{"$f":"'Dir1'!AG171+'Dir2'!AG171","v":0},{"$f":"'Dir1'!AH171+'Dir2'!AH171","v":0},{"$f":"'Dir1'!AI171+'Dir2'!AI171","v":0},{"$f":"'Dir1'!AJ171+'Dir2'!AJ171","v":0},{"$f":"'Dir1'!AK171+'Dir2'!AK171","v":0},{"$f":"'Dir1'!AL171+'Dir2'!AL171","v":0},"-",{"$f":"IFERROR(ROUND(PERCENTILE(_xlfn._xlws.FILTER(Data_Table[Speed],(Data_Table[Period]=$B171)*(SUM(C171:N171)>=10)),0.85),2),\"-\")","v":"-"}]
[null,"00:00:00",{"$f":"'Dir1'!C172+'Dir2'!C172","v":0},{"$f":"'Dir1'!D172+'Dir2'!D172","v":0},{"$f":"'Dir1'!E172+'Dir2'!E172","v":0},{"$f":"'Dir1'!F172+'Dir2'!F172","v":0},{"$f":"'Dir1'!G172+'Dir2'!G172","v":0},{"$f":"'Dir1'!H172+'Dir2'!H172","v":0},{"$f":"'Dir1'!I172+'Dir2'!I172","v":0},{"$f":"'Dir1'!J172+'Dir2'!J172","v":0},{"$f":"'Dir1'!K172+'Dir2'!K172","v":0},{"$f":"'Dir1'!L172+'Dir2'!L172","v":0},{"$f":"'Dir1'!M172+'Dir2'!M172","v":0},{"$f":"'Dir1'!N172+'Dir2'!N172","v":0},{"$f":"'Dir1'!O172+'Dir2'!O172","v":0},{"$f":"'Dir1'!P172+'Dir2'!N172","v":0},{"$f":"'Dir1'!Q172+'Dir2'!O172","v":0},{"$f":"'Dir1'!R172+'Dir2'!R172","v":0},{"$f":"'Dir1'!S172+'Dir2'!S172","v":0},{"$f":"'Dir1'!T172+'Dir2'!T172","v":0},{"$f":"'Dir1'!U172+'Dir2'!U172","v":0},{"$f":"'Dir1'!V172+'Dir2'!V172","v":0},{"$f":"'Dir1'!W172+'Dir2'!W172","v":0},{"$f":"'Dir1'!X172+'Dir2'!X172","v":0},{"$f":"'Dir1'!Y172+'Dir2'!Y172","v":0},{"$f":"'Dir1'!Z172+'Dir2'!Z172","v":0},{"$f":"'Dir1'!AA172+'Dir2'!AA172","v":0},{"$f":"'Dir1'!AB172+'Dir2'!AB172","v":0},{"$f":"'Dir1'!AC172+'Dir2'!AC172","v":0},{"$f":"'Dir1'!AD172+'Dir2'!AD172","v":0},{"$f":"'Dir1'!AE172+'Dir2'!AE172","v":0},{"$f":"'Dir1'!AF172+'Dir2'!AF172","v":0},{"$f":"'Dir1'!AG172+'Dir2'!AG172","v":0},{"$f":"'Dir1'!AH172+'Dir2'!AH172","v":0},{"$f":"'Dir1'!AI172+'Dir2'!AI172","v":0},{"$f":"'Dir1'!AJ172+'Dir2'!AJ172","v":0},{"$f":"'Dir1'!AK172+'Dir2'!AK172","v":0},{"$f":"'Dir1'!AL172+'Dir2'!AL172","v":0},{"$f":"IFERROR(ROUND(AVERAGE(_xlfn._xlws.FILTER(Data_Table[Speed],(Data_Table[Period]-INT(Data_Table[Period])=B172)*(Data_Table[Weekday]<6))),2),\"-\")","v":"-"},{"$f":"IFERROR(ROUND(PERCENTILE(_xlfn._xlws.FILTER(Data_Table[Speed],(Data_Table[Period]-INT(Data_Table[Period])=B172)*(Data_Table[Weekday]<6)*(SUM(C172:N172)>=10)),0.85),2),\"-\")","v":"-"}]
[null,"01:00:00",{"$f":"'Dir1'!C173+'Dir2'!C173","v":0},{"$f":"'Dir1'!D173+'Dir2'!D173","v":0},{"$f":"'Dir1'!E173+'Dir2'!E173","v":0},{"$f":"'Dir1'!F173+'Dir2'!F173","v":0},{"$f":"'Dir1'!G173+'Dir2'!G173","v":0},{"$f":"'Dir1'!H173+'Dir2'!H173","v":0},{"$f":"'Dir1'!I173+'Dir2'!I173","v":0},{"$f":"'Dir1'!J173+'Dir2'!J173","v":0},{"$f":"'Dir1'!K173+'Dir2'!K173","v":0},{"$f":"'Dir1'!L173+'Dir2'!L173","v":0},{"$f":"'Dir1'!M173+'Dir2'!M173","v":0},{"$f":"'Dir1'!N173+'Dir2'!N173","v":0},{"$f":"'Dir1'!O173+'Dir2'!O173","v":0},{"$f":"'Dir1'!P173+'Dir2'!N173","v":0},{"$f":"'Dir1'!Q173+'Dir2'!O173","v":0},{"$f":"'Dir1'!R173+'Dir2'!R173","v":0},{"$f":"'Dir1'!S173+'Dir2'!S173","v":0},{"$f":"'Dir1'!T173+'Dir2'!T173","v":0},{"$f":"'Dir1'!U173+'Dir2'!U173","v":0},{"$f":"'Dir1'!V173+'Dir2'!V173","v":0},{"$f":"'Dir1'!W173+'Dir2'!W173","v":0},{"$f":"'Dir1'!X173+'Dir2'!X173","v":0},{"$f":"'Dir1'!Y173+'Dir2'!Y173","v":0},{"$f":"'Dir1'!Z173+'Dir2'!Z173","v":0},{"$f":"'Dir1'!AA173+'Dir2'!AA173","v":0},{"$f":"'Dir1'!AB173+'Dir2'!AB173","v":0},{"$f":"'Dir1'!AC173+'Dir2'!AC173","v":0},{"$f":"'Dir1'!AD173+'Dir2'!AD173","v":0},{"$f":"'Dir1'!AE173+'Dir2'!AE173","v":0},{"$f":"'Dir1'!AF173+'Dir2'!AF173","v":0},{"$f":"'Dir1'!AG173+'Dir2'!AG173","v":0},{"$f":"'Dir1'!AH173+'Dir2'!AH173","v":0},{"$f":"'Dir1'!AI173+'Dir2'!AI173","v":0},{"$f":"'Dir1'!AJ173+'Dir2'!AJ173","v":0},{"$f":"'Dir1'!AK173+'Dir2'!AK173","v":0},{"$f":"'Dir1'!AL173+'Dir2'!AL173","v":0},{"$f":"IFERROR(ROUND(AVERAGE(_xlfn._xlws.FILTER(Data_Table[Speed],(Data_Table[Period]-INT(Data_Table[Period])=B173)*(Data_Table[Weekday]<6))),2),\"-\")","v":"-"},{"$f":"IFERROR(ROUND(PERCENTILE(_xlfn._xlws.FILTER(Data_Table[Speed],(Data_Table[Period]-INT(Data_Table[Period])=B173)*(Data_Table[Weekday]<6)*(SUM(C173:N173)>=10)),0.85),2),\"-\")","v":"-"}]
[null,"02:00:00",{"$f":"'Dir1'!C174+'Dir2'!C174","v":0},{"$f":"'Dir1'!D174+'Dir2'!D174","v":0},{"$f":"'Dir1'!E174+'Dir2'!E174","v":0},{"$f":"'Dir1'!F174+'Dir2'!F174","v":0},{"$f":"'Dir1'!G174+'Dir2'!G174","v":0},{"$f":"'Dir1'!H174+'Dir2'!H174","v":0},{"$f":"'Dir1'!I174+'Dir2'!I174","v":0},{"$f":"'Dir1'!J174+'Dir2'!J174","v":0},{"$f":"'Dir1'!K174+'Dir2'!K174","v":0},{"$f":"'Dir1'!L174+'Dir2'!L174","v":0},{"$f":"'Dir1'!M174+'Dir2'!M174","v":0},{"$f":"'Dir1'!N174+'Dir2'!N174","v":0},{"$f":"'Dir1'!O174+'Dir2'!O174","v":0},{"$f":"'Dir1'!P174+'Dir2'!N174","v":0},{"$f":"'Dir1'!Q174+'Dir2'!O174","v":0},{"$f":"'Dir1'!R174+'Dir2'!R174","v":0},{"$f":"'Dir1'!S174+'Dir2'!S174","v":0},{"$f":"'Dir1'!T174+'Dir2'!T174","v":0},{"$f":"'Dir1'!U174+'Dir2'!U174","v":0},{"$f":"'Dir1'!V174+'Dir2'!V174","v":0},{"$f":"'Dir1'!W174+'Dir2'!W174","v":0},{"$f":"'Dir1'!X174+'Dir2'!X174","v":0},{"$f":"'Dir1'!Y174+'Dir2'!Y174","v":0},{"$f":"'Dir1'!Z174+'Dir2'!Z174","v":0},{"$f":"'Dir1'!AA174+'Dir2'!AA174","v":0},{"$f":"'Dir1'!AB174+'Dir2'!AB174","v":0},{"$f":"'Dir1'!AC174+'Dir2'!AC174","v":0},{"$f":"'Dir1'!AD174+'Dir2'!AD174","v":0},{"$f":"'Dir1'!AE174+'Dir2'!AE174","v":0},{"$f":"'Dir1'!AF174+'Dir2'!AF174","v":0},{"$f":"'Dir1'!AG174+'Dir2'!AG174","v":0},{"$f":"'Dir1'!AH174+'Dir2'!AH174","v":0},{"$f":"'Dir1'!AI174+'Dir2'!AI174","v":0},{"$f":"'Dir1'!AJ174+'Dir2'!AJ174","v":0},{"$f":"'Dir1'!AK174+'Dir2'!AK174","v":0},{"$f":"'Dir1'!AL174+'Dir2'!AL174","v":0},{"$f":"IFERROR(ROUND(AVERAGE(_xlfn._xlws.FILTER(Data_Table[Speed],(Data_Table[Period]-INT(Data_Table[Period])=B174)*(Data_Table[Weekday]<6))),2),\"-\")","v":"-"},{"$f":"IFERROR(ROUND(PERCENTILE(_xlfn._xlws.FILTER(Data_Table[Speed],(Data_Table[Period]-INT(Data_Table[Period])=B174)*(Data_Table[Weekday]<6)*(SUM(C174:N174)>=10)),0.85),2),\"-\")","v":"-"}]
[null,"03:00:00",{"$f":"'Dir1'!C175+'Dir2'!C175","v":0},{"$f":"'Dir1'!D175+'Dir2'!D175","v":0},{"$f":"'Dir1'!E175+'Dir2'!E175","v":0},{"$f":"'Dir1'!F175+'Dir2'!F175","v":0},{"$f":"'Dir1'!G175+'Dir2'!G175","v":0},{"$f":"'Dir1'!H175+'Dir2'!H175","v":0},{"$f":"'Dir1'!I175+'Dir2'!I175","v":0},{"$f":"'Dir1'!J175+'Dir2'!J175","v":0},{"$f":"'Dir1'!K175+'Dir2'!K175","v":0},{"$f":"'Dir1'!L175+'Dir2'!L175","v":0},{"$f":"'Dir1'!M175+'Dir2'!M175","v":0},{"$f":"'Dir1'!N175+'Dir2'!N175","v":0},{"$f":"'Dir1'!O175+'Dir2'!O175","v":0},{"$f":"'Dir1'!P175+'Dir2'!N175","v":0},{"$f":"'Dir1'!Q175+'Dir2'!O175","v":0},{"$f":"'Dir1'!R175+'Dir2'!R175","v":0},{"$f":"'Dir1'!S175+'Dir2'!S175","v":0},{"$f":"'Dir1'!T175+'Dir2'!T175","v":0},{"$f":"'Dir1'!U175+'Dir2'!U175","v":0},{"$f":"'Dir1'!V175+'Dir2'!V175","v":0},{"$f":"'Dir1'!W175+'Dir2'!W175","v":0},{"$f":"'Dir1'!X175+'Dir2'!X175","v":0},{"$f":"'Dir1'!Y175+'Dir2'!Y175","v":0},{"$f":"'Dir1'!Z175+'Dir2'!Z175","v":0},{"$f":"'Dir1'!AA175+'Dir2'!AA175","v":0},{"$f":"'Dir1'!AB175+'Dir2'!AB175","v":0},{"$f":"'Dir1'!AC175+'Dir2'!AC175","v":0},{"$f":"'Dir1'!AD175+'Dir2'!AD175","v":0},{"$f":"'Dir1'!AE175+'Dir2'!AE175","v":0},{"$f":"'Dir1'!AF175+'Dir2'!AF175","v":0},{"$f":"'Dir1'!AG175+'Dir2'!AG175","v":0},{"$f":"'Dir1'!AH175+'Dir2'!AH175","v":0},{"$f":"'Dir1'!AI175+'Dir2'!AI175","v":0},{"$f":"'Dir1'!AJ175+'Dir2'!AJ175","v":0},{"$f":"'Dir1'!AK175+'Dir2'!AK175","v":0},{"$f":"'Dir1'!AL175+'Dir2'!AL175","v":0},{"$f":"IFERROR(ROUND(AVERAGE(_xlfn._xlws.FILTER(Data_Table[Speed],(Data_Table[Period]-INT(Data_Table[Period])=B175)*(Data_Table[Weekday]<6))),2),\"-\")","v":"-"},{"$f":"IFERROR(ROUND(PERCENTILE(_xlfn._xlws.FILTER(Data_Table[Speed],(Data_Table[Period]-INT(Data_Table[Period])=B175)*(Data_Table[Weekday]<6)*(SUM(C175:N175)>=10)),0.85),2),\"-\")","v":"-"}]
[null,"04:00:00",{"$f":"'Dir1'!C176+'Dir2'!C176","v":0},{"$f":"'Dir1'!D176+'Dir2'!D176","v":0},{"$f":"'Dir1'!E176+'Dir2'!E176","v":0},{"$f":"'Dir1'!F176+'Dir2'!F176","v":0},{"$f":"'Dir1'!G176+'Dir2'!G176","v":0},{"$f":"'Dir1'!H176+'Dir2'!H176","v":0},{"$f":"'Dir1'!I176+'Dir2'!I176","v":0},{"$f":"'Dir1'!J176+'Dir2'!J176","v":0},{"$f":"'Dir1'!K176+'Dir2'!K176","v":0},{"$f":"'Dir1'!L176+'Dir2'!L176","v":0},{"$f":"'Dir1'!M176+'Dir2'!M176","v":0},{"$f":"'Dir1'!N176+'Dir2'!N176","v":0},{"$f":"'Dir1'!O176+'Dir2'!O176","v":0},{"$f":"'Dir1'!P176+'Dir2'!N176","v":0},{"$f":"'Dir1'!Q176+'Dir2'!O176","v":0},{"$f":"'Dir1'!R176+'Dir2'!R176","v":0},{"$f":"'Dir1'!S176+'Dir2'!S176","v":0},{"$f":"'Dir1'!T176+'Dir2'!T176","v":0},{"$f":"'Dir1'!U176+'Dir2'!U176","v":0},{"$f":"'Dir1'!V176+'Dir2'!V176","v":0},{"$f":"'Dir1'!W176+'Dir2'!W176","v":0},{"$f":"'Dir1'!X176+'Dir2'!X176","v":0},{"$f":"'Dir1'!Y176+'Dir2'!Y176","v":0},{"$f":"'Dir1'!Z176+'Dir2'!Z176","v":0},{"$f":"'Dir1'!AA176+'Dir2'!AA176","v":0},{"$f":"'Dir1'!AB176+'Dir2'!AB176","v":0},{"$f":"'Dir1'!AC176+'Dir2'!AC176","v":0},{"$f":"'Dir1'!AD176+'Dir2'!AD176","v":0},{"$f":"'Dir1'!AE176+'Dir2'!AE176","v":0},{"$f":"'Dir1'!AF176+'Dir2'!AF176","v":0},{"$f":"'Dir1'!AG176+'Dir2'!AG176","v":0},{"$f":"'Dir1'!AH176+'Dir2'!AH176","v":0},{"$f":"'Dir1'!AI176+'Dir2'!AI176","v":0},{"$f":"'Dir1'!AJ176+'Dir2'!AJ176","v":0},{"$f":"'Dir1'!AK176+'Dir2'!AK176","v":0},{"$f":"'Dir1'!AL176+'Dir2'!AL176","v":0},{"$f":"IFERROR(ROUND(AVERAGE(_xlfn._xlws.FILTER(Data_Table[Speed],(Data_Table[Period]-INT(Data_Table[Period])=B176)*(Data_Table[Weekday]<6))),2),\"-\")","v":"-"},{"$f":"IFERROR(ROUND(PERCENTILE(_xlfn._xlws.FILTER(Data_Table[Speed],(Data_Table[Period]-INT(Data_Table[Period])=B176)*(Data_Table[Weekday]<6)*(SUM(C176:N176)>=10)),0.85),2),\"-\")","v":"-"}]
[null,"05:00:00",{"$f":"'Dir1'!C177+'Dir2'!C177","v":0},{"$f":"'Dir1'!D177+'Dir2'!D177","v":0},{"$f":"'Dir1'!E177+'Dir2'!E177","v":0},{"$f":"'Dir1'!F177+'Dir2'!F177","v":0},{"$f":"'Dir1'!G177+'Dir2'!G177","v":0},{"$f":"'Dir1'!H177+'Dir2'!H177","v":0},{"$f":"'Dir1'!I177+'Dir2'!I177","v":0},{"$f":"'Dir1'!J177+'Dir2'!J177","v":0},{"$f":"'Dir1'!K177+'Dir2'!K177","v":0},{"$f":"'Dir1'!L177+'Dir2'!L177","v":0},{"$f":"'Dir1'!M177+'Dir2'!M177","v":0},{"$f":"'Dir1'!N177+'Dir2'!N177","v":0},{"$f":"'Dir1'!O177+'Dir2'!O177","v":0},{"$f":"'Dir1'!P177+'Dir2'!N177","v":0},{"$f":"'Dir1'!Q177+'Dir2'!O177","v":0},{"$f":"'Dir1'!R177+'Dir2'!R177","v":0},{"$f":"'Dir1'!S177+'Dir2'!S177","v":0},{"$f":"'Dir1'!T177+'Dir2'!T177","v":0},{"$f":"'Dir1'!U177+'Dir2'!U177","v":0},{"$f":"'Dir1'!V177+'Dir2'!V177","v":0},{"$f":"'Dir1'!W177+'Dir2'!W177","v":0},{"$f":"'Dir1'!X177+'Dir2'!X177","v":0},{"$f":"'Dir1'!Y177+'Dir2'!Y177","v":0},{"$f":"'Dir1'!Z177+'Dir2'!Z177","v":0},{"$f":"'Dir1'!AA177+'Dir2'!AA177","v":0},{"$f":"'Dir1'!AB177+'Dir2'!AB177","v":0},{"$f":"'Dir1'!AC177+'Dir2'!AC177","v":0},{"$f":"'Dir1'!AD177+'Dir2'!AD177","v":0},{"$f":"'Dir1'!AE177+'Dir2'!AE177","v":0},{"$f":"'Dir1'!AF177+'Dir2'!AF177","v":0},{"$f":"'Dir1'!AG177+'Dir2'!AG177","v":0},{"$f":"'Dir1'!AH177+'Dir2'!AH177","v":0},{"$f":"'Dir1'!AI177+'Dir2'!AI177","v":0},{"$f":"'Dir1'!AJ177+'Dir2'!AJ177","v":0},{"$f":"'Dir1'!AK177+'Dir2'!AK177","v":0},{"$f":"'Dir1'!AL177+'Dir2'!AL177","v":0},{"$f":"IFERROR(ROUND(AVERAGE(_xlfn._xlws.FILTER(Data_Table[Speed],(Data_Table[Period]-INT(Data_Table[Period])=B177)*(Data_Table[Weekday]<6))),2),\"-\")","v":"-"},{"$f":"IFERROR(ROUND(PERCENTILE(_xlfn._xlws.FILTER(Data_Table[Speed],(Data_Table[Period]-INT(Data_Table[Period])=B177)*(Data_Table[Weekday]<6)*(SUM(C177:N177)>=10)),0.85),2),\"-\")","v":"-"}]
[null,"06:00:00",{"$f":"'Dir1'!C178+'Dir2'!C178","v":0},{"$f":"'Dir1'!D178+'Dir2'!D178","v":0},{"$f":"'Dir1'!E178+'Dir2'!E178","v":0},{"$f":"'Dir1'!F178+'Dir2'!F178","v":0},{"$f":"'Dir1'!G178+'Dir2'!G178","v":0},{"$f":"'Dir1'!H178+'Dir2'!H178","v":0},{"$f":"'Dir1'!I178+'Dir2'!I178","v":0},{"$f":"'Dir1'!J178+'Dir2'!J178","v":0},{"$f":"'Dir1'!K178+'Dir2'!K178","v":0},{"$f":"'Dir1'!L178+'Dir2'!L178","v":0},{"$f":"'Dir1'!M178+'Dir2'!M178","v":0},{"$f":"'Dir1'!N178+'Dir2'!N178","v":0},{"$f":"'Dir1'!O178+'Dir2'!O178","v":0},{"$f":"'Dir1'!P178+'Dir2'!N178","v":0},{"$f":"'Dir1'!Q178+'Dir2'!O178","v":0},{"$f":"'Dir1'!R178+'Dir2'!R178","v":0},{"$f":"'Dir1'!S178+'Dir2'!S178","v":0},{"$f":"'Dir1'!T178+'Dir2'!T178","v":0},{"$f":"'Dir1'!U178+'Dir2'!U178","v":0},{"$f":"'Dir1'!V178+'Dir2'!V178","v":0},{"$f":"'Dir1'!W178+'Dir2'!W178","v":0},{"$f":"'Dir1'!X178+'Dir2'!X178","v":0},{"$f":"'Dir1'!Y178+'Dir2'!Y178","v":0},{"$f":"'Dir1'!Z178+'Dir2'!Z178","v":0},{"$f":"'Dir1'!AA178+'Dir2'!AA178","v":0},{"$f":"'Dir1'!AB178+'Dir2'!AB178","v":0},{"$f":"'Dir1'!AC178+'Dir2'!AC178","v":0},{"$f":"'Dir1'!AD178+'Dir2'!AD178","v":0},{"$f":"'Dir1'!AE178+'Dir2'!AE178","v":0},{"$f":"'Dir1'!AF178+'Dir2'!AF178","v":0},{"$f":"'Dir1'!AG178+'Dir2'!AG178","v":0},{"$f":"'Dir1'!AH178+'Dir2'!AH178","v":0},{"$f":"'Dir1'!AI178+'Dir2'!AI178","v":0},{"$f":"'Dir1'!AJ178+'Dir2'!AJ178","v":0},{"$f":"'Dir1'!AK178+'Dir2'!AK178","v":0},{"$f":"'Dir1'!AL178+'Dir2'!AL178","v":0},{"$f":"IFERROR(ROUND(AVERAGE(_xlfn._xlws.FILTER(Data_Table[Speed],(Data_Table[Period]-INT(Data_Table[Period])=B178)*(Data_Table[Weekday]<6))),2),\"-\")","v":"-"},{"$f":"IFERROR(ROUND(PERCENTILE(_xlfn._xlws.FILTER(Data_Table[Speed],(Data_Table[Period]-INT(Data_Table[Period])=B178)*(Data_Table[Weekday]<6)*(SUM(C178:N178)>=10)),0.85),2),\"-\")","v":"-"}]
[null,"07:00:00",{"$f":"'Dir1'!C179+'Dir2'!C179","v":0},{"$f":"'Dir1'!D179+'Dir2'!D179","v":0},{"$f":"'Dir1'!E179+'Dir2'!E179","v":0},{"$f":"'Dir1'!F179+'Dir2'!F179","v":0},{"$f":"'Dir1'!G179+'Dir2'!G179","v":0},{"$f":"'Dir1'!H179+'Dir2'!H179","v":0},{"$f":"'Dir1'!I179+'Dir2'!I179","v":0},{"$f":"'Dir1'!J179+'Dir2'!J179","v":0},{"$f":"'Dir1'!K179+'Dir2'!K179","v":0},{"$f":"'Dir1'!L179+'Dir2'!L179","v":0},{"$f":"'Dir1'!M179+'Dir2'!M179","v":0},{"$f":"'Dir1'!N179+'Dir2'!N179","v":0},{"$f":"'Dir1'!O179+'Dir2'!O179","v":0},{"$f":"'Dir1'!P179+'Dir2'!N179","v":0},{"$f":"'Dir1'!Q179+'Dir2'!O179","v":0},{"$f":"'Dir1'!R179+'Dir2'!R179","v":0},{"$f":"'Dir1'!S179+'Dir2'!S179","v":0},{"$f":"'Dir1'!T179+'Dir2'!T179","v":0},{"$f":"'Dir1'!U179+'Dir2'!U179","v":0},{"$f":"'Dir1'!V179+'Dir2'!V179","v":0},{"$f":"'Dir1'!W179+'Dir2'!W179","v":0},{"$f":"'Dir1'!X179+'Dir2'!X179","v":0},{"$f":"'Dir1'!Y179+'Dir2'!Y179","v":0},{"$f":"'Dir1'!Z179+'Dir2'!Z179","v":0},{"$f":"'Dir1'!AA179+'Dir2'!AA179","v":0},{"$f":"'Dir1'!AB179+'Dir2'!AB179","v":0},{"$f":"'Dir1'!AC179+'Dir2'!AC179","v":0},{"$f":"'Dir1'!AD179+'Dir2'!AD179","v":0},{"$f":"'Dir1'!AE179+'Dir2'!AE179","v":0},{"$f":"'Dir1'!AF179+'Dir2'!AF179","v":0},{"$f":"'Dir1'!AG179+'Dir2'!AG179","v":0},{"$f":"'Dir1'!AH179+'Dir2'!AH179","v":0},{"$f":"'Dir1'!AI179+'Dir2'!AI179","v":0},{"$f":"'Dir1'!AJ179+'Dir2'!AJ179","v":0},{"$f":"'Dir1'!AK179+'Dir2'!AK179","v":0},{"$f":"'Dir1'!AL179+'Dir2'!AL179","v":0},{"$f":"IFERROR(ROUND(AVERAGE(_xlfn._xlws.FILTER(Data_Table[Speed],(Data_Table[Period]-INT(Data_Table[Period])=B179)*(Data_Table[Weekday]<6))),2),\"-\")","v":"-"},{"$f":"IFERROR(ROUND(PERCENTILE(_xlfn._xlws.FILTER(Data_Table[Speed],(Data_Table[Period]-INT(Data_Table[Period])=B179)*(Data_Table[Weekday]<6)*(SUM(C179:N179)>=10)),0.85),2),\"-\")","v":"-"}]
[null,"08:00:00",{"$f":"'Dir1'!C180+'Dir2'!C180","v":0},{"$f":"'Dir1'!D180+'Dir2'!D180","v":0},{"$f":"'Dir1'!E180+'Dir2'!E180","v":0},{"$f":"'Dir1'!F180+'Dir2'!F180","v":0},{"$f":"'Dir1'!G180+'Dir2'!G180","v":0},{"$f":"'Dir1'!H180+'Dir2'!H180","v":0},{"$f":"'Dir1'!I180+'Dir2'!I180","v":0},{"$f":"'Dir1'!J180+'Dir2'!J180","v":0},{"$f":"'Dir1'!K180+'Dir2'!K180","v":0},{"$f":"'Dir1'!L180+'Dir2'!L180","v":0},{"$f":"'Dir1'!M180+'Dir2'!M180","v":0},{"$f":"'Dir1'!N180+'Dir2'!N180","v":0},{"$f":"'Dir1'!O180+'Dir2'!O180","v":0},{"$f":"'Dir1'!P180+'Dir2'!N180","v":0},{"$f":"'Dir1'!Q180+'Dir2'!O180","v":0},{"$f":"'Dir1'!R180+'Dir2'!R180","v":0},{"$f":"'Dir1'!S180+'Dir2'!S180","v":0},{"$f":"'Dir1'!T180+'Dir2'!T180","v":0},{"$f":"'Dir1'!U180+'Dir2'!U180","v":0},{"$f":"'Dir1'!V180+'Dir2'!V180","v":0},{"$f":"'Dir1'!W180+'Dir2'!W180","v":0},{"$f":"'Dir1'!X180+'Dir2'!X180","v":0},{"$f":"'Dir1'!Y180+'Dir2'!Y180","v":0},{"$f":"'Dir1'!Z180+'Dir2'!Z180","v":0},{"$f":"'Dir1'!AA180+'Dir2'!AA180","v":0},{"$f":"'Dir1'!AB180+'Dir2'!AB180","v":0},{"$f":"'Dir1'!AC180+'Dir2'!AC180","v":0},{"$f":"'Dir1'!AD180+'Dir2'!AD180","v":0},{"$f":"'Dir1'!AE180+'Dir2'!AE180","v":0},{"$f":"'Dir1'!AF180+'Dir2'!AF180","v":0},{"$f":"'Dir1'!AG180+'Dir2'!AG180","v":0},{"$f":"'Dir1'!AH180+'Dir2'!AH180","v":0},{"$f":"'Dir1'!AI180+'Dir2'!AI180","v":0},{"$f":"'Dir1'!AJ180+'Dir2'!AJ180","v":0},{"$f":"'Dir1'!AK180+'Dir2'!AK180","v":0},{"$f":"'Dir1'!AL180+'Dir2'!AL180","v":0},{"$f":"IFERROR(ROUND(AVERAGE(_xlfn._xlws.FILTER(Data_Table[Speed],(Data_Table[Period]-INT(Data_Table[Period])=B180)*(Data_Table[Weekday]<6))),2),\"-\")","v":"-"},{"$f":"IFERROR(ROUND(PERCENTILE(_xlfn._xlws.FILTER(Data_Table[Speed],(Data_Table[Period]-INT(Data_Table[Period])=B180)*(Data_Table[Weekday]<6)*(SUM(C180:N180)>=10)),0.85),2),\"-\")","v":"-"}]
[null,"09:00:00",{"$f":"'Dir1'!C181+'Dir2'!C181","v":0},{"$f":"'Dir1'!D181+'Dir2'!D181","v":0},{"$f":"'Dir1'!E181+'Dir2'!E181","v":0},{"$f":"'Dir1'!F181+'Dir2'!F181","v":0},{"$f":"'Dir1'!G181+'Dir2'!G181","v":0},{"$f":"'Dir1'!H181+'Dir2'!H181","v":0},{"$f":"'Dir1'!I181+'Dir2'!I181","v":0},{"$f":"'Dir1'!J181+'Dir2'!J181","v":0},{"$f":"'Dir1'!K181+'Dir2'!K181","v":0},{"$f":"'Dir1'!L181+'Dir2'!L181","v":0},{"$f":"'Dir1'!M181+'Dir2'!M181","v":0},{"$f":"'Dir1'!N181+'Dir2'!N181","v":0},{"$f":"'Dir1'!O181+'Dir2'!O181","v":0},{"$f":"'Dir1'!P181+'Dir2'!N181","v":0},{"$f":"'Dir1'!Q181+'Dir2'!O181","v":0},{"$f":"'Dir1'!R181+'Dir2'!R181","v":0},{"$f":"'Dir1'!S181+'Dir2'!S181","v":0},{"$f":"'Dir1'!T181+'Dir2'!T181","v":0},{"$f":"'Dir1'!U181+'Dir2'!U181","v":0},{"$f":"'Dir1'!V181+'Dir2'!V181","v":0},{"$f":"'Dir1'!W181+'Dir2'!W181","v":0},{"$f":"'Dir1'!X181+'Dir2'!X181","v":0},{"$f":"'Dir1'!Y181+'Dir2'!Y181","v":0},{"$f":"'Dir1'!Z181+'Dir2'!Z181","v":0},{"$f":"'Dir1'!AA181+'Dir2'!AA181","v":0},{"$f":"'Dir1'!AB181+'Dir2'!AB181","v":0},{"$f":"'Dir1'!AC181+'Dir2'!AC181","v":0},{"$f":"'Dir1'!AD181+'Dir2'!AD181","v":0},{"$f":"'Dir1'!AE181+'Dir2'!AE181","v":0},{"$f":"'Dir1'!AF181+'Dir2'!AF181","v":0},{"$f":"'Dir1'!AG181+'Dir2'!AG181","v":0},{"$f":"'Dir1'!AH181+'Dir2'!AH181","v":0},{"$f":"'Dir1'!AI181+'Dir2'!AI181","v":0},{"$f":"'Dir1'!AJ181+'Dir2'!AJ181","v":0},{"$f":"'Dir1'!AK181+'Dir2'!AK181","v":0},{"$f":"'Dir1'!AL181+'Dir2'!AL181","v":0},{"$f":"IFERROR(ROUND(AVERAGE(_xlfn._xlws.FILTER(Data_Table[Speed],(Data_Table[Period]-INT(Data_Table[Period])=B181)*(Data_Table[Weekday]<6))),2),\"-\")","v":"-"},{"$f":"IFERROR(ROUND(PERCENTILE(_xlfn._xlws.FILTER(Data_Table[Speed],(Data_Table[Period]-INT(Data_Table[Period])=B181)*(Data_Table[Weekday]<6)*(SUM(C181:N181)>=10)),0.85),2),\"-\")","v":"-"}]
[null,"10:00:00",{"$f":"'Dir1'!C182+'Dir2'!C182","v":0},{"$f":"'Dir1'!D182+'Dir2'!D182","v":0},{"$f":"'Dir1'!E182+'Dir2'!E182","v":0},{"$f":"'Dir1'!F182+'Dir2'!F182","v":0},{"$f":"'Dir1'!G182+'Dir2'!G182","v":0},{"$f":"'Dir1'!H182+'Dir2'!H182","v":0},{"$f":"'Dir1'!I182+'Dir2'!I182","v":0},{"$f":"'Dir1'!J182+'Dir2'!J182","v":0},{"$f":"'Dir1'!K182+'Dir2'!K182","v":0},{"$f":"'Dir1'!L182+'Dir2'!L182","v":0},{"$f":"'Dir1'!M182+'Dir2'!M182","v":0},{"$f":"'Dir1'!N182+'Dir2'!N182","v":0},{"$f":"'Dir1'!O182+'Dir2'!O182","v":0},{"$f":"'Dir1'!P182+'Dir2'!N182","v":0},{"$f":"'Dir1'!Q182+'Dir2'!O182","v":0},{"$f":"'Dir1'!R182+'Dir2'!R182","v":0},{"$f":"'Dir1'!S182+'Dir2'!S182","v":0},{"$f":"'Dir1'!T182+'Dir2'!T182","v":0},{"$f":"'Dir1'!U182+'Dir2'!U182","v":0},{"$f":"'Dir1'!V182+'Dir2'!V182","v":0},{"$f":"'Dir1'!W182+'Dir2'!W182","v":0},{"$f":"'Dir1'!X182+'Dir2'!X182","v":0},{"$f":"'Dir1'!Y182+'Dir2'!Y182","v":0},{"$f":"'Dir1'!Z182+'Dir2'!Z182","v":0},{"$f":"'Dir1'!AA182+'Dir2'!AA182","v":0},{"$f":"'Dir1'!AB182+'Dir2'!AB182","v":0},{"$f":"'Dir1'!AC182+'Dir2'!AC182","v":0},{"$f":"'Dir1'!AD182+'Dir2'!AD182","v":0},{"$f":"'Dir1'!AE182+'Dir2'!AE182","v":0},{"$f":"'Dir1'!AF182+'Dir2'!AF182","v":0},{"$f":"'Dir1'!AG182+'Dir2'!AG182","v":0},{"$f":"'Dir1'!AH182+'Dir2'!AH182","v":0},{"$f":"'Dir1'!AI182+'Dir2'!AI182","v":0},{"$f":"'Dir1'!AJ182+'Dir2'!AJ182","v":0},{"$f":"'Dir1'!AK182+'Dir2'!AK182","v":0},{"$f":"'Dir1'!AL182+'Dir2'!AL182","v":0},{"$f":"IFERROR(ROUND(AVERAGE(_xlfn._xlws.FILTER(Data_Table[Speed],(Data_Table[Period]-INT(Data_Table[Period])=B182)*(Data_Table[Weekday]<6))),2),\"-\")","v":"-"},{"$f":"IFERROR(ROUND(PERCENTILE(_xlfn._xlws.FILTER(Data_Table[Speed],(Data_Table[Period]-INT(Data_Table[Period])=B182)*(Data_Table[Weekday]<6)*(SUM(C182:N182)>=10)),0.85),2),\"-\")","v":"-"}]
[null,"11:00:00",{"$f":"'Dir1'!C183+'Dir2'!C183","v":0},{"$f":"'Dir1'!D183+'Dir2'!D183","v":0},{"$f":"'Dir1'!E183+'Dir2'!E183","v":0},{"$f":"'Dir1'!F183+'Dir2'!F183","v":0},{"$f":"'Dir1'!G183+'Dir2'!G183","v":0},{"$f":"'Dir1'!H183+'Dir2'!H183","v":0},{"$f":"'Dir1'!I183+'Dir2'!I183","v":0},{"$f":"'Dir1'!J183+'Dir2'!J183","v":0},{"$f":"'Dir1'!K183+'Dir2'!K183","v":0},{"$f":"'Dir1'!L183+'Dir2'!L183","v":0},{"$f":"'Dir1'!M183+'Dir2'!M183","v":0},{"$f":"'Dir1'!N183+'Dir2'!N183","v":0},{"$f":"'Dir1'!O183+'Dir2'!O183","v":0},{"$f":"'Dir1'!P183+'Dir2'!N183","v":0},{"$f":"'Dir1'!Q183+'Dir2'!O183","v":0},{"$f":"'Dir1'!R183+'Dir2'!R183","v":0},{"$f":"'Dir1'!S183+'Dir2'!S183","v":0},{"$f":"'Dir1'!T183+'Dir2'!T183","v":0},{"$f":"'Dir1'!U183+'Dir2'!U183","v":0},{"$f":"'Dir1'!V183+'Dir2'!V183","v":0},{"$f":"'Dir1'!W183+'Dir2'!W183","v":0},{"$f":"'Dir1'!X183+'Dir2'!X183","v":0},{"$f":"'Dir1'!Y183+'Dir2'!Y183","v":0},{"$f":"'Dir1'!Z183+'Dir2'!Z183","v":0},{"$f":"'Dir1'!AA183+'Dir2'!AA183","v":0},{"$f":"'Dir1'!AB183+'Dir2'!AB183","v":0},{"$f":"'Dir1'!AC183+'Dir2'!AC183","v":0},{"$f":"'Dir1'!AD183+'Dir2'!AD183","v":0},{"$f":"'Dir1'!AE183+'Dir2'!AE183","v":0},{"$f":"'Dir1'!AF183+'Dir2'!AF183","v":0},{"$f":"'Dir1'!AG183+'Dir2'!AG183","v":0},{"$f":"'Dir1'!AH183+'Dir2'!AH183","v":0},{"$f":"'Dir1'!AI183+'Dir2'!AI183","v":0},{"$f":"'Dir1'!AJ183+'Dir2'!AJ183","v":0},{"$f":"'Dir1'!AK183+'Dir2'!AK183","v":0},{"$f":"'Dir1'!AL183+'Dir2'!AL183","v":0},{"$f":"IFERROR(ROUND(AVERAGE(_xlfn._xlws.FILTER(Data_Table[Speed],(Data_Table[Period]-INT(Data_Table[Period])=B183)*(Data_Table[Weekday]<6))),2),\"-\")","v":"-"},{"$f":"IFERROR(ROUND(PERCENTILE(_xlfn._xlws.FILTER(Data_Table[Speed],(Data_Table[Period]-INT(Data_Table[Period])=B183)*(Data_Table[Weekday]<6)*(SUM(C183:N183)>=10)),0.85),2),\"-\")","v":"-"}]
[null,"12:00:00",{"$f":"'Dir1'!C184+'Dir2'!C184","v":0},{"$f":"'Dir1'!D184+'Dir2'!D184","v":0},{"$f":"'Dir1'!E184+'Dir2'!E184","v":0},{"$f":"'Dir1'!F184+'Dir2'!F184","v":0},{"$f":"'Dir1'!G184+'Dir2'!G184","v":0},{"$f":"'Dir1'!H184+'Dir2'!H184","v":0},{"$f":"'Dir1'!I184+'Dir2'!I184","v":0},{"$f":"'Dir1'!J184+'Dir2'!J184","v":0},{"$f":"'Dir1'!K184+'Dir2'!K184","v":0},{"$f":"'Dir1'!L184+'Dir2'!L184","v":0},{"$f":"'Dir1'!M184+'Dir2'!M184","v":0},{"$f":"'Dir1'!N184+'Dir2'!N184","v":0},{"$f":"'Dir1'!O184+'Dir2'!O184","v":0},{"$f":"'Dir1'!P184+'Dir2'!N184","v":0},{"$f":"'Dir1'!Q184+'Dir2'!O184","v":0},{"$f":"'Dir1'!R184+'Dir2'!R184","v":0},{"$f":"'Dir1'!S184+'Dir2'!S184","v":0},{"$f":"'Dir1'!T184+'Dir2'!T184","v":0},{"$f":"'Dir1'!U184+'Dir2'!U184","v":0},{"$f":"'Dir1'!V184+'Dir2'!V184","v":0},{"$f":"'Dir1'!W184+'Dir2'!W184","v":0},{"$f":"'Dir1'!X184+'Dir2'!X184","v":0},{"$f":"'Dir1'!Y184+'Dir2'!Y184","v":0},{"$f":"'Dir1'!Z184+'Dir2'!Z184","v":0},{"$f":"'Dir1'!AA184+'Dir2'!AA184","v":0},{"$f":"'Dir1'!AB184+'Dir2'!AB184","v":0},{"$f":"'Dir1'!AC184+'Dir2'!AC184","v":0},{"$f":"'Dir1'!AD184+'Dir2'!AD184","v":0},{"$f":"'Dir1'!AE184+'Dir2'!AE184","v":0},{"$f":"'Dir1'!AF184+'Dir2'!AF184","v":0},{"$f":"'Dir1'!AG184+'Dir2'!AG184","v":0},{"$f":"'Dir1'!AH184+'Dir2'!AH184","v":0},{"$f":"'Dir1'!AI184+'Dir2'!AI184","v":0},{"$f":"'Dir1'!AJ184+'Dir2'!AJ184","v":0},{"$f":"'Dir1'!AK184+'Dir2'!AK184","v":0},{"$f":"'Dir1'!AL184+'Dir2'!AL184","v":0},{"$f":"IFERROR(ROUND(AVERAGE(_xlfn._xlws.FILTER(Data_Table[Speed],(Data_Table[Period]-INT(Data_Table[Period])=B184)*(Data_Table[Weekday]<6))),2),\"-\")","v":"-"},{"$f":"IFERROR(ROUND(PERCENTILE(_xlfn._xlws.FILTER(Data_Table[Speed],(Data_Table[Period]-INT(Data_Table[Period])=B184)*(Data_Table[Weekday]<6)*(SUM(C184:N184)>=10)),0.85),2),\"-\")","v":"-"}]
[null,"13:00:00",{"$f":"'Dir1'!C185+'Dir2'!C185","v":0},{"$f":"'Dir1'!D185+'Dir2'!D185","v":0},{"$f":"'Dir1'!E185+'Dir2'!E185","v":0},{"$f":"'Dir1'!F185+'Dir2'!F185","v":0},{"$f":"'Dir1'!G185+'Dir2'!G185","v":0},{"$f":"'Dir1'!H185+'Dir2'!H185","v":0},{"$f":"'Dir1'!I185+'Dir2'!I185","v":0},{"$f":"'Dir1'!J185+'Dir2'!J185","v":0},{"$f":"'Dir1'!K185+'Dir2'!K185","v":0},{"$f":"'Dir1'!L185+'Dir2'!L185","v":0},{"$f":"'Dir1'!M185+'Dir2'!M185","v":0},{"$f":"'Dir1'!N185+'Dir2'!N185","v":0},{"$f":"'Dir1'!O185+'Dir2'!O185","v":0},{"$f":"'Dir1'!P185+'Dir2'!N185","v":0},{"$f":"'Dir1'!Q185+'Dir2'!O185","v":0},{"$f":"'Dir1'!R185+'Dir2'!R185","v":0},{"$f":"'Dir1'!S185+'Dir2'!S185","v":0},{"$f":"'Dir1'!T185+'Dir2'!T185","v":0},{"$f":"'Dir1'!U185+'Dir2'!U185","v":0},{"$f":"'Dir1'!V185+'Dir2'!V185","v":0},{"$f":"'Dir1'!W185+'Dir2'!W185","v":0},{"$f":"'Dir1'!X185+'Dir2'!X185","v":0},{"$f":"'Dir1'!Y185+'Dir2'!Y185","v":0},{"$f":"'Dir1'!Z185+'Dir2'!Z185","v":0},{"$f":"'Dir1'!AA185+'Dir2'!AA185","v":0},{"$f":"'Dir1'!AB185+'Dir2'!AB185","v":0},{"$f":"'Dir1'!AC185+'Dir2'!AC185","v":0},{"$f":"'Dir1'!AD185+'Dir2'!AD185","v":0},{"$f":"'Dir1'!AE185+'Dir2'!AE185","v":0},{"$f":"'Dir1'!AF185+'Dir2'!AF185","v":0},{"$f":"'Dir1'!AG185+'Dir2'!AG185","v":0},{"$f":"'Dir1'!AH185+'Dir2'!AH185","v":0},{"$f":"'Dir1'!AI185+'Dir2'!AI185","v":0},{"$f":"'Dir1'!AJ185+'Dir2'!AJ185","v":0},{"$f":"'Dir1'!AK185+'Dir2'!AK185","v":0},{"$f":"'Dir1'!AL185+'Dir2'!AL185","v":0},{"$f":"IFERROR(ROUND(AVERAGE(_xlfn._xlws.FILTER(Data_Table[Speed],(Data_Table[Period]-INT(Data_Table[Period])=B185)*(Data_Table[Weekday]<6))),2),\"-\")","v":"-"},{"$f":"IFERROR(ROUND(PERCENTILE(_xlfn._xlws.FILTER(Data_Table[Speed],(Data_Table[Period]-INT(Data_Table[Period])=B185)*(Data_Table[Weekday]<6)*(SUM(C185:N185)>=10)),0.85),2),\"-\")","v":"-"}]
[null,"14:00:00",{"$f":"'Dir1'!C186+'Dir2'!C186","v":0},{"$f":"'Dir1'!D186+'Dir2'!D186","v":0},{"$f":"'Dir1'!E186+'Dir2'!E186","v":0},{"$f":"'Dir1'!F186+'Dir2'!F186","v":0},{"$f":"'Dir1'!G186+'Dir2'!G186","v":0},{"$f":"'Dir1'!H186+'Dir2'!H186","v":0},{"$f":"'Dir1'!I186+'Dir2'!I186","v":0},{"$f":"'Dir1'!J186+'Dir2'!J186","v":0},{"$f":"'Dir1'!K186+'Dir2'!K186","v":0},{"$f":"'Dir1'!L186+'Dir2'!L186","v":0},{"$f":"'Dir1'!M186+'Dir2'!M186","v":0},{"$f":"'Dir1'!N186+'Dir2'!N186","v":0},{"$f":"'Dir1'!O186+'Dir2'!O186","v":0},{"$f":"'Dir1'!P186+'Dir2'!N186","v":0},{"$f":"'Dir1'!Q186+'Dir2'!O186","v":0},{"$f":"'Dir1'!R186+'Dir2'!R186","v":0},{"$f":"'Dir1'!S186+'Dir2'!S186","v":0},{"$f":"'Dir1'!T186+'Dir2'!T186","v":0},{"$f":"'Dir1'!U186+'Dir2'!U186","v":0},{"$f":"'Dir1'!V186+'Dir2'!V186","v":0},{"$f":"'Dir1'!W186+'Dir2'!W186","v":0},{"$f":"'Dir1'!X186+'Dir2'!X186","v":0},{"$f":"'Dir1'!Y186+'Dir2'!Y186","v":0},{"$f":"'Dir1'!Z186+'Dir2'!Z186","v":0},{"$f":"'Dir1'!AA186+'Dir2'!AA186","v":0},{"$f":"'Dir1'!AB186+'Dir2'!AB186","v":0},{"$f":"'Dir1'!AC186+'Dir2'!AC186","v":0},{"$f":"'Dir1'!AD186+'Dir2'!AD186","v":0},{"$f":"'Dir1'!AE186+'Dir2'!AE186","v":0},{"$f":"'Dir1'!AF186+'Dir2'!AF186","v":0},{"$f":"'Dir1'!AG186+'Dir2'!AG186","v":0},{"$f":"'Dir1'!AH186+'Dir2'!AH186","v":0},{"$f":"'Dir1'!AI186+'Dir2'!AI186","v":0},{"$f":"'Dir1'!AJ186+'Dir2'!AJ186","v":0},{"$f":"'Dir1'!AK186+'Dir2'!AK186","v":0},{"$f":"'Dir1'!AL186+'Dir2'!AL186","v":0},{"$f":"IFERROR(ROUND(AVERAGE(_xlfn._xlws.FILTER(Data_Table[Speed],(Data_Table[Period]-INT(Data_Table[Period])=B186)*(Data_Table[Weekday]<6))),2),\"-\")","v":"-"},{"$f":"IFERROR(ROUND(PERCENTILE(_xlfn._xlws.FILTER(Data_Table[Speed],(Data_Table[Period]-INT(Data_Table[Period])=B186)*(Data_Table[Weekday]<6)*(SUM(C186:N186)>=10)),0.85),2),\"-\")","v":"-"}]
[null,"15:00:00",{"$f":"'Dir1'!C187+'Dir2'!C187","v":0},{"$f":"'Dir1'!D187+'Dir2'!D187","v":0},{"$f":"'Dir1'!E187+'Dir2'!E187","v":0},{"$f":"'Dir1'!F187+'Dir2'!F187","v":0},{"$f":"'Dir1'!G187+'Dir2'!G187","v":0},{"$f":"'Dir1'!H187+'Dir2'!H187","v":0},{"$f":"'Dir1'!I187+'Dir2'!I187","v":0},{"$f":"'Dir1'!J187+'Dir2'!J187","v":0},{"$f":"'Dir1'!K187+'Dir2'!K187","v":0},{"$f":"'Dir1'!L187+'Dir2'!L187","v":0},{"$f":"'Dir1'!M187+'Dir2'!M187","v":0},{"$f":"'Dir1'!N187+'Dir2'!N187","v":0},{"$f":"'Dir1'!O187+'Dir2'!O187","v":0},{"$f":"'Dir1'!P187+'Dir2'!N187","v":0},{"$f":"'Dir1'!Q187+'Dir2'!O187","v":0},{"$f":"'Dir1'!R187+'Dir2'!R187","v":0},{"$f":"'Dir1'!S187+'Dir2'!S187","v":0},{"$f":"'Dir1'!T187+'Dir2'!T187","v":0},{"$f":"'Dir1'!U187+'Dir2'!U187","v":0},{"$f":"'Dir1'!V187+'Dir2'!V187","v":0},{"$f":"'Dir1'!W187+'Dir2'!W187","v":0},{"$f":"'Dir1'!X187+'Dir2'!X187","v":0},{"$f":"'Dir1'!Y187+'Dir2'!Y187","v":0},{"$f":"'Dir1'!Z187+'Dir2'!Z187","v":0},{"$f":"'Dir1'!AA187+'Dir2'!AA187","v":0},{"$f":"'Dir1'!AB187+'Dir2'!AB187","v":0},{"$f":"'Dir1'!AC187+'Dir2'!AC187","v":0},{"$f":"'Dir1'!AD187+'Dir2'!AD187","v":0},{"$f":"'Dir1'!AE187+'Dir2'!AE187","v":0},{"$f":"'Dir1'!AF187+'Dir2'!AF187","v":0},{"$f":"'Dir1'!AG187+'Dir2'!AG187","v":0},{"$f":"'Dir1'!AH187+'Dir2'!AH187","v":0},{"$f":"'Dir1'!AI187+'Dir2'!AI187","v":0},{"$f":"'Dir1'!AJ187+'Dir2'!AJ187","v":0},{"$f":"'Dir1'!AK187+'Dir2'!AK187","v":0},{"$f":"'Dir1'!AL187+'Dir2'!AL187","v":0},{"$f":"IFERROR(ROUND(AVERAGE(_xlfn._xlws.FILTER(Data_Table[Speed],(Data_Table[Period]-INT(Data_Table[Period])=B187)*(Data_Table[Weekday]<6))),2),\"-\")","v":"-"},{"$f":"IFERROR(ROUND(PERCENTILE(_xlfn._xlws.FILTER(Data_Table[Speed],(Data_Table[Period]-INT(Data_Table[Period])=B187)*(Data_Table[Weekday]<6)*(SUM(C187:N187)>=10)),0.85),2),\"-\")","v":"-"}]
[null,"16:00:00",{"$f":"'Dir1'!C188+'Dir2'!C188","v":0},{"$f":"'Dir1'!D188+'Dir2'!D188","v":0},{"$f":"'Dir1'!E188+'Dir2'!E188","v":0},{"$f":"'Dir1'!F188+'Dir2'!F188","v":0},{"$f":"'Dir1'!G188+'Dir2'!G188","v":0},{"$f":"'Dir1'!H188+'Dir2'!H188","v":0},{"$f":"'Dir1'!I188+'Dir2'!I188","v":0},{"$f":"'Dir1'!J188+'Dir2'!J188","v":0},{"$f":"'Dir1'!K188+'Dir2'!K188","v":0},{"$f":"'Dir1'!L188+'Dir2'!L188","v":0},{"$f":"'Dir1'!M188+'Dir2'!M188","v":0},{"$f":"'Dir1'!N188+'Dir2'!N188","v":0},{"$f":"'Dir1'!O188+'Dir2'!O188","v":0},{"$f":"'Dir1'!P188+'Dir2'!N188","v":0},{"$f":"'Dir1'!Q188+'Dir2'!O188","v":0},{"$f":"'Dir1'!R188+'Dir2'!R188","v":0},{"$f":"'Dir1'!S188+'Dir2'!S188","v":0},{"$f":"'Dir1'!T188+'Dir2'!T188","v":0},{"$f":"'Dir1'!U188+'Dir2'!U188","v":0},{"$f":"'Dir1'!V188+'Dir2'!V188","v":0},{"$f":"'Dir1'!W188+'Dir2'!W188","v":0},{"$f":"'Dir1'!X188+'Dir2'!X188","v":0},{"$f":"'Dir1'!Y188+'Dir2'!Y188","v":0},{"$f":"'Dir1'!Z188+'Dir2'!Z188","v":0},{"$f":"'Dir1'!AA188+'Dir2'!AA188","v":0},{"$f":"'Dir1'!AB188+'Dir2'!AB188","v":0},{"$f":"'Dir1'!AC188+'Dir2'!AC188","v":0},{"$f":"'Dir1'!AD188+'Dir2'!AD188","v":0},{"$f":"'Dir1'!AE188+'Dir2'!AE188","v":0},{"$f":"'Dir1'!AF188+'Dir2'!AF188","v":0},{"$f":"'Dir1'!AG188+'Dir2'!AG188","v":0},{"$f":"'Dir1'!AH188+'Dir2'!AH188","v":0},{"$f":"'Dir1'!AI188+'Dir2'!AI188","v":0},{"$f":"'Dir1'!AJ188+'Dir2'!AJ188","v":0},{"$f":"'Dir1'!AK188+'Dir2'!AK188","v":0},{"$f":"'Dir1'!AL188+'Dir2'!AL188","v":0},{"$f":"IFERROR(ROUND(AVERAGE(_xlfn._xlws.FILTER(Data_Table[Speed],(Data_Table[Period]-INT(Data_Table[Period])=B188)*(Data_Table[Weekday]<6))),2),\"-\")","v":"-"},{"$f":"IFERROR(ROUND(PERCENTILE(_xlfn._xlws.FILTER(Data_Table[Speed],(Data_Table[Period]-INT(Data_Table[Period])=B188)*(Data_Table[Weekday]<6)*(SUM(C188:N188)>=10)),0.85),2),\"-\")","v":"-"}]
[null,"17:00:00",{"$f":"'Dir1'!C189+'Dir2'!C189","v":0},{"$f":"'Dir1'!D189+'Dir2'!D189","v":0},{"$f":"'Dir1'!E189+'Dir2'!E189","v":0},{"$f":"'Dir1'!F189+'Dir2'!F189","v":0},{"$f":"'Dir1'!G189+'Dir2'!G189","v":0},{"$f":"'Dir1'!H189+'Dir2'!H189","v":0},{"$f":"'Dir1'!I189+'Dir2'!I189","v":0},{"$f":"'Dir1'!J189+'Dir2'!J189","v":0},{"$f":"'Dir1'!K189+'Dir2'!K189","v":0},{"$f":"'Dir1'!L189+'Dir2'!L189","v":0},{"$f":"'Dir1'!M189+'Dir2'!M189","v":0},{"$f":"'Dir1'!N189+'Dir2'!N189","v":0},{"$f":"'Dir1'!O189+'Dir2'!O189","v":0},{"$f":"'Dir1'!P189+'Dir2'!N189","v":0},{"$f":"'Dir1'!Q189+'Dir2'!O189","v":0},{"$f":"'Dir1'!R189+'Dir2'!R189","v":0},{"$f":"'Dir1'!S189+'Dir2'!S189","v":0},{"$f":"'Dir1'!T189+'Dir2'!T189","v":0},{"$f":"'Dir1'!U189+'Dir2'!U189","v":0},{"$f":"'Dir1'!V189+'Dir2'!V189","v":0},{"$f":"'Dir1'!W189+'Dir2'!W189","v":0},{"$f":"'Dir1'!X189+'Dir2'!X189","v":0},{"$f":"'Dir1'!Y189+'Dir2'!Y189","v":0},{"$f":"'Dir1'!Z189+'Dir2'!Z189","v":0},{"$f":"'Dir1'!AA189+'Dir2'!AA189","v":0},{"$f":"'Dir1'!AB189+'Dir2'!AB189","v":0},{"$f":"'Dir1'!AC189+'Dir2'!AC189","v":0},{"$f":"'Dir1'!AD189+'Dir2'!AD189","v":0},{"$f":"'Dir1'!AE189+'Dir2'!AE189","v":0},{"$f":"'Dir1'!AF189+'Dir2'!AF189","v":0},{"$f":"'Dir1'!AG189+'Dir2'!AG189","v":0},{"$f":"'Dir1'!AH189+'Dir2'!AH189","v":0},{"$f":"'Dir1'!AI189+'Dir2'!AI189","v":0},{"$f":"'Dir1'!AJ189+'Dir2'!AJ189","v":0},{"$f":"'Dir1'!AK189+'Dir2'!AK189","v":0},{"$f":"'Dir1'!AL189+'Dir2'!AL189","v":0},{"$f":"IFERROR(ROUND(AVERAGE(_xlfn._xlws.FILTER(Data_Table[Speed],(Data_Table[Period]-INT(Data_Table[Period])=B189)*(Data_Table[Weekday]<6))),2),\"-\")","v":"-"},{"$f":"IFERROR(ROUND(PERCENTILE(_xlfn._xlws.FILTER(Data_Table[Speed],(Data_Table[Period]-INT(Data_Table[Period])=B189)*(Data_Table[Weekday]<6)*(SUM(C189:N189)>=10)),0.85),2),\"-\")","v":"-"}]
[null,"18:00:00",{"$f":"'Dir1'!C190+'Dir2'!C190","v":0},{"$f":"'Dir1'!D190+'Dir2'!D190","v":0},{"$f":"'Dir1'!E190+'Dir2'!E190","v":0},{"$f":"'Dir1'!F190+'Dir2'!F190","v":0},{"$f":"'Dir1'!G190+'Dir2'!G190","v":0},{"$f":"'Dir1'!H190+'Dir2'!H190","v":0},{"$f":"'Dir1'!I190+'Dir2'!I190","v":0},{"$f":"'Dir1'!J190+'Dir2'!J190","v":0},{"$f":"'Dir1'!K190+'Dir2'!K190","v":0},{"$f":"'Dir1'!L190+'Dir2'!L190","v":0},{"$f":"'Dir1'!M190+'Dir2'!M190","v":0},{"$f":"'Dir1'!N190+'Dir2'!N190","v":0},{"$f":"'Dir1'!O190+'Dir2'!O190","v":0},{"$f":"'Dir1'!P190+'Dir2'!N190","v":0},{"$f":"'Dir1'!Q190+'Dir2'!O190","v":0},{"$f":"'Dir1'!R190+'Dir2'!R190","v":0},{"$f":"'Dir1'!S190+'Dir2'!S190","v":0},{"$f":"'Dir1'!T190+'Dir2'!T190","v":0},{"$f":"'Dir1'!U190+'Dir2'!U190","v":0},{"$f":"'Dir1'!V190+'Dir2'!V190","v":0},{"$f":"'Dir1'!W190+'Dir2'!W190","v":0},{"$f":"'Dir1'!X190+'Dir2'!X190","v":0},{"$f":"'Dir1'!Y190+'Dir2'!Y190","v":0},{"$f":"'Dir1'!Z190+'Dir2'!Z190","v":0},{"$f":"'Dir1'!AA190+'Dir2'!AA190","v":0},{"$f":"'Dir1'!AB190+'Dir2'!AB190","v":0},{"$f":"'Dir1'!AC190+'Dir2'!AC190","v":0},{"$f":"'Dir1'!AD190+'Dir2'!AD190","v":0},{"$f":"'Dir1'!AE190+'Dir2'!AE190","v":0},{"$f":"'Dir1'!AF190+'Dir2'!AF190","v":0},{"$f":"'Dir1'!AG190+'Dir2'!AG190","v":0},{"$f":"'Dir1'!AH190+'Dir2'!AH190","v":0},{"$f":"'Dir1'!AI190+'Dir2'!AI190","v":0},{"$f":"'Dir1'!AJ190+'Dir2'!AJ190","v":0},{"$f":"'Dir1'!AK190+'Dir2'!AK190","v":0},{"$f":"'Dir1'!AL190+'Dir2'!AL190","v":0},{"$f":"IFERROR(ROUND(AVERAGE(_xlfn._xlws.FILTER(Data_Table[Speed],(Data_Table[Period]-INT(Data_Table[Period])=B190)*(Data_Table[Weekday]<6))),2),\"-\")","v":"-"},{"$f":"IFERROR(ROUND(PERCENTILE(_xlfn._xlws.FILTER(Data_Table[Speed],(Data_Table[Period]-INT(Data_Table[Period])=B190)*(Data_Table[Weekday]<6)*(SUM(C190:N190)>=10)),0.85),2),\"-\")","v":"-"}]
[null,"19:00:00",{"$f":"'Dir1'!C191+'Dir2'!C191","v":0},{"$f":"'Dir1'!D191+'Dir2'!D191","v":0},{"$f":"'Dir1'!E191+'Dir2'!E191","v":0},{"$f":"'Dir1'!F191+'Dir2'!F191","v":0},{"$f":"'Dir1'!G191+'Dir2'!G191","v":0},{"$f":"'Dir1'!H191+'Dir2'!H191","v":0},{"$f":"'Dir1'!I191+'Dir2'!I191","v":0},{"$f":"'Dir1'!J191+'Dir2'!J191","v":0},{"$f":"'Dir1'!K191+'Dir2'!K191","v":0},{"$f":"'Dir1'!L191+'Dir2'!L191","v":0},{"$f":"'Dir1'!M191+'Dir2'!M191","v":0},{"$f":"'Dir1'!N191+'Dir2'!N191","v":0},{"$f":"'Dir1'!O191+'Dir2'!O191","v":0},{"$f":"'Dir1'!P191+'Dir2'!N191","v":0},{"$f":"'Dir1'!Q191+'Dir2'!O191","v":0},{"$f":"'Dir1'!R191+'Dir2'!R191","v":0},{"$f":"'Dir1'!S191+'Dir2'!S191","v":0},{"$f":"'Dir1'!T191+'Dir2'!T191","v":0},{"$f":"'Dir1'!U191+'Dir2'!U191","v":0},{"$f":"'Dir1'!V191+'Dir2'!V191","v":0},{"$f":"'Dir1'!W191+'Dir2'!W191","v":0},{"$f":"'Dir1'!X191+'Dir2'!X191","v":0},{"$f":"'Dir1'!Y191+'Dir2'!Y191","v":0},{"$f":"'Dir1'!Z191+'Dir2'!Z191","v":0},{"$f":"'Dir1'!AA191+'Dir2'!AA191","v":0},{"$f":"'Dir1'!AB191+'Dir2'!AB191","v":0},{"$f":"'Dir1'!AC191+'Dir2'!AC191","v":0},{"$f":"'Dir1'!AD191+'Dir2'!AD191","v":0},{"$f":"'Dir1'!AE191+'Dir2'!AE191","v":0},{"$f":"'Dir1'!AF191+'Dir2'!AF191","v":0},{"$f":"'Dir1'!AG191+'Dir2'!AG191","v":0},{"$f":"'Dir1'!AH191+'Dir2'!AH191","v":0},{"$f":"'Dir1'!AI191+'Dir2'!AI191","v":0},{"$f":"'Dir1'!AJ191+'Dir2'!AJ191","v":0},{"$f":"'Dir1'!AK191+'Dir2'!AK191","v":0},{"$f":"'Dir1'!AL191+'Dir2'!AL191","v":0},{"$f":"IFERROR(ROUND(AVERAGE(_xlfn._xlws.FILTER(Data_Table[Speed],(Data_Table[Period]-INT(Data_Table[Period])=B191)*(Data_Table[Weekday]<6))),2),\"-\")","v":"-"},{"$f":"IFERROR(ROUND(PERCENTILE(_xlfn._xlws.FILTER(Data_Table[Speed],(Data_Table[Period]-INT(Data_Table[Period])=B191)*(Data_Table[Weekday]<6)*(SUM(C191:N191)>=10)),0.85),2),\"-\")","v":"-"}]
[null,"20:00:00",{"$f":"'Dir1'!C192+'Dir2'!C192","v":0},{"$f":"'Dir1'!D192+'Dir2'!D192","v":0},{"$f":"'Dir1'!E192+'Dir2'!E192","v":0},{"$f":"'Dir1'!F192+'Dir2'!F192","v":0},{"$f":"'Dir1'!G192+'Dir2'!G192","v":0},{"$f":"'Dir1'!H192+'Dir2'!H192","v":0},{"$f":"'Dir1'!I192+'Dir2'!I192","v":0},{"$f":"'Dir1'!J192+'Dir2'!J192","v":0},{"$f":"'Dir1'!K192+'Dir2'!K192","v":0},{"$f":"'Dir1'!L192+'Dir2'!L192","v":0},{"$f":"'Dir1'!M192+'Dir2'!M192","v":0},{"$f":"'Dir1'!N192+'Dir2'!N192","v":0},{"$f":"'Dir1'!O192+'Dir2'!O192","v":0},{"$f":"'Dir1'!P192+'Dir2'!N192","v":0},{"$f":"'Dir1'!Q192+'Dir2'!O192","v":0},{"$f":"'Dir1'!R192+'Dir2'!R192","v":0},{"$f":"'Dir1'!S192+'Dir2'!S192","v":0},{"$f":"'Dir1'!T192+'Dir2'!T192","v":0},{"$f":"'Dir1'!U192+'Dir2'!U192","v":0},{"$f":"'Dir1'!V192+'Dir2'!V192","v":0},{"$f":"'Dir1'!W192+'Dir2'!W192","v":0},{"$f":"'Dir1'!X192+'Dir2'!X192","v":0},{"$f":"'Dir1'!Y192+'Dir2'!Y192","v":0},{"$f":"'Dir1'!Z192+'Dir2'!Z192","v":0},{"$f":"'Dir1'!AA192+'Dir2'!AA192","v":0},{"$f":"'Dir1'!AB192+'Dir2'!AB192","v":0},{"$f":"'Dir1'!AC192+'Dir2'!AC192","v":0},{"$f":"'Dir1'!AD192+'Dir2'!AD192","v":0},{"$f":"'Dir1'!AE192+'Dir2'!AE192","v":0},{"$f":"'Dir1'!AF192+'Dir2'!AF192","v":0},{"$f":"'Dir1'!AG192+'Dir2'!AG192","v":0},{"$f":"'Dir1'!AH192+'Dir2'!AH192","v":0},{"$f":"'Dir1'!AI192+'Dir2'!AI192","v":0},{"$f":"'Dir1'!AJ192+'Dir2'!AJ192","v":0},{"$f":"'Dir1'!AK192+'Dir2'!AK192","v":0},{"$f":"'Dir1'!AL192+'Dir2'!AL192","v":0},{"$f":"IFERROR(ROUND(AVERAGE(_xlfn._xlws.FILTER(Data_Table[Speed],(Data_Table[Period]-INT(Data_Table[Period])=B192)*(Data_Table[Weekday]<6))),2),\"-\")","v":"-"},{"$f":"IFERROR(ROUND(PERCENTILE(_xlfn._xlws.FILTER(Data_Table[Speed],(Data_Table[Period]-INT(Data_Table[Period])=B192)*(Data_Table[Weekday]<6)*(SUM(C192:N192)>=10)),0.85),2),\"-\")","v":"-"}]
[null,"21:00:00",{"$f":"'Dir1'!C193+'Dir2'!C193","v":0},{"$f":"'Dir1'!D193+'Dir2'!D193","v":0},{"$f":"'Dir1'!E193+'Dir2'!E193","v":0},{"$f":"'Dir1'!F193+'Dir2'!F193","v":0},{"$f":"'Dir1'!G193+'Dir2'!G193","v":0},{"$f":"'Dir1'!H193+'Dir2'!H193","v":0},{"$f":"'Dir1'!I193+'Dir2'!I193","v":0},{"$f":"'Dir1'!J193+'Dir2'!J193","v":0},{"$f":"'Dir1'!K193+'Dir2'!K193","v":0},{"$f":"'Dir1'!L193+'Dir2'!L193","v":0},{"$f":"'Dir1'!M193+'Dir2'!M193","v":0},{"$f":"'Dir1'!N193+'Dir2'!N193","v":0},{"$f":"'Dir1'!O193+'Dir2'!O193","v":0},{"$f":"'Dir1'!P193+'Dir2'!N193","v":0},{"$f":"'Dir1'!Q193+'Dir2'!O193","v":0},{"$f":"'Dir1'!R193+'Dir2'!R193","v":0},{"$f":"'Dir1'!S193+'Dir2'!S193","v":0},{"$f":"'Dir1'!T193+'Dir2'!T193","v":0},{"$f":"'Dir1'!U193+'Dir2'!U193","v":0},{"$f":"'Dir1'!V193+'Dir2'!V193","v":0},{"$f":"'Dir1'!W193+'Dir2'!W193","v":0},{"$f":"'Dir1'!X193+'Dir2'!X193","v":0},{"$f":"'Dir1'!Y193+'Dir2'!Y193","v":0},{"$f":"'Dir1'!Z193+'Dir2'!Z193","v":0},{"$f":"'Dir1'!AA193+'Dir2'!AA193","v":0},{"$f":"'Dir1'!AB193+'Dir2'!AB193","v":0},{"$f":"'Dir1'!AC193+'Dir2'!AC193","v":0},{"$f":"'Dir1'!AD193+'Dir2'!AD193","v":0},{"$f":"'Dir1'!AE193+'Dir2'!AE193","v":0},{"$f":"'Dir1'!AF193+'Dir2'!AF193","v":0},{"$f":"'Dir1'!AG193+'Dir2'!AG193","v":0},{"$f":"'Dir1'!AH193+'Dir2'!AH193","v":0},{"$f":"'Dir1'!AI193+'Dir2'!AI193","v":0},{"$f":"'Dir1'!AJ193+'Dir2'!AJ193","v":0},{"$f":"'Dir1'!AK193+'Dir2'!AK193","v":0},{"$f":"'Dir1'!AL193+'Dir2'!AL193","v":0},{"$f":"IFERROR(ROUND(AVERAGE(_xlfn._xlws.FILTER(Data_Table[Speed],(Data_Table[Period]-INT(Data_Table[Period])=B193)*(Data_Table[Weekday]<6))),2),\"-\")","v":"-"},{"$f":"IFERROR(ROUND(PERCENTILE(_xlfn._xlws.FILTER(Data_Table[Speed],(Data_Table[Period]-INT(Data_Table[Period])=B193)*(Data_Table[Weekday]<6)*(SUM(C193:N193)>=10)),0.85),2),\"-\")","v":"-"}]
[null,"22:00:00",{"$f":"'Dir1'!C194+'Dir2'!C194","v":0},{"$f":"'Dir1'!D194+'Dir2'!D194","v":0},{"$f":"'Dir1'!E194+'Dir2'!E194","v":0},{"$f":"'Dir1'!F194+'Dir2'!F194","v":0},{"$f":"'Dir1'!G194+'Dir2'!G194","v":0},{"$f":"'Dir1'!H194+'Dir2'!H194","v":0},{"$f":"'Dir1'!I194+'Dir2'!I194","v":0},{"$f":"'Dir1'!J194+'Dir2'!J194","v":0},{"$f":"'Dir1'!K194+'Dir2'!K194","v":0},{"$f":"'Dir1'!L194+'Dir2'!L194","v":0},{"$f":"'Dir1'!M194+'Dir2'!M194","v":0},{"$f":"'Dir1'!N194+'Dir2'!N194","v":0},{"$f":"'Dir1'!O194+'Dir2'!O194","v":0},{"$f":"'Dir1'!P194+'Dir2'!N194","v":0},{"$f":"'Dir1'!Q194+'Dir2'!O194","v":0},{"$f":"'Dir1'!R194+'Dir2'!R194","v":0},{"$f":"'Dir1'!S194+'Dir2'!S194","v":0},{"$f":"'Dir1'!T194+'Dir2'!T194","v":0},{"$f":"'Dir1'!U194+'Dir2'!U194","v":0},{"$f":"'Dir1'!V194+'Dir2'!V194","v":0},{"$f":"'Dir1'!W194+'Dir2'!W194","v":0},{"$f":"'Dir1'!X194+'Dir2'!X194","v":0},{"$f":"'Dir1'!Y194+'Dir2'!Y194","v":0},{"$f":"'Dir1'!Z194+'Dir2'!Z194","v":0},{"$f":"'Dir1'!AA194+'Dir2'!AA194","v":0},{"$f":"'Dir1'!AB194+'Dir2'!AB194","v":0},{"$f":"'Dir1'!AC194+'Dir2'!AC194","v":0},{"$f":"'Dir1'!AD194+'Dir2'!AD194","v":0},{"$f":"'Dir1'!AE194+'Dir2'!AE194","v":0},{"$f":"'Dir1'!AF194+'Dir2'!AF194","v":0},{"$f":"'Dir1'!AG194+'Dir2'!AG194","v":0},{"$f":"'Dir1'!AH194+'Dir2'!AH194","v":0},{"$f":"'Dir1'!AI194+'Dir2'!AI194","v":0},{"$f":"'Dir1'!AJ194+'Dir2'!AJ194","v":0},{"$f":"'Dir1'!AK194+'Dir2'!AK194","v":0},{"$f":"'Dir1'!AL194+'Dir2'!AL194","v":0},{"$f":"IFERROR(ROUND(AVERAGE(_xlfn._xlws.FILTER(Data_Table[Speed],(Data_Table[Period]-INT(Data_Table[Period])=B194)*(Data_Table[Weekday]<6))),2),\"-\")","v":"-"},{"$f":"IFERROR(ROUND(PERCENTILE(_xlfn._xlws.FILTER(Data_Table[Speed],(Data_Table[Period]-INT(Data_Table[Period])=B194)*(Data_Table[Weekday]<6)*(SUM(C194:N194)>=10)),0.85),2),\"-\")","v":"-"}]
[null,"23:00:00",{"$f":"'Dir1'!C195+'Dir2'!C195","v":0},{"$f":"'Dir1'!D195+'Dir2'!D195","v":0},{"$f":"'Dir1'!E195+'Dir2'!E195","v":0},{"$f":"'Dir1'!F195+'Dir2'!F195","v":0},{"$f":"'Dir1'!G195+'Dir2'!G195","v":0},{"$f":"'Dir1'!H195+'Dir2'!H195","v":0},{"$f":"'Dir1'!I195+'Dir2'!I195","v":0},{"$f":"'Dir1'!J195+'Dir2'!J195","v":0},{"$f":"'Dir1'!K195+'Dir2'!K195","v":0},{"$f":"'Dir1'!L195+'Dir2'!L195","v":0},{"$f":"'Dir1'!M195+'Dir2'!M195","v":0},{"$f":"'Dir1'!N195+'Dir2'!N195","v":0},{"$f":"'Dir1'!O195+'Dir2'!O195","v":0},{"$f":"'Dir1'!P195+'Dir2'!N195","v":0},{"$f":"'Dir1'!Q195+'Dir2'!O195","v":0},{"$f":"'Dir1'!R195+'Dir2'!R195","v":0},{"$f":"'Dir1'!S195+'Dir2'!S195","v":0},{"$f":"'Dir1'!T195+'Dir2'!T195","v":0},{"$f":"'Dir1'!U195+'Dir2'!U195","v":0},{"$f":"'Dir1'!V195+'Dir2'!V195","v":0},{"$f":"'Dir1'!W195+'Dir2'!W195","v":0},{"$f":"'Dir1'!X195+'Dir2'!X195","v":0},{"$f":"'Dir1'!Y195+'Dir2'!Y195","v":0},{"$f":"'Dir1'!Z195+'Dir2'!Z195","v":0},{"$f":"'Dir1'!AA195+'Dir2'!AA195","v":0},{"$f":"'Dir1'!AB195+'Dir2'!AB195","v":0},{"$f":"'Dir1'!AC195+'Dir2'!AC195","v":0},{"$f":"'Dir1'!AD195+'Dir2'!AD195","v":0},{"$f":"'Dir1'!AE195+'Dir2'!AE195","v":0},{"$f":"'Dir1'!AF195+'Dir2'!AF195","v":0},{"$f":"'Dir1'!AG195+'Dir2'!AG195","v":0},{"$f":"'Dir1'!AH195+'Dir2'!AH195","v":0},{"$f":"'Dir1'!AI195+'Dir2'!AI195","v":0},{"$f":"'Dir1'!AJ195+'Dir2'!AJ195","v":0},{"$f":"'Dir1'!AK195+'Dir2'!AK195","v":0},{"$f":"'Dir1'!AL195+'Dir2'!AL195","v":0},{"$f":"IFERROR(ROUND(AVERAGE(_xlfn._xlws.FILTER(Data_Table[Speed],(Data_Table[Period]-INT(Data_Table[Period])=B195)*(Data_Table[Weekday]<6))),2),\"-\")","v":"-"},{"$f":"IFERROR(ROUND(PERCENTILE(_xlfn._xlws.FILTER(Data_Table[Speed],(Data_Table[Period]-INT(Data_Table[Period])=B195)*(Data_Table[Weekday]<6)*(SUM(C195:N195)>=10)),0.85),2),\"-\")","v":"-"}]
[null,"00:00:00",{"$f":"'Dir1'!C196+'Dir2'!C196","v":0},{"$f":"'Dir1'!D196+'Dir2'!D196","v":0},{"$f":"'Dir1'!E196+'Dir2'!E196","v":0},{"$f":"'Dir1'!F196+'Dir2'!F196","v":0},{"$f":"'Dir1'!G196+'Dir2'!G196","v":0},{"$f":"'Dir1'!H196+'Dir2'!H196","v":0},{"$f":"'Dir1'!I196+'Dir2'!I196","v":0},{"$f":"'Dir1'!J196+'Dir2'!J196","v":0},{"$f":"'Dir1'!K196+'Dir2'!K196","v":0},{"$f":"'Dir1'!L196+'Dir2'!L196","v":0},{"$f":"'Dir1'!M196+'Dir2'!M196","v":0},{"$f":"'Dir1'!N196+'Dir2'!N196","v":0},{"$f":"'Dir1'!O196+'Dir2'!O196","v":0},{"$f":"'Dir1'!P196+'Dir2'!N196","v":0},{"$f":"'Dir1'!Q196+'Dir2'!O196","v":0},{"$f":"'Dir1'!R196+'Dir2'!R196","v":0},{"$f":"'Dir1'!S196+'Dir2'!S196","v":0},{"$f":"'Dir1'!T196+'Dir2'!T196","v":0},{"$f":"'Dir1'!U196+'Dir2'!U196","v":0},{"$f":"'Dir1'!V196+'Dir2'!V196","v":0},{"$f":"'Dir1'!W196+'Dir2'!W196","v":0},{"$f":"'Dir1'!X196+'Dir2'!X196","v":0},{"$f":"'Dir1'!Y196+'Dir2'!Y196","v":0},{"$f":"'Dir1'!Z196+'Dir2'!Z196","v":0},{"$f":"'Dir1'!AA196+'Dir2'!AA196","v":0},{"$f":"'Dir1'!AB196+'Dir2'!AB196","v":0},{"$f":"'Dir1'!AC196+'Dir2'!AC196","v":0},{"$f":"'Dir1'!AD196+'Dir2'!AD196","v":0},{"$f":"'Dir1'!AE196+'Dir2'!AE196","v":0},{"$f":"'Dir1'!AF196+'Dir2'!AF196","v":0},{"$f":"'Dir1'!AG196+'Dir2'!AG196","v":0},{"$f":"'Dir1'!AH196+'Dir2'!AH196","v":0},{"$f":"'Dir1'!AI196+'Dir2'!AI196","v":0},{"$f":"'Dir1'!AJ196+'Dir2'!AJ196","v":0},{"$f":"'Dir1'!AK196+'Dir2'!AK196","v":0},{"$f":"'Dir1'!AL196+'Dir2'!AL196","v":0},{"$f":"IFERROR(ROUND(AVERAGE(_xlfn._xlws.FILTER(Data_Table[Speed],(Data_Table[Period]-INT(Data_Table[Period])=B196))),2),\"-\")","v":"-"},{"$f":"IFERROR(ROUND(PERCENTILE(_xlfn._xlws.FILTER(Data_Table[Speed],(Data_Table[Period]-INT(Data_Table[Period])=B196)*(SUM(C196:N196)>=10)),0.85),2),\"-\")","v":"-"}]
[null,"01:00:00",{"$f":"'Dir1'!C197+'Dir2'!C197","v":0},{"$f":"'Dir1'!D197+'Dir2'!D197","v":0},{"$f":"'Dir1'!E197+'Dir2'!E197","v":0},{"$f":"'Dir1'!F197+'Dir2'!F197","v":0},{"$f":"'Dir1'!G197+'Dir2'!G197","v":0},{"$f":"'Dir1'!H197+'Dir2'!H197","v":0},{"$f":"'Dir1'!I197+'Dir2'!I197","v":0},{"$f":"'Dir1'!J197+'Dir2'!J197","v":0},{"$f":"'Dir1'!K197+'Dir2'!K197","v":0},{"$f":"'Dir1'!L197+'Dir2'!L197","v":0},{"$f":"'Dir1'!M197+'Dir2'!M197","v":0},{"$f":"'Dir1'!N197+'Dir2'!N197","v":0},{"$f":"'Dir1'!O197+'Dir2'!O197","v":0},{"$f":"'Dir1'!P197+'Dir2'!N197","v":0},{"$f":"'Dir1'!Q197+'Dir2'!O197","v":0},{"$f":"'Dir1'!R197+'Dir2'!R197","v":0},{"$f":"'Dir1'!S197+'Dir2'!S197","v":0},{"$f":"'Dir1'!T197+'Dir2'!T197","v":0},{"$f":"'Dir1'!U197+'Dir2'!U197","v":0},{"$f":"'Dir1'!V197+'Dir2'!V197","v":0},{"$f":"'Dir1'!W197+'Dir2'!W197","v":0},{"$f":"'Dir1'!X197+'Dir2'!X197","v":0},{"$f":"'Dir1'!Y197+'Dir2'!Y197","v":0},{"$f":"'Dir1'!Z197+'Dir2'!Z197","v":0},{"$f":"'Dir1'!AA197+'Dir2'!AA197","v":0},{"$f":"'Dir1'!AB197+'Dir2'!AB197","v":0},{"$f":"'Dir1'!AC197+'Dir2'!AC197","v":0},{"$f":"'Dir1'!AD197+'Dir2'!AD197","v":0},{"$f":"'Dir1'!AE197+'Dir2'!AE197","v":0},{"$f":"'Dir1'!AF197+'Dir2'!AF197","v":0},{"$f":"'Dir1'!AG197+'Dir2'!AG197","v":0},{"$f":"'Dir1'!AH197+'Dir2'!AH197","v":0},{"$f":"'Dir1'!AI197+'Dir2'!AI197","v":0},{"$f":"'Dir1'!AJ197+'Dir2'!AJ197","v":0},{"$f":"'Dir1'!AK197+'Dir2'!AK197","v":0},{"$f":"'Dir1'!AL197+'Dir2'!AL197","v":0},{"$f":"IFERROR(ROUND(AVERAGE(_xlfn._xlws.FILTER(Data_Table[Speed],(Data_Table[Period]-INT(Data_Table[Period])=B197))),2),\"-\")","v":"-"},{"$f":"IFERROR(ROUND(PERCENTILE(_xlfn._xlws.FILTER(Data_Table[Speed],(Data_Table[Period]-INT(Data_Table[Period])=B197)*(SUM(C197:N197)>=10)),0.85),2),\"-\")","v":"-"}]
[null,"02:00:00",{"$f":"'Dir1'!C198+'Dir2'!C198","v":0},{"$f":"'Dir1'!D198+'Dir2'!D198","v":0},{"$f":"'Dir1'!E198+'Dir2'!E198","v":0},{"$f":"'Dir1'!F198+'Dir2'!F198","v":0},{"$f":"'Dir1'!G198+'Dir2'!G198","v":0},{"$f":"'Dir1'!H198+'Dir2'!H198","v":0},{"$f":"'Dir1'!I198+'Dir2'!I198","v":0},{"$f":"'Dir1'!J198+'Dir2'!J198","v":0},{"$f":"'Dir1'!K198+'Dir2'!K198","v":0},{"$f":"'Dir1'!L198+'Dir2'!L198","v":0},{"$f":"'Dir1'!M198+'Dir2'!M198","v":0},{"$f":"'Dir1'!N198+'Dir2'!N198","v":0},{"$f":"'Dir1'!O198+'Dir2'!O198","v":0},{"$f":"'Dir1'!P198+'Dir2'!N198","v":0},{"$f":"'Dir1'!Q198+'Dir2'!O198","v":0},{"$f":"'Dir1'!R198+'Dir2'!R198","v":0},{"$f":"'Dir1'!S198+'Dir2'!S198","v":0},{"$f":"'Dir1'!T198+'Dir2'!T198","v":0},{"$f":"'Dir1'!U198+'Dir2'!U198","v":0},{"$f":"'Dir1'!V198+'Dir2'!V198","v":0},{"$f":"'Dir1'!W198+'Dir2'!W198","v":0},{"$f":"'Dir1'!X198+'Dir2'!X198","v":0},{"$f":"'Dir1'!Y198+'Dir2'!Y198","v":0},{"$f":"'Dir1'!Z198+'Dir2'!Z198","v":0},{"$f":"'Dir1'!AA198+'Dir2'!AA198","v":0},{"$f":"'Dir1'!AB198+'Dir2'!AB198","v":0},{"$f":"'Dir1'!AC198+'Dir2'!AC198","v":0},{"$f":"'Dir1'!AD198+'Dir2'!AD198","v":0},{"$f":"'Dir1'!AE198+'Dir2'!AE198","v":0},{"$f":"'Dir1'!AF198+'Dir2'!AF198","v":0},{"$f":"'Dir1'!AG198+'Dir2'!AG198","v":0},{"$f":"'Dir1'!AH198+'Dir2'!AH198","v":0},{"$f":"'Dir1'!AI198+'Dir2'!AI198","v":0},{"$f":"'Dir1'!AJ198+'Dir2'!AJ198","v":0},{"$f":"'Dir1'!AK198+'Dir2'!AK198","v":0},{"$f":"'Dir1'!AL198+'Dir2'!AL198","v":0},{"$f":"IFERROR(ROUND(AVERAGE(_xlfn._xlws.FILTER(Data_Table[Speed],(Data_Table[Period]-INT(Data_Table[Period])=B198))),2),\"-\")","v":"-"},{"$f":"IFERROR(ROUND(PERCENTILE(_xlfn._xlws.FILTER(Data_Table[Speed],(Data_Table[Period]-INT(Data_Table[Period])=B198)*(SUM(C198:N198)>=10)),0.85),2),\"-\")","v":"-"}]
[null,"03:00:00",{"$f":"'Dir1'!C199+'Dir2'!C199","v":0},{"$f":"'Dir1'!D199+'Dir2'!D199","v":0},{"$f":"'Dir1'!E199+'Dir2'!E199","v":0},{"$f":"'Dir1'!F199+'Dir2'!F199","v":0},{"$f":"'Dir1'!G199+'Dir2'!G199","v":0},{"$f":"'Dir1'!H199+'Dir2'!H199","v":0},{"$f":"'Dir1'!I199+'Dir2'!I199","v":0},{"$f":"'Dir1'!J199+'Dir2'!J199","v":0},{"$f":"'Dir1'!K199+'Dir2'!K199","v":0},{"$f":"'Dir1'!L199+'Dir2'!L199","v":0},{"$f":"'Dir1'!M199+'Dir2'!M199","v":0},{"$f":"'Dir1'!N199+'Dir2'!N199","v":0},{"$f":"'Dir1'!O199+'Dir2'!O199","v":0},{"$f":"'Dir1'!P199+'Dir2'!N199","v":0},{"$f":"'Dir1'!Q199+'Dir2'!O199","v":0},{"$f":"'Dir1'!R199+'Dir2'!R199","v":0},{"$f":"'Dir1'!S199+'Dir2'!S199","v":0},{"$f":"'Dir1'!T199+'Dir2'!T199","v":0},{"$f":"'Dir1'!U199+'Dir2'!U199","v":0},{"$f":"'Dir1'!V199+'Dir2'!V199","v":0},{"$f":"'Dir1'!W199+'Dir2'!W199","v":0},{"$f":"'Dir1'!X199+'Dir2'!X199","v":0},{"$f":"'Dir1'!Y199+'Dir2'!Y199","v":0},{"$f":"'Dir1'!Z199+'Dir2'!Z199","v":0},{"$f":"'Dir1'!AA199+'Dir2'!AA199","v":0},{"$f":"'Dir1'!AB199+'Dir2'!AB199","v":0},{"$f":"'Dir1'!AC199+'Dir2'!AC199","v":0},{"$f":"'Dir1'!AD199+'Dir2'!AD199","v":0},{"$f":"'Dir1'!AE199+'Dir2'!AE199","v":0},{"$f":"'Dir1'!AF199+'Dir2'!AF199","v":0},{"$f":"'Dir1'!AG199+'Dir2'!AG199","v":0},{"$f":"'Dir1'!AH199+'Dir2'!AH199","v":0},{"$f":"'Dir1'!AI199+'Dir2'!AI199","v":0},{"$f":"'Dir1'!AJ199+'Dir2'!AJ199","v":0},{"$f":"'Dir1'!AK199+'Dir2'!AK199","v":0},{"$f":"'Dir1'!AL199+'Dir2'!AL199","v":0},{"$f":"IFERROR(ROUND(AVERAGE(_xlfn._xlws.FILTER(Data_Table[Speed],(Data_Table[Period]-INT(Data_Table[Period])=B199))),2),\"-\")","v":"-"},{"$f":"IFERROR(ROUND(PERCENTILE(_xlfn._xlws.FILTER(Data_Table[Speed],(Data_Table[Period]-INT(Data_Table[Period])=B199)*(SUM(C199:N199)>=10)),0.85),2),\"-\")","v":"-"}]
[null,"04:00:00",{"$f":"'Dir1'!C200+'Dir2'!C200","v":0},{"$f":"'Dir1'!D200+'Dir2'!D200","v":0},{"$f":"'Dir1'!E200+'Dir2'!E200","v":0},{"$f":"'Dir1'!F200+'Dir2'!F200","v":0},{"$f":"'Dir1'!G200+'Dir2'!G200","v":0},{"$f":"'Dir1'!H200+'Dir2'!H200","v":0},{"$f":"'Dir1'!I200+'Dir2'!I200","v":0},{"$f":"'Dir1'!J200+'Dir2'!J200","v":0},{"$f":"'Dir1'!K200+'Dir2'!K200","v":0},{"$f":"'Dir1'!L200+'Dir2'!L200","v":0},{"$f":"'Dir1'!M200+'Dir2'!M200","v":0},{"$f":"'Dir1'!N200+'Dir2'!N200","v":0},{"$f":"'Dir1'!O200+'Dir2'!O200","v":0},{"$f":"'Dir1'!P200+'Dir2'!N200","v":0},{"$f":"'Dir1'!Q200+'Dir2'!O200","v":0},{"$f":"'Dir1'!R200+'Dir2'!R200","v":0},{"$f":"'Dir1'!S200+'Dir2'!S200","v":0},{"$f":"'Dir1'!T200+'Dir2'!T200","v":0},{"$f":"'Dir1'!U200+'Dir2'!U200","v":0},{"$f":"'Dir1'!V200+'Dir2'!V200","v":0},{"$f":"'Dir1'!W200+'Dir2'!W200","v":0},{"$f":"'Dir1'!X200+'Dir2'!X200","v":0},{"$f":"'Dir1'!Y200+'Dir2'!Y200","v":0},{"$f":"'Dir1'!Z200+'Dir2'!Z200","v":0},{"$f":"'Dir1'!AA200+'Dir2'!AA200","v":0},{"$f":"'Dir1'!AB200+'Dir2'!AB200","v":0},{"$f":"'Dir1'!AC200+'Dir2'!AC200","v":0},{"$f":"'Dir1'!AD200+'Dir2'!AD200","v":0},{"$f":"'Dir1'!AE200+'Dir2'!AE200","v":0},{"$f":"'Dir1'!AF200+'Dir2'!AF200","v":0},{"$f":"'Dir1'!AG200+'Dir2'!AG200","v":0},{"$f":"'Dir1'!AH200+'Dir2'!AH200","v":0},{"$f":"'Dir1'!AI200+'Dir2'!AI200","v":0},{"$f":"'Dir1'!AJ200+'Dir2'!AJ200","v":0},{"$f":"'Dir1'!AK200+'Dir2'!AK200","v":0},{"$f":"'Dir1'!AL200+'Dir2'!AL200","v":0},{"$f":"IFERROR(ROUND(AVERAGE(_xlfn._xlws.FILTER(Data_Table[Speed],(Data_Table[Period]-INT(Data_Table[Period])=B200))),2),\"-\")","v":"-"},{"$f":"IFERROR(ROUND(PERCENTILE(_xlfn._xlws.FILTER(Data_Table[Speed],(Data_Table[Period]-INT(Data_Table[Period])=B200)*(SUM(C200:N200)>=10)),0.85),2),\"-\")","v":"-"}]
[null,"05:00:00",{"$f":"'Dir1'!C201+'Dir2'!C201","v":0},{"$f":"'Dir1'!D201+'Dir2'!D201","v":0},{"$f":"'Dir1'!E201+'Dir2'!E201","v":0},{"$f":"'Dir1'!F201+'Dir2'!F201","v":0},{"$f":"'Dir1'!G201+'Dir2'!G201","v":0},{"$f":"'Dir1'!H201+'Dir2'!H201","v":0},{"$f":"'Dir1'!I201+'Dir2'!I201","v":0},{"$f":"'Dir1'!J201+'Dir2'!J201","v":0},{"$f":"'Dir1'!K201+'Dir2'!K201","v":0},{"$f":"'Dir1'!L201+'Dir2'!L201","v":0},{"$f":"'Dir1'!M201+'Dir2'!M201","v":0},{"$f":"'Dir1'!N201+'Dir2'!N201","v":0},{"$f":"'Dir1'!O201+'Dir2'!O201","v":0},{"$f":"'Dir1'!P201+'Dir2'!N201","v":0},{"$f":"'Dir1'!Q201+'Dir2'!O201","v":0},{"$f":"'Dir1'!R201+'Dir2'!R201","v":0},{"$f":"'Dir1'!S201+'Dir2'!S201","v":0},{"$f":"'Dir1'!T201+'Dir2'!T201","v":0},{"$f":"'Dir1'!U201+'Dir2'!U201","v":0},{"$f":"'Dir1'!V201+'Dir2'!V201","v":0},{"$f":"'Dir1'!W201+'Dir2'!W201","v":0},{"$f":"'Dir1'!X201+'Dir2'!X201","v":0},{"$f":"'Dir1'!Y201+'Dir2'!Y201","v":0},{"$f":"'Dir1'!Z201+'Dir2'!Z201","v":0},{"$f":"'Dir1'!AA201+'Dir2'!AA201","v":0},{"$f":"'Dir1'!AB201+'Dir2'!AB201","v":0},{"$f":"'Dir1'!AC201+'Dir2'!AC201","v":0},{"$f":"'Dir1'!AD201+'Dir2'!AD201","v":0},{"$f":"'Dir1'!AE201+'Dir2'!AE201","v":0},{"$f":"'Dir1'!AF201+'Dir2'!AF201","v":0},{"$f":"'Dir1'!AG201+'Dir2'!AG201","v":0},{"$f":"'Dir1'!AH201+'Dir2'!AH201","v":0},{"$f":"'Dir1'!AI201+'Dir2'!AI201","v":0},{"$f":"'Dir1'!AJ201+'Dir2'!AJ201","v":0},{"$f":"'Dir1'!AK201+'Dir2'!AK201","v":0},{"$f":"'Dir1'!AL201+'Dir2'!AL201","v":0},{"$f":"IFERROR(ROUND(AVERAGE(_xlfn._xlws.FILTER(Data_Table[Speed],(Data_Table[Period]-INT(Data_Table[Period])=B201))),2),\"-\")","v":"-"},{"$f":"IFERROR(ROUND(PERCENTILE(_xlfn._xlws.FILTER(Data_Table[Speed],(Data_Table[Period]-INT(Data_Table[Period])=B201)*(SUM(C201:N201)>=10)),0.85),2),\"-\")","v":"-"}]
[null,"06:00:00",{"$f":"'Dir1'!C202+'Dir2'!C202","v":0},{"$f":"'Dir1'!D202+'Dir2'!D202","v":0},{"$f":"'Dir1'!E202+'Dir2'!E202","v":0},{"$f":"'Dir1'!F202+'Dir2'!F202","v":0},{"$f":"'Dir1'!G202+'Dir2'!G202","v":0},{"$f":"'Dir1'!H202+'Dir2'!H202","v":0},{"$f":"'Dir1'!I202+'Dir2'!I202","v":0},{"$f":"'Dir1'!J202+'Dir2'!J202","v":0},{"$f":"'Dir1'!K202+'Dir2'!K202","v":0},{"$f":"'Dir1'!L202+'Dir2'!L202","v":0},{"$f":"'Dir1'!M202+'Dir2'!M202","v":0},{"$f":"'Dir1'!N202+'Dir2'!N202","v":0},{"$f":"'Dir1'!O202+'Dir2'!O202","v":0},{"$f":"'Dir1'!P202+'Dir2'!N202","v":0},{"$f":"'Dir1'!Q202+'Dir2'!O202","v":0},{"$f":"'Dir1'!R202+'Dir2'!R202","v":0},{"$f":"'Dir1'!S202+'Dir2'!S202","v":0},{"$f":"'Dir1'!T202+'Dir2'!T202","v":0},{"$f":"'Dir1'!U202+'Dir2'!U202","v":0},{"$f":"'Dir1'!V202+'Dir2'!V202","v":0},{"$f":"'Dir1'!W202+'Dir2'!W202","v":0},{"$f":"'Dir1'!X202+'Dir2'!X202","v":0},{"$f":"'Dir1'!Y202+'Dir2'!Y202","v":0},{"$f":"'Dir1'!Z202+'Dir2'!Z202","v":0},{"$f":"'Dir1'!AA202+'Dir2'!AA202","v":0},{"$f":"'Dir1'!AB202+'Dir2'!AB202","v":0},{"$f":"'Dir1'!AC202+'Dir2'!AC202","v":0},{"$f":"'Dir1'!AD202+'Dir2'!AD202","v":0},{"$f":"'Dir1'!AE202+'Dir2'!AE202","v":0},{"$f":"'Dir1'!AF202+'Dir2'!AF202","v":0},{"$f":"'Dir1'!AG202+'Dir2'!AG202","v":0},{"$f":"'Dir1'!AH202+'Dir2'!AH202","v":0},{"$f":"'Dir1'!AI202+'Dir2'!AI202","v":0},{"$f":"'Dir1'!AJ202+'Dir2'!AJ202","v":0},{"$f":"'Dir1'!AK202+'Dir2'!AK202","v":0},{"$f":"'Dir1'!AL202+'Dir2'!AL202","v":0},{"$f":"IFERROR(ROUND(AVERAGE(_xlfn._xlws.FILTER(Data_Table[Speed],(Data_Table[Period]-INT(Data_Table[Period])=B202))),2),\"-\")","v":"-"},{"$f":"IFERROR(ROUND(PERCENTILE(_xlfn._xlws.FILTER(Data_Table[Speed],(Data_Table[Period]-INT(Data_Table[Period])=B202)*(SUM(C202:N202)>=10)),0.85),2),\"-\")","v":"-"}]
[null,"07:00:00",{"$f":"'Dir1'!C203+'Dir2'!C203","v":0},{"$f":"'Dir1'!D203+'Dir2'!D203","v":0},{"$f":"'Dir1'!E203+'Dir2'!E203","v":0},{"$f":"'Dir1'!F203+'Dir2'!F203","v":0},{"$f":"'Dir1'!G203+'Dir2'!G203","v":0},{"$f":"'Dir1'!H203+'Dir2'!H203","v":0},{"$f":"'Dir1'!I203+'Dir2'!I203","v":0},{"$f":"'Dir1'!J203+'Dir2'!J203","v":0},{"$f":"'Dir1'!K203+'Dir2'!K203","v":0},{"$f":"'Dir1'!L203+'Dir2'!L203","v":0},{"$f":"'Dir1'!M203+'Dir2'!M203","v":0},{"$f":"'Dir1'!N203+'Dir2'!N203","v":0},{"$f":"'Dir1'!O203+'Dir2'!O203","v":0},{"$f":"'Dir1'!P203+'Dir2'!N203","v":0},{"$f":"'Dir1'!Q203+'Dir2'!O203","v":0},{"$f":"'Dir1'!R203+'Dir2'!R203","v":0},{"$f":"'Dir1'!S203+'Dir2'!S203","v":0},{"$f":"'Dir1'!T203+'Dir2'!T203","v":0},{"$f":"'Dir1'!U203+'Dir2'!U203","v":0},{"$f":"'Dir1'!V203+'Dir2'!V203","v":0},{"$f":"'Dir1'!W203+'Dir2'!W203","v":0},{"$f":"'Dir1'!X203+'Dir2'!X203","v":0},{"$f":"'Dir1'!Y203+'Dir2'!Y203","v":0},{"$f":"'Dir1'!Z203+'Dir2'!Z203","v":0},{"$f":"'Dir1'!AA203+'Dir2'!AA203","v":0},{"$f":"'Dir1'!AB203+'Dir2'!AB203","v":0},{"$f":"'Dir1'!AC203+'Dir2'!AC203","v":0},{"$f":"'Dir1'!AD203+'Dir2'!AD203","v":0},{"$f":"'Dir1'!AE203+'Dir2'!AE203","v":0},{"$f":"'Dir1'!AF203+'Dir2'!AF203","v":0},{"$f":"'Dir1'!AG203+'Dir2'!AG203","v":0},{"$f":"'Dir1'!AH203+'Dir2'!AH203","v":0},{"$f":"'Dir1'!AI203+'Dir2'!AI203","v":0},{"$f":"'Dir1'!AJ203+'Dir2'!AJ203","v":0},{"$f":"'Dir1'!AK203+'Dir2'!AK203","v":0},{"$f":"'Dir1'!AL203+'Dir2'!AL203","v":0},{"$f":"IFERROR(ROUND(AVERAGE(_xlfn._xlws.FILTER(Data_Table[Speed],(Data_Table[Period]-INT(Data_Table[Period])=B203))),2),\"-\")","v":"-"},{"$f":"IFERROR(ROUND(PERCENTILE(_xlfn._xlws.FILTER(Data_Table[Speed],(Data_Table[Period]-INT(Data_Table[Period])=B203)*(SUM(C203:N203)>=10)),0.85),2),\"-\")","v":"-"}]
[null,"08:00:00",{"$f":"'Dir1'!C204+'Dir2'!C204","v":0},{"$f":"'Dir1'!D204+'Dir2'!D204","v":0},{"$f":"'Dir1'!E204+'Dir2'!E204","v":0},{"$f":"'Dir1'!F204+'Dir2'!F204","v":0},{"$f":"'Dir1'!G204+'Dir2'!G204","v":0},{"$f":"'Dir1'!H204+'Dir2'!H204","v":0},{"$f":"'Dir1'!I204+'Dir2'!I204","v":0},{"$f":"'Dir1'!J204+'Dir2'!J204","v":0},{"$f":"'Dir1'!K204+'Dir2'!K204","v":0},{"$f":"'Dir1'!L204+'Dir2'!L204","v":0},{"$f":"'Dir1'!M204+'Dir2'!M204","v":0},{"$f":"'Dir1'!N204+'Dir2'!N204","v":0},{"$f":"'Dir1'!O204+'Dir2'!O204","v":0},{"$f":"'Dir1'!P204+'Dir2'!N204","v":0},{"$f":"'Dir1'!Q204+'Dir2'!O204","v":0},{"$f":"'Dir1'!R204+'Dir2'!R204","v":0},{"$f":"'Dir1'!S204+'Dir2'!S204","v":0},{"$f":"'Dir1'!T204+'Dir2'!T204","v":0},{"$f":"'Dir1'!U204+'Dir2'!U204","v":0},{"$f":"'Dir1'!V204+'Dir2'!V204","v":0},{"$f":"'Dir1'!W204+'Dir2'!W204","v":0},{"$f":"'Dir1'!X204+'Dir2'!X204","v":0},{"$f":"'Dir1'!Y204+'Dir2'!Y204","v":0},{"$f":"'Dir1'!Z204+'Dir2'!Z204","v":0},{"$f":"'Dir1'!AA204+'Dir2'!AA204","v":0},{"$f":"'Dir1'!AB204+'Dir2'!AB204","v":0},{"$f":"'Dir1'!AC204+'Dir2'!AC204","v":0},{"$f":"'Dir1'!AD204+'Dir2'!AD204","v":0},{"$f":"'Dir1'!AE204+'Dir2'!AE204","v":0},{"$f":"'Dir1'!AF204+'Dir2'!AF204","v":0},{"$f":"'Dir1'!AG204+'Dir2'!AG204","v":0},{"$f":"'Dir1'!AH204+'Dir2'!AH204","v":0},{"$f":"'Dir1'!AI204+'Dir2'!AI204","v":0},{"$f":"'Dir1'!AJ204+'Dir2'!AJ204","v":0},{"$f":"'Dir1'!AK204+'Dir2'!AK204","v":0},{"$f":"'Dir1'!AL204+'Dir2'!AL204","v":0},{"$f":"IFERROR(ROUND(AVERAGE(_xlfn._xlws.FILTER(Data_Table[Speed],(Data_Table[Period]-INT(Data_Table[Period])=B204))),2),\"-\")","v":"-"},{"$f":"IFERROR(ROUND(PERCENTILE(_xlfn._xlws.FILTER(Data_Table[Speed],(Data_Table[Period]-INT(Data_Table[Period])=B204)*(SUM(C204:N204)>=10)),0.85),2),\"-\")","v":"-"}]
[null,"09:00:00",{"$f":"'Dir1'!C205+'Dir2'!C205","v":0},{"$f":"'Dir1'!D205+'Dir2'!D205","v":0},{"$f":"'Dir1'!E205+'Dir2'!E205","v":0},{"$f":"'Dir1'!F205+'Dir2'!F205","v":0},{"$f":"'Dir1'!G205+'Dir2'!G205","v":0},{"$f":"'Dir1'!H205+'Dir2'!H205","v":0},{"$f":"'Dir1'!I205+'Dir2'!I205","v":0},{"$f":"'Dir1'!J205+'Dir2'!J205","v":0},{"$f":"'Dir1'!K205+'Dir2'!K205","v":0},{"$f":"'Dir1'!L205+'Dir2'!L205","v":0},{"$f":"'Dir1'!M205+'Dir2'!M205","v":0},{"$f":"'Dir1'!N205+'Dir2'!N205","v":0},{"$f":"'Dir1'!O205+'Dir2'!O205","v":0},{"$f":"'Dir1'!P205+'Dir2'!N205","v":0},{"$f":"'Dir1'!Q205+'Dir2'!O205","v":0},{"$f":"'Dir1'!R205+'Dir2'!R205","v":0},{"$f":"'Dir1'!S205+'Dir2'!S205","v":0},{"$f":"'Dir1'!T205+'Dir2'!T205","v":0},{"$f":"'Dir1'!U205+'Dir2'!U205","v":0},{"$f":"'Dir1'!V205+'Dir2'!V205","v":0},{"$f":"'Dir1'!W205+'Dir2'!W205","v":0},{"$f":"'Dir1'!X205+'Dir2'!X205","v":0},{"$f":"'Dir1'!Y205+'Dir2'!Y205","v":0},{"$f":"'Dir1'!Z205+'Dir2'!Z205","v":0},{"$f":"'Dir1'!AA205+'Dir2'!AA205","v":0},{"$f":"'Dir1'!AB205+'Dir2'!AB205","v":0},{"$f":"'Dir1'!AC205+'Dir2'!AC205","v":0},{"$f":"'Dir1'!AD205+'Dir2'!AD205","v":0},{"$f":"'Dir1'!AE205+'Dir2'!AE205","v":0},{"$f":"'Dir1'!AF205+'Dir2'!AF205","v":0},{"$f":"'Dir1'!AG205+'Dir2'!AG205","v":0},{"$f":"'Dir1'!AH205+'Dir2'!AH205","v":0},{"$f":"'Dir1'!AI205+'Dir2'!AI205","v":0},{"$f":"'Dir1'!AJ205+'Dir2'!AJ205","v":0},{"$f":"'Dir1'!AK205+'Dir2'!AK205","v":0},{"$f":"'Dir1'!AL205+'Dir2'!AL205","v":0},{"$f":"IFERROR(ROUND(AVERAGE(_xlfn._xlws.FILTER(Data_Table[Speed],(Data_Table[Period]-INT(Data_Table[Period])=B205))),2),\"-\")","v":"-"},{"$f":"IFERROR(ROUND(PERCENTILE(_xlfn._xlws.FILTER(Data_Table[Speed],(Data_Table[Period]-INT(Data_Table[Period])=B205)*(SUM(C205:N205)>=10)),0.85),2),\"-\")","v":"-"}]
[null,"10:00:00",{"$f":"'Dir1'!C206+'Dir2'!C206","v":0},{"$f":"'Dir1'!D206+'Dir2'!D206","v":0},{"$f":"'Dir1'!E206+'Dir2'!E206","v":0},{"$f":"'Dir1'!F206+'Dir2'!F206","v":0},{"$f":"'Dir1'!G206+'Dir2'!G206","v":0},{"$f":"'Dir1'!H206+'Dir2'!H206","v":0},{"$f":"'Dir1'!I206+'Dir2'!I206","v":0},{"$f":"'Dir1'!J206+'Dir2'!J206","v":0},{"$f":"'Dir1'!K206+'Dir2'!K206","v":0},{"$f":"'Dir1'!L206+'Dir2'!L206","v":0},{"$f":"'Dir1'!M206+'Dir2'!M206","v":0},{"$f":"'Dir1'!N206+'Dir2'!N206","v":0},{"$f":"'Dir1'!O206+'Dir2'!O206","v":0},{"$f":"'Dir1'!P206+'Dir2'!N206","v":0},{"$f":"'Dir1'!Q206+'Dir2'!O206","v":0},{"$f":"'Dir1'!R206+'Dir2'!R206","v":0},{"$f":"'Dir1'!S206+'Dir2'!S206","v":0},{"$f":"'Dir1'!T206+'Dir2'!T206","v":0},{"$f":"'Dir1'!U206+'Dir2'!U206","v":0},{"$f":"'Dir1'!V206+'Dir2'!V206","v":0},{"$f":"'Dir1'!W206+'Dir2'!W206","v":0},{"$f":"'Dir1'!X206+'Dir2'!X206","v":0},{"$f":"'Dir1'!Y206+'Dir2'!Y206","v":0},{"$f":"'Dir1'!Z206+'Dir2'!Z206","v":0},{"$f":"'Dir1'!AA206+'Dir2'!AA206","v":0},{"$f":"'Dir1'!AB206+'Dir2'!AB206","v":0},{"$f":"'Dir1'!AC206+'Dir2'!AC206","v":0},{"$f":"'Dir1'!AD206+'Dir2'!AD206","v":0},{"$f":"'Dir1'!AE206+'Dir2'!AE206","v":0},{"$f":"'Dir1'!AF206+'Dir2'!AF206","v":0},{"$f":"'Dir1'!AG206+'Dir2'!AG206","v":0},{"$f":"'Dir1'!AH206+'Dir2'!AH206","v":0},{"$f":"'Dir1'!AI206+'Dir2'!AI206","v":0},{"$f":"'Dir1'!AJ206+'Dir2'!AJ206","v":0},{"$f":"'Dir1'!AK206+'Dir2'!AK206","v":0},{"$f":"'Dir1'!AL206+'Dir2'!AL206","v":0},{"$f":"IFERROR(ROUND(AVERAGE(_xlfn._xlws.FILTER(Data_Table[Speed],(Data_Table[Period]-INT(Data_Table[Period])=B206))),2),\"-\")","v":"-"},{"$f":"IFERROR(ROUND(PERCENTILE(_xlfn._xlws.FILTER(Data_Table[Speed],(Data_Table[Period]-INT(Data_Table[Period])=B206)*(SUM(C206:N206)>=10)),0.85),2),\"-\")","v":"-"}]
[null,"11:00:00",{"$f":"'Dir1'!C207+'Dir2'!C207","v":0},{"$f":"'Dir1'!D207+'Dir2'!D207","v":0},{"$f":"'Dir1'!E207+'Dir2'!E207","v":0},{"$f":"'Dir1'!F207+'Dir2'!F207","v":0},{"$f":"'Dir1'!G207+'Dir2'!G207","v":0},{"$f":"'Dir1'!H207+'Dir2'!H207","v":0},{"$f":"'Dir1'!I207+'Dir2'!I207","v":0},{"$f":"'Dir1'!J207+'Dir2'!J207","v":0},{"$f":"'Dir1'!K207+'Dir2'!K207","v":0},{"$f":"'Dir1'!L207+'Dir2'!L207","v":0},{"$f":"'Dir1'!M207+'Dir2'!M207","v":0},{"$f":"'Dir1'!N207+'Dir2'!N207","v":0},{"$f":"'Dir1'!O207+'Dir2'!O207","v":0},{"$f":"'Dir1'!P207+'Dir2'!N207","v":0},{"$f":"'Dir1'!Q207+'Dir2'!O207","v":0},{"$f":"'Dir1'!R207+'Dir2'!R207","v":0},{"$f":"'Dir1'!S207+'Dir2'!S207","v":0},{"$f":"'Dir1'!T207+'Dir2'!T207","v":0},{"$f":"'Dir1'!U207+'Dir2'!U207","v":0},{"$f":"'Dir1'!V207+'Dir2'!V207","v":0},{"$f":"'Dir1'!W207+'Dir2'!W207","v":0},{"$f":"'Dir1'!X207+'Dir2'!X207","v":0},{"$f":"'Dir1'!Y207+'Dir2'!Y207","v":0},{"$f":"'Dir1'!Z207+'Dir2'!Z207","v":0},{"$f":"'Dir1'!AA207+'Dir2'!AA207","v":0},{"$f":"'Dir1'!AB207+'Dir2'!AB207","v":0},{"$f":"'Dir1'!AC207+'Dir2'!AC207","v":0},{"$f":"'Dir1'!AD207+'Dir2'!AD207","v":0},{"$f":"'Dir1'!AE207+'Dir2'!AE207","v":0},{"$f":"'Dir1'!AF207+'Dir2'!AF207","v":0},{"$f":"'Dir1'!AG207+'Dir2'!AG207","v":0},{"$f":"'Dir1'!AH207+'Dir2'!AH207","v":0},{"$f":"'Dir1'!AI207+'Dir2'!AI207","v":0},{"$f":"'Dir1'!AJ207+'Dir2'!AJ207","v":0},{"$f":"'Dir1'!AK207+'Dir2'!AK207","v":0},{"$f":"'Dir1'!AL207+'Dir2'!AL207","v":0},{"$f":"IFERROR(ROUND(AVERAGE(_xlfn._xlws.FILTER(Data_Table[Speed],(Data_Table[Period]-INT(Data_Table[Period])=B207))),2),\"-\")","v":"-"},{"$f":"IFERROR(ROUND(PERCENTILE(_xlfn._xlws.FILTER(Data_Table[Speed],(Data_Table[Period]-INT(Data_Table[Period])=B207)*(SUM(C207:N207)>=10)),0.85),2),\"-\")","v":"-"}]
[null,"12:00:00",{"$f":"'Dir1'!C208+'Dir2'!C208","v":0},{"$f":"'Dir1'!D208+'Dir2'!D208","v":0},{"$f":"'Dir1'!E208+'Dir2'!E208","v":0},{"$f":"'Dir1'!F208+'Dir2'!F208","v":0},{"$f":"'Dir1'!G208+'Dir2'!G208","v":0},{"$f":"'Dir1'!H208+'Dir2'!H208","v":0},{"$f":"'Dir1'!I208+'Dir2'!I208","v":0},{"$f":"'Dir1'!J208+'Dir2'!J208","v":0},{"$f":"'Dir1'!K208+'Dir2'!K208","v":0},{"$f":"'Dir1'!L208+'Dir2'!L208","v":0},{"$f":"'Dir1'!M208+'Dir2'!M208","v":0},{"$f":"'Dir1'!N208+'Dir2'!N208","v":0},{"$f":"'Dir1'!O208+'Dir2'!O208","v":0},{"$f":"'Dir1'!P208+'Dir2'!N208","v":0},{"$f":"'Dir1'!Q208+'Dir2'!O208","v":0},{"$f":"'Dir1'!R208+'Dir2'!R208","v":0},{"$f":"'Dir1'!S208+'Dir2'!S208","v":0},{"$f":"'Dir1'!T208+'Dir2'!T208","v":0},{"$f":"'Dir1'!U208+'Dir2'!U208","v":0},{"$f":"'Dir1'!V208+'Dir2'!V208","v":0},{"$f":"'Dir1'!W208+'Dir2'!W208","v":0},{"$f":"'Dir1'!X208+'Dir2'!X208","v":0},{"$f":"'Dir1'!Y208+'Dir2'!Y208","v":0},{"$f":"'Dir1'!Z208+'Dir2'!Z208","v":0},{"$f":"'Dir1'!AA208+'Dir2'!AA208","v":0},{"$f":"'Dir1'!AB208+'Dir2'!AB208","v":0},{"$f":"'Dir1'!AC208+'Dir2'!AC208","v":0},{"$f":"'Dir1'!AD208+'Dir2'!AD208","v":0},{"$f":"'Dir1'!AE208+'Dir2'!AE208","v":0},{"$f":"'Dir1'!AF208+'Dir2'!AF208","v":0},{"$f":"'Dir1'!AG208+'Dir2'!AG208","v":0},{"$f":"'Dir1'!AH208+'Dir2'!AH208","v":0},{"$f":"'Dir1'!AI208+'Dir2'!AI208","v":0},{"$f":"'Dir1'!AJ208+'Dir2'!AJ208","v":0},{"$f":"'Dir1'!AK208+'Dir2'!AK208","v":0},{"$f":"'Dir1'!AL208+'Dir2'!AL208","v":0},{"$f":"IFERROR(ROUND(AVERAGE(_xlfn._xlws.FILTER(Data_Table[Speed],(Data_Table[Period]-INT(Data_Table[Period])=B208))),2),\"-\")","v":"-"},{"$f":"IFERROR(ROUND(PERCENTILE(_xlfn._xlws.FILTER(Data_Table[Speed],(Data_Table[Period]-INT(Data_Table[Period])=B208)*(SUM(C208:N208)>=10)),0.85),2),\"-\")","v":"-"}]
[null,"13:00:00",{"$f":"'Dir1'!C209+'Dir2'!C209","v":0},{"$f":"'Dir1'!D209+'Dir2'!D209","v":0},{"$f":"'Dir1'!E209+'Dir2'!E209","v":0},{"$f":"'Dir1'!F209+'Dir2'!F209","v":0},{"$f":"'Dir1'!G209+'Dir2'!G209","v":0},{"$f":"'Dir1'!H209+'Dir2'!H209","v":0},{"$f":"'Dir1'!I209+'Dir2'!I209","v":0},{"$f":"'Dir1'!J209+'Dir2'!J209","v":0},{"$f":"'Dir1'!K209+'Dir2'!K209","v":0},{"$f":"'Dir1'!L209+'Dir2'!L209","v":0},{"$f":"'Dir1'!M209+'Dir2'!M209","v":0},{"$f":"'Dir1'!N209+'Dir2'!N209","v":0},{"$f":"'Dir1'!O209+'Dir2'!O209","v":0},{"$f":"'Dir1'!P209+'Dir2'!N209","v":0},{"$f":"'Dir1'!Q209+'Dir2'!O209","v":0},{"$f":"'Dir1'!R209+'Dir2'!R209","v":0},{"$f":"'Dir1'!S209+'Dir2'!S209","v":0},{"$f":"'Dir1'!T209+'Dir2'!T209","v":0},{"$f":"'Dir1'!U209+'Dir2'!U209","v":0},{"$f":"'Dir1'!V209+'Dir2'!V209","v":0},{"$f":"'Dir1'!W209+'Dir2'!W209","v":0},{"$f":"'Dir1'!X209+'Dir2'!X209","v":0},{"$f":"'Dir1'!Y209+'Dir2'!Y209","v":0},{"$f":"'Dir1'!Z209+'Dir2'!Z209","v":0},{"$f":"'Dir1'!AA209+'Dir2'!AA209","v":0},{"$f":"'Dir1'!AB209+'Dir2'!AB209","v":0},{"$f":"'Dir1'!AC209+'Dir2'!AC209","v":0},{"$f":"'Dir1'!AD209+'Dir2'!AD209","v":0},{"$f":"'Dir1'!AE209+'Dir2'!AE209","v":0},{"$f":"'Dir1'!AF209+'Dir2'!AF209","v":0},{"$f":"'Dir1'!AG209+'Dir2'!AG209","v":0},{"$f":"'Dir1'!AH209+'Dir2'!AH209","v":0},{"$f":"'Dir1'!AI209+'Dir2'!AI209","v":0},{"$f":"'Dir1'!AJ209+'Dir2'!AJ209","v":0},{"$f":"'Dir1'!AK209+'Dir2'!AK209","v":0},{"$f":"'Dir1'!AL209+'Dir2'!AL209","v":0},{"$f":"IFERROR(ROUND(AVERAGE(_xlfn._xlws.FILTER(Data_Table[Speed],(Data_Table[Period]-INT(Data_Table[Period])=B209))),2),\"-\")","v":"-"},{"$f":"IFERROR(ROUND(PERCENTILE(_xlfn._xlws.FILTER(Data_Table[Speed],(Data_Table[Period]-INT(Data_Table[Period])=B209)*(SUM(C209:N209)>=10)),0.85),2),\"-\")","v":"-"}]
[null,"14:00:00",{"$f":"'Dir1'!C210+'Dir2'!C210","v":0},{"$f":"'Dir1'!D210+'Dir2'!D210","v":0},{"$f":"'Dir1'!E210+'Dir2'!E210","v":0},{"$f":"'Dir1'!F210+'Dir2'!F210","v":0},{"$f":"'Dir1'!G210+'Dir2'!G210","v":0},{"$f":"'Dir1'!H210+'Dir2'!H210","v":0},{"$f":"'Dir1'!I210+'Dir2'!I210","v":0},{"$f":"'Dir1'!J210+'Dir2'!J210","v":0},{"$f":"'Dir1'!K210+'Dir2'!K210","v":0},{"$f":"'Dir1'!L210+'Dir2'!L210","v":0},{"$f":"'Dir1'!M210+'Dir2'!M210","v":0},{"$f":"'Dir1'!N210+'Dir2'!N210","v":0},{"$f":"'Dir1'!O210+'Dir2'!O210","v":0},{"$f":"'Dir1'!P210+'Dir2'!N210","v":0},{"$f":"'Dir1'!Q210+'Dir2'!O210","v":0},{"$f":"'Dir1'!R210+'Dir2'!R210","v":0},{"$f":"'Dir1'!S210+'Dir2'!S210","v":0},{"$f":"'Dir1'!T210+'Dir2'!T210","v":0},{"$f":"'Dir1'!U210+'Dir2'!U210","v":0},{"$f":"'Dir1'!V210+'Dir2'!V210","v":0},{"$f":"'Dir1'!W210+'Dir2'!W210","v":0},{"$f":"'Dir1'!X210+'Dir2'!X210","v":0},{"$f":"'Dir1'!Y210+'Dir2'!Y210","v":0},{"$f":"'Dir1'!Z210+'Dir2'!Z210","v":0},{"$f":"'Dir1'!AA210+'Dir2'!AA210","v":0},{"$f":"'Dir1'!AB210+'Dir2'!AB210","v":0},{"$f":"'Dir1'!AC210+'Dir2'!AC210","v":0},{"$f":"'Dir1'!AD210+'Dir2'!AD210","v":0},{"$f":"'Dir1'!AE210+'Dir2'!AE210","v":0},{"$f":"'Dir1'!AF210+'Dir2'!AF210","v":0},{"$f":"'Dir1'!AG210+'Dir2'!AG210","v":0},{"$f":"'Dir1'!AH210+'Dir2'!AH210","v":0},{"$f":"'Dir1'!AI210+'Dir2'!AI210","v":0},{"$f":"'Dir1'!AJ210+'Dir2'!AJ210","v":0},{"$f":"'Dir1'!AK210+'Dir2'!AK210","v":0},{"$f":"'Dir1'!AL210+'Dir2'!AL210","v":0},{"$f":"IFERROR(ROUND(AVERAGE(_xlfn._xlws.FILTER(Data_Table[Speed],(Data_Table[Period]-INT(Data_Table[Period])=B210))),2),\"-\")","v":"-"},{"$f":"IFERROR(ROUND(PERCENTILE(_xlfn._xlws.FILTER(Data_Table[Speed],(Data_Table[Period]-INT(Data_Table[Period])=B210)*(SUM(C210:N210)>=10)),0.85),2),\"-\")","v":"-"}]
[null,"15:00:00",{"$f":"'Dir1'!C211+'Dir2'!C211","v":0},{"$f":"'Dir1'!D211+'Dir2'!D211","v":0},{"$f":"'Dir1'!E211+'Dir2'!E211","v":0},{"$f":"'Dir1'!F211+'Dir2'!F211","v":0},{"$f":"'Dir1'!G211+'Dir2'!G211","v":0},{"$f":"'Dir1'!H211+'Dir2'!H211","v":0},{"$f":"'Dir1'!I211+'Dir2'!I211","v":0},{"$f":"'Dir1'!J211+'Dir2'!J211","v":0},{"$f":"'Dir1'!K211+'Dir2'!K211","v":0},{"$f":"'Dir1'!L211+'Dir2'!L211","v":0},{"$f":"'Dir1'!M211+'Dir2'!M211","v":0},{"$f":"'Dir1'!N211+'Dir2'!N211","v":0},{"$f":"'Dir1'!O211+'Dir2'!O211","v":0},{"$f":"'Dir1'!P211+'Dir2'!N211","v":0},{"$f":"'Dir1'!Q211+'Dir2'!O211","v":0},{"$f":"'Dir1'!R211+'Dir2'!R211","v":0},{"$f":"'Dir1'!S211+'Dir2'!S211","v":0},{"$f":"'Dir1'!T211+'Dir2'!T211","v":0},{"$f":"'Dir1'!U211+'Dir2'!U211","v":0},{"$f":"'Dir1'!V211+'Dir2'!V211","v":0},{"$f":"'Dir1'!W211+'Dir2'!W211","v":0},{"$f":"'Dir1'!X211+'Dir2'!X211","v":0},{"$f":"'Dir1'!Y211+'Dir2'!Y211","v":0},{"$f":"'Dir1'!Z211+'Dir2'!Z211","v":0},{"$f":"'Dir1'!AA211+'Dir2'!AA211","v":0},{"$f":"'Dir1'!AB211+'Dir2'!AB211","v":0},{"$f":"'Dir1'!AC211+'Dir2'!AC211","v":0},{"$f":"'Dir1'!AD211+'Dir2'!AD211","v":0},{"$f":"'Dir1'!AE211+'Dir2'!AE211","v":0},{"$f":"'Dir1'!AF211+'Dir2'!AF211","v":0},{"$f":"'Dir1'!AG211+'Dir2'!AG211","v":0},{"$f":"'Dir1'!AH211+'Dir2'!AH211","v":0},{"$f":"'Dir1'!AI211+'Dir2'!AI211","v":0},{"$f":"'Dir1'!AJ211+'Dir2'!AJ211","v":0},{"$f":"'Dir1'!AK211+'Dir2'!AK211","v":0},{"$f":"'Dir1'!AL211+'Dir2'!AL211","v":0},{"$f":"IFERROR(ROUND(AVERAGE(_xlfn._xlws.FILTER(Data_Table[Speed],(Data_Table[Period]-INT(Data_Table[Period])=B211))),2),\"-\")","v":"-"},{"$f":"IFERROR(ROUND(PERCENTILE(_xlfn._xlws.FILTER(Data_Table[Speed],(Data_Table[Period]-INT(Data_Table[Period])=B211)*(SUM(C211:N211)>=10)),0.85),2),\"-\")","v":"-"}]
[null,"16:00:00",{"$f":"'Dir1'!C212+'Dir2'!C212","v":0},{"$f":"'Dir1'!D212+'Dir2'!D212","v":0},{"$f":"'Dir1'!E212+'Dir2'!E212","v":0},{"$f":"'Dir1'!F212+'Dir2'!F212","v":0},{"$f":"'Dir1'!G212+'Dir2'!G212","v":0},{"$f":"'Dir1'!H212+'Dir2'!H212","v":0},{"$f":"'Dir1'!I212+'Dir2'!I212","v":0},{"$f":"'Dir1'!J212+'Dir2'!J212","v":0},{"$f":"'Dir1'!K212+'Dir2'!K212","v":0},{"$f":"'Dir1'!L212+'Dir2'!L212","v":0},{"$f":"'Dir1'!M212+'Dir2'!M212","v":0},{"$f":"'Dir1'!N212+'Dir2'!N212","v":0},{"$f":"'Dir1'!O212+'Dir2'!O212","v":0},{"$f":"'Dir1'!P212+'Dir2'!N212","v":0},{"$f":"'Dir1'!Q212+'Dir2'!O212","v":0},{"$f":"'Dir1'!R212+'Dir2'!R212","v":0},{"$f":"'Dir1'!S212+'Dir2'!S212","v":0},{"$f":"'Dir1'!T212+'Dir2'!T212","v":0},{"$f":"'Dir1'!U212+'Dir2'!U212","v":0},{"$f":"'Dir1'!V212+'Dir2'!V212","v":0},{"$f":"'Dir1'!W212+'Dir2'!W212","v":0},{"$f":"'Dir1'!X212+'Dir2'!X212","v":0},{"$f":"'Dir1'!Y212+'Dir2'!Y212","v":0},{"$f":"'Dir1'!Z212+'Dir2'!Z212","v":0},{"$f":"'Dir1'!AA212+'Dir2'!AA212","v":0},{"$f":"'Dir1'!AB212+'Dir2'!AB212","v":0},{"$f":"'Dir1'!AC212+'Dir2'!AC212","v":0},{"$f":"'Dir1'!AD212+'Dir2'!AD212","v":0},{"$f":"'Dir1'!AE212+'Dir2'!AE212","v":0},{"$f":"'Dir1'!AF212+'Dir2'!AF212","v":0},{"$f":"'Dir1'!AG212+'Dir2'!AG212","v":0},{"$f":"'Dir1'!AH212+'Dir2'!AH212","v":0},{"$f":"'Dir1'!AI212+'Dir2'!AI212","v":0},{"$f":"'Dir1'!AJ212+'Dir2'!AJ212","v":0},{"$f":"'Dir1'!AK212+'Dir2'!AK212","v":0},{"$f":"'Dir1'!AL212+'Dir2'!AL212","v":0},{"$f":"IFERROR(ROUND(AVERAGE(_xlfn._xlws.FILTER(Data_Table[Speed],(Data_Table[Period]-INT(Data_Table[Period])=B212))),2),\"-\")","v":"-"},{"$f":"IFERROR(ROUND(PERCENTILE(_xlfn._xlws.FILTER(Data_Table[Speed],(Data_Table[Period]-INT(Data_Table[Period])=B212)*(SUM(C212:N212)>=10)),0.85),2),\"-\")","v":"-"}]
[null,"17:00:00",{"$f":"'Dir1'!C213+'Dir2'!C213","v":0},{"$f":"'Dir1'!D213+'Dir2'!D213","v":0},{"$f":"'Dir1'!E213+'Dir2'!E213","v":0},{"$f":"'Dir1'!F213+'Dir2'!F213","v":0},{"$f":"'Dir1'!G213+'Dir2'!G213","v":0},{"$f":"'Dir1'!H213+'Dir2'!H213","v":0},{"$f":"'Dir1'!I213+'Dir2'!I213","v":0},{"$f":"'Dir1'!J213+'Dir2'!J213","v":0},{"$f":"'Dir1'!K213+'Dir2'!K213","v":0},{"$f":"'Dir1'!L213+'Dir2'!L213","v":0},{"$f":"'Dir1'!M213+'Dir2'!M213","v":0},{"$f":"'Dir1'!N213+'Dir2'!N213","v":0},{"$f":"'Dir1'!O213+'Dir2'!O213","v":0},{"$f":"'Dir1'!P213+'Dir2'!N213","v":0},{"$f":"'Dir1'!Q213+'Dir2'!O213","v":0},{"$f":"'Dir1'!R213+'Dir2'!R213","v":0},{"$f":"'Dir1'!S213+'Dir2'!S213","v":0},{"$f":"'Dir1'!T213+'Dir2'!T213","v":0},{"$f":"'Dir1'!U213+'Dir2'!U213","v":0},{"$f":"'Dir1'!V213+'Dir2'!V213","v":0},{"$f":"'Dir1'!W213+'Dir2'!W213","v":0},{"$f":"'Dir1'!X213+'Dir2'!X213","v":0},{"$f":"'Dir1'!Y213+'Dir2'!Y213","v":0},{"$f":"'Dir1'!Z213+'Dir2'!Z213","v":0},{"$f":"'Dir1'!AA213+'Dir2'!AA213","v":0},{"$f":"'Dir1'!AB213+'Dir2'!AB213","v":0},{"$f":"'Dir1'!AC213+'Dir2'!AC213","v":0},{"$f":"'Dir1'!AD213+'Dir2'!AD213","v":0},{"$f":"'Dir1'!AE213+'Dir2'!AE213","v":0},{"$f":"'Dir1'!AF213+'Dir2'!AF213","v":0},{"$f":"'Dir1'!AG213+'Dir2'!AG213","v":0},{"$f":"'Dir1'!AH213+'Dir2'!AH213","v":0},{"$f":"'Dir1'!AI213+'Dir2'!AI213","v":0},{"$f":"'Dir1'!AJ213+'Dir2'!AJ213","v":0},{"$f":"'Dir1'!AK213+'Dir2'!AK213","v":0},{"$f":"'Dir1'!AL213+'Dir2'!AL213","v":0},{"$f":"IFERROR(ROUND(AVERAGE(_xlfn._xlws.FILTER(Data_Table[Speed],(Data_Table[Period]-INT(Data_Table[Period])=B213))),2),\"-\")","v":"-"},{"$f":"IFERROR(ROUND(PERCENTILE(_xlfn._xlws.FILTER(Data_Table[Speed],(Data_Table[Period]-INT(Data_Table[Period])=B213)*(SUM(C213:N213)>=10)),0.85),2),\"-\")","v":"-"}]
[null,"18:00:00",{"$f":"'Dir1'!C214+'Dir2'!C214","v":0},{"$f":"'Dir1'!D214+'Dir2'!D214","v":0},{"$f":"'Dir1'!E214+'Dir2'!E214","v":0},{"$f":"'Dir1'!F214+'Dir2'!F214","v":0},{"$f":"'Dir1'!G214+'Dir2'!G214","v":0},{"$f":"'Dir1'!H214+'Dir2'!H214","v":0},{"$f":"'Dir1'!I214+'Dir2'!I214","v":0},{"$f":"'Dir1'!J214+'Dir2'!J214","v":0},{"$f":"'Dir1'!K214+'Dir2'!K214","v":0},{"$f":"'Dir1'!L214+'Dir2'!L214","v":0},{"$f":"'Dir1'!M214+'Dir2'!M214","v":0},{"$f":"'Dir1'!N214+'Dir2'!N214","v":0},{"$f":"'Dir1'!O214+'Dir2'!O214","v":0},{"$f":"'Dir1'!P214+'Dir2'!N214","v":0},{"$f":"'Dir1'!Q214+'Dir2'!O214","v":0},{"$f":"'Dir1'!R214+'Dir2'!R214","v":0},{"$f":"'Dir1'!S214+'Dir2'!S214","v":0},{"$f":"'Dir1'!T214+'Dir2'!T214","v":0},{"$f":"'Dir1'!U214+'Dir2'!U214","v":0},{"$f":"'Dir1'!V214+'Dir2'!V214","v":0},{"$f":"'Dir1'!W214+'Dir2'!W214","v":0},{"$f":"'Dir1'!X214+'Dir2'!X214","v":0},{"$f":"'Dir1'!Y214+'Dir2'!Y214","v":0},{"$f":"'Dir1'!Z214+'Dir2'!Z214","v":0},{"$f":"'Dir1'!AA214+'Dir2'!AA214","v":0},{"$f":"'Dir1'!AB214+'Dir2'!AB214","v":0},{"$f":"'Dir1'!AC214+'Dir2'!AC214","v":0},{"$f":"'Dir1'!AD214+'Dir2'!AD214","v":0},{"$f":"'Dir1'!AE214+'Dir2'!AE214","v":0},{"$f":"'Dir1'!AF214+'Dir2'!AF214","v":0},{"$f":"'Dir1'!AG214+'Dir2'!AG214","v":0},{"$f":"'Dir1'!AH214+'Dir2'!AH214","v":0},{"$f":"'Dir1'!AI214+'Dir2'!AI214","v":0},{"$f":"'Dir1'!AJ214+'Dir2'!AJ214","v":0},{"$f":"'Dir1'!AK214+'Dir2'!AK214","v":0},{"$f":"'Dir1'!AL214+'Dir2'!AL214","v":0},{"$f":"IFERROR(ROUND(AVERAGE(_xlfn._xlws.FILTER(Data_Table[Speed],(Data_Table[Period]-INT(Data_Table[Period])=B214))),2),\"-\")","v":"-"},{"$f":"IFERROR(ROUND(PERCENTILE(_xlfn._xlws.FILTER(Data_Table[Speed],(Data_Table[Period]-INT(Data_Table[Period])=B214)*(SUM(C214:N214)>=10)),0.85),2),\"-\")","v":"-"}]
[null,"19:00:00",{"$f":"'Dir1'!C215+'Dir2'!C215","v":0},{"$f":"'Dir1'!D215+'Dir2'!D215","v":0},{"$f":"'Dir1'!E215+'Dir2'!E215","v":0},{"$f":"'Dir1'!F215+'Dir2'!F215","v":0},{"$f":"'Dir1'!G215+'Dir2'!G215","v":0},{"$f":"'Dir1'!H215+'Dir2'!H215","v":0},{"$f":"'Dir1'!I215+'Dir2'!I215","v":0},{"$f":"'Dir1'!J215+'Dir2'!J215","v":0},{"$f":"'Dir1'!K215+'Dir2'!K215","v":0},{"$f":"'Dir1'!L215+'Dir2'!L215","v":0},{"$f":"'Dir1'!M215+'Dir2'!M215","v":0},{"$f":"'Dir1'!N215+'Dir2'!N215","v":0},{"$f":"'Dir1'!O215+'Dir2'!O215","v":0},{"$f":"'Dir1'!P215+'Dir2'!N215","v":0},{"$f":"'Dir1'!Q215+'Dir2'!O215","v":0},{"$f":"'Dir1'!R215+'Dir2'!R215","v":0},{"$f":"'Dir1'!S215+'Dir2'!S215","v":0},{"$f":"'Dir1'!T215+'Dir2'!T215","v":0},{"$f":"'Dir1'!U215+'Dir2'!U215","v":0},{"$f":"'Dir1'!V215+'Dir2'!V215","v":0},{"$f":"'Dir1'!W215+'Dir2'!W215","v":0},{"$f":"'Dir1'!X215+'Dir2'!X215","v":0},{"$f":"'Dir1'!Y215+'Dir2'!Y215","v":0},{"$f":"'Dir1'!Z215+'Dir2'!Z215","v":0},{"$f":"'Dir1'!AA215+'Dir2'!AA215","v":0},{"$f":"'Dir1'!AB215+'Dir2'!AB215","v":0},{"$f":"'Dir1'!AC215+'Dir2'!AC215","v":0},{"$f":"'Dir1'!AD215+'Dir2'!AD215","v":0},{"$f":"'Dir1'!AE215+'Dir2'!AE215","v":0},{"$f":"'Dir1'!AF215+'Dir2'!AF215","v":0},{"$f":"'Dir1'!AG215+'Dir2'!AG215","v":0},{"$f":"'Dir1'!AH215+'Dir2'!AH215","v":0},{"$f":"'Dir1'!AI215+'Dir2'!AI215","v":0},{"$f":"'Dir1'!AJ215+'Dir2'!AJ215","v":0},{"$f":"'Dir1'!AK215+'Dir2'!AK215","v":0},{"$f":"'Dir1'!AL215+'Dir2'!AL215","v":0},{"$f":"IFERROR(ROUND(AVERAGE(_xlfn._xlws.FILTER(Data_Table[Speed],(Data_Table[Period]-INT(Data_Table[Period])=B215))),2),\"-\")","v":"-"},{"$f":"IFERROR(ROUND(PERCENTILE(_xlfn._xlws.FILTER(Data_Table[Speed],(Data_Table[Period]-INT(Data_Table[Period])=B215)*(SUM(C215:N215)>=10)),0.85),2),\"-\")","v":"-"}]
[null,"20:00:00",{"$f":"'Dir1'!C216+'Dir2'!C216","v":0},{"$f":"'Dir1'!D216+'Dir2'!D216","v":0},{"$f":"'Dir1'!E216+'Dir2'!E216","v":0},{"$f":"'Dir1'!F216+'Dir2'!F216","v":0},{"$f":"'Dir1'!G216+'Dir2'!G216","v":0},{"$f":"'Dir1'!H216+'Dir2'!H216","v":0},{"$f":"'Dir1'!I216+'Dir2'!I216","v":0},{"$f":"'Dir1'!J216+'Dir2'!J216","v":0},{"$f":"'Dir1'!K216+'Dir2'!K216","v":0},{"$f":"'Dir1'!L216+'Dir2'!L216","v":0},{"$f":"'Dir1'!M216+'Dir2'!M216","v":0},{"$f":"'Dir1'!N216+'Dir2'!N216","v":0},{"$f":"'Dir1'!O216+'Dir2'!O216","v":0},{"$f":"'Dir1'!P216+'Dir2'!N216","v":0},{"$f":"'Dir1'!Q216+'Dir2'!O216","v":0},{"$f":"'Dir1'!R216+'Dir2'!R216","v":0},{"$f":"'Dir1'!S216+'Dir2'!S216","v":0},{"$f":"'Dir1'!T216+'Dir2'!T216","v":0},{"$f":"'Dir1'!U216+'Dir2'!U216","v":0},{"$f":"'Dir1'!V216+'Dir2'!V216","v":0},{"$f":"'Dir1'!W216+'Dir2'!W216","v":0},{"$f":"'Dir1'!X216+'Dir2'!X216","v":0},{"$f":"'Dir1'!Y216+'Dir2'!Y216","v":0},{"$f":"'Dir1'!Z216+'Dir2'!Z216","v":0},{"$f":"'Dir1'!AA216+'Dir2'!AA216","v":0},{"$f":"'Dir1'!AB216+'Dir2'!AB216","v":0},{"$f":"'Dir1'!AC216+'Dir2'!AC216","v":0},{"$f":"'Dir1'!AD216+'Dir2'!AD216","v":0},{"$f":"'Dir1'!AE216+'Dir2'!AE216","v":0},{"$f":"'Dir1'!AF216+'Dir2'!AF216","v":0},{"$f":"'Dir1'!AG216+'Dir2'!AG216","v":0},{"$f":"'Dir1'!AH216+'Dir2'!AH216","v":0},{"$f":"'Dir1'!AI216+'Dir2'!AI216","v":0},{"$f":"'Dir1'!AJ216+'Dir2'!AJ216","v":0},{"$f":"'Dir1'!AK216+'Dir2'!AK216","v":0},{"$f":"'Dir1'!AL216+'Dir2'!AL216","v":0},{"$f":"IFERROR(ROUND(AVERAGE(_xlfn._xlws.FILTER(Data_Table[Speed],(Data_Table[Period]-INT(Data_Table[Period])=B216))),2),\"-\")","v":"-"},{"$f":"IFERROR(ROUND(PERCENTILE(_xlfn._xlws.FILTER(Data_Table[Speed],(Data_Table[Period]-INT(Data_Table[Period])=B216)*(SUM(C216:N216)>=10)),0.85),2),\"-\")","v":"-"}]
[null,"21:00:00",{"$f":"'Dir1'!C217+'Dir2'!C217","v":0},{"$f":"'Dir1'!D217+'Dir2'!D217","v":0},{"$f":"'Dir1'!E217+'Dir2'!E217","v":0},{"$f":"'Dir1'!F217+'Dir2'!F217","v":0},{"$f":"'Dir1'!G217+'Dir2'!G217","v":0},{"$f":"'Dir1'!H217+'Dir2'!H217","v":0},{"$f":"'Dir1'!I217+'Dir2'!I217","v":0},{"$f":"'Dir1'!J217+'Dir2'!J217","v":0},{"$f":"'Dir1'!K217+'Dir2'!K217","v":0},{"$f":"'Dir1'!L217+'Dir2'!L217","v":0},{"$f":"'Dir1'!M217+'Dir2'!M217","v":0},{"$f":"'Dir1'!N217+'Dir2'!N217","v":0},{"$f":"'Dir1'!O217+'Dir2'!O217","v":0},{"$f":"'Dir1'!P217+'Dir2'!N217","v":0},{"$f":"'Dir1'!Q217+'Dir2'!O217","v":0},{"$f":"'Dir1'!R217+'Dir2'!R217","v":0},{"$f":"'Dir1'!S217+'Dir2'!S217","v":0},{"$f":"'Dir1'!T217+'Dir2'!T217","v":0},{"$f":"'Dir1'!U217+'Dir2'!U217","v":0},{"$f":"'Dir1'!V217+'Dir2'!V217","v":0},{"$f":"'Dir1'!W217+'Dir2'!W217","v":0},{"$f":"'Dir1'!X217+'Dir2'!X217","v":0},{"$f":"'Dir1'!Y217+'Dir2'!Y217","v":0},{"$f":"'Dir1'!Z217+'Dir2'!Z217","v":0},{"$f":"'Dir1'!AA217+'Dir2'!AA217","v":0},{"$f":"'Dir1'!AB217+'Dir2'!AB217","v":0},{"$f":"'Dir1'!AC217+'Dir2'!AC217","v":0},{"$f":"'Dir1'!AD217+'Dir2'!AD217","v":0},{"$f":"'Dir1'!AE217+'Dir2'!AE217","v":0},{"$f":"'Dir1'!AF217+'Dir2'!AF217","v":0},{"$f":"'Dir1'!AG217+'Dir2'!AG217","v":0},{"$f":"'Dir1'!AH217+'Dir2'!AH217","v":0},{"$f":"'Dir1'!AI217+'Dir2'!AI217","v":0},{"$f":"'Dir1'!AJ217+'Dir2'!AJ217","v":0},{"$f":"'Dir1'!AK217+'Dir2'!AK217","v":0},{"$f":"'Dir1'!AL217+'Dir2'!AL217","v":0},{"$f":"IFERROR(ROUND(AVERAGE(_xlfn._xlws.FILTER(Data_Table[Speed],(Data_Table[Period]-INT(Data_Table[Period])=B217))),2),\"-\")","v":"-"},{"$f":"IFERROR(ROUND(PERCENTILE(_xlfn._xlws.FILTER(Data_Table[Speed],(Data_Table[Period]-INT(Data_Table[Period])=B217)*(SUM(C217:N217)>=10)),0.85),2),\"-\")","v":"-"}]
[null,"22:00:00",{"$f":"'Dir1'!C218+'Dir2'!C218","v":0},{"$f":"'Dir1'!D218+'Dir2'!D218","v":0},{"$f":"'Dir1'!E218+'Dir2'!E218","v":0},{"$f":"'Dir1'!F218+'Dir2'!F218","v":0},{"$f":"'Dir1'!G218+'Dir2'!G218","v":0},{"$f":"'Dir1'!H218+'Dir2'!H218","v":0},{"$f":"'Dir1'!I218+'Dir2'!I218","v":0},{"$f":"'Dir1'!J218+'Dir2'!J218","v":0},{"$f":"'Dir1'!K218+'Dir2'!K218","v":0},{"$f":"'Dir1'!L218+'Dir2'!L218","v":0},{"$f":"'Dir1'!M218+'Dir2'!M218","v":0},{"$f":"'Dir1'!N218+'Dir2'!N218","v":0},{"$f":"'Dir1'!O218+'Dir2'!O218","v":0},{"$f":"'Dir1'!P218+'Dir2'!N218","v":0},{"$f":"'Dir1'!Q218+'Dir2'!O218","v":0},{"$f":"'Dir1'!R218+'Dir2'!R218","v":0},{"$f":"'Dir1'!S218+'Dir2'!S218","v":0},{"$f":"'Dir1'!T218+'Dir2'!T218","v":0},{"$f":"'Dir1'!U218+'Dir2'!U218","v":0},{"$f":"'Dir1'!V218+'Dir2'!V218","v":0},{"$f":"'Dir1'!W218+'Dir2'!W218","v":0},{"$f":"'Dir1'!X218+'Dir2'!X218","v":0},{"$f":"'Dir1'!Y218+'Dir2'!Y218","v":0},{"$f":"'Dir1'!Z218+'Dir2'!Z218","v":0},{"$f":"'Dir1'!AA218+'Dir2'!AA218","v":0},{"$f":"'Dir1'!AB218+'Dir2'!AB218","v":0},{"$f":"'Dir1'!AC218+'Dir2'!AC218","v":0},{"$f":"'Dir1'!AD218+'Dir2'!AD218","v":0},{"$f":"'Dir1'!AE218+'Dir2'!AE218","v":0},{"$f":"'Dir1'!AF218+'Dir2'!AF218","v":0},{"$f":"'Dir1'!AG218+'Dir2'!AG218","v":0},{"$f":"'Dir1'!AH218+'Dir2'!AH218","v":0},{"$f":"'Dir1'!AI218+'Dir2'!AI218","v":0},{"$f":"'Dir1'!AJ218+'Dir2'!AJ218","v":0},{"$f":"'Dir1'!AK218+'Dir2'!AK218","v":0},{"$f":"'Dir1'!AL218+'Dir2'!AL218","v":0},{"$f":"IFERROR(ROUND(AVERAGE(_xlfn._xlws.FILTER(Data_Table[Speed],(Data_Table[Period]-INT(Data_Table[Period])=B218))),2),\"-\")","v":"-"},{"$f":"IFERROR(ROUND(PERCENTILE(_xlfn._xlws.FILTER(Data_Table[Speed],(Data_Table[Period]-INT(Data_Table[Period])=B218)*(SUM(C218:N218)>=10)),0.85),2),\"-\")","v":"-"}]
[null,"23:00:00",{"$f":"'Dir1'!C219+'Dir2'!C219","v":0},{"$f":"'Dir1'!D219+'Dir2'!D219","v":0},{"$f":"'Dir1'!E219+'Dir2'!E219","v":0},{"$f":"'Dir1'!F219+'Dir2'!F219","v":0},{"$f":"'Dir1'!G219+'Dir2'!G219","v":0},{"$f":"'Dir1'!H219+'Dir2'!H219","v":0},{"$f":"'Dir1'!I219+'Dir2'!I219","v":0},{"$f":"'Dir1'!J219+'Dir2'!J219","v":0},{"$f":"'Dir1'!K219+'Dir2'!K219","v":0},{"$f":"'Dir1'!L219+'Dir2'!L219","v":0},{"$f":"'Dir1'!M219+'Dir2'!M219","v":0},{"$f":"'Dir1'!N219+'Dir2'!N219","v":0},{"$f":"'Dir1'!O219+'Dir2'!O219","v":0},{"$f":"'Dir1'!P219+'Dir2'!N219","v":0},{"$f":"'Dir1'!Q219+'Dir2'!O219","v":0},{"$f":"'Dir1'!R219+'Dir2'!R219","v":0},{"$f":"'Dir1'!S219+'Dir2'!S219","v":0},{"$f":"'Dir1'!T219+'Dir2'!T219","v":0},{"$f":"'Dir1'!U219+'Dir2'!U219","v":0},{"$f":"'Dir1'!V219+'Dir2'!V219","v":0},{"$f":"'Dir1'!W219+'Dir2'!W219","v":0},{"$f":"'Dir1'!X219+'Dir2'!X219","v":0},{"$f":"'Dir1'!Y219+'Dir2'!Y219","v":0},{"$f":"'Dir1'!Z219+'Dir2'!Z219","v":0},{"$f":"'Dir1'!AA219+'Dir2'!AA219","v":0},{"$f":"'Dir1'!AB219+'Dir2'!AB219","v":0},{"$f":"'Dir1'!AC219+'Dir2'!AC219","v":0},{"$f":"'Dir1'!AD219+'Dir2'!AD219","v":0},{"$f":"'Dir1'!AE219+'Dir2'!AE219","v":0},{"$f":"'Dir1'!AF219+'Dir2'!AF219","v":0},{"$f":"'Dir1'!AG219+'Dir2'!AG219","v":0},{"$f":"'Dir1'!AH219+'Dir2'!AH219","v":0},{"$f":"'Dir1'!AI219+'Dir2'!AI219","v":0},{"$f":"'Dir1'!AJ219+'Dir2'!AJ219","v":0},{"$f":"'Dir1'!AK219+'Dir2'!AK219","v":0},{"$f":"'Dir1'!AL219+'Dir2'!AL219","v":0},{"$f":"IFERROR(ROUND(AVERAGE(_xlfn._xlws.FILTER(Data_Table[Speed],(Data_Table[Period]-INT(Data_Table[Period])=B219))),2),\"-\")","v":"-"},{"$f":"IFERROR(ROUND(PERCENTILE(_xlfn._xlws.FILTER(Data_Table[Speed],(Data_Table[Period]-INT(Data_Table[Period])=B219)*(SUM(C219:N219)>=10)),0.85),2),\"-\")","v":"-"}]